{"text_format":"1","workbook":"xlsx","n_sheets":2,"sheets":["Configuration","Database"],"not_rendered":{"charts":0,"images":4,"macros":1,"external_links":0,"defined_names":2,"comments":0,"pivot_tables":0},"unopened":[],"bounds":{"document_bytes":16777216,"sheet_cells":100000,"rows_first":2000,"rows_last":500,"rows_between":2000,"halvings":0,"cell_chars":16384,"cell_head_chars":4096},"cells_cut":0,"cells_raw":0,"read":"whole","date_system":"1900"}

{"sheet":"Configuration","index":0,"n_rows":100,"n_cols":41,"rows_kept":100,"cut":false,"hidden":false,"merged":[[42,6,42,7],[37,6,37,7],[38,6,38,7],[39,6,39,7],[40,6,40,7],[41,6,41,7],[35,6,35,7],[30,6,30,7],[31,6,31,7],[32,6,32,7],[33,6,33,7],[34,6,34,7],[3,1,3,5],[24,10,24,12],[18,10,18,16],[20,13,21,16],[22,13,22,16],[23,13,23,16],[24,13,24,16],[20,10,21,12],[22,10,22,12],[23,10,23,12],[20,1,20,3],[18,1,18,3],[23,5,25,9],[5,16,16,16],[36,2,36,3],[34,2,34,3],[35,2,35,3],[26,1,26,3],[20,4,20,6],[21,1,21,3],[22,1,22,3],[23,1,23,3],[24,1,24,3],[25,1,25,3],[28,1,28,6],[31,2,31,3],[32,2,32,3],[33,2,33,3],[30,2,30,3],[36,6,36,7],[40,8,40,9],[41,8,41,9],[42,8,42,9],[40,10,40,15],[41,10,41,15],[42,10,42,15],[45,8,45,9],[46,8,46,9],[48,8,48,9],[49,8,49,9],[45,10,45,20],[49,10,49,20],[48,10,48,20],[46,10,46,16],[0,3,0,16],[52,1,52,2],[45,3,45,7],[46,3,46,7],[49,3,49,7],[46,1,46,2],[49,1,49,2],[48,1,48,2],[45,1,45,2],[50,1,50,2],[50,3,50,7],[51,1,51,2],[51,3,51,7],[48,3,48,7],[47,1,47,2],[47,3,47,7],[35,10,35,15],[36,10,36,15],[37,10,37,15],[38,10,38,15],[39,10,39,15],[30,8,30,9],[31,8,31,9],[32,8,32,9],[33,8,33,9],[34,8,34,9],[35,8,35,9],[36,8,36,9],[37,8,37,9],[38,8,38,9],[39,8,39,9],[30,10,30,15],[31,10,31,15],[32,10,32,15],[33,10,33,15],[34,10,34,15]]}
[null,null,null,"Configuration Tool for 650W/1200W Configurable Power - NMP series"]
[]
[]
[null,"Output Configuration"]
[null,"Output No.","Output Voltage","Output Current","Output Power","Module Code","Module Rated Current","Module Rated Power","No. of Slot Used","Parallel \nConnection","1","2","3","4","5","6","Front-End Auxiliary Power ","Available No. of Slot","Min. Output Voltage","Max. Output Voltage","Output Current Range","Output Power Range",null,null,null,30,5,240,"NMD",null,1,2,3,4,5,6,7,8,9,10,11]
[{"$f":"IF(Table3[[#This Row],[Output No.]]=\"\",0,1)","v":0},{"$f":"IF(OR(Table3[[#This Row],[Output Voltage]]=\"Blank Slot\",Table3[[#This Row],[Output Voltage]]=\"\"),\"\",ROW(A1))","v":""},null,null,{"$f":"IFERROR(IF(C6*D6=0,\"\",C6*D6),\"\")","v":""},{"$f":"IFERROR(IF(AC6=1,\"D\",INDEX(Table2[[Short Name]:[Max current per output]],MATCH(Configuration!$C6,Table2[Output Voltage],FALSE),MATCH(Configuration!$F$5,Table2[[#Headers],[Short Name]:[Max current per output]],FALSE))),\"\")","v":""},{"$f":"IFERROR(IF(F6=\"D\",5,VLOOKUP(C6,Table2[],3,FALSE)),\"\")","v":""},{"$f":"IFERROR(INDEX(Table2[[Short Name]:[Module Code]],MATCH(Configuration!$C6,Table2[Output Voltage],FALSE),MATCH(Configuration!$H$5,Table2[[#Headers],[Short Name]:[Module Code]],FALSE)),\"\")","v":""},{"$f":"IFERROR(IF(Configuration!$C6=\"Blank Slot\",1,IF(ROUNDUP(Configuration!$D6/G6,0)=0,\"\",ROUNDUP(Configuration!$D6/G6,0))),\"\")","v":""},{"$f":"IF(Configuration!$D6>G6,1,\"\")","v":""},{"$f":"IF(Configuration!$I6=\"\",0,IF(Configuration!$I6>Configuration!$K$5-1,1,0))","v":0},{"$f":"IF(Configuration!$I6=\"\",0,IF(Configuration!$I6>Configuration!$L$5-1,1,0))","v":0},{"$f":"IF(Configuration!$I6=\"\",0,IF(Configuration!$I6>Configuration!$M$5-1,1,0))","v":0},{"$f":"IF(Configuration!$I6=\"\",0,IF(Configuration!$I6>Configuration!$N$5-1,1,0))","v":0},{"$f":"IF(Configuration!$I6=\"\",0,IF(Configuration!$I6>Configuration!$O$5-1,1,0))","v":0},{"$f":"IF(Configuration!$I6=\"\",0,IF(Configuration!$I6>Configuration!$P$5-1,1,0))","v":0},{"$f":"IF($F$20=\"650\",Database!L2,IF($F$20=\"\",\"\",Database!L3))","v":""},{"$f":"IF(Configuration!$C6=\"\",6,IF(Configuration!$D6=\"\",INDEX(Table2[[Short Name]:[Max current per output]],MATCH(Configuration!$C6,Table2[Output Voltage],FALSE),MATCH(Configuration!$R$5,Table2[[#Headers],[Short Name]:[Max current per output]],FALSE)),IF(INDEX(Table2[[Short Name]:[Max current per output]],MATCH(Configuration!$C6,Table2[Output Voltage],FALSE),MATCH(Configuration!$R$5,Table2[[#Headers],[Short Name]:[Max current per output]],FALSE))>6-SUM(I7:I17),6-SUM(I7:I17),INDEX(Table2[[Short Name]:[Max current per output]],MATCH(Configuration!$C6,Table2[Output Voltage],FALSE),MATCH(Configuration!$R$5,Table2[[#Headers],[Short Name]:[Max current per output]],FALSE)))))","v":6},{"$f":"IF(Configuration!$R6>0,3,0)","v":3},{"$f":"IF(Configuration!$R6>0,IF(F6=\"D\",30,55),0)","v":55},{"$f":"IFERROR(IF(OR(Configuration!$C6=\"\",C6=\"Blank Slot\"),0,Configuration!$V6/Configuration!$C6),\"\")","v":0},{"$f":"IFERROR(Configuration!$H6*Configuration!$R6,\"\")","v":""},null,null,{"$f":"SUM(Z6:AA6)","v":0},{"$f":"IFERROR(IF(C6=\"\",\"\",IF(C6<=$Z$5,1,0)),\"\")","v":""},{"$f":"IFERROR(IF(D6=\"\",\"\",IF(D6<=$AA$5,1,0)),\"\")","v":""},{"$f":"IFERROR(IF(E6+E7<=$AB$5,1,0),\"\")","v":""},{"$f":"IF(SUM(Z6:AB6,Z7:AA7)=5,1,0)","v":0},1]
[{"$f":"IF(Table3[[#This Row],[Output No.]]=\"\",0,1)","v":0},{"$f":"IF(OR(Table3[[#This Row],[Output Voltage]]=\"Blank Slot\",Table3[[#This Row],[Output Voltage]]=\"\"),\"\",SUM($A$6:A6)+1)","v":""},null,null,{"$f":"IFERROR(IF(C7*D7=0,\"\",C7*D7),\"\")","v":""},{"$f":"IFERROR(IF(AC6=1,\"D\",IF(AC7=1,\"D\",INDEX(Table2[[Short Name]:[Max current per output]],MATCH(Configuration!$C7,Table2[Output Voltage],FALSE),MATCH(Configuration!$F$5,Table2[[#Headers],[Short Name]:[Max current per output]],FALSE)))),\"\")","v":""},{"$f":"IFERROR(IF(F7=\"D\",5,VLOOKUP(C7,Table2[],3,FALSE)),\"\")","v":""},{"$f":"IFERROR(INDEX(Table2[[Short Name]:[Module Code]],MATCH(Configuration!$C7,Table2[Output Voltage],FALSE),MATCH(Configuration!$H$5,Table2[[#Headers],[Short Name]:[Module Code]],FALSE)),\"\")","v":""},{"$f":"IFERROR(IF(AND(F6=\"D\",F7=\"D\"),0,IF(Configuration!$C7=\"Blank Slot\",1,IF(ROUNDUP(Configuration!$D7/G7,0)=0,\"\",ROUNDUP(Configuration!$D7/G7,0)))),\"\")","v":""},{"$f":"IF(Configuration!$D7>G7,1,\"\")","v":""},{"$f":"IF(I7=0,1,0)","v":0},{"$f":"IF(K7=1,0,IF(Configuration!$I7=\"\",0,IF($L6=1,0,1)))","v":0},{"$f":"IF(Configuration!$I7=\"\",0,IF($M6=1,0,IF(SUM(Configuration!$K7:$L7)<Configuration!$I7,1,0)))","v":0},{"$f":"IF(Configuration!$I7=\"\",0,IF($N6=1,0,IF(SUM(Configuration!$K7:$M7)<Configuration!$I7,1,0)))","v":0},{"$f":"IF(Configuration!$I7=\"\",0,IF($O6=1,0,IF(SUM(Configuration!$K7:$N7)<Configuration!$I7,1,0)))","v":0},{"$f":"IF(Configuration!$I7=\"\",0,IF($P6=1,0,IF(SUM(Configuration!$K7:$O7)<Configuration!$I7,1,0)))","v":0},null,{"$f":"IFERROR(IF(F7=\"D\",1,IF(C6=\"\",0,IF(SUM(I8:I17)=0,6-I6,6-SUM(I6,I8:I17)))),0)","v":0},{"$f":"IF(Configuration!$R7>0,3,0)","v":0},{"$f":"IF(Configuration!$R7>0,IF(F7=\"D\",30,55),0)","v":0},{"$f":"IFERROR(IF(F7=\"D\",5,IF(Configuration!$C7=\"\",0,Configuration!$V7/Configuration!$C7)),0)","v":0},{"$f":"IFERROR(Configuration!$H7*Configuration!$R7,\"\")","v":""},null,null,{"$f":"SUM(Z7:AA7)","v":0},"","","",{"$f":"IF(AC6=1,0,IF(SUM(Z7:AB7,Z8:AA8)=5,1,0))","v":0},2,{"$f":"IFERROR(IF($E$6+E7<=$AB$5,1,0),\"\")","v":""}]
[{"$f":"IF(Table3[[#This Row],[Output No.]]=\"\",0,1)","v":0},{"$f":"IF(OR(Table3[[#This Row],[Output Voltage]]=\"Blank Slot\",Table3[[#This Row],[Output Voltage]]=\"\"),\"\",SUM($A$6:A7)+1)","v":""},null,null,"",{"$f":"IFERROR(IF(AND(C8<>\"\",I6=5,Y7=2),\"D\",IF(AC7=1,\"D\",IF(AC8=1,\"D\",INDEX(Table2[[Short Name]:[Max current per output]],MATCH(Configuration!$C8,Table2[Output Voltage],FALSE),MATCH(Configuration!$F$5,Table2[[#Headers],[Short Name]:[Max current per output]],FALSE))))),\"\")","v":""},{"$f":"IFERROR(IF(F8=\"D\",5,VLOOKUP(C8,Table2[],3,FALSE)),\"\")","v":""},{"$f":"IFERROR(INDEX(Table2[[Short Name]:[Module Code]],MATCH(Configuration!$C8,Table2[Output Voltage],FALSE),MATCH(Configuration!$H$5,Table2[[#Headers],[Short Name]:[Module Code]],FALSE)),\"\")","v":""},{"$f":"IFERROR(IF(AND(I7>0,F7=\"D\",F8=\"D\"),0,IF(Configuration!$C8=\"Blank Slot\",1,IF(ROUNDUP(Configuration!$D8/G8,0)=0,\"\",ROUNDUP(Configuration!$D8/G8,0)))),\"\")","v":""},{"$f":"IF(Configuration!$D8>G8,1,\"\")","v":""},0,{"$f":"IF(Configuration!$I8=\"\",0,IF(SUM($L6:$L7)=1,IF(AND(I8=0,L6=0),1,0),IF(Configuration!$K8<Configuration!$I8,1,0)))","v":0},{"$f":"IF(Configuration!$I8=\"\",0,IF(SUM($M6:$M7)=1,IF(AND(I8=0,M6=0),1,0),IF(SUM(Configuration!$K8:$L8)<Configuration!$I8,1,0)))","v":0},{"$f":"IF(Configuration!$I8=\"\",0,IF(SUM($N6:$N7)=1,IF(AND(I8=0,N6=0),1,0),IF(SUM(Configuration!$K8:$M8)<Configuration!$I8,1,0)))","v":0},{"$f":"IF(Configuration!$I8=\"\",0,IF(SUM($O6:$O7)=1,IF(AND(I8=0,O6=0),1,0),IF(SUM(Configuration!$K8:$N8)<Configuration!$I8,1,0)))","v":0},{"$f":"IF(Configuration!$I8=\"\",0,IF(SUM($P6:$P7)=1,IF(AND(I8=0,P6=0),1,0),IF(SUM(Configuration!$K8:$O8)<Configuration!$I8,1,0)))","v":0},null,{"$f":"IF(AND(I6=5,Y7=2),1,IF(F8=\"D\",1,IF(C7=\"\",0,IF(SUM(I9:I17)=0,6-SUM(I6:I7),6-SUM(I6:I7,I9:I17)))))","v":0},{"$f":"IF(Configuration!$R8>0,3,0)","v":0},{"$f":"IF(Configuration!$R8>0,IF(F8=\"D\",30,55),0)","v":0},{"$f":"IFERROR(IF(AND(I6=5,F7<>\"D\",F8=\"D\"),IF((V8-E7)/C8<=5,(V8-E7)/C8,5),IF(Configuration!$C8=\"\",0,Configuration!$V8/Configuration!$C8)),0)","v":0},{"$f":"IFERROR(Configuration!$H8*Configuration!$R8,\"\")","v":""},null,null,0,"","","",{"$f":"IF(AC7=1,0,IF(SUM(Z8:AB8,Z9:AA9)=5,1,0))","v":0},3,"",{"$f":"IFERROR(IF($E$7+E8<=$AB$5,1,0),\"\")","v":""}]
[{"$f":"IF(Table3[[#This Row],[Output No.]]=\"\",0,1)","v":0},{"$f":"IF(OR(Table3[[#This Row],[Output Voltage]]=\"Blank Slot\",Table3[[#This Row],[Output Voltage]]=\"\"),\"\",SUM($A$6:A8)+1)","v":""},null,null,"",{"$f":"IFERROR(IF(AND(C9<>\"\",SUM(I6:I7)=5,Y8=2,I8=1),\"D\",IF(AC8=1,\"D\",IF(AC9=1,\"D\",INDEX(Table2[[Short Name]:[Max current per output]],MATCH(Configuration!$C9,Table2[Output Voltage],FALSE),MATCH(Configuration!$F$5,Table2[[#Headers],[Short Name]:[Max current per output]],FALSE))))),\"\")","v":""},{"$f":"IFERROR(IF(F9=\"D\",5,VLOOKUP(C9,Table2[],3,FALSE)),\"\")","v":""},{"$f":"IFERROR(INDEX(Table2[[Short Name]:[Module Code]],MATCH(Configuration!$C9,Table2[Output Voltage],FALSE),MATCH(Configuration!$H$5,Table2[[#Headers],[Short Name]:[Module Code]],FALSE)),\"\")","v":""},{"$f":"IFERROR(IF(AND(I8>0,F8=\"D\",F9=\"D\"),0,IF(Configuration!$C9=\"Blank Slot\",1,IF(ROUNDUP(Configuration!$D9/G9,0)=0,\"\",ROUNDUP(Configuration!$D9/G9,0)))),\"\")","v":""},{"$f":"IF(Configuration!$D9>G9,1,\"\")","v":""},0,{"$f":"IF(Configuration!$I9=\"\",0,IF(SUM($L6:$L8)>=1,IF(AND($I9=0,SUM(L6:L7)=0),1,0),IF(Configuration!$K9<Configuration!$I9,1,0)))","v":0},{"$f":"IF(Configuration!$I9=\"\",0,IF(SUM($M6:$M8)>=1,IF(AND($I9=0,SUM(M6:M7)=0),1,0),IF(SUM(Configuration!$K9:$L9)<Configuration!$I9,1,0)))","v":0},{"$f":"IF(Configuration!$I9=\"\",0,IF(SUM($N6:$N8)>=1,IF(AND($I9=0,SUM(N6:N7)=0),1,0),IF(SUM(Configuration!$K9:$M9)<Configuration!$I9,1,0)))","v":0},{"$f":"IF(Configuration!$I9=\"\",0,IF(SUM($O6:$O8)>=1,IF(AND($I9=0,SUM(O6:O7)=0),1,0),IF(SUM(Configuration!$K9:$N9)<Configuration!$I9,1,0)))","v":0},{"$f":"IF(Configuration!$I9=\"\",0,IF(SUM($P6:$P8)>=1,IF(AND($I9=0,SUM(P6:P7)=0),1,0),IF(SUM(Configuration!$K9:$O9)<Configuration!$I9,1,0)))","v":0},null,{"$f":"IF(F9=\"D\",1,IF(C8=\"\",0,IF(SUM(I10:I17)=0,6-SUM(I6:I8),6-SUM(I6:I8,I10:I17))))","v":0},{"$f":"IF(Configuration!$R9>0,3,0)","v":0},{"$f":"IF(Configuration!$R9>0,IF(F9=\"D\",30,55),0)","v":0},{"$f":"IFERROR(IF(AND(SUM(I6:I7)=5,F8<>\"D\",F9=\"D\"),IF((V9-E8)/C9<=5,(V9-E8)/C9,5),IF(Configuration!$C9=\"\",0,Configuration!$V9/Configuration!$C9)),0)","v":0},{"$f":"IFERROR(Configuration!$H9*Configuration!$R9,\"\")","v":""},null,null,0,"","","",0,4,"","",{"$f":"IFERROR(IF($E$8+E9<=$AB$5,1,0),\"\")","v":""}]
[{"$f":"IF(Table3[[#This Row],[Output No.]]=\"\",0,1)","v":0},{"$f":"IF(OR(Table3[[#This Row],[Output Voltage]]=\"Blank Slot\",Table3[[#This Row],[Output Voltage]]=\"\"),\"\",SUM($A$6:A9)+1)","v":""},null,null,"",{"$f":"IFERROR(IF(AND(C10<>\"\",SUM(I6:I8)=5,Y9=2,I9=1),\"D\",IF(AC9=1,\"D\",IF(AC10=1,\"D\",INDEX(Table2[[Short Name]:[Max current per output]],MATCH(Configuration!$C10,Table2[Output Voltage],FALSE),MATCH(Configuration!$F$5,Table2[[#Headers],[Short Name]:[Max current per output]],FALSE))))),\"\")","v":""},{"$f":"IFERROR(IF(F10=\"D\",5,VLOOKUP(C10,Table2[],3,FALSE)),\"\")","v":""},{"$f":"IFERROR(INDEX(Table2[[Short Name]:[Module Code]],MATCH(Configuration!$C10,Table2[Output Voltage],FALSE),MATCH(Configuration!$H$5,Table2[[#Headers],[Short Name]:[Module Code]],FALSE)),\"\")","v":""},{"$f":"IFERROR(IF(AND(I9>0,F9=\"D\",F10=\"D\"),0,IF(Configuration!$C10=\"Blank Slot\",1,IF(ROUNDUP(Configuration!$D10/G10,0)=0,\"\",ROUNDUP(Configuration!$D10/G10,0)))),\"\")","v":""},{"$f":"IF(Configuration!$D10>G10,1,\"\")","v":""},0,0,{"$f":"IF(Configuration!$I10=\"\",0,IF(SUM($M6:$M9)>=1,IF(AND($I10=0,SUM(M6:M8)=0),1,0),IF(SUM(Configuration!$K10:$L10)<Configuration!$I10,1,0)))","v":0},{"$f":"IF(Configuration!$I10=\"\",0,IF(SUM($N6:$N9)>=1,IF(AND($I10=0,SUM(N6:N8)=0),1,0),IF(SUM(Configuration!$K10:$M10)<Configuration!$I10,1,0)))","v":0},{"$f":"IF(Configuration!$I10=\"\",0,IF(SUM($O6:$O9)>=1,IF(AND($I10=0,SUM(O6:O8)=0),1,0),IF(SUM(Configuration!$K10:$N10)<Configuration!$I10,1,0)))","v":0},{"$f":"IF(Configuration!$I10=\"\",0,IF(SUM($P6:$P9)>=1,IF(AND($I10=0,SUM(P6:P8)=0),1,0),IF(SUM(Configuration!$K10:$O10)<Configuration!$I10,1,0)))","v":0},null,{"$f":"IF(F10=\"D\",1,IF(C9=\"\",0,IF(SUM(I11:I17)=0,6-SUM(I6:I9),6-SUM(I11:I17,I6:I9))))","v":0},{"$f":"IF(Configuration!$R10>0,3,0)","v":0},{"$f":"IF(Configuration!$R10>0,IF(F10=\"D\",30,55),0)","v":0},{"$f":"IFERROR(IF(AND(SUM(I6:I8)=5,F9<>\"D\",F10=\"D\"),IF((V10-E9)/C10<=5,(V10-E9)/C10,5),IF(Configuration!$C10=\"\",0,Configuration!$V10/Configuration!$C10)),0)","v":0},{"$f":"IFERROR(Configuration!$H10*Configuration!$R10,\"\")","v":""},null,null,0,"","","",0,5,"","","",{"$f":"IFERROR(IF($E$9+E10<=$AB$5,1,0),\"\")","v":""}]
[{"$f":"IF(Table3[[#This Row],[Output No.]]=\"\",0,1)","v":0},{"$f":"IF(OR(Table3[[#This Row],[Output Voltage]]=\"Blank Slot\",Table3[[#This Row],[Output Voltage]]=\"\"),\"\",SUM($A$6:A10)+1)","v":""},null,null,"",{"$f":"IFERROR(IF(AND(C11<>\"\",SUM(I6:I9)=5,Y10=2,I10=1),\"D\",IF(AC10=1,\"D\",IF(AC11=1,\"D\",INDEX(Table2[[Short Name]:[Max current per output]],MATCH(Configuration!$C11,Table2[Output Voltage],FALSE),MATCH(Configuration!$F$5,Table2[[#Headers],[Short Name]:[Max current per output]],FALSE))))),\"\")","v":""},{"$f":"IFERROR(IF(F11=\"D\",5,VLOOKUP(C11,Table2[],3,FALSE)),\"\")","v":""},{"$f":"IFERROR(INDEX(Table2[[Short Name]:[Module Code]],MATCH(Configuration!$C11,Table2[Output Voltage],FALSE),MATCH(Configuration!$H$5,Table2[[#Headers],[Short Name]:[Module Code]],FALSE)),\"\")","v":""},{"$f":"IFERROR(IF(AND(I10>0,F10=\"D\",F11=\"D\"),0,IF(Configuration!$C11=\"Blank Slot\",1,IF(ROUNDUP(Configuration!$D11/G11,0)=0,\"\",ROUNDUP(Configuration!$D11/G11,0)))),\"\")","v":""},{"$f":"IF(Configuration!$D11>G11,1,\"\")","v":""},0,0,{"$f":"IF(Configuration!$I11=\"\",0,IF(SUM($M6:$M10)>=1,IF(AND($I11=0,SUM(M6:M9)=0),1,0),IF(SUM(Configuration!$K11:$L11)<Configuration!$I11,1,0)))","v":0},{"$f":"IF(Configuration!$I11=\"\",0,IF(SUM($N6:$N10)>=1,IF(AND($I11=0,SUM(N6:N9)=0),1,0),IF(SUM(Configuration!$K11:$M11)<Configuration!$I11,1,0)))","v":0},{"$f":"IF(Configuration!$I11=\"\",0,IF(SUM($O6:$O10)>=1,IF(AND($I11=0,SUM(O6:O9)=0),1,0),IF(SUM(Configuration!$K11:$N11)<Configuration!$I11,1,0)))","v":0},{"$f":"IF(Configuration!$I11=\"\",0,IF(SUM($P6:$P10)>=1,IF(AND($I11=0,SUM(P6:P9)=0),1,0),IF(SUM(Configuration!$K11:$O11)<Configuration!$I11,1,0)))","v":0},null,{"$f":"IF(F11=\"D\",1,IF(C10=\"\",0,IF(SUM(I12:I17)=0,6-SUM(I6:I10),6-SUM(I12:I17,I6:I10))))","v":0},{"$f":"IF(Configuration!$R11>0,3,0)","v":0},{"$f":"IF(Configuration!$R11>0,IF(F11=\"D\",30,55),0)","v":0},{"$f":"IFERROR(IF(AND(SUM(I6:I9)=5,F10<>\"D\",F11=\"D\"),IF((V11-E10)/C11<=5,(V11-E10)/C11,5),IF(Configuration!$C11=\"\",0,Configuration!$V11/Configuration!$C11)),0)","v":0},{"$f":"IFERROR(Configuration!$H11*Configuration!$R11,\"\")","v":""},null,null,0,"","","",0,6,"","","","",{"$f":"IFERROR(IF($E$10+E11<=$AB$5,1,0),\"\")","v":""}]
[{"$f":"IF(Table3[[#This Row],[Output No.]]=\"\",0,1)","v":0},{"$f":"IF(OR(Table3[[#This Row],[Output Voltage]]=\"Blank Slot\",Table3[[#This Row],[Output Voltage]]=\"\"),\"\",SUM($A$6:A11)+1)","v":""},null,null,{"$f":"IFERROR(IF(C12*D12=0,\"\",C12*D12),\"\")","v":""},{"$f":"IFERROR(IF(AND(C12<>\"\",SUM(I6:I10)=5,Y11=2,I11=1),\"D\",IF(AC11=1,\"D\",IF(AC12=1,\"D\",INDEX(Table2[[Short Name]:[Max current per output]],MATCH(Configuration!$C12,Table2[Output Voltage],FALSE),MATCH(Configuration!$F$5,Table2[[#Headers],[Short Name]:[Max current per output]],FALSE))))),\"\")","v":""},{"$f":"IFERROR(IF(F12=\"D\",5,VLOOKUP(C12,Table2[],3,FALSE)),\"\")","v":""},{"$f":"IFERROR(INDEX(Table2[[Short Name]:[Module Code]],MATCH(Configuration!$C12,Table2[Output Voltage],FALSE),MATCH(Configuration!$H$5,Table2[[#Headers],[Short Name]:[Module Code]],FALSE)),\"\")","v":""},{"$f":"IFERROR(IF(AND(I11>0,F11=\"D\",F12=\"D\"),0,IF(Configuration!$C12=\"Blank Slot\",1,IF(ROUNDUP(Configuration!$D12/G12,0)=0,\"\",ROUNDUP(Configuration!$D12/G12,0)))),\"\")","v":""},{"$f":"IF(Configuration!$D12>G12,1,\"\")","v":""},0,0,{"$f":"IF(Configuration!$I12=\"\",0,IF(SUM(M6:M11)>=1,IF(AND($I12=0,SUM(M6:M10)=0),1,0),IF(SUM(Configuration!$K12:L12)<Configuration!$I12,1,0)))","v":0},{"$f":"IF(Configuration!$I12=\"\",0,IF(SUM(N6:N11)>=1,IF(AND($I12=0,SUM(N6:N10)=0),1,0),IF(SUM(Configuration!$K12:M12)<Configuration!$I12,1,0)))","v":0},{"$f":"IF(Configuration!$I12=\"\",0,IF(SUM(O6:O11)>=1,IF(AND($I12=0,SUM(O6:O10)=0),1,0),IF(SUM(Configuration!$K12:N12)<Configuration!$I12,1,0)))","v":0},{"$f":"IF(Configuration!$I12=\"\",0,IF(SUM(P6:P11)>=1,IF(AND($I12=0,SUM(P6:P10)=0),1,0),IF(SUM(Configuration!$K12:O12)<Configuration!$I12,1,0)))","v":0},null,{"$f":"IF(F12=\"D\",1,IF(C11=\"\",0,IF(SUM(I13:I17)=0,6-SUM(I6:I11),6-SUM(I13:I17,I6:I11))))","v":0},{"$f":"IF(Configuration!$R12>0,3,0)","v":0},{"$f":"IF(Configuration!$R12>0,IF(F12=\"D\",30,55),0)","v":0},{"$f":"IFERROR(IF(AND(SUM(I6:I10)=5,F11<>\"D\",F12=\"D\"),IF((V12-E11)/C12<=5,(V12-E11)/C12,5),IF(Configuration!$C12=\"\",0,Configuration!$V12/Configuration!$C12)),0)","v":0},{"$f":"IFERROR(Configuration!$H12*Configuration!$R12,\"\")","v":""},null,null,0,"","","",0,7,"","","","","",{"$f":"IFERROR(IF($E$11+E12<=$AB$5,1,0),\"\")","v":""}]
[{"$f":"IF(Table3[[#This Row],[Output No.]]=\"\",0,1)","v":0},{"$f":"IF(OR(Table3[[#This Row],[Output Voltage]]=\"Blank Slot\",Table3[[#This Row],[Output Voltage]]=\"\"),\"\",SUM($A$6:A12)+1)","v":""},null,null,"",{"$f":"IFERROR(IF(AND(C13<>\"\",SUM(I6:I11)=5,Y12=2,I12=1),\"D\",IF(AC12=1,\"D\",IF(AC13=1,\"D\",INDEX(Table2[[Short Name]:[Max current per output]],MATCH(Configuration!$C13,Table2[Output Voltage],FALSE),MATCH(Configuration!$F$5,Table2[[#Headers],[Short Name]:[Max current per output]],FALSE))))),\"\")","v":""},{"$f":"IFERROR(IF(F13=\"D\",5,VLOOKUP(C13,Table2[],3,FALSE)),\"\")","v":""},{"$f":"IFERROR(INDEX(Table2[[Short Name]:[Module Code]],MATCH(Configuration!$C13,Table2[Output Voltage],FALSE),MATCH(Configuration!$H$5,Table2[[#Headers],[Short Name]:[Module Code]],FALSE)),\"\")","v":""},{"$f":"IFERROR(IF(AND(I12>0,F12=\"D\",F13=\"D\"),0,IF(Configuration!$C13=\"Blank Slot\",1,IF(ROUNDUP(Configuration!$D13/G13,0)=0,\"\",ROUNDUP(Configuration!$D13/G13,0)))),\"\")","v":""},{"$f":"IF(Configuration!$D13>G13,1,\"\")","v":""},0,0,0,{"$f":"IF(Configuration!$I13=\"\",0,IF(SUM(N6:N12)>=1,IF(AND($I13=0,SUM(N6:N11)=0),1,0),IF(SUM(Configuration!$K13:M13)<Configuration!$I13,1,0)))","v":0},{"$f":"IF(Configuration!$I13=\"\",0,IF(SUM(O6:O12)>=1,IF(AND($I13=0,SUM(O6:O11)=0),1,0),IF(SUM(Configuration!$K13:N13)<Configuration!$I13,1,0)))","v":0},{"$f":"IF(Configuration!$I13=\"\",0,IF(SUM(P6:P12)>=1,IF(AND($I13=0,SUM(P6:P11)=0),1,0),IF(SUM(Configuration!$K13:O13)<Configuration!$I13,1,0)))","v":0},null,{"$f":"IF(F13=\"D\",1,IF(C12=\"\",0,IF(SUM(I14:I17)=0,6-SUM(I6:I12),6-SUM(I14:I17,I6:I12))))","v":0},{"$f":"IF(Configuration!$R13>0,3,0)","v":0},{"$f":"IF(Configuration!$R13>0,IF(F13=\"D\",30,55),0)","v":0},{"$f":"IFERROR(IF(AND(SUM(I6:I11)=5,F12<>\"D\",F13=\"D\"),IF((V13-E12)/C13<=5,(V13-E12)/C13,5),IF(Configuration!$C13=\"\",0,Configuration!$V13/Configuration!$C13)),0)","v":0},{"$f":"IFERROR(Configuration!$H13*Configuration!$R13,\"\")","v":""},null,null,0,"","","",0,8,"","","","","","",{"$f":"IFERROR(IF($E$12+E13<=$AB$5,1,0),\"\")","v":""}]
[{"$f":"IF(Table3[[#This Row],[Output No.]]=\"\",0,1)","v":0},{"$f":"IF(OR(Table3[[#This Row],[Output Voltage]]=\"Blank Slot\",Table3[[#This Row],[Output Voltage]]=\"\"),\"\",SUM($A$6:A13)+1)","v":""},null,null,"",{"$f":"IFERROR(IF(AND(C14<>\"\",SUM(I6:I12)=5,Y13=2,I13=1),\"D\",IF(AC13=1,\"D\",IF(AC14=1,\"D\",INDEX(Table2[[Short Name]:[Max current per output]],MATCH(Configuration!$C14,Table2[Output Voltage],FALSE),MATCH(Configuration!$F$5,Table2[[#Headers],[Short Name]:[Max current per output]],FALSE))))),\"\")","v":""},{"$f":"IFERROR(IF(F14=\"D\",5,VLOOKUP(C14,Table2[],3,FALSE)),\"\")","v":""},{"$f":"IFERROR(INDEX(Table2[[Short Name]:[Module Code]],MATCH(Configuration!$C14,Table2[Output Voltage],FALSE),MATCH(Configuration!$H$5,Table2[[#Headers],[Short Name]:[Module Code]],FALSE)),\"\")","v":""},{"$f":"IFERROR(IF(AND(I13>0,F13=\"D\",F14=\"D\"),0,IF(Configuration!$C14=\"Blank Slot\",1,IF(ROUNDUP(Configuration!$D14/G14,0)=0,\"\",ROUNDUP(Configuration!$D14/G14,0)))),\"\")","v":""},{"$f":"IF(Configuration!$D14>G14,1,\"\")","v":""},0,0,0,{"$f":"IF(Configuration!$I14=\"\",0,IF(SUM(N6:N13)>=1,IF(AND($I14=0,SUM(N6:N12)=0),1,0),IF(SUM(Configuration!$K14:M14)<Configuration!$I14,1,0)))","v":0},{"$f":"IF(Configuration!$I14=\"\",0,IF(SUM(O6:O13)>=1,IF(AND($I14=0,SUM(O6:O12)=0),1,0),IF(SUM(Configuration!$K14:N14)<Configuration!$I14,1,0)))","v":0},{"$f":"IF(Configuration!$I14=\"\",0,IF(SUM(P6:P13)>=1,IF(AND($I14=0,SUM(P6:P12)=0),1,0),IF(SUM(Configuration!$K14:O14)<Configuration!$I14,1,0)))","v":0},null,{"$f":"IF(F14=\"D\",1,IF(C13=\"\",0,IF(SUM(I15:I17)=0,6-SUM(I6:I13),6-SUM(I15:I17,I6:I13))))","v":0},{"$f":"IF(Configuration!$R14>0,3,0)","v":0},{"$f":"IF(Configuration!$R14>0,IF(F14=\"D\",30,55),0)","v":0},{"$f":"IFERROR(IF(AND(SUM(I6:I12)=5,F13<>\"D\",F14=\"D\"),IF((V14-E13)/C14<=5,(V14-E13)/C14,5),IF(Configuration!$C14=\"\",0,Configuration!$V14/Configuration!$C14)),0)","v":0},{"$f":"IFERROR(Configuration!$H14*Configuration!$R14,\"\")","v":""},null,null,0,"","","",0,9,"","","","","","",{"$f":"IFERROR(IF($E$12+E14<=$AB$5,1,0),\"\")","v":""},{"$f":"IFERROR(IF($E$13+E14<=$AB$5,1,0),\"\")","v":""}]
[{"$f":"IF(Table3[[#This Row],[Output No.]]=\"\",0,1)","v":0},{"$f":"IF(OR(Table3[[#This Row],[Output Voltage]]=\"Blank Slot\",Table3[[#This Row],[Output Voltage]]=\"\"),\"\",SUM($A$6:A14)+1)","v":""},null,null,"",{"$f":"IFERROR(IF(AND(C15<>\"\",SUM(I6:I13)=5,Y14=2,I14=1),\"D\",IF(AC14=1,\"D\",IF(AC15=1,\"D\",INDEX(Table2[[Short Name]:[Max current per output]],MATCH(Configuration!$C15,Table2[Output Voltage],FALSE),MATCH(Configuration!$F$5,Table2[[#Headers],[Short Name]:[Max current per output]],FALSE))))),\"\")","v":""},{"$f":"IFERROR(IF(F15=\"D\",5,VLOOKUP(C15,Table2[],3,FALSE)),\"\")","v":""},{"$f":"IFERROR(INDEX(Table2[[Short Name]:[Module Code]],MATCH(Configuration!$C15,Table2[Output Voltage],FALSE),MATCH(Configuration!$H$5,Table2[[#Headers],[Short Name]:[Module Code]],FALSE)),\"\")","v":""},{"$f":"IFERROR(IF(AND(I14>0,F14=\"D\",F15=\"D\"),0,IF(Configuration!$C15=\"Blank Slot\",1,IF(ROUNDUP(Configuration!$D15/G15,0)=0,\"\",ROUNDUP(Configuration!$D15/G15,0)))),\"\")","v":""},{"$f":"IF(Configuration!$D15>G15,1,\"\")","v":""},0,0,0,{"$f":"IF(Configuration!$I15=\"\",0,IF(SUM(N9:N14)>=1,IF(AND($I15=0,SUM(N9:N13)=0),1,0),IF(SUM(Configuration!$K15:M15)<Configuration!$I15,1,0)))","v":0},{"$f":"IF(Configuration!$I15=\"\",0,IF(SUM(O6:O14)>=1,IF(AND($I15=0,SUM(O6:O13)=0),1,0),IF(SUM(Configuration!$K15:N15)<Configuration!$I15,1,0)))","v":0},{"$f":"IF(Configuration!$I15=\"\",0,IF(SUM(P6:P14)>=1,IF(AND($I15=0,SUM(P6:P13)=0),1,0),IF(SUM(Configuration!$K15:O15)<Configuration!$I15,1,0)))","v":0},null,{"$f":"IF(F15=\"D\",1,IF(C14=\"\",0,IF(SUM(I16:I17)=0,6-SUM(I6:I14),6-SUM(I16:I17,I6:I14))))","v":0},{"$f":"IF(Configuration!$R15>0,3,0)","v":0},{"$f":"IF(Configuration!$R15>0,IF(F15=\"D\",30,55),0)","v":0},{"$f":"IFERROR(IF(AND(SUM(I6:I13)=5,F14<>\"D\",F15=\"D\"),IF((V15-E14)/C15<=5,(V15-E14)/C15,5),IF(Configuration!$C15=\"\",0,Configuration!$V15/Configuration!$C15)),0)","v":0},{"$f":"IFERROR(Configuration!$H15*Configuration!$R15,\"\")","v":""},null,null,0,"","","",{"$f":"IF(AC14=1,0,IF(SUM(Z15:AB15,Z16:AA16)=5,1,0))","v":0},10,"","","","","","",{"$f":"IFERROR(IF($E$12+E15<=$AB$5,1,0),\"\")","v":""},{"$f":"IFERROR(IF($E$13+E15<=$AB$5,1,0),\"\")","v":""},{"$f":"IFERROR(IF($E$14+E15<=$AB$5,1,0),\"\")","v":""}]
[{"$f":"IF(Table3[[#This Row],[Output No.]]=\"\",0,1)","v":0},{"$f":"IF(OR(Table3[[#This Row],[Output Voltage]]=\"Blank Slot\",Table3[[#This Row],[Output Voltage]]=\"\"),\"\",SUM($A$6:A15)+1)","v":""},null,null,"",{"$f":"IFERROR(IF(AND(C16<>\"\",SUM(I6:I14)=5,Y15=2,I15=1),\"D\",IF(AC15=1,\"D\",IF(AC16=1,\"D\",INDEX(Table2[[Short Name]:[Max current per output]],MATCH(Configuration!$C16,Table2[Output Voltage],FALSE),MATCH(Configuration!$F$5,Table2[[#Headers],[Short Name]:[Max current per output]],FALSE))))),\"\")","v":""},{"$f":"IFERROR(IF(F16=\"D\",5,VLOOKUP(C16,Table2[],3,FALSE)),\"\")","v":""},{"$f":"IFERROR(INDEX(Table2[[Short Name]:[Module Code]],MATCH(Configuration!$C16,Table2[Output Voltage],FALSE),MATCH(Configuration!$H$5,Table2[[#Headers],[Short Name]:[Module Code]],FALSE)),\"\")","v":""},{"$f":"IFERROR(IF(AND(I15>0,F15=\"D\",F16=\"D\"),0,IF(Configuration!$C16=\"Blank Slot\",1,IF(ROUNDUP(Configuration!$D16/G16,0)=0,\"\",ROUNDUP(Configuration!$D16/G16,0)))),\"\")","v":""},{"$f":"IF(Configuration!$D16>G16,1,\"\")","v":""},0,0,0,{"$f":"IF(Configuration!$I16=\"\",0,IF(SUM(N10:N15)>=1,IF(AND($I16=0,SUM(N10:N14)=0),1,0),IF(SUM(Configuration!$K16:M16)<Configuration!$I16,1,0)))","v":0},{"$f":"IF(Configuration!$I16=\"\",0,IF(SUM(O10:O15)>=1,IF(AND($I16=0,SUM(O10:O14)=0),1,0),IF(SUM(Configuration!$K16:N16)<Configuration!$I16,1,0)))","v":0},{"$f":"IF(Configuration!$I16=\"\",0,IF(SUM(P6:P15)>=1,IF(AND($I16=0,SUM(P6:P14)=0),1,0),IF(SUM(Configuration!$K16:O16)<Configuration!$I16,1,0)))","v":0},null,{"$f":"IF(F16=\"D\",1,IF(C15=\"\",0,IF(SUM(I17)=0,6-SUM(I6:I15),6-SUM(I17,I6:I15))))","v":0},{"$f":"IF(Configuration!$R16>0,3,0)","v":0},{"$f":"IF(Configuration!$R16>0,IF(F16=\"D\",30,55),0)","v":0},{"$f":"IFERROR(IF(AND(SUM(I6:I14)=5,F15<>\"D\",F16=\"D\"),IF((V16-E15)/C16<=5,(V16-E15)/C16,5),IF(Configuration!$C16=\"\",0,Configuration!$V16/Configuration!$C16)),0)","v":0},{"$f":"IFERROR(Configuration!$H16*Configuration!$R16,\"\")","v":""},null,null,0,"","","",{"$f":"IF(AC15=1,0,IF(SUM(Z16:AB16,Z17:AA17)=5,1,0))","v":0},11,"","","","","","",{"$f":"IFERROR(IF($E$12+E16<=$AB$5,1,0),\"\")","v":""},{"$f":"IFERROR(IF($E$13+E16<=$AB$5,1,0),\"\")","v":""},{"$f":"IFERROR(IF($E$14+E16<=$AB$5,1,0),\"\")","v":""},{"$f":"IFERROR(IF($E$15+E16<=$AB$5,1,0),\"\")","v":""}]
[{"$f":"IF(Table3[[#This Row],[Output No.]]=\"\",0,1)","v":0},{"$f":"IF(OR(Table3[[#This Row],[Output Voltage]]=\"Blank Slot\",Table3[[#This Row],[Output Voltage]]=\"\"),\"\",SUM($A$6:A16)+1)","v":""},null,null,"",{"$f":"IFERROR(IF(AND(C17<>\"\",SUM(I6:I15)=5,Y16=2,I16=1),\"D\",IF(AC16=1,\"D\",IF(AC17=1,\"D\",INDEX(Table2[[Short Name]:[Max current per output]],MATCH(Configuration!$C17,Table2[Output Voltage],FALSE),MATCH(Configuration!$F$5,Table2[[#Headers],[Short Name]:[Max current per output]],FALSE))))),\"\")","v":""},{"$f":"IFERROR(IF(F17=\"D\",5,VLOOKUP(C17,Table2[],3,FALSE)),\"\")","v":""},{"$f":"IFERROR(INDEX(Table2[[Short Name]:[Module Code]],MATCH(Configuration!$C17,Table2[Output Voltage],FALSE),MATCH(Configuration!$H$5,Table2[[#Headers],[Short Name]:[Module Code]],FALSE)),\"\")","v":""},{"$f":"IFERROR(IF(AND(I16>0,F16=\"D\",F17=\"D\"),0,IF(Configuration!$C17=\"Blank Slot\",1,IF(ROUNDUP(Configuration!$D17/G17,0)=0,\"\",ROUNDUP(Configuration!$D17/G17,0)))),\"\")","v":""},{"$f":"IF(Configuration!$D17>G17,1,\"\")","v":""},0,0,0,{"$f":"IF(Configuration!$I17=\"\",0,IF(SUM(N11:N16)>=1,IF(AND($I17=0,SUM(N11:N15)=0),1,0),IF(SUM(Configuration!$K17:M17)<Configuration!$I17,1,0)))","v":0},{"$f":"IF(Configuration!$I17=\"\",0,IF(SUM(O11:O16)>=1,IF(AND($I17=0,SUM(O11:O15)=0),1,0),IF(SUM(Configuration!$K17:N17)<Configuration!$I17,1,0)))","v":0},{"$f":"IF(Configuration!$I17=\"\",0,IF(SUM(P6:P16)>=1,IF(AND($I17=0,SUM(P6:P15)=0),1,0),IF(SUM(Configuration!$K17:O17)<Configuration!$I17,1,0)))","v":0},null,{"$f":"IF(F17=\"D\",1,IF(C16=\"\",0,6-SUM(I6:I16)))","v":0},{"$f":"IF(Configuration!$R17>0,3,0)","v":0},{"$f":"IF(Configuration!$R17>0,IF(F17=\"D\",30,55),0)","v":0},{"$f":"IFERROR(IF(AND(SUM(I6:I15)=5,F16<>\"D\",F17=\"D\"),IF((V17-E16)/C17<=5,(V17-E16)/C17,5),IF(Configuration!$C17=\"\",0,Configuration!$V17/Configuration!$C17)),0)","v":0},{"$f":"IFERROR(Configuration!$H17*Configuration!$R17,\"\")","v":""},null,null,0,"","","",null,12,"","","","","","",{"$f":"IFERROR(IF($E$12+E17<=$AB$5,1,0),\"\")","v":""},{"$f":"IFERROR(IF($E$13+E17<=$AB$5,1,0),\"\")","v":""},{"$f":"IFERROR(IF($E$14+E17<=$AB$5,1,0),\"\")","v":""},{"$f":"IFERROR(IF($E$15+E17<=$AB$5,1,0),\"\")","v":""},{"$f":"IFERROR(IF($E$16+E17<=$AB$5,1,0),\"\")","v":""}]
[]
[null,"Product Summary",null,null,null,null,null,null,null,null,"Fast Delivery"]
[null,"Model Name",null,null,"NMP",{"$f":"IF(OR(SUM(Configuration!$E$6:$E$17)>650,SUM(Configuration!$I$6:$I$17)>4),\"1K2\",IF(E24=0,\"\",\"650\"))","v":""},{"$f":"IF(F20=\"\",\"\",U82)","v":""},{"$f":"IF(F20=\"\",\"\",IF(I20<10,0,\"\"))","v":""},{"$f":"IF(F20=\"\",\"\",VLOOKUP(U97,B69:C100,2,FALSE))","v":""}]
[null,"Product No.:",null,null,{"$f":"IF(F20=\"\",\"\",E20&F20&\"-\"&G20&\"-\"&H20&I20)","v":""},null,null,null,null,null,"Delivery\n(after PO received)",null,null,"NMP Series Quantity\n(Standard Product)"]
[null,"Rated Output Power (W):",null,null,{"$f":"IF(F20=\"\",\"\",IF(F20=\"650\",650,1200))","v":""}]
[null,"No. of Output:",null,null,{"$f":"IF(F20=\"\",\"\",IF(12-COUNTIF(E6:E17,\"\")=0,\"\",12-COUNTIF(E6:E17,\"\")))","v":""},null,null,null,null,null,"48 hours",null,null,"1 ~ 5pcs"]
[null,"Total Output Power (W):",null,null,{"$f":"SUM(Configuration!$E$6:$E$11)","v":0},{"$f":"IF(E24>E22,\"【Warning】 Total output power is over Rated Output Power (1200W), \nplease do NOT use all outputs at the same time at full load. \",\"\")","v":""},null,null,null,null,"7 days",null,null,"6 ~ 50pcs"]
[null,"Warranty:",null,null,5,null,null,null,null,null,"14 days",null,null,"51 ~ 100pcs"]
[null,"Unit Weight:",null,null,{"$f":"IF(F20=\"\",\"\",IF(F20=\"650\",Database!N2+SUM(M83:R83),Database!N3+SUM(M83:R83)))","v":""}]
[null,"Dimension (L*W*H):",null,null,{"$f":"IF(F20=\"\",\"\",IF(F20=\"650\",Database!M2,Database!M3))","v":""}]
[]
[null,"Configuration Details"]
[null,"Front-End:",{"$f":"IF(F20=\"\",\"\",IF(F20=\"650\",\"NMP650\",\"NMP1K2\"))","v":""}]
[null,"Slot #","Module Model",null,null,"Output #","Voltage/Current",null,"Signal Wire",null,"Parallel Connection Accessories",null,null,null,null,null,null,null,null,"v","I","No Slot"]
[null,{"$f":"IF(C32=\"\",\"\",1)","v":""},{"$f":"IF(V70=\"#\",\"BLANK-NMS240\",IFERROR(INDEX(Database!$A$2:$I$6,MATCH(Configuration!$V70,Database!$G$2:$G$6,FALSE),MATCH(\"Short Name\",Table1[#Headers],FALSE)),\"\"))","v":""},null,null,{"$f":"IF(ROW(A1)<=SUM($A$6:$A$17),ROW(A1),\"\")","v":""},{"$f":"IF(F32=\"\",\"\",T32&\"V@\"&U32&\"A\")","v":""},null,{"$f":"IFERROR(INDEX(Table6[[Signal Wire]:[Parallel Connection Accessories]],MATCH($V32,Table6['# of Slot per output],FALSE),MATCH(Configuration!$I$31,Table6[[#Headers],[Signal Wire]:[Parallel Connection Accessories]],FALSE)),\"\")","v":""},null,{"$f":"IFERROR(INDEX(Table6[[Signal Wire]:[Parallel Connection Accessories]],MATCH($V32,Table6['# of Slot per output],FALSE),MATCH(Configuration!$K$31,Table6[[#Headers],[Signal Wire]:[Parallel Connection Accessories]],FALSE)),\"\")","v":""},null,null,null,null,null,null,null,null,{"$f":"VLOOKUP(F32,Table3[[Output No.]:[Output Current]],2,FALSE)","v":0},{"$f":"VLOOKUP(F32,Table3[[Output No.]:[Output Current]],3,FALSE)","v":0},{"$f":"VLOOKUP(F32,Table3[[Output No.]:[No. of Slot Used]],8,FALSE)","v":""}]
[null,{"$f":"IF(C33=\"\",\"\",2)","v":""},{"$f":"IF(V71=\"#\",\"BLANK-NMS240\",IFERROR(INDEX(Database!$A$2:$I$6,MATCH(Configuration!$V71,Database!$G$2:$G$6,FALSE),MATCH(\"Short Name\",Table1[#Headers],FALSE)),\"\"))","v":""},null,null,{"$f":"IF(ROW(A2)<=SUM($A$6:$A$17),ROW(A2),\"\")","v":""},"",null,{"$f":"IFERROR(INDEX(Table6[[Signal Wire]:[Parallel Connection Accessories]],MATCH($V33,Table6['# of Slot per output],FALSE),MATCH(Configuration!$I$31,Table6[[#Headers],[Signal Wire]:[Parallel Connection Accessories]],FALSE)),\"\")","v":""},null,{"$f":"IFERROR(INDEX(Table6[[Signal Wire]:[Parallel Connection Accessories]],MATCH($V33,Table6['# of Slot per output],FALSE),MATCH(Configuration!$K$31,Table6[[#Headers],[Signal Wire]:[Parallel Connection Accessories]],FALSE)),\"\")","v":""},null,null,null,null,null,null,null,null,{"$f":"VLOOKUP(F33,Table3[[Output No.]:[Output Current]],2,FALSE)","v":0},{"$f":"VLOOKUP(F33,Table3[[Output No.]:[Output Current]],3,FALSE)","v":0},{"$f":"VLOOKUP(F33,Table3[[Output No.]:[No. of Slot Used]],8,FALSE)","v":""}]
[null,{"$f":"IF(C34=\"\",\"\",3)","v":""},{"$f":"IF(V72=\"#\",\"BLANK-NMS240\",IFERROR(INDEX(Database!$A$2:$I$6,MATCH(Configuration!$V72,Database!$G$2:$G$6,FALSE),MATCH(\"Short Name\",Table1[#Headers],FALSE)),\"\"))","v":""},null,null,"","",null,{"$f":"IFERROR(INDEX(Table6[[Signal Wire]:[Parallel Connection Accessories]],MATCH($V34,Table6['# of Slot per output],FALSE),MATCH(Configuration!$I$31,Table6[[#Headers],[Signal Wire]:[Parallel Connection Accessories]],FALSE)),\"\")","v":""},null,{"$f":"IFERROR(INDEX(Table6[[Signal Wire]:[Parallel Connection Accessories]],MATCH($V34,Table6['# of Slot per output],FALSE),MATCH(Configuration!$K$31,Table6[[#Headers],[Signal Wire]:[Parallel Connection Accessories]],FALSE)),\"\")","v":""},null,null,null,null,null,null,null,null,{"$f":"VLOOKUP(F34,Table3[[Output No.]:[Output Current]],2,FALSE)","v":0},{"$f":"VLOOKUP(F34,Table3[[Output No.]:[Output Current]],3,FALSE)","v":0},{"$f":"VLOOKUP(F34,Table3[[Output No.]:[No. of Slot Used]],8,FALSE)","v":""}]
[null,{"$f":"IF(C35=\"\",\"\",4)","v":""},{"$f":"IF(V73=\"#\",\"BLANK-NMS240\",IFERROR(INDEX(Database!$A$2:$I$6,MATCH(Configuration!$V73,Database!$G$2:$G$6,FALSE),MATCH(\"Short Name\",Table1[#Headers],FALSE)),\"\"))","v":""},null,null,"","",null,{"$f":"IFERROR(INDEX(Table6[[Signal Wire]:[Parallel Connection Accessories]],MATCH($V35,Table6['# of Slot per output],FALSE),MATCH(Configuration!$I$31,Table6[[#Headers],[Signal Wire]:[Parallel Connection Accessories]],FALSE)),\"\")","v":""},null,{"$f":"IFERROR(INDEX(Table6[[Signal Wire]:[Parallel Connection Accessories]],MATCH($V35,Table6['# of Slot per output],FALSE),MATCH(Configuration!$K$31,Table6[[#Headers],[Signal Wire]:[Parallel Connection Accessories]],FALSE)),\"\")","v":""},null,null,null,null,null,null,null,null,{"$f":"VLOOKUP(F35,Table3[[Output No.]:[Output Current]],2,FALSE)","v":0},{"$f":"VLOOKUP(F35,Table3[[Output No.]:[Output Current]],3,FALSE)","v":0},{"$f":"VLOOKUP(F35,Table3[[Output No.]:[No. of Slot Used]],8,FALSE)","v":""}]
[null,{"$f":"IF(C36=\"\",\"\",5)","v":""},{"$f":"IF(V74=\"#\",\"BLANK-NMS240\",IFERROR(INDEX(Database!$A$2:$I$6,MATCH(Configuration!$V74,Database!$G$2:$G$6,FALSE),MATCH(\"Short Name\",Table1[#Headers],FALSE)),\"\"))","v":""},null,null,"","",null,{"$f":"IFERROR(INDEX(Table6[[Signal Wire]:[Parallel Connection Accessories]],MATCH($V36,Table6['# of Slot per output],FALSE),MATCH(Configuration!$I$31,Table6[[#Headers],[Signal Wire]:[Parallel Connection Accessories]],FALSE)),\"\")","v":""},null,{"$f":"IFERROR(INDEX(Table6[[Signal Wire]:[Parallel Connection Accessories]],MATCH($V36,Table6['# of Slot per output],FALSE),MATCH(Configuration!$K$31,Table6[[#Headers],[Signal Wire]:[Parallel Connection Accessories]],FALSE)),\"\")","v":""},null,null,null,null,null,null,null,null,{"$f":"VLOOKUP(F36,Table3[[Output No.]:[Output Current]],2,FALSE)","v":0},{"$f":"VLOOKUP(F36,Table3[[Output No.]:[Output Current]],3,FALSE)","v":0},{"$f":"VLOOKUP(F36,Table3[[Output No.]:[No. of Slot Used]],8,FALSE)","v":""}]
[null,{"$f":"IF(C37=\"\",\"\",6)","v":""},{"$f":"IF(V75=\"#\",\"BLANK-NMS240\",IFERROR(INDEX(Database!$A$2:$I$6,MATCH(Configuration!$V75,Database!$G$2:$G$6,FALSE),MATCH(\"Short Name\",Table1[#Headers],FALSE)),\"\"))","v":""},null,null,"","",null,{"$f":"IFERROR(INDEX(Table6[[Signal Wire]:[Parallel Connection Accessories]],MATCH($V37,Table6['# of Slot per output],FALSE),MATCH(Configuration!$I$31,Table6[[#Headers],[Signal Wire]:[Parallel Connection Accessories]],FALSE)),\"\")","v":""},null,{"$f":"IFERROR(INDEX(Table6[[Signal Wire]:[Parallel Connection Accessories]],MATCH($V37,Table6['# of Slot per output],FALSE),MATCH(Configuration!$K$31,Table6[[#Headers],[Signal Wire]:[Parallel Connection Accessories]],FALSE)),\"\")","v":""},null,null,null,null,null,null,null,null,{"$f":"VLOOKUP(F37,Table3[[Output No.]:[Output Current]],2,FALSE)","v":0},{"$f":"VLOOKUP(F37,Table3[[Output No.]:[Output Current]],3,FALSE)","v":0},{"$f":"VLOOKUP(F37,Table3[[Output No.]:[No. of Slot Used]],8,FALSE)","v":""}]
[null,null,null,null,null,"","",null,{"$f":"IFERROR(INDEX(Table6[[Signal Wire]:[Parallel Connection Accessories]],MATCH($V38,Table6['# of Slot per output],FALSE),MATCH(Configuration!$I$31,Table6[[#Headers],[Signal Wire]:[Parallel Connection Accessories]],FALSE)),\"\")","v":""},null,{"$f":"IFERROR(INDEX(Table6[[Signal Wire]:[Parallel Connection Accessories]],MATCH($V38,Table6['# of Slot per output],FALSE),MATCH(Configuration!$K$31,Table6[[#Headers],[Signal Wire]:[Parallel Connection Accessories]],FALSE)),\"\")","v":""},null,null,null,null,null,null,null,null,{"$f":"VLOOKUP(F38,Table3[[Output No.]:[Output Current]],2,FALSE)","v":0},{"$f":"VLOOKUP(F38,Table3[[Output No.]:[Output Current]],3,FALSE)","v":0},{"$f":"VLOOKUP(F38,Table3[[Output No.]:[No. of Slot Used]],8,FALSE)","v":""}]
[null,null,null,null,null,"","",null,{"$f":"IFERROR(INDEX(Table6[[Signal Wire]:[Parallel Connection Accessories]],MATCH($V39,Table6['# of Slot per output],FALSE),MATCH(Configuration!$I$31,Table6[[#Headers],[Signal Wire]:[Parallel Connection Accessories]],FALSE)),\"\")","v":""},null,{"$f":"IFERROR(INDEX(Table6[[Signal Wire]:[Parallel Connection Accessories]],MATCH($V39,Table6['# of Slot per output],FALSE),MATCH(Configuration!$K$31,Table6[[#Headers],[Signal Wire]:[Parallel Connection Accessories]],FALSE)),\"\")","v":""},null,null,null,null,null,null,null,null,{"$f":"VLOOKUP(F39,Table3[[Output No.]:[Output Current]],2,FALSE)","v":0},{"$f":"VLOOKUP(F39,Table3[[Output No.]:[Output Current]],3,FALSE)","v":0},{"$f":"VLOOKUP(F39,Table3[[Output No.]:[No. of Slot Used]],8,FALSE)","v":""}]
[null,null,null,null,null,"","",null,{"$f":"IFERROR(INDEX(Table6[[Signal Wire]:[Parallel Connection Accessories]],MATCH($V40,Table6['# of Slot per output],FALSE),MATCH(Configuration!$I$31,Table6[[#Headers],[Signal Wire]:[Parallel Connection Accessories]],FALSE)),\"\")","v":""},null,{"$f":"IFERROR(INDEX(Table6[[Signal Wire]:[Parallel Connection Accessories]],MATCH($V40,Table6['# of Slot per output],FALSE),MATCH(Configuration!$K$31,Table6[[#Headers],[Signal Wire]:[Parallel Connection Accessories]],FALSE)),\"\")","v":""},null,null,null,null,null,null,null,null,{"$f":"VLOOKUP(F40,Table3[[Output No.]:[Output Current]],2,FALSE)","v":0},{"$f":"VLOOKUP(F40,Table3[[Output No.]:[Output Current]],3,FALSE)","v":0},{"$f":"VLOOKUP(F40,Table3[[Output No.]:[No. of Slot Used]],8,FALSE)","v":""}]
[null,null,null,null,null,"","",null,{"$f":"IFERROR(INDEX(Table6[[Signal Wire]:[Parallel Connection Accessories]],MATCH($V41,Table6['# of Slot per output],FALSE),MATCH(Configuration!$I$31,Table6[[#Headers],[Signal Wire]:[Parallel Connection Accessories]],FALSE)),\"\")","v":""},null,{"$f":"IFERROR(INDEX(Table6[[Signal Wire]:[Parallel Connection Accessories]],MATCH($V41,Table6['# of Slot per output],FALSE),MATCH(Configuration!$K$31,Table6[[#Headers],[Signal Wire]:[Parallel Connection Accessories]],FALSE)),\"\")","v":""},null,null,null,null,null,null,null,null,{"$f":"VLOOKUP(F41,Table3[[Output No.]:[Output Current]],2,FALSE)","v":0},{"$f":"VLOOKUP(F41,Table3[[Output No.]:[Output Current]],3,FALSE)","v":0},{"$f":"VLOOKUP(F41,Table3[[Output No.]:[No. of Slot Used]],8,FALSE)","v":""}]
[null,null,null,null,null,"","",null,{"$f":"IFERROR(INDEX(Table6[[Signal Wire]:[Parallel Connection Accessories]],MATCH($V42,Table6['# of Slot per output],FALSE),MATCH(Configuration!$I$31,Table6[[#Headers],[Signal Wire]:[Parallel Connection Accessories]],FALSE)),\"\")","v":""},null,{"$f":"IFERROR(INDEX(Table6[[Signal Wire]:[Parallel Connection Accessories]],MATCH($V42,Table6['# of Slot per output],FALSE),MATCH(Configuration!$K$31,Table6[[#Headers],[Signal Wire]:[Parallel Connection Accessories]],FALSE)),\"\")","v":""},null,null,null,null,null,null,null,null,{"$f":"VLOOKUP(F42,Table3[[Output No.]:[Output Current]],2,FALSE)","v":0},{"$f":"VLOOKUP(F42,Table3[[Output No.]:[Output Current]],3,FALSE)","v":0},{"$f":"VLOOKUP(F42,Table3[[Output No.]:[No. of Slot Used]],8,FALSE)","v":""}]
[null,null,null,null,null,"","",null,{"$f":"IFERROR(INDEX(Table6[[Signal Wire]:[Parallel Connection Accessories]],MATCH($V43,Table6['# of Slot per output],FALSE),MATCH(Configuration!$I$31,Table6[[#Headers],[Signal Wire]:[Parallel Connection Accessories]],FALSE)),\"\")","v":""},null,{"$f":"IFERROR(INDEX(Table6[[Signal Wire]:[Parallel Connection Accessories]],MATCH($V43,Table6['# of Slot per output],FALSE),MATCH(Configuration!$K$31,Table6[[#Headers],[Signal Wire]:[Parallel Connection Accessories]],FALSE)),\"\")","v":""},null,null,null,null,null,null,null,null,{"$f":"VLOOKUP(F43,Table3[[Output No.]:[Output Current]],2,FALSE)","v":0},{"$f":"VLOOKUP(F43,Table3[[Output No.]:[Output Current]],3,FALSE)","v":0},{"$f":"VLOOKUP(F43,Table3[[Output No.]:[No. of Slot Used]],8,FALSE)","v":""}]
[]
[null,"Send Inquiry"]
[null,"Name",null,null,null,null,null,null,"MEAN WELL Sales",null,"MEAN WELL ENTERPRISES CO., LTD. (Headquarters)"]
[null,"Company",null,null,null,null,null,null,"Email",null,"Elyse@meanwell.com"]
[null,"Country"]
[null,"Telephone",null,null,null,null,null,null,"Contact",null,"Ms. Elyse Li"]
[null,"Email",null,null,null,null,null,null,"Tel",null,"+886-2-2299-6100 ext. 612"]
[null,"Application"]
[null,"Annual use volume"]
[null,"Comments"]
[]
[]
[]
[]
[]
[]
[]
[]
[]
[]
[null,null,null,"Notes: "]
[null,null,null,"You will be asked to save this inquiry in PDF in your computer first, then a new Outlook email will be generated with PDF attached."]
[null,null,null,null,null,null,null,null,null,"Copyright © 2020 MEAN WELL, All rights reserved."]
[]
[null,"Parallel","Code","Slot 1","Slot 2","Slot 3","Slot 4","Slot 5","Slot 6","FAP-009","FAP-010"]
[null,{"$f":"Table4[[#This Row],[Slot 1]]&Table4[[#This Row],[Slot 2]]&Table4[[#This Row],[Slot 3]]&Table4[[#This Row],[Slot 4]]&Table4[[#This Row],[Slot 5]]&Table4[[#This Row],[Slot 6]]","v":"000000"},0,0,0,0,0,0,0,0,0,null,1,2,3,4,5,6]
[null,{"$f":"Table4[[#This Row],[Slot 1]]&Table4[[#This Row],[Slot 2]]&Table4[[#This Row],[Slot 3]]&Table4[[#This Row],[Slot 4]]&Table4[[#This Row],[Slot 5]]&Table4[[#This Row],[Slot 6]]","v":"110000"},1,1,1,0,0,0,0,"FAP-009*2",0,1,{"$f":"IF(K6=1,$F6,\"\")","v":""},"","","","","",{"$f":"SUM(M70:R70)+COUNTIF(M70:R70,M82)","v":0},{"$f":"IF(S70>0,1,0)","v":0},null,{"$f":"IF($S$82=0,\"\",M82)","v":""}]
[null,{"$f":"Table4[[#This Row],[Slot 1]]&Table4[[#This Row],[Slot 2]]&Table4[[#This Row],[Slot 3]]&Table4[[#This Row],[Slot 4]]&Table4[[#This Row],[Slot 5]]&Table4[[#This Row],[Slot 6]]","v":"011000"},2,0,1,1,0,0,0,"FAP-009*2",0,2,{"$f":"IF(M70=\"D\",\"\",IF(K7=1,$F7,\"\"))","v":""},{"$f":"IF(L7=1,$F7,\"\")","v":""},{"$f":"IF(M7=1,$F7,\"\")","v":""},{"$f":"IF(N7=1,$F7,\"\")","v":""},{"$f":"IF(O7=1,$F7,\"\")","v":""},{"$f":"IF(P7=1,$F7,\"\")","v":""},{"$f":"SUM(M71:R71)+COUNTIF(M71:R71,N82)","v":0},{"$f":"IF(S71>0,T70+1,T70)","v":0},null,{"$f":"IF($S$82=0,\"\",N82)","v":""}]
[null,{"$f":"Table4[[#This Row],[Slot 1]]&Table4[[#This Row],[Slot 2]]&Table4[[#This Row],[Slot 3]]&Table4[[#This Row],[Slot 4]]&Table4[[#This Row],[Slot 5]]&Table4[[#This Row],[Slot 6]]","v":"001100"},3,0,0,1,1,0,0,"FAP-009*2",0,3,{"$f":"IF(K8=1,$F8,\"\")","v":""},{"$f":"IF(N71=\"D\",\"\",IF(L8=1,$F8,\"\"))","v":""},{"$f":"IF(O71=\"D\",\"\",IF(M8=1,$F8,\"\"))","v":""},{"$f":"IF(P71=\"D\",\"\",IF(N8=1,$F8,\"\"))","v":""},{"$f":"IF(Q71=\"D\",\"\",IF(O8=1,$F8,\"\"))","v":""},{"$f":"IF(R71=\"D\",\"\",IF(P8=1,$F8,\"\"))","v":""},{"$f":"SUM(M72:R72)+COUNTIF(M72:R72,O82)","v":0},{"$f":"IF(S72>0,T71+1,T71)","v":0},null,{"$f":"IF($S$82=0,\"\",O82)","v":""}]
[null,{"$f":"Table4[[#This Row],[Slot 1]]&Table4[[#This Row],[Slot 2]]&Table4[[#This Row],[Slot 3]]&Table4[[#This Row],[Slot 4]]&Table4[[#This Row],[Slot 5]]&Table4[[#This Row],[Slot 6]]","v":"000110"},4,0,0,0,1,1,0,"FAP-009*2",0,4,"","","","","","",{"$f":"SUM(M73:R73)+COUNTIF(M73:R73,P82)","v":0},0,null,{"$f":"IF($S$82=0,\"\",P82)","v":""}]
[null,{"$f":"Table4[[#This Row],[Slot 1]]&Table4[[#This Row],[Slot 2]]&Table4[[#This Row],[Slot 3]]&Table4[[#This Row],[Slot 4]]&Table4[[#This Row],[Slot 5]]&Table4[[#This Row],[Slot 6]]","v":"000011"},5,0,0,0,0,1,1,"FAP-009*2",0,5,"","","","","","",{"$f":"IF(Q82=\"\",0,SUM(M74:R74)+COUNTIF(M74:R74,Q82))","v":0},0,null,{"$f":"IF($F$20=\"650\",\"\",IF($S$82=0,\"\",Q82))","v":""}]
[null,{"$f":"Table4[[#This Row],[Slot 1]]&Table4[[#This Row],[Slot 2]]&Table4[[#This Row],[Slot 3]]&Table4[[#This Row],[Slot 4]]&Table4[[#This Row],[Slot 5]]&Table4[[#This Row],[Slot 6]]","v":"111000"},6,1,1,1,0,0,0,0,"FAP-010*1",6,"","","","","","",{"$f":"IF(R82=\"\",0,SUM(M75:R75)+COUNTIF(M75:R75,R82))","v":0},0,null,{"$f":"IF($F$20=\"650\",\"\",IF($S$82=0,\"\",R82))","v":""}]
[null,{"$f":"Table4[[#This Row],[Slot 1]]&Table4[[#This Row],[Slot 2]]&Table4[[#This Row],[Slot 3]]&Table4[[#This Row],[Slot 4]]&Table4[[#This Row],[Slot 5]]&Table4[[#This Row],[Slot 6]]","v":"011100"},7,0,1,1,1,0,0,0,"FAP-010*1",7,"","","","","","",{"$f":"IF(R83=\"\",0,SUM(M76:R76)+COUNTIF(M76:R76,R83))","v":0},{"$f":"IF(S76>0,T75+1,T75)","v":0}]
[null,{"$f":"Table4[[#This Row],[Slot 1]]&Table4[[#This Row],[Slot 2]]&Table4[[#This Row],[Slot 3]]&Table4[[#This Row],[Slot 4]]&Table4[[#This Row],[Slot 5]]&Table4[[#This Row],[Slot 6]]","v":"001110"},8,0,0,1,1,1,0,0,"FAP-010*1",8,"","","","","","",{"$f":"IF(R84=\"\",0,SUM(M77:R77)+COUNTIF(M77:R77,R84))","v":0},{"$f":"IF(S77>0,T76+1,T76)","v":0}]
[null,{"$f":"Table4[[#This Row],[Slot 1]]&Table4[[#This Row],[Slot 2]]&Table4[[#This Row],[Slot 3]]&Table4[[#This Row],[Slot 4]]&Table4[[#This Row],[Slot 5]]&Table4[[#This Row],[Slot 6]]","v":"000111"},9,0,0,0,1,1,1,0,"FAP-010*1",9,"","","","","","",0,0]
[null,{"$f":"Table4[[#This Row],[Slot 1]]&Table4[[#This Row],[Slot 2]]&Table4[[#This Row],[Slot 3]]&Table4[[#This Row],[Slot 4]]&Table4[[#This Row],[Slot 5]]&Table4[[#This Row],[Slot 6]]","v":"111100"},10,1,1,1,1,0,0,"FAP-009*6",0,10,"","","","","","",0,0]
[null,{"$f":"Table4[[#This Row],[Slot 1]]&Table4[[#This Row],[Slot 2]]&Table4[[#This Row],[Slot 3]]&Table4[[#This Row],[Slot 4]]&Table4[[#This Row],[Slot 5]]&Table4[[#This Row],[Slot 6]]","v":"011110"},11,0,1,1,1,1,0,"FAP-009*6",0,11,"","","","","","",0,0]
[null,{"$f":"Table4[[#This Row],[Slot 1]]&Table4[[#This Row],[Slot 2]]&Table4[[#This Row],[Slot 3]]&Table4[[#This Row],[Slot 4]]&Table4[[#This Row],[Slot 5]]&Table4[[#This Row],[Slot 6]]","v":"001111"},12,0,0,1,1,1,1,"FAP-009*6",0,12,"","","","","","",0,0]
[null,{"$f":"Table4[[#This Row],[Slot 1]]&Table4[[#This Row],[Slot 2]]&Table4[[#This Row],[Slot 3]]&Table4[[#This Row],[Slot 4]]&Table4[[#This Row],[Slot 5]]&Table4[[#This Row],[Slot 6]]","v":"111110"},13,1,1,1,1,1,0,"FAP-009*4","FAP-010*2",null,{"$f":"IF(CONCATENATE(M70,M71,M72,M73,M74,M75,M76,M77,M78,M79,M80,M81)=\"\",\"#\",CONCATENATE(M70,M71,M72,M73,M74,M75,M76,M77,M78,M79,M80,M81))","v":"#"},{"$f":"IF(CONCATENATE(N70,N71,N72,N73,N74,N75,N76,N77,N78,N79,N80,N81)=\"\",\"#\",CONCATENATE(N70,N71,N72,N73,N74,N75,N76,N77,N78,N79,N80,N81))","v":"#"},"#","#",{"$f":"IF($F$20=\"650\",\"\",IF(CONCATENATE(Q70,Q71,Q72,Q73,Q74,Q75,Q76,Q77,Q78,Q79,Q80,Q81)=\"\",\"#\",CONCATENATE(Q70,Q71,Q72,Q73,Q74,Q75,Q76,Q77,Q78,Q79,Q80,Q81)))","v":"#"},{"$f":"IF($F$20=\"650\",\"\",IF(CONCATENATE(R70,R71,R72,R73,R74,R75,R76,R77,R78,R79,R80,R81)=\"\",\"#\",CONCATENATE(R70,R71,R72,R73,R74,R75,R76,R77,R78,R79,R80,R81)))","v":"#"},{"$f":"SUM(S70:S75)","v":0},null,{"$f":"M82&N82&O82&P82&Q82&R82","v":"######"}]
[null,{"$f":"Table4[[#This Row],[Slot 1]]&Table4[[#This Row],[Slot 2]]&Table4[[#This Row],[Slot 3]]&Table4[[#This Row],[Slot 4]]&Table4[[#This Row],[Slot 5]]&Table4[[#This Row],[Slot 6]]","v":"011111"},14,0,1,1,1,1,1,"FAP-009*4","FAP-010*2",null,{"$f":"IF(M82=\"\",0,IF(M82=\"#\",Database!$N$6,Database!$N$4))","v":2.64E-2},{"$f":"IF(N82=\"\",0,IF(N82=\"#\",Database!$N$6,Database!$N$4))","v":2.64E-2},{"$f":"IF(O82=\"\",0,IF(O82=\"#\",Database!$N$6,Database!$N$4))","v":2.64E-2},{"$f":"IF(P82=\"\",0,IF(P82=\"#\",Database!$N$6,Database!$N$4))","v":2.64E-2},{"$f":"IF(Q82=\"\",0,IF(Q82=\"#\",Database!$N$6,Database!$N$4))","v":2.64E-2},{"$f":"IF(R82=\"\",0,IF(R82=\"#\",Database!$N$6,Database!$N$4))","v":2.64E-2}]
[null,{"$f":"Table4[[#This Row],[Slot 1]]&Table4[[#This Row],[Slot 2]]&Table4[[#This Row],[Slot 3]]&Table4[[#This Row],[Slot 4]]&Table4[[#This Row],[Slot 5]]&Table4[[#This Row],[Slot 6]]","v":"111111"},15,1,1,1,1,1,1,"FAP-009*2","FAP-010*4"]
[null,{"$f":"Table4[[#This Row],[Slot 1]]&Table4[[#This Row],[Slot 2]]&Table4[[#This Row],[Slot 3]]&Table4[[#This Row],[Slot 4]]&Table4[[#This Row],[Slot 5]]&Table4[[#This Row],[Slot 6]]","v":"112200"},16,1,1,2,2,0,0,"FAP-009*4",0,1,{"$f":"IF($J6=\"\",0,IF(K6=1,1,0))","v":0},0,0,0,0,0,{"$f":"SUM(M85:R85)","v":0},{"$f":"IF(S85>0,1,0)","v":0}]
[null,{"$f":"Table4[[#This Row],[Slot 1]]&Table4[[#This Row],[Slot 2]]&Table4[[#This Row],[Slot 3]]&Table4[[#This Row],[Slot 4]]&Table4[[#This Row],[Slot 5]]&Table4[[#This Row],[Slot 6]]","v":"011220"},17,0,1,1,2,2,0,"FAP-009*4",0,2,{"$f":"IF($J7=\"\",0,IF(K7=1,$T85+1,0))","v":0},{"$f":"IF($J7=\"\",0,IF(L7=1,$T85+1,0))","v":0},{"$f":"IF($J7=\"\",0,IF(M7=1,$T85+1,0))","v":0},{"$f":"IF($J7=\"\",0,IF(N7=1,$T85+1,0))","v":0},{"$f":"IF($J7=\"\",0,IF(O7=1,$T85+1,0))","v":0},{"$f":"IF($J7=\"\",0,IF(P7=1,$T85+1,0))","v":0},0,{"$f":"IF(S86>0,T85+1,T85)","v":0}]
[null,{"$f":"Table4[[#This Row],[Slot 1]]&Table4[[#This Row],[Slot 2]]&Table4[[#This Row],[Slot 3]]&Table4[[#This Row],[Slot 4]]&Table4[[#This Row],[Slot 5]]&Table4[[#This Row],[Slot 6]]","v":"001122"},18,0,0,1,1,2,2,"FAP-009*4",0,3,0,0,0,0,0,0,0,{"$f":"IF(S87>0,T86+1,T86)","v":0}]
[null,{"$f":"Table4[[#This Row],[Slot 1]]&Table4[[#This Row],[Slot 2]]&Table4[[#This Row],[Slot 3]]&Table4[[#This Row],[Slot 4]]&Table4[[#This Row],[Slot 5]]&Table4[[#This Row],[Slot 6]]","v":"110220"},19,1,1,0,2,2,0,"FAP-009*4",0,4,0,0,0,0,0,0,0,0]
[null,{"$f":"Table4[[#This Row],[Slot 1]]&Table4[[#This Row],[Slot 2]]&Table4[[#This Row],[Slot 3]]&Table4[[#This Row],[Slot 4]]&Table4[[#This Row],[Slot 5]]&Table4[[#This Row],[Slot 6]]","v":"110022"},20,1,1,0,0,2,2,"FAP-009*4",0,5,0,0,0,0,0,0,0,0]
[null,{"$f":"Table4[[#This Row],[Slot 1]]&Table4[[#This Row],[Slot 2]]&Table4[[#This Row],[Slot 3]]&Table4[[#This Row],[Slot 4]]&Table4[[#This Row],[Slot 5]]&Table4[[#This Row],[Slot 6]]","v":"011022"},21,0,1,1,0,2,2,"FAP-009*4",0,6,0,0,0,0,0,0,0,0]
[null,{"$f":"Table4[[#This Row],[Slot 1]]&Table4[[#This Row],[Slot 2]]&Table4[[#This Row],[Slot 3]]&Table4[[#This Row],[Slot 4]]&Table4[[#This Row],[Slot 5]]&Table4[[#This Row],[Slot 6]]","v":"112233"},22,1,1,2,2,3,3,"FAP-009*6",0,7,0,0,0,0,0,0,{"$f":"SUM(M91:R91)","v":0},{"$f":"IF(S91>0,T90+1,T90)","v":0}]
[null,{"$f":"Table4[[#This Row],[Slot 1]]&Table4[[#This Row],[Slot 2]]&Table4[[#This Row],[Slot 3]]&Table4[[#This Row],[Slot 4]]&Table4[[#This Row],[Slot 5]]&Table4[[#This Row],[Slot 6]]","v":"112220"},23,1,1,2,2,2,0,"FAP-009*2","FAP-010*2",8,0,0,0,0,0,0,0,0]
[null,{"$f":"Table4[[#This Row],[Slot 1]]&Table4[[#This Row],[Slot 2]]&Table4[[#This Row],[Slot 3]]&Table4[[#This Row],[Slot 4]]&Table4[[#This Row],[Slot 5]]&Table4[[#This Row],[Slot 6]]","v":"110222"},24,1,1,0,2,2,2,"FAP-009*2","FAP-010*2",9,0,0,0,0,0,0,0,0]
[null,{"$f":"Table4[[#This Row],[Slot 1]]&Table4[[#This Row],[Slot 2]]&Table4[[#This Row],[Slot 3]]&Table4[[#This Row],[Slot 4]]&Table4[[#This Row],[Slot 5]]&Table4[[#This Row],[Slot 6]]","v":"011222"},25,0,1,1,2,2,2,"FAP-009*2","FAP-010*2",10,0,0,0,0,0,0,0,0]
[null,{"$f":"Table4[[#This Row],[Slot 1]]&Table4[[#This Row],[Slot 2]]&Table4[[#This Row],[Slot 3]]&Table4[[#This Row],[Slot 4]]&Table4[[#This Row],[Slot 5]]&Table4[[#This Row],[Slot 6]]","v":"111220"},26,1,1,1,2,2,0,"FAP-009*2","FAP-010*2",11,0,0,0,0,0,0,0,0]
[null,{"$f":"Table4[[#This Row],[Slot 1]]&Table4[[#This Row],[Slot 2]]&Table4[[#This Row],[Slot 3]]&Table4[[#This Row],[Slot 4]]&Table4[[#This Row],[Slot 5]]&Table4[[#This Row],[Slot 6]]","v":"111022"},27,1,1,1,0,2,2,"FAP-009*2","FAP-010*2",12,0,0,0,0,0,0,0,0]
[null,{"$f":"Table4[[#This Row],[Slot 1]]&Table4[[#This Row],[Slot 2]]&Table4[[#This Row],[Slot 3]]&Table4[[#This Row],[Slot 4]]&Table4[[#This Row],[Slot 5]]&Table4[[#This Row],[Slot 6]]","v":"011122"},28,0,1,1,1,2,2,"FAP-009*2","FAP-010*2",null,{"$f":"SUM(M85:M90)","v":0},0,0,0,0,0,0,null,{"$f":"M97&N97&O97&P97&Q97&R97","v":"000000"}]
[null,{"$f":"Table4[[#This Row],[Slot 1]]&Table4[[#This Row],[Slot 2]]&Table4[[#This Row],[Slot 3]]&Table4[[#This Row],[Slot 4]]&Table4[[#This Row],[Slot 5]]&Table4[[#This Row],[Slot 6]]","v":"111222"},29,1,1,1,2,2,2,0,"FAP-010*4"]
[null,{"$f":"Table4[[#This Row],[Slot 1]]&Table4[[#This Row],[Slot 2]]&Table4[[#This Row],[Slot 3]]&Table4[[#This Row],[Slot 4]]&Table4[[#This Row],[Slot 5]]&Table4[[#This Row],[Slot 6]]","v":"112222"},30,1,1,2,2,2,2,"FAP-009*8",0]
[null,{"$f":"Table4[[#This Row],[Slot 1]]&Table4[[#This Row],[Slot 2]]&Table4[[#This Row],[Slot 3]]&Table4[[#This Row],[Slot 4]]&Table4[[#This Row],[Slot 5]]&Table4[[#This Row],[Slot 6]]","v":"111122"},31,1,1,1,1,2,2,"FAP-009*8",0]

{"sheet":"Database","index":1,"n_rows":541,"n_cols":29,"rows_kept":541,"cut":false,"hidden":true,"merged":[]}
["Product No.","Short Name","Specification","Series","Type","Price","Code","Vmin","Vmax","Wmax","AUXILIARY POWER(AUX)",null,"Dimension","Weight",null,null,null,null,{"$f":"Configuration!$R7","v":0},{"$f":"Configuration!$R8","v":0},{"$f":"Configuration!$R9","v":0},{"$f":"Configuration!$R10","v":0},{"$f":"Configuration!$R11","v":0},{"$f":"Configuration!$R12","v":0},{"$f":"Configuration!$R13","v":0},{"$f":"Configuration!$R14","v":0},{"$f":"Configuration!$R15","v":0},{"$f":"Configuration!$R16","v":0},{"$f":"Configuration!$R17","v":0}]
["AB-NMS-240-005 ","NMS-240-5","O/P +5V36A","NMS-240","Standard",null,"C",3,6,180,"NMP650","5V@1.5A","250*89*41mm",1.45,null,"Country/Region",null,"Vo","Vo","Vo","Vo","Vo","Vo","Vo","Vo","Vo","Vo","Vo","Vo"]
["AB-NMS-240-012 ","NMS-240-12","O/P +12V20A","NMS-240","Standard",null,"E",6.01,15,240,"NMP1K2","5V@2A","250*127*41mm",2,null,"Afghanistan",null,"Blank Slot",{"$f":"IF(S$1=0,0,IF(Configuration!$F$7=\"D\",$R4,Table7[[#This Row],[Vo]]))","v":0},{"$f":"IF(T$1=0,0,IF(Configuration!$F$8=\"D\",$R4,Table7[[#This Row],[Vo]]))","v":0},{"$f":"IF(U$1=0,0,IF(Configuration!$F$9=\"D\",$R4,Table7[[#This Row],[Vo]]))","v":0},{"$f":"IF(V$1=0,0,IF(Configuration!$F$10=\"D\",$R4,Table7[[#This Row],[Vo]]))","v":0},{"$f":"IF(W$1=0,0,IF(Configuration!$F$11=\"D\",$R4,Table7[[#This Row],[Vo]]))","v":0},{"$f":"IF(X$1=0,0,IF(Configuration!$F$12=\"D\",$R4,Table7[[#This Row],[Vo]]))","v":0},{"$f":"IF(Y$1=0,0,IF(Configuration!$F$13=\"D\",$R4,Table7[[#This Row],[Vo]]))","v":0},{"$f":"IF(Z$1=0,0,IF(Configuration!$F$14=\"D\",$R4,Table7[[#This Row],[Vo]]))","v":0},{"$f":"IF(AA$1=0,0,IF(Configuration!$F$15=\"D\",$R4,Table7[[#This Row],[Vo]]))","v":0},{"$f":"IF(AB$1=0,0,IF(Configuration!$F$16=\"D\",$R4,Table7[[#This Row],[Vo]]))","v":0},{"$f":"IF(AC$1=0,0,IF(Configuration!$F$17=\"D\",$R4,Table7[[#This Row],[Vo]]))","v":0}]
["AB-NMS-240-024 ","NMS-240-24","O/P +24V10A","NMS-240","Standard",null,"H",15.01,30,240,"NMS-240","5V@10mA","118.5*37.9*18mm",0.14199999999999999,null,"Andorra",null,3,{"$f":"IF(S$1=0,0,IF(Configuration!$F$7=\"D\",$R5,Table7[[#This Row],[Vo]]))","v":0},{"$f":"IF(T$1=0,0,IF(Configuration!$F$8=\"D\",$R5,Table7[[#This Row],[Vo]]))","v":0},{"$f":"IF(U$1=0,0,IF(Configuration!$F$9=\"D\",$R5,Table7[[#This Row],[Vo]]))","v":0},{"$f":"IF(V$1=0,0,IF(Configuration!$F$10=\"D\",$R5,Table7[[#This Row],[Vo]]))","v":0},{"$f":"IF(W$1=0,0,IF(Configuration!$F$11=\"D\",$R5,Table7[[#This Row],[Vo]]))","v":0},{"$f":"IF(X$1=0,0,IF(Configuration!$F$12=\"D\",$R5,Table7[[#This Row],[Vo]]))","v":0},{"$f":"IF(Y$1=0,0,IF(Configuration!$F$13=\"D\",$R5,Table7[[#This Row],[Vo]]))","v":0},{"$f":"IF(Z$1=0,0,IF(Configuration!$F$14=\"D\",$R5,Table7[[#This Row],[Vo]]))","v":0},{"$f":"IF(AA$1=0,0,IF(Configuration!$F$15=\"D\",$R5,Table7[[#This Row],[Vo]]))","v":0},{"$f":"IF(AB$1=0,0,IF(Configuration!$F$16=\"D\",$R5,Table7[[#This Row],[Vo]]))","v":0},{"$f":"IF(AC$1=0,0,IF(Configuration!$F$17=\"D\",$R5,Table7[[#This Row],[Vo]]))","v":0}]
["AB-NMS-240-048 ","NMS-240-48","O/P +48V5A","NMS-240","Standard",null,"K",30.01,55,240,"NMD-240",null,"118.5*37.9*18mm",0.14199999999999999,null,"Angola",null,{"$f":"ROUNDUP(R4+0.1,1)","v":3.1},{"$f":"IF(S$1=0,0,IF(Configuration!$F$7=\"D\",$R6,Table7[[#This Row],[Vo]]))","v":0},{"$f":"IF(T$1=0,0,IF(Configuration!$F$8=\"D\",$R6,Table7[[#This Row],[Vo]]))","v":0},{"$f":"IF(U$1=0,0,IF(Configuration!$F$9=\"D\",$R6,Table7[[#This Row],[Vo]]))","v":0},{"$f":"IF(V$1=0,0,IF(Configuration!$F$10=\"D\",$R6,Table7[[#This Row],[Vo]]))","v":0},{"$f":"IF(W$1=0,0,IF(Configuration!$F$11=\"D\",$R6,Table7[[#This Row],[Vo]]))","v":0},{"$f":"IF(X$1=0,0,IF(Configuration!$F$12=\"D\",$R6,Table7[[#This Row],[Vo]]))","v":0},{"$f":"IF(Y$1=0,0,IF(Configuration!$F$13=\"D\",$R6,Table7[[#This Row],[Vo]]))","v":0},{"$f":"IF(Z$1=0,0,IF(Configuration!$F$14=\"D\",$R6,Table7[[#This Row],[Vo]]))","v":0},{"$f":"IF(AA$1=0,0,IF(Configuration!$F$15=\"D\",$R6,Table7[[#This Row],[Vo]]))","v":0},{"$f":"IF(AB$1=0,0,IF(Configuration!$F$16=\"D\",$R6,Table7[[#This Row],[Vo]]))","v":0},{"$f":"IF(AC$1=0,0,IF(Configuration!$F$17=\"D\",$R6,Table7[[#This Row],[Vo]]))","v":0}]
["AB-NMD-240","NMD-240",null,"NMD-240","Standard",null,"D",3,30,240,"BLANK-NMS240",null,null,{"$f":"13.2/500","v":2.64E-2},null,"Anguilla",null,{"$f":"ROUNDUP(R5+0.1,1)","v":3.2},{"$f":"IF(S$1=0,0,IF(Configuration!$F$7=\"D\",$R7,Table7[[#This Row],[Vo]]))","v":0},{"$f":"IF(T$1=0,0,IF(Configuration!$F$8=\"D\",$R7,Table7[[#This Row],[Vo]]))","v":0},{"$f":"IF(U$1=0,0,IF(Configuration!$F$9=\"D\",$R7,Table7[[#This Row],[Vo]]))","v":0},{"$f":"IF(V$1=0,0,IF(Configuration!$F$10=\"D\",$R7,Table7[[#This Row],[Vo]]))","v":0},{"$f":"IF(W$1=0,0,IF(Configuration!$F$11=\"D\",$R7,Table7[[#This Row],[Vo]]))","v":0},{"$f":"IF(X$1=0,0,IF(Configuration!$F$12=\"D\",$R7,Table7[[#This Row],[Vo]]))","v":0},{"$f":"IF(Y$1=0,0,IF(Configuration!$F$13=\"D\",$R7,Table7[[#This Row],[Vo]]))","v":0},{"$f":"IF(Z$1=0,0,IF(Configuration!$F$14=\"D\",$R7,Table7[[#This Row],[Vo]]))","v":0},{"$f":"IF(AA$1=0,0,IF(Configuration!$F$15=\"D\",$R7,Table7[[#This Row],[Vo]]))","v":0},{"$f":"IF(AB$1=0,0,IF(Configuration!$F$16=\"D\",$R7,Table7[[#This Row],[Vo]]))","v":0},{"$f":"IF(AC$1=0,0,IF(Configuration!$F$17=\"D\",$R7,Table7[[#This Row],[Vo]]))","v":0}]
["D**1BLANK-NMS240 ","BLANK-NMS240","Empty Slot Baffle","BLANK-NMS240","Accessory",null,null,null,null,null,null,null,null,null,null,"Antigua and Barbuda",null,3.3,{"$f":"IF(S$1=0,0,IF(Configuration!$F$7=\"D\",$R8,Table7[[#This Row],[Vo]]))","v":0},{"$f":"IF(T$1=0,0,IF(Configuration!$F$8=\"D\",$R8,Table7[[#This Row],[Vo]]))","v":0},{"$f":"IF(U$1=0,0,IF(Configuration!$F$9=\"D\",$R8,Table7[[#This Row],[Vo]]))","v":0},{"$f":"IF(V$1=0,0,IF(Configuration!$F$10=\"D\",$R8,Table7[[#This Row],[Vo]]))","v":0},{"$f":"IF(W$1=0,0,IF(Configuration!$F$11=\"D\",$R8,Table7[[#This Row],[Vo]]))","v":0},{"$f":"IF(X$1=0,0,IF(Configuration!$F$12=\"D\",$R8,Table7[[#This Row],[Vo]]))","v":0},{"$f":"IF(Y$1=0,0,IF(Configuration!$F$13=\"D\",$R8,Table7[[#This Row],[Vo]]))","v":0},{"$f":"IF(Z$1=0,0,IF(Configuration!$F$14=\"D\",$R8,Table7[[#This Row],[Vo]]))","v":0},{"$f":"IF(AA$1=0,0,IF(Configuration!$F$15=\"D\",$R8,Table7[[#This Row],[Vo]]))","v":0},{"$f":"IF(AB$1=0,0,IF(Configuration!$F$16=\"D\",$R8,Table7[[#This Row],[Vo]]))","v":0},{"$f":"IF(AC$1=0,0,IF(Configuration!$F$17=\"D\",$R8,Table7[[#This Row],[Vo]]))","v":0}]
["DFF5NMS-240-CN81 ","NMS-240-CN81","Signal Wire For NMS-240 CN81","NMS-240-CN81","Accessory",null,null,null,null,null,"# of Slot per output","Signal Wire","Parallel Connection Accessories",null,null,"Armenia",null,3.4,{"$f":"IF(S$1=0,0,IF(Configuration!$F$7=\"D\",$R9,Table7[[#This Row],[Vo]]))","v":0},{"$f":"IF(T$1=0,0,IF(Configuration!$F$8=\"D\",$R9,Table7[[#This Row],[Vo]]))","v":0},{"$f":"IF(U$1=0,0,IF(Configuration!$F$9=\"D\",$R9,Table7[[#This Row],[Vo]]))","v":0},{"$f":"IF(V$1=0,0,IF(Configuration!$F$10=\"D\",$R9,Table7[[#This Row],[Vo]]))","v":0},{"$f":"IF(W$1=0,0,IF(Configuration!$F$11=\"D\",$R9,Table7[[#This Row],[Vo]]))","v":0},{"$f":"IF(X$1=0,0,IF(Configuration!$F$12=\"D\",$R9,Table7[[#This Row],[Vo]]))","v":0},{"$f":"IF(Y$1=0,0,IF(Configuration!$F$13=\"D\",$R9,Table7[[#This Row],[Vo]]))","v":0},{"$f":"IF(Z$1=0,0,IF(Configuration!$F$14=\"D\",$R9,Table7[[#This Row],[Vo]]))","v":0},{"$f":"IF(AA$1=0,0,IF(Configuration!$F$15=\"D\",$R9,Table7[[#This Row],[Vo]]))","v":0},{"$f":"IF(AB$1=0,0,IF(Configuration!$F$16=\"D\",$R9,Table7[[#This Row],[Vo]]))","v":0},{"$f":"IF(AC$1=0,0,IF(Configuration!$F$17=\"D\",$R9,Table7[[#This Row],[Vo]]))","v":0}]
["DFF5NMS-240-P2 ","NMS-240-P2","Signal Wire - Parallel 2 x NMS-240","NMS-240-P2","Accessory",null,null,null,null,null,2,"NMS-240-P2","FAP-009*2pcs",null,null,"Aruba",null,3.5,{"$f":"IF(S$1=0,0,IF(Configuration!$F$7=\"D\",$R10,Table7[[#This Row],[Vo]]))","v":0},{"$f":"IF(T$1=0,0,IF(Configuration!$F$8=\"D\",$R10,Table7[[#This Row],[Vo]]))","v":0},{"$f":"IF(U$1=0,0,IF(Configuration!$F$9=\"D\",$R10,Table7[[#This Row],[Vo]]))","v":0},{"$f":"IF(V$1=0,0,IF(Configuration!$F$10=\"D\",$R10,Table7[[#This Row],[Vo]]))","v":0},{"$f":"IF(W$1=0,0,IF(Configuration!$F$11=\"D\",$R10,Table7[[#This Row],[Vo]]))","v":0},{"$f":"IF(X$1=0,0,IF(Configuration!$F$12=\"D\",$R10,Table7[[#This Row],[Vo]]))","v":0},{"$f":"IF(Y$1=0,0,IF(Configuration!$F$13=\"D\",$R10,Table7[[#This Row],[Vo]]))","v":0},{"$f":"IF(Z$1=0,0,IF(Configuration!$F$14=\"D\",$R10,Table7[[#This Row],[Vo]]))","v":0},{"$f":"IF(AA$1=0,0,IF(Configuration!$F$15=\"D\",$R10,Table7[[#This Row],[Vo]]))","v":0},{"$f":"IF(AB$1=0,0,IF(Configuration!$F$16=\"D\",$R10,Table7[[#This Row],[Vo]]))","v":0},{"$f":"IF(AC$1=0,0,IF(Configuration!$F$17=\"D\",$R10,Table7[[#This Row],[Vo]]))","v":0}]
["DFF5NMS-240-P3 ","NMS-240-P3","Signal Wire - Parallel 3 x NMS-240","NMS-240-P3","Accessory",null,null,null,null,null,3,"NMS-240-P3","FAP-010*2pcs",null,null,"Azerbaijan",null,3.6,{"$f":"IF(S$1=0,0,IF(Configuration!$F$7=\"D\",$R11,Table7[[#This Row],[Vo]]))","v":0},{"$f":"IF(T$1=0,0,IF(Configuration!$F$8=\"D\",$R11,Table7[[#This Row],[Vo]]))","v":0},{"$f":"IF(U$1=0,0,IF(Configuration!$F$9=\"D\",$R11,Table7[[#This Row],[Vo]]))","v":0},{"$f":"IF(V$1=0,0,IF(Configuration!$F$10=\"D\",$R11,Table7[[#This Row],[Vo]]))","v":0},{"$f":"IF(W$1=0,0,IF(Configuration!$F$11=\"D\",$R11,Table7[[#This Row],[Vo]]))","v":0},{"$f":"IF(X$1=0,0,IF(Configuration!$F$12=\"D\",$R11,Table7[[#This Row],[Vo]]))","v":0},{"$f":"IF(Y$1=0,0,IF(Configuration!$F$13=\"D\",$R11,Table7[[#This Row],[Vo]]))","v":0},{"$f":"IF(Z$1=0,0,IF(Configuration!$F$14=\"D\",$R11,Table7[[#This Row],[Vo]]))","v":0},{"$f":"IF(AA$1=0,0,IF(Configuration!$F$15=\"D\",$R11,Table7[[#This Row],[Vo]]))","v":0},{"$f":"IF(AB$1=0,0,IF(Configuration!$F$16=\"D\",$R11,Table7[[#This Row],[Vo]]))","v":0},{"$f":"IF(AC$1=0,0,IF(Configuration!$F$17=\"D\",$R11,Table7[[#This Row],[Vo]]))","v":0}]
["DFF5NMS-240-P4 ","NMS-240-P4","Signal Wire - Parallel 4 x NMS-240","NMS-240-P4","Accessory",null,null,null,null,null,4,"NMS-240-P4","FAP-009*6pcs",null,null,"Albania",null,3.7,{"$f":"IF(S$1=0,0,IF(Configuration!$F$7=\"D\",$R12,Table7[[#This Row],[Vo]]))","v":0},{"$f":"IF(T$1=0,0,IF(Configuration!$F$8=\"D\",$R12,Table7[[#This Row],[Vo]]))","v":0},{"$f":"IF(U$1=0,0,IF(Configuration!$F$9=\"D\",$R12,Table7[[#This Row],[Vo]]))","v":0},{"$f":"IF(V$1=0,0,IF(Configuration!$F$10=\"D\",$R12,Table7[[#This Row],[Vo]]))","v":0},{"$f":"IF(W$1=0,0,IF(Configuration!$F$11=\"D\",$R12,Table7[[#This Row],[Vo]]))","v":0},{"$f":"IF(X$1=0,0,IF(Configuration!$F$12=\"D\",$R12,Table7[[#This Row],[Vo]]))","v":0},{"$f":"IF(Y$1=0,0,IF(Configuration!$F$13=\"D\",$R12,Table7[[#This Row],[Vo]]))","v":0},{"$f":"IF(Z$1=0,0,IF(Configuration!$F$14=\"D\",$R12,Table7[[#This Row],[Vo]]))","v":0},{"$f":"IF(AA$1=0,0,IF(Configuration!$F$15=\"D\",$R12,Table7[[#This Row],[Vo]]))","v":0},{"$f":"IF(AB$1=0,0,IF(Configuration!$F$16=\"D\",$R12,Table7[[#This Row],[Vo]]))","v":0},{"$f":"IF(AC$1=0,0,IF(Configuration!$F$17=\"D\",$R12,Table7[[#This Row],[Vo]]))","v":0}]
["DFF5NMS-240-P5 ","NMS-240-P5","Signal Wire - Parallel 5 x NMS-240","NMS-240-P5","Accessory",null,null,null,null,null,5,"NMS-240-P5","FAP-009*4pcs + FAP-010*2pcs",null,null,"Algeria",null,3.8,{"$f":"IF(S$1=0,0,IF(Configuration!$F$7=\"D\",$R13,Table7[[#This Row],[Vo]]))","v":0},{"$f":"IF(T$1=0,0,IF(Configuration!$F$8=\"D\",$R13,Table7[[#This Row],[Vo]]))","v":0},{"$f":"IF(U$1=0,0,IF(Configuration!$F$9=\"D\",$R13,Table7[[#This Row],[Vo]]))","v":0},{"$f":"IF(V$1=0,0,IF(Configuration!$F$10=\"D\",$R13,Table7[[#This Row],[Vo]]))","v":0},{"$f":"IF(W$1=0,0,IF(Configuration!$F$11=\"D\",$R13,Table7[[#This Row],[Vo]]))","v":0},{"$f":"IF(X$1=0,0,IF(Configuration!$F$12=\"D\",$R13,Table7[[#This Row],[Vo]]))","v":0},{"$f":"IF(Y$1=0,0,IF(Configuration!$F$13=\"D\",$R13,Table7[[#This Row],[Vo]]))","v":0},{"$f":"IF(Z$1=0,0,IF(Configuration!$F$14=\"D\",$R13,Table7[[#This Row],[Vo]]))","v":0},{"$f":"IF(AA$1=0,0,IF(Configuration!$F$15=\"D\",$R13,Table7[[#This Row],[Vo]]))","v":0},{"$f":"IF(AB$1=0,0,IF(Configuration!$F$16=\"D\",$R13,Table7[[#This Row],[Vo]]))","v":0},{"$f":"IF(AC$1=0,0,IF(Configuration!$F$17=\"D\",$R13,Table7[[#This Row],[Vo]]))","v":0}]
["DFF5NMS-240-P6 ","NMS-240-P6","Signal Wire - Parallel 6 x NMS-240","NMS-240-P6","Accessory",null,null,null,null,null,6,"NMS-240-P6","FAP-009*2pcs + FAP-010*4pcs",null,null,"Argentina",null,3.9,{"$f":"IF(S$1=0,0,IF(Configuration!$F$7=\"D\",$R14,Table7[[#This Row],[Vo]]))","v":0},{"$f":"IF(T$1=0,0,IF(Configuration!$F$8=\"D\",$R14,Table7[[#This Row],[Vo]]))","v":0},{"$f":"IF(U$1=0,0,IF(Configuration!$F$9=\"D\",$R14,Table7[[#This Row],[Vo]]))","v":0},{"$f":"IF(V$1=0,0,IF(Configuration!$F$10=\"D\",$R14,Table7[[#This Row],[Vo]]))","v":0},{"$f":"IF(W$1=0,0,IF(Configuration!$F$11=\"D\",$R14,Table7[[#This Row],[Vo]]))","v":0},{"$f":"IF(X$1=0,0,IF(Configuration!$F$12=\"D\",$R14,Table7[[#This Row],[Vo]]))","v":0},{"$f":"IF(Y$1=0,0,IF(Configuration!$F$13=\"D\",$R14,Table7[[#This Row],[Vo]]))","v":0},{"$f":"IF(Z$1=0,0,IF(Configuration!$F$14=\"D\",$R14,Table7[[#This Row],[Vo]]))","v":0},{"$f":"IF(AA$1=0,0,IF(Configuration!$F$15=\"D\",$R14,Table7[[#This Row],[Vo]]))","v":0},{"$f":"IF(AB$1=0,0,IF(Configuration!$F$16=\"D\",$R14,Table7[[#This Row],[Vo]]))","v":0},{"$f":"IF(AC$1=0,0,IF(Configuration!$F$17=\"D\",$R14,Table7[[#This Row],[Vo]]))","v":0}]
["DGG2FAP-009 ","FAP-009","FAP-009 Parallel Connect 2x NMS-240","FAP-009","Accessory",null,null,null,null,null,null,null,null,null,null,"Australia",null,4,{"$f":"IF(S$1=0,0,IF(Configuration!$F$7=\"D\",$R15,Table7[[#This Row],[Vo]]))","v":0},{"$f":"IF(T$1=0,0,IF(Configuration!$F$8=\"D\",$R15,Table7[[#This Row],[Vo]]))","v":0},{"$f":"IF(U$1=0,0,IF(Configuration!$F$9=\"D\",$R15,Table7[[#This Row],[Vo]]))","v":0},{"$f":"IF(V$1=0,0,IF(Configuration!$F$10=\"D\",$R15,Table7[[#This Row],[Vo]]))","v":0},{"$f":"IF(W$1=0,0,IF(Configuration!$F$11=\"D\",$R15,Table7[[#This Row],[Vo]]))","v":0},{"$f":"IF(X$1=0,0,IF(Configuration!$F$12=\"D\",$R15,Table7[[#This Row],[Vo]]))","v":0},{"$f":"IF(Y$1=0,0,IF(Configuration!$F$13=\"D\",$R15,Table7[[#This Row],[Vo]]))","v":0},{"$f":"IF(Z$1=0,0,IF(Configuration!$F$14=\"D\",$R15,Table7[[#This Row],[Vo]]))","v":0},{"$f":"IF(AA$1=0,0,IF(Configuration!$F$15=\"D\",$R15,Table7[[#This Row],[Vo]]))","v":0},{"$f":"IF(AB$1=0,0,IF(Configuration!$F$16=\"D\",$R15,Table7[[#This Row],[Vo]]))","v":0},{"$f":"IF(AC$1=0,0,IF(Configuration!$F$17=\"D\",$R15,Table7[[#This Row],[Vo]]))","v":0}]
["DGG2FAP-010 ","FAP-010","FAP-010 Parallel Connect 3x NMS-240","FAP-010","Accessory",null,null,null,null,null,null,null,null,null,null,"Austria",null,4.0999999999999996,{"$f":"IF(S$1=0,0,IF(Configuration!$F$7=\"D\",$R16,Table7[[#This Row],[Vo]]))","v":0},{"$f":"IF(T$1=0,0,IF(Configuration!$F$8=\"D\",$R16,Table7[[#This Row],[Vo]]))","v":0},{"$f":"IF(U$1=0,0,IF(Configuration!$F$9=\"D\",$R16,Table7[[#This Row],[Vo]]))","v":0},{"$f":"IF(V$1=0,0,IF(Configuration!$F$10=\"D\",$R16,Table7[[#This Row],[Vo]]))","v":0},{"$f":"IF(W$1=0,0,IF(Configuration!$F$11=\"D\",$R16,Table7[[#This Row],[Vo]]))","v":0},{"$f":"IF(X$1=0,0,IF(Configuration!$F$12=\"D\",$R16,Table7[[#This Row],[Vo]]))","v":0},{"$f":"IF(Y$1=0,0,IF(Configuration!$F$13=\"D\",$R16,Table7[[#This Row],[Vo]]))","v":0},{"$f":"IF(Z$1=0,0,IF(Configuration!$F$14=\"D\",$R16,Table7[[#This Row],[Vo]]))","v":0},{"$f":"IF(AA$1=0,0,IF(Configuration!$F$15=\"D\",$R16,Table7[[#This Row],[Vo]]))","v":0},{"$f":"IF(AB$1=0,0,IF(Configuration!$F$16=\"D\",$R16,Table7[[#This Row],[Vo]]))","v":0},{"$f":"IF(AC$1=0,0,IF(Configuration!$F$17=\"D\",$R16,Table7[[#This Row],[Vo]]))","v":0}]
["DGG2FAS-005 ","FAS-005","FAS-005 - Serial Connection NMS-240","FAS-005","Accessory",null,null,null,null,null,null,null,null,null,null,"Bangladesh",null,4.2,{"$f":"IF(S$1=0,0,IF(Configuration!$F$7=\"D\",$R17,Table7[[#This Row],[Vo]]))","v":0},{"$f":"IF(T$1=0,0,IF(Configuration!$F$8=\"D\",$R17,Table7[[#This Row],[Vo]]))","v":0},{"$f":"IF(U$1=0,0,IF(Configuration!$F$9=\"D\",$R17,Table7[[#This Row],[Vo]]))","v":0},{"$f":"IF(V$1=0,0,IF(Configuration!$F$10=\"D\",$R17,Table7[[#This Row],[Vo]]))","v":0},{"$f":"IF(W$1=0,0,IF(Configuration!$F$11=\"D\",$R17,Table7[[#This Row],[Vo]]))","v":0},{"$f":"IF(X$1=0,0,IF(Configuration!$F$12=\"D\",$R17,Table7[[#This Row],[Vo]]))","v":0},{"$f":"IF(Y$1=0,0,IF(Configuration!$F$13=\"D\",$R17,Table7[[#This Row],[Vo]]))","v":0},{"$f":"IF(Z$1=0,0,IF(Configuration!$F$14=\"D\",$R17,Table7[[#This Row],[Vo]]))","v":0},{"$f":"IF(AA$1=0,0,IF(Configuration!$F$15=\"D\",$R17,Table7[[#This Row],[Vo]]))","v":0},{"$f":"IF(AB$1=0,0,IF(Configuration!$F$16=\"D\",$R17,Table7[[#This Row],[Vo]]))","v":0},{"$f":"IF(AC$1=0,0,IF(Configuration!$F$17=\"D\",$R17,Table7[[#This Row],[Vo]]))","v":0}]
[null,null,null,null,null,null,null,null,null,null,null,null,null,null,null,"Barbados",null,4.3,{"$f":"IF(S$1=0,0,IF(Configuration!$F$7=\"D\",$R18,Table7[[#This Row],[Vo]]))","v":0},{"$f":"IF(T$1=0,0,IF(Configuration!$F$8=\"D\",$R18,Table7[[#This Row],[Vo]]))","v":0},{"$f":"IF(U$1=0,0,IF(Configuration!$F$9=\"D\",$R18,Table7[[#This Row],[Vo]]))","v":0},{"$f":"IF(V$1=0,0,IF(Configuration!$F$10=\"D\",$R18,Table7[[#This Row],[Vo]]))","v":0},{"$f":"IF(W$1=0,0,IF(Configuration!$F$11=\"D\",$R18,Table7[[#This Row],[Vo]]))","v":0},{"$f":"IF(X$1=0,0,IF(Configuration!$F$12=\"D\",$R18,Table7[[#This Row],[Vo]]))","v":0},{"$f":"IF(Y$1=0,0,IF(Configuration!$F$13=\"D\",$R18,Table7[[#This Row],[Vo]]))","v":0},{"$f":"IF(Z$1=0,0,IF(Configuration!$F$14=\"D\",$R18,Table7[[#This Row],[Vo]]))","v":0},{"$f":"IF(AA$1=0,0,IF(Configuration!$F$15=\"D\",$R18,Table7[[#This Row],[Vo]]))","v":0},{"$f":"IF(AB$1=0,0,IF(Configuration!$F$16=\"D\",$R18,Table7[[#This Row],[Vo]]))","v":0},{"$f":"IF(AC$1=0,0,IF(Configuration!$F$17=\"D\",$R18,Table7[[#This Row],[Vo]]))","v":0}]
[null,null,null,null,null,null,null,null,null,null,"MEAN WELL Sales Office","Email","Contact","Tel",null,"Belize",null,4.4000000000000004,{"$f":"IF(S$1=0,0,IF(Configuration!$F$7=\"D\",$R19,Table7[[#This Row],[Vo]]))","v":0},{"$f":"IF(T$1=0,0,IF(Configuration!$F$8=\"D\",$R19,Table7[[#This Row],[Vo]]))","v":0},{"$f":"IF(U$1=0,0,IF(Configuration!$F$9=\"D\",$R19,Table7[[#This Row],[Vo]]))","v":0},{"$f":"IF(V$1=0,0,IF(Configuration!$F$10=\"D\",$R19,Table7[[#This Row],[Vo]]))","v":0},{"$f":"IF(W$1=0,0,IF(Configuration!$F$11=\"D\",$R19,Table7[[#This Row],[Vo]]))","v":0},{"$f":"IF(X$1=0,0,IF(Configuration!$F$12=\"D\",$R19,Table7[[#This Row],[Vo]]))","v":0},{"$f":"IF(Y$1=0,0,IF(Configuration!$F$13=\"D\",$R19,Table7[[#This Row],[Vo]]))","v":0},{"$f":"IF(Z$1=0,0,IF(Configuration!$F$14=\"D\",$R19,Table7[[#This Row],[Vo]]))","v":0},{"$f":"IF(AA$1=0,0,IF(Configuration!$F$15=\"D\",$R19,Table7[[#This Row],[Vo]]))","v":0},{"$f":"IF(AB$1=0,0,IF(Configuration!$F$16=\"D\",$R19,Table7[[#This Row],[Vo]]))","v":0},{"$f":"IF(AC$1=0,0,IF(Configuration!$F$17=\"D\",$R19,Table7[[#This Row],[Vo]]))","v":0}]
["Output Voltage","Short Name","Module rated current","Module rated power","Module Code","Available No. of Slot","Max power per output","Max current per output",null,null,"MEAN WELL (GUANGZHOU) ELECTRONICS CO., LTD.","info@meanwell.com.cn ",null,"+86-20-3773-7100 /400-800-3608",null,"Bhutan",null,4.5,{"$f":"IF(S$1=0,0,IF(Configuration!$F$7=\"D\",$R20,Table7[[#This Row],[Vo]]))","v":0},{"$f":"IF(T$1=0,0,IF(Configuration!$F$8=\"D\",$R20,Table7[[#This Row],[Vo]]))","v":0},{"$f":"IF(U$1=0,0,IF(Configuration!$F$9=\"D\",$R20,Table7[[#This Row],[Vo]]))","v":0},{"$f":"IF(V$1=0,0,IF(Configuration!$F$10=\"D\",$R20,Table7[[#This Row],[Vo]]))","v":0},{"$f":"IF(W$1=0,0,IF(Configuration!$F$11=\"D\",$R20,Table7[[#This Row],[Vo]]))","v":0},{"$f":"IF(X$1=0,0,IF(Configuration!$F$12=\"D\",$R20,Table7[[#This Row],[Vo]]))","v":0},{"$f":"IF(Y$1=0,0,IF(Configuration!$F$13=\"D\",$R20,Table7[[#This Row],[Vo]]))","v":0},{"$f":"IF(Z$1=0,0,IF(Configuration!$F$14=\"D\",$R20,Table7[[#This Row],[Vo]]))","v":0},{"$f":"IF(AA$1=0,0,IF(Configuration!$F$15=\"D\",$R20,Table7[[#This Row],[Vo]]))","v":0},{"$f":"IF(AB$1=0,0,IF(Configuration!$F$16=\"D\",$R20,Table7[[#This Row],[Vo]]))","v":0},{"$f":"IF(AC$1=0,0,IF(Configuration!$F$17=\"D\",$R20,Table7[[#This Row],[Vo]]))","v":0}]
["Blank Slot","BLANK-NMS240","Blank Slot","Blank Slot","#",6,"Blank Slot","Blank Slot",null,null,"MEAN WELL ASEAN Regional Office","wswong@meanwellasean.com ","Mr. Weng Seong Wong","+60-3-5888-8033",null,"Botswana",null,4.5999999999999996,{"$f":"IF(S$1=0,0,IF(Configuration!$F$7=\"D\",$R21,Table7[[#This Row],[Vo]]))","v":0},{"$f":"IF(T$1=0,0,IF(Configuration!$F$8=\"D\",$R21,Table7[[#This Row],[Vo]]))","v":0},{"$f":"IF(U$1=0,0,IF(Configuration!$F$9=\"D\",$R21,Table7[[#This Row],[Vo]]))","v":0},{"$f":"IF(V$1=0,0,IF(Configuration!$F$10=\"D\",$R21,Table7[[#This Row],[Vo]]))","v":0},{"$f":"IF(W$1=0,0,IF(Configuration!$F$11=\"D\",$R21,Table7[[#This Row],[Vo]]))","v":0},{"$f":"IF(X$1=0,0,IF(Configuration!$F$12=\"D\",$R21,Table7[[#This Row],[Vo]]))","v":0},{"$f":"IF(Y$1=0,0,IF(Configuration!$F$13=\"D\",$R21,Table7[[#This Row],[Vo]]))","v":0},{"$f":"IF(Z$1=0,0,IF(Configuration!$F$14=\"D\",$R21,Table7[[#This Row],[Vo]]))","v":0},{"$f":"IF(AA$1=0,0,IF(Configuration!$F$15=\"D\",$R21,Table7[[#This Row],[Vo]]))","v":0},{"$f":"IF(AB$1=0,0,IF(Configuration!$F$16=\"D\",$R21,Table7[[#This Row],[Vo]]))","v":0},{"$f":"IF(AC$1=0,0,IF(Configuration!$F$17=\"D\",$R21,Table7[[#This Row],[Vo]]))","v":0}]
[3,"NMS-240-5",36,{"$f":"A21*C21","v":108},"C",{"$f":"IF(1200/Table2[[#This Row],[Module rated power]]>6,6,ROUNDDOWN(1200/Table2[[#This Row],[Module rated power]],0))","v":6},{"$f":"Table2[[#This Row],[Module rated power]]*Table2[[#This Row],[Available No. of Slot]]","v":648},{"$f":"ROUNDDOWN(Table2[[#This Row],[Max power per output]]/Table2[[#This Row],[Output Voltage]],2)","v":216},null,null,"MEAN WELL ENTERPRISES CO., LTD. (Headquarters)","frances@meanwell.com","Ms. Frances Lai","+886-2-2299-6100 ext. 616",null,"Brunei Darussalam",null,4.7,{"$f":"IF(S$1=0,0,IF(Configuration!$F$7=\"D\",$R22,Table7[[#This Row],[Vo]]))","v":0},{"$f":"IF(T$1=0,0,IF(Configuration!$F$8=\"D\",$R22,Table7[[#This Row],[Vo]]))","v":0},{"$f":"IF(U$1=0,0,IF(Configuration!$F$9=\"D\",$R22,Table7[[#This Row],[Vo]]))","v":0},{"$f":"IF(V$1=0,0,IF(Configuration!$F$10=\"D\",$R22,Table7[[#This Row],[Vo]]))","v":0},{"$f":"IF(W$1=0,0,IF(Configuration!$F$11=\"D\",$R22,Table7[[#This Row],[Vo]]))","v":0},{"$f":"IF(X$1=0,0,IF(Configuration!$F$12=\"D\",$R22,Table7[[#This Row],[Vo]]))","v":0},{"$f":"IF(Y$1=0,0,IF(Configuration!$F$13=\"D\",$R22,Table7[[#This Row],[Vo]]))","v":0},{"$f":"IF(Z$1=0,0,IF(Configuration!$F$14=\"D\",$R22,Table7[[#This Row],[Vo]]))","v":0},{"$f":"IF(AA$1=0,0,IF(Configuration!$F$15=\"D\",$R22,Table7[[#This Row],[Vo]]))","v":0},{"$f":"IF(AB$1=0,0,IF(Configuration!$F$16=\"D\",$R22,Table7[[#This Row],[Vo]]))","v":0},{"$f":"IF(AC$1=0,0,IF(Configuration!$F$17=\"D\",$R22,Table7[[#This Row],[Vo]]))","v":0}]
[{"$f":"ROUNDUP(A21+0.1,1)","v":3.1},"NMS-240-5",36,111.60000000000001,"C",{"$f":"IF(1200/Table2[[#This Row],[Module rated power]]>6,6,ROUNDDOWN(1200/Table2[[#This Row],[Module rated power]],0))","v":6},{"$f":"Table2[[#This Row],[Module rated power]]*Table2[[#This Row],[Available No. of Slot]]","v":669.6},{"$f":"ROUNDDOWN(Table2[[#This Row],[Max power per output]]/Table2[[#This Row],[Output Voltage]],2)","v":216},null,null,"MEAN WELL EUROPE B.V.","info@meanwell.eu ",null,"+31-20-758-6000",null,"Burkina Faso",null,4.8,{"$f":"IF(S$1=0,0,IF(Configuration!$F$7=\"D\",$R23,Table7[[#This Row],[Vo]]))","v":0},{"$f":"IF(T$1=0,0,IF(Configuration!$F$8=\"D\",$R23,Table7[[#This Row],[Vo]]))","v":0},{"$f":"IF(U$1=0,0,IF(Configuration!$F$9=\"D\",$R23,Table7[[#This Row],[Vo]]))","v":0},{"$f":"IF(V$1=0,0,IF(Configuration!$F$10=\"D\",$R23,Table7[[#This Row],[Vo]]))","v":0},{"$f":"IF(W$1=0,0,IF(Configuration!$F$11=\"D\",$R23,Table7[[#This Row],[Vo]]))","v":0},{"$f":"IF(X$1=0,0,IF(Configuration!$F$12=\"D\",$R23,Table7[[#This Row],[Vo]]))","v":0},{"$f":"IF(Y$1=0,0,IF(Configuration!$F$13=\"D\",$R23,Table7[[#This Row],[Vo]]))","v":0},{"$f":"IF(Z$1=0,0,IF(Configuration!$F$14=\"D\",$R23,Table7[[#This Row],[Vo]]))","v":0},{"$f":"IF(AA$1=0,0,IF(Configuration!$F$15=\"D\",$R23,Table7[[#This Row],[Vo]]))","v":0},{"$f":"IF(AB$1=0,0,IF(Configuration!$F$16=\"D\",$R23,Table7[[#This Row],[Vo]]))","v":0},{"$f":"IF(AC$1=0,0,IF(Configuration!$F$17=\"D\",$R23,Table7[[#This Row],[Vo]]))","v":0}]
[{"$f":"ROUNDUP(A22+0.1,1)","v":3.2},"NMS-240-5",36,115.2,"C",{"$f":"IF(1200/Table2[[#This Row],[Module rated power]]>6,6,ROUNDDOWN(1200/Table2[[#This Row],[Module rated power]],0))","v":6},{"$f":"Table2[[#This Row],[Module rated power]]*Table2[[#This Row],[Available No. of Slot]]","v":691.2},{"$f":"ROUNDDOWN(Table2[[#This Row],[Max power per output]]/Table2[[#This Row],[Output Voltage]],2)","v":216},null,null,"MEAN WELL USA, INC.","info@meanwellusa.com ",null,"+1-510-683-8886",null,"Burundi",null,4.9000000000000004,{"$f":"IF(S$1=0,0,IF(Configuration!$F$7=\"D\",$R24,Table7[[#This Row],[Vo]]))","v":0},{"$f":"IF(T$1=0,0,IF(Configuration!$F$8=\"D\",$R24,Table7[[#This Row],[Vo]]))","v":0},{"$f":"IF(U$1=0,0,IF(Configuration!$F$9=\"D\",$R24,Table7[[#This Row],[Vo]]))","v":0},{"$f":"IF(V$1=0,0,IF(Configuration!$F$10=\"D\",$R24,Table7[[#This Row],[Vo]]))","v":0},{"$f":"IF(W$1=0,0,IF(Configuration!$F$11=\"D\",$R24,Table7[[#This Row],[Vo]]))","v":0},{"$f":"IF(X$1=0,0,IF(Configuration!$F$12=\"D\",$R24,Table7[[#This Row],[Vo]]))","v":0},{"$f":"IF(Y$1=0,0,IF(Configuration!$F$13=\"D\",$R24,Table7[[#This Row],[Vo]]))","v":0},{"$f":"IF(Z$1=0,0,IF(Configuration!$F$14=\"D\",$R24,Table7[[#This Row],[Vo]]))","v":0},{"$f":"IF(AA$1=0,0,IF(Configuration!$F$15=\"D\",$R24,Table7[[#This Row],[Vo]]))","v":0},{"$f":"IF(AB$1=0,0,IF(Configuration!$F$16=\"D\",$R24,Table7[[#This Row],[Vo]]))","v":0},{"$f":"IF(AC$1=0,0,IF(Configuration!$F$17=\"D\",$R24,Table7[[#This Row],[Vo]]))","v":0}]
[3.3,"NMS-240-5",36,118.8,"C",{"$f":"IF(1200/Table2[[#This Row],[Module rated power]]>6,6,ROUNDDOWN(1200/Table2[[#This Row],[Module rated power]],0))","v":6},{"$f":"Table2[[#This Row],[Module rated power]]*Table2[[#This Row],[Available No. of Slot]]","v":712.8},{"$f":"ROUNDDOWN(Table2[[#This Row],[Max power per output]]/Table2[[#This Row],[Output Voltage]],2)","v":216},null,null,"Sales Representative of India ","benaka.v@meanwellindia.com ","Mr. Benaka Varadaraju","+91-9686448906",null,"Bahamas",null,5,{"$f":"IF(S$1=0,0,IF(Configuration!$F$7=\"D\",$R25,Table7[[#This Row],[Vo]]))","v":0},{"$f":"IF(T$1=0,0,IF(Configuration!$F$8=\"D\",$R25,Table7[[#This Row],[Vo]]))","v":0},{"$f":"IF(U$1=0,0,IF(Configuration!$F$9=\"D\",$R25,Table7[[#This Row],[Vo]]))","v":0},{"$f":"IF(V$1=0,0,IF(Configuration!$F$10=\"D\",$R25,Table7[[#This Row],[Vo]]))","v":0},{"$f":"IF(W$1=0,0,IF(Configuration!$F$11=\"D\",$R25,Table7[[#This Row],[Vo]]))","v":0},{"$f":"IF(X$1=0,0,IF(Configuration!$F$12=\"D\",$R25,Table7[[#This Row],[Vo]]))","v":0},{"$f":"IF(Y$1=0,0,IF(Configuration!$F$13=\"D\",$R25,Table7[[#This Row],[Vo]]))","v":0},{"$f":"IF(Z$1=0,0,IF(Configuration!$F$14=\"D\",$R25,Table7[[#This Row],[Vo]]))","v":0},{"$f":"IF(AA$1=0,0,IF(Configuration!$F$15=\"D\",$R25,Table7[[#This Row],[Vo]]))","v":0},{"$f":"IF(AB$1=0,0,IF(Configuration!$F$16=\"D\",$R25,Table7[[#This Row],[Vo]]))","v":0},{"$f":"IF(AC$1=0,0,IF(Configuration!$F$17=\"D\",$R25,Table7[[#This Row],[Vo]]))","v":0}]
[3.4,"NMS-240-5",36,122.39999999999999,"C",{"$f":"IF(1200/Table2[[#This Row],[Module rated power]]>6,6,ROUNDDOWN(1200/Table2[[#This Row],[Module rated power]],0))","v":6},{"$f":"Table2[[#This Row],[Module rated power]]*Table2[[#This Row],[Available No. of Slot]]","v":734.4},{"$f":"ROUNDDOWN(Table2[[#This Row],[Max power per output]]/Table2[[#This Row],[Output Voltage]],2)","v":216},null,null,"Sales Representative of Japan ","jeff@meanwell.com ","Mr. Jeff Fang","+81-80-7898-5119",null,"Bahrain",null,5.0999999999999996,{"$f":"IF(S$1=0,0,IF(Configuration!$F$7=\"D\",$R26,Table7[[#This Row],[Vo]]))","v":0},{"$f":"IF(T$1=0,0,IF(Configuration!$F$8=\"D\",$R26,Table7[[#This Row],[Vo]]))","v":0},{"$f":"IF(U$1=0,0,IF(Configuration!$F$9=\"D\",$R26,Table7[[#This Row],[Vo]]))","v":0},{"$f":"IF(V$1=0,0,IF(Configuration!$F$10=\"D\",$R26,Table7[[#This Row],[Vo]]))","v":0},{"$f":"IF(W$1=0,0,IF(Configuration!$F$11=\"D\",$R26,Table7[[#This Row],[Vo]]))","v":0},{"$f":"IF(X$1=0,0,IF(Configuration!$F$12=\"D\",$R26,Table7[[#This Row],[Vo]]))","v":0},{"$f":"IF(Y$1=0,0,IF(Configuration!$F$13=\"D\",$R26,Table7[[#This Row],[Vo]]))","v":0},{"$f":"IF(Z$1=0,0,IF(Configuration!$F$14=\"D\",$R26,Table7[[#This Row],[Vo]]))","v":0},{"$f":"IF(AA$1=0,0,IF(Configuration!$F$15=\"D\",$R26,Table7[[#This Row],[Vo]]))","v":0},{"$f":"IF(AB$1=0,0,IF(Configuration!$F$16=\"D\",$R26,Table7[[#This Row],[Vo]]))","v":0},{"$f":"IF(AC$1=0,0,IF(Configuration!$F$17=\"D\",$R26,Table7[[#This Row],[Vo]]))","v":0}]
[3.5,"NMS-240-5",36,126,"C",{"$f":"IF(1200/Table2[[#This Row],[Module rated power]]>6,6,ROUNDDOWN(1200/Table2[[#This Row],[Module rated power]],0))","v":6},{"$f":"Table2[[#This Row],[Module rated power]]*Table2[[#This Row],[Available No. of Slot]]","v":756},{"$f":"ROUNDDOWN(Table2[[#This Row],[Max power per output]]/Table2[[#This Row],[Output Voltage]],2)","v":216},null,null,"Sales Representative of Korea","kjshin@meanwellkr.com ","Mr. KWANG-JO SHIN ","+82-2-6953-7887",null,"Belarus",null,5.2,{"$f":"IF(S$1=0,0,IF(Configuration!$F$7=\"D\",$R27,Table7[[#This Row],[Vo]]))","v":0},{"$f":"IF(T$1=0,0,IF(Configuration!$F$8=\"D\",$R27,Table7[[#This Row],[Vo]]))","v":0},{"$f":"IF(U$1=0,0,IF(Configuration!$F$9=\"D\",$R27,Table7[[#This Row],[Vo]]))","v":0},{"$f":"IF(V$1=0,0,IF(Configuration!$F$10=\"D\",$R27,Table7[[#This Row],[Vo]]))","v":0},{"$f":"IF(W$1=0,0,IF(Configuration!$F$11=\"D\",$R27,Table7[[#This Row],[Vo]]))","v":0},{"$f":"IF(X$1=0,0,IF(Configuration!$F$12=\"D\",$R27,Table7[[#This Row],[Vo]]))","v":0},{"$f":"IF(Y$1=0,0,IF(Configuration!$F$13=\"D\",$R27,Table7[[#This Row],[Vo]]))","v":0},{"$f":"IF(Z$1=0,0,IF(Configuration!$F$14=\"D\",$R27,Table7[[#This Row],[Vo]]))","v":0},{"$f":"IF(AA$1=0,0,IF(Configuration!$F$15=\"D\",$R27,Table7[[#This Row],[Vo]]))","v":0},{"$f":"IF(AB$1=0,0,IF(Configuration!$F$16=\"D\",$R27,Table7[[#This Row],[Vo]]))","v":0},{"$f":"IF(AC$1=0,0,IF(Configuration!$F$17=\"D\",$R27,Table7[[#This Row],[Vo]]))","v":0}]
[3.6,"NMS-240-5",36,129.6,"C",{"$f":"IF(1200/Table2[[#This Row],[Module rated power]]>6,6,ROUNDDOWN(1200/Table2[[#This Row],[Module rated power]],0))","v":6},{"$f":"Table2[[#This Row],[Module rated power]]*Table2[[#This Row],[Available No. of Slot]]","v":777.59999999999991},{"$f":"ROUNDDOWN(Table2[[#This Row],[Max power per output]]/Table2[[#This Row],[Output Voltage]],2)","v":216},null,null,"Sales Representative of Russia","info@meanwellrussia.com ","Mr. Svyatoslav SHIROKOV","+7-812-946-0097 ",null,"Belgium",null,5.3,{"$f":"IF(S$1=0,0,IF(Configuration!$F$7=\"D\",$R28,Table7[[#This Row],[Vo]]))","v":0},{"$f":"IF(T$1=0,0,IF(Configuration!$F$8=\"D\",$R28,Table7[[#This Row],[Vo]]))","v":0},{"$f":"IF(U$1=0,0,IF(Configuration!$F$9=\"D\",$R28,Table7[[#This Row],[Vo]]))","v":0},{"$f":"IF(V$1=0,0,IF(Configuration!$F$10=\"D\",$R28,Table7[[#This Row],[Vo]]))","v":0},{"$f":"IF(W$1=0,0,IF(Configuration!$F$11=\"D\",$R28,Table7[[#This Row],[Vo]]))","v":0},{"$f":"IF(X$1=0,0,IF(Configuration!$F$12=\"D\",$R28,Table7[[#This Row],[Vo]]))","v":0},{"$f":"IF(Y$1=0,0,IF(Configuration!$F$13=\"D\",$R28,Table7[[#This Row],[Vo]]))","v":0},{"$f":"IF(Z$1=0,0,IF(Configuration!$F$14=\"D\",$R28,Table7[[#This Row],[Vo]]))","v":0},{"$f":"IF(AA$1=0,0,IF(Configuration!$F$15=\"D\",$R28,Table7[[#This Row],[Vo]]))","v":0},{"$f":"IF(AB$1=0,0,IF(Configuration!$F$16=\"D\",$R28,Table7[[#This Row],[Vo]]))","v":0},{"$f":"IF(AC$1=0,0,IF(Configuration!$F$17=\"D\",$R28,Table7[[#This Row],[Vo]]))","v":0}]
[3.7,"NMS-240-5",36,133.20000000000002,"C",{"$f":"IF(1200/Table2[[#This Row],[Module rated power]]>6,6,ROUNDDOWN(1200/Table2[[#This Row],[Module rated power]],0))","v":6},{"$f":"Table2[[#This Row],[Module rated power]]*Table2[[#This Row],[Available No. of Slot]]","v":799.2},{"$f":"ROUNDDOWN(Table2[[#This Row],[Max power per output]]/Table2[[#This Row],[Output Voltage]],2)","v":216},null,null,"Sales Representative of Turkey ","a.argilli@meanwell.com ","Mr. Abdullah Ziya ARGILLI ","+90-505-2020205",null,"Benin",null,5.4,{"$f":"IF(S$1=0,0,IF(Configuration!$F$7=\"D\",$R29,Table7[[#This Row],[Vo]]))","v":0},{"$f":"IF(T$1=0,0,IF(Configuration!$F$8=\"D\",$R29,Table7[[#This Row],[Vo]]))","v":0},{"$f":"IF(U$1=0,0,IF(Configuration!$F$9=\"D\",$R29,Table7[[#This Row],[Vo]]))","v":0},{"$f":"IF(V$1=0,0,IF(Configuration!$F$10=\"D\",$R29,Table7[[#This Row],[Vo]]))","v":0},{"$f":"IF(W$1=0,0,IF(Configuration!$F$11=\"D\",$R29,Table7[[#This Row],[Vo]]))","v":0},{"$f":"IF(X$1=0,0,IF(Configuration!$F$12=\"D\",$R29,Table7[[#This Row],[Vo]]))","v":0},{"$f":"IF(Y$1=0,0,IF(Configuration!$F$13=\"D\",$R29,Table7[[#This Row],[Vo]]))","v":0},{"$f":"IF(Z$1=0,0,IF(Configuration!$F$14=\"D\",$R29,Table7[[#This Row],[Vo]]))","v":0},{"$f":"IF(AA$1=0,0,IF(Configuration!$F$15=\"D\",$R29,Table7[[#This Row],[Vo]]))","v":0},{"$f":"IF(AB$1=0,0,IF(Configuration!$F$16=\"D\",$R29,Table7[[#This Row],[Vo]]))","v":0},{"$f":"IF(AC$1=0,0,IF(Configuration!$F$17=\"D\",$R29,Table7[[#This Row],[Vo]]))","v":0}]
[3.8,"NMS-240-5",36,136.79999999999998,"C",{"$f":"IF(1200/Table2[[#This Row],[Module rated power]]>6,6,ROUNDDOWN(1200/Table2[[#This Row],[Module rated power]],0))","v":6},{"$f":"Table2[[#This Row],[Module rated power]]*Table2[[#This Row],[Available No. of Slot]]","v":820.8},{"$f":"ROUNDDOWN(Table2[[#This Row],[Max power per output]]/Table2[[#This Row],[Output Voltage]],2)","v":216},null,null,"Sales Representative of Vietnam","pide@meanwell.com ","Mr. Pide Hoang ","+84-0705886189",null,"Bermuda",null,5.5,{"$f":"IF(S$1=0,0,IF(Configuration!$F$7=\"D\",$R30,Table7[[#This Row],[Vo]]))","v":0},{"$f":"IF(T$1=0,0,IF(Configuration!$F$8=\"D\",$R30,Table7[[#This Row],[Vo]]))","v":0},{"$f":"IF(U$1=0,0,IF(Configuration!$F$9=\"D\",$R30,Table7[[#This Row],[Vo]]))","v":0},{"$f":"IF(V$1=0,0,IF(Configuration!$F$10=\"D\",$R30,Table7[[#This Row],[Vo]]))","v":0},{"$f":"IF(W$1=0,0,IF(Configuration!$F$11=\"D\",$R30,Table7[[#This Row],[Vo]]))","v":0},{"$f":"IF(X$1=0,0,IF(Configuration!$F$12=\"D\",$R30,Table7[[#This Row],[Vo]]))","v":0},{"$f":"IF(Y$1=0,0,IF(Configuration!$F$13=\"D\",$R30,Table7[[#This Row],[Vo]]))","v":0},{"$f":"IF(Z$1=0,0,IF(Configuration!$F$14=\"D\",$R30,Table7[[#This Row],[Vo]]))","v":0},{"$f":"IF(AA$1=0,0,IF(Configuration!$F$15=\"D\",$R30,Table7[[#This Row],[Vo]]))","v":0},{"$f":"IF(AB$1=0,0,IF(Configuration!$F$16=\"D\",$R30,Table7[[#This Row],[Vo]]))","v":0},{"$f":"IF(AC$1=0,0,IF(Configuration!$F$17=\"D\",$R30,Table7[[#This Row],[Vo]]))","v":0}]
[3.9,"NMS-240-5",36,140.4,"C",{"$f":"IF(1200/Table2[[#This Row],[Module rated power]]>6,6,ROUNDDOWN(1200/Table2[[#This Row],[Module rated power]],0))","v":6},{"$f":"Table2[[#This Row],[Module rated power]]*Table2[[#This Row],[Available No. of Slot]]","v":842.40000000000009},{"$f":"ROUNDDOWN(Table2[[#This Row],[Max power per output]]/Table2[[#This Row],[Output Voltage]],2)","v":216},null,null,"SUZHOU MEAN WELL TECHNOLOGY CO., LTD. ","info@meanwell.cc ",null,"+86-512-6508-8600",null,"Bolivia",null,5.6,{"$f":"IF(S$1=0,0,IF(Configuration!$F$7=\"D\",$R31,Table7[[#This Row],[Vo]]))","v":0},{"$f":"IF(T$1=0,0,IF(Configuration!$F$8=\"D\",$R31,Table7[[#This Row],[Vo]]))","v":0},{"$f":"IF(U$1=0,0,IF(Configuration!$F$9=\"D\",$R31,Table7[[#This Row],[Vo]]))","v":0},{"$f":"IF(V$1=0,0,IF(Configuration!$F$10=\"D\",$R31,Table7[[#This Row],[Vo]]))","v":0},{"$f":"IF(W$1=0,0,IF(Configuration!$F$11=\"D\",$R31,Table7[[#This Row],[Vo]]))","v":0},{"$f":"IF(X$1=0,0,IF(Configuration!$F$12=\"D\",$R31,Table7[[#This Row],[Vo]]))","v":0},{"$f":"IF(Y$1=0,0,IF(Configuration!$F$13=\"D\",$R31,Table7[[#This Row],[Vo]]))","v":0},{"$f":"IF(Z$1=0,0,IF(Configuration!$F$14=\"D\",$R31,Table7[[#This Row],[Vo]]))","v":0},{"$f":"IF(AA$1=0,0,IF(Configuration!$F$15=\"D\",$R31,Table7[[#This Row],[Vo]]))","v":0},{"$f":"IF(AB$1=0,0,IF(Configuration!$F$16=\"D\",$R31,Table7[[#This Row],[Vo]]))","v":0},{"$f":"IF(AC$1=0,0,IF(Configuration!$F$17=\"D\",$R31,Table7[[#This Row],[Vo]]))","v":0}]
[4,"NMS-240-5",36,144,"C",{"$f":"IF(1200/Table2[[#This Row],[Module rated power]]>6,6,ROUNDDOWN(1200/Table2[[#This Row],[Module rated power]],0))","v":6},{"$f":"Table2[[#This Row],[Module rated power]]*Table2[[#This Row],[Available No. of Slot]]","v":864},{"$f":"ROUNDDOWN(Table2[[#This Row],[Max power per output]]/Table2[[#This Row],[Output Voltage]],2)","v":216},null,null,null,null,null,null,null,"Bulgaria",null,5.7,{"$f":"IF(S$1=0,0,IF(Configuration!$F$7=\"D\",$R32,Table7[[#This Row],[Vo]]))","v":0},{"$f":"IF(T$1=0,0,IF(Configuration!$F$8=\"D\",$R32,Table7[[#This Row],[Vo]]))","v":0},{"$f":"IF(U$1=0,0,IF(Configuration!$F$9=\"D\",$R32,Table7[[#This Row],[Vo]]))","v":0},{"$f":"IF(V$1=0,0,IF(Configuration!$F$10=\"D\",$R32,Table7[[#This Row],[Vo]]))","v":0},{"$f":"IF(W$1=0,0,IF(Configuration!$F$11=\"D\",$R32,Table7[[#This Row],[Vo]]))","v":0},{"$f":"IF(X$1=0,0,IF(Configuration!$F$12=\"D\",$R32,Table7[[#This Row],[Vo]]))","v":0},{"$f":"IF(Y$1=0,0,IF(Configuration!$F$13=\"D\",$R32,Table7[[#This Row],[Vo]]))","v":0},{"$f":"IF(Z$1=0,0,IF(Configuration!$F$14=\"D\",$R32,Table7[[#This Row],[Vo]]))","v":0},{"$f":"IF(AA$1=0,0,IF(Configuration!$F$15=\"D\",$R32,Table7[[#This Row],[Vo]]))","v":0},{"$f":"IF(AB$1=0,0,IF(Configuration!$F$16=\"D\",$R32,Table7[[#This Row],[Vo]]))","v":0},{"$f":"IF(AC$1=0,0,IF(Configuration!$F$17=\"D\",$R32,Table7[[#This Row],[Vo]]))","v":0}]
[4.0999999999999996,"NMS-240-5",36,147.6,"C",{"$f":"IF(1200/Table2[[#This Row],[Module rated power]]>6,6,ROUNDDOWN(1200/Table2[[#This Row],[Module rated power]],0))","v":6},{"$f":"Table2[[#This Row],[Module rated power]]*Table2[[#This Row],[Available No. of Slot]]","v":885.59999999999991},{"$f":"ROUNDDOWN(Table2[[#This Row],[Max power per output]]/Table2[[#This Row],[Output Voltage]],2)","v":216},null,null,null,null,null,null,null,"Cambodia",null,5.8,{"$f":"IF(S$1=0,0,IF(Configuration!$F$7=\"D\",$R33,Table7[[#This Row],[Vo]]))","v":0},{"$f":"IF(T$1=0,0,IF(Configuration!$F$8=\"D\",$R33,Table7[[#This Row],[Vo]]))","v":0},{"$f":"IF(U$1=0,0,IF(Configuration!$F$9=\"D\",$R33,Table7[[#This Row],[Vo]]))","v":0},{"$f":"IF(V$1=0,0,IF(Configuration!$F$10=\"D\",$R33,Table7[[#This Row],[Vo]]))","v":0},{"$f":"IF(W$1=0,0,IF(Configuration!$F$11=\"D\",$R33,Table7[[#This Row],[Vo]]))","v":0},{"$f":"IF(X$1=0,0,IF(Configuration!$F$12=\"D\",$R33,Table7[[#This Row],[Vo]]))","v":0},{"$f":"IF(Y$1=0,0,IF(Configuration!$F$13=\"D\",$R33,Table7[[#This Row],[Vo]]))","v":0},{"$f":"IF(Z$1=0,0,IF(Configuration!$F$14=\"D\",$R33,Table7[[#This Row],[Vo]]))","v":0},{"$f":"IF(AA$1=0,0,IF(Configuration!$F$15=\"D\",$R33,Table7[[#This Row],[Vo]]))","v":0},{"$f":"IF(AB$1=0,0,IF(Configuration!$F$16=\"D\",$R33,Table7[[#This Row],[Vo]]))","v":0},{"$f":"IF(AC$1=0,0,IF(Configuration!$F$17=\"D\",$R33,Table7[[#This Row],[Vo]]))","v":0}]
[4.2,"NMS-240-5",36,151.20000000000002,"C",{"$f":"IF(1200/Table2[[#This Row],[Module rated power]]>6,6,ROUNDDOWN(1200/Table2[[#This Row],[Module rated power]],0))","v":6},{"$f":"Table2[[#This Row],[Module rated power]]*Table2[[#This Row],[Available No. of Slot]]","v":907.2},{"$f":"ROUNDDOWN(Table2[[#This Row],[Max power per output]]/Table2[[#This Row],[Output Voltage]],2)","v":216},null,null,null,null,null,null,null,"Cape Verde",null,5.9,{"$f":"IF(S$1=0,0,IF(Configuration!$F$7=\"D\",$R34,Table7[[#This Row],[Vo]]))","v":0},{"$f":"IF(T$1=0,0,IF(Configuration!$F$8=\"D\",$R34,Table7[[#This Row],[Vo]]))","v":0},{"$f":"IF(U$1=0,0,IF(Configuration!$F$9=\"D\",$R34,Table7[[#This Row],[Vo]]))","v":0},{"$f":"IF(V$1=0,0,IF(Configuration!$F$10=\"D\",$R34,Table7[[#This Row],[Vo]]))","v":0},{"$f":"IF(W$1=0,0,IF(Configuration!$F$11=\"D\",$R34,Table7[[#This Row],[Vo]]))","v":0},{"$f":"IF(X$1=0,0,IF(Configuration!$F$12=\"D\",$R34,Table7[[#This Row],[Vo]]))","v":0},{"$f":"IF(Y$1=0,0,IF(Configuration!$F$13=\"D\",$R34,Table7[[#This Row],[Vo]]))","v":0},{"$f":"IF(Z$1=0,0,IF(Configuration!$F$14=\"D\",$R34,Table7[[#This Row],[Vo]]))","v":0},{"$f":"IF(AA$1=0,0,IF(Configuration!$F$15=\"D\",$R34,Table7[[#This Row],[Vo]]))","v":0},{"$f":"IF(AB$1=0,0,IF(Configuration!$F$16=\"D\",$R34,Table7[[#This Row],[Vo]]))","v":0},{"$f":"IF(AC$1=0,0,IF(Configuration!$F$17=\"D\",$R34,Table7[[#This Row],[Vo]]))","v":0}]
[4.3,"NMS-240-5",36,154.79999999999998,"C",{"$f":"IF(1200/Table2[[#This Row],[Module rated power]]>6,6,ROUNDDOWN(1200/Table2[[#This Row],[Module rated power]],0))","v":6},{"$f":"Table2[[#This Row],[Module rated power]]*Table2[[#This Row],[Available No. of Slot]]","v":928.8},{"$f":"ROUNDDOWN(Table2[[#This Row],[Max power per output]]/Table2[[#This Row],[Output Voltage]],2)","v":216},null,null,null,null,null,null,null,"Cayman Islands",null,6,{"$f":"IF(S$1=0,0,IF(Configuration!$F$7=\"D\",$R35,Table7[[#This Row],[Vo]]))","v":0},{"$f":"IF(T$1=0,0,IF(Configuration!$F$8=\"D\",$R35,Table7[[#This Row],[Vo]]))","v":0},{"$f":"IF(U$1=0,0,IF(Configuration!$F$9=\"D\",$R35,Table7[[#This Row],[Vo]]))","v":0},{"$f":"IF(V$1=0,0,IF(Configuration!$F$10=\"D\",$R35,Table7[[#This Row],[Vo]]))","v":0},{"$f":"IF(W$1=0,0,IF(Configuration!$F$11=\"D\",$R35,Table7[[#This Row],[Vo]]))","v":0},{"$f":"IF(X$1=0,0,IF(Configuration!$F$12=\"D\",$R35,Table7[[#This Row],[Vo]]))","v":0},{"$f":"IF(Y$1=0,0,IF(Configuration!$F$13=\"D\",$R35,Table7[[#This Row],[Vo]]))","v":0},{"$f":"IF(Z$1=0,0,IF(Configuration!$F$14=\"D\",$R35,Table7[[#This Row],[Vo]]))","v":0},{"$f":"IF(AA$1=0,0,IF(Configuration!$F$15=\"D\",$R35,Table7[[#This Row],[Vo]]))","v":0},{"$f":"IF(AB$1=0,0,IF(Configuration!$F$16=\"D\",$R35,Table7[[#This Row],[Vo]]))","v":0},{"$f":"IF(AC$1=0,0,IF(Configuration!$F$17=\"D\",$R35,Table7[[#This Row],[Vo]]))","v":0}]
[4.4000000000000004,"NMS-240-5",36,158.4,"C",{"$f":"IF(1200/Table2[[#This Row],[Module rated power]]>6,6,ROUNDDOWN(1200/Table2[[#This Row],[Module rated power]],0))","v":6},{"$f":"Table2[[#This Row],[Module rated power]]*Table2[[#This Row],[Available No. of Slot]]","v":950.40000000000009},{"$f":"ROUNDDOWN(Table2[[#This Row],[Max power per output]]/Table2[[#This Row],[Output Voltage]],2)","v":216},null,null,null,null,null,null,null,"Central African Republic",null,6.1,{"$f":"IF(S$1=0,0,IF(Configuration!$F$7=\"D\",$R36,Table7[[#This Row],[Vo]]))","v":0},{"$f":"IF(T$1=0,0,IF(Configuration!$F$8=\"D\",$R36,Table7[[#This Row],[Vo]]))","v":0},{"$f":"IF(U$1=0,0,IF(Configuration!$F$9=\"D\",$R36,Table7[[#This Row],[Vo]]))","v":0},{"$f":"IF(V$1=0,0,IF(Configuration!$F$10=\"D\",$R36,Table7[[#This Row],[Vo]]))","v":0},{"$f":"IF(W$1=0,0,IF(Configuration!$F$11=\"D\",$R36,Table7[[#This Row],[Vo]]))","v":0},{"$f":"IF(X$1=0,0,IF(Configuration!$F$12=\"D\",$R36,Table7[[#This Row],[Vo]]))","v":0},{"$f":"IF(Y$1=0,0,IF(Configuration!$F$13=\"D\",$R36,Table7[[#This Row],[Vo]]))","v":0},{"$f":"IF(Z$1=0,0,IF(Configuration!$F$14=\"D\",$R36,Table7[[#This Row],[Vo]]))","v":0},{"$f":"IF(AA$1=0,0,IF(Configuration!$F$15=\"D\",$R36,Table7[[#This Row],[Vo]]))","v":0},{"$f":"IF(AB$1=0,0,IF(Configuration!$F$16=\"D\",$R36,Table7[[#This Row],[Vo]]))","v":0},{"$f":"IF(AC$1=0,0,IF(Configuration!$F$17=\"D\",$R36,Table7[[#This Row],[Vo]]))","v":0}]
[4.5,"NMS-240-5",36,162,"C",{"$f":"IF(1200/Table2[[#This Row],[Module rated power]]>6,6,ROUNDDOWN(1200/Table2[[#This Row],[Module rated power]],0))","v":6},{"$f":"Table2[[#This Row],[Module rated power]]*Table2[[#This Row],[Available No. of Slot]]","v":972},{"$f":"ROUNDDOWN(Table2[[#This Row],[Max power per output]]/Table2[[#This Row],[Output Voltage]],2)","v":216},null,null,null,null,null,null,null,"Chad",null,6.2,{"$f":"IF(S$1=0,0,IF(Configuration!$F$7=\"D\",$R37,Table7[[#This Row],[Vo]]))","v":0},{"$f":"IF(T$1=0,0,IF(Configuration!$F$8=\"D\",$R37,Table7[[#This Row],[Vo]]))","v":0},{"$f":"IF(U$1=0,0,IF(Configuration!$F$9=\"D\",$R37,Table7[[#This Row],[Vo]]))","v":0},{"$f":"IF(V$1=0,0,IF(Configuration!$F$10=\"D\",$R37,Table7[[#This Row],[Vo]]))","v":0},{"$f":"IF(W$1=0,0,IF(Configuration!$F$11=\"D\",$R37,Table7[[#This Row],[Vo]]))","v":0},{"$f":"IF(X$1=0,0,IF(Configuration!$F$12=\"D\",$R37,Table7[[#This Row],[Vo]]))","v":0},{"$f":"IF(Y$1=0,0,IF(Configuration!$F$13=\"D\",$R37,Table7[[#This Row],[Vo]]))","v":0},{"$f":"IF(Z$1=0,0,IF(Configuration!$F$14=\"D\",$R37,Table7[[#This Row],[Vo]]))","v":0},{"$f":"IF(AA$1=0,0,IF(Configuration!$F$15=\"D\",$R37,Table7[[#This Row],[Vo]]))","v":0},{"$f":"IF(AB$1=0,0,IF(Configuration!$F$16=\"D\",$R37,Table7[[#This Row],[Vo]]))","v":0},{"$f":"IF(AC$1=0,0,IF(Configuration!$F$17=\"D\",$R37,Table7[[#This Row],[Vo]]))","v":0}]
[4.5999999999999996,"NMS-240-5",36,165.6,"C",{"$f":"IF(1200/Table2[[#This Row],[Module rated power]]>6,6,ROUNDDOWN(1200/Table2[[#This Row],[Module rated power]],0))","v":6},{"$f":"Table2[[#This Row],[Module rated power]]*Table2[[#This Row],[Available No. of Slot]]","v":993.59999999999991},{"$f":"ROUNDDOWN(Table2[[#This Row],[Max power per output]]/Table2[[#This Row],[Output Voltage]],2)","v":216},null,null,null,null,null,null,null,"Comoros",null,6.3,{"$f":"IF(S$1=0,0,IF(Configuration!$F$7=\"D\",$R38,Table7[[#This Row],[Vo]]))","v":0},{"$f":"IF(T$1=0,0,IF(Configuration!$F$8=\"D\",$R38,Table7[[#This Row],[Vo]]))","v":0},{"$f":"IF(U$1=0,0,IF(Configuration!$F$9=\"D\",$R38,Table7[[#This Row],[Vo]]))","v":0},{"$f":"IF(V$1=0,0,IF(Configuration!$F$10=\"D\",$R38,Table7[[#This Row],[Vo]]))","v":0},{"$f":"IF(W$1=0,0,IF(Configuration!$F$11=\"D\",$R38,Table7[[#This Row],[Vo]]))","v":0},{"$f":"IF(X$1=0,0,IF(Configuration!$F$12=\"D\",$R38,Table7[[#This Row],[Vo]]))","v":0},{"$f":"IF(Y$1=0,0,IF(Configuration!$F$13=\"D\",$R38,Table7[[#This Row],[Vo]]))","v":0},{"$f":"IF(Z$1=0,0,IF(Configuration!$F$14=\"D\",$R38,Table7[[#This Row],[Vo]]))","v":0},{"$f":"IF(AA$1=0,0,IF(Configuration!$F$15=\"D\",$R38,Table7[[#This Row],[Vo]]))","v":0},{"$f":"IF(AB$1=0,0,IF(Configuration!$F$16=\"D\",$R38,Table7[[#This Row],[Vo]]))","v":0},{"$f":"IF(AC$1=0,0,IF(Configuration!$F$17=\"D\",$R38,Table7[[#This Row],[Vo]]))","v":0}]
[4.7,"NMS-240-5",36,169.20000000000002,"C",{"$f":"IF(1200/Table2[[#This Row],[Module rated power]]>6,6,ROUNDDOWN(1200/Table2[[#This Row],[Module rated power]],0))","v":6},{"$f":"Table2[[#This Row],[Module rated power]]*Table2[[#This Row],[Available No. of Slot]]","v":1015.2},{"$f":"ROUNDDOWN(Table2[[#This Row],[Max power per output]]/Table2[[#This Row],[Output Voltage]],2)","v":216},null,null,null,null,null,null,null,"Congo",null,6.4,{"$f":"IF(S$1=0,0,IF(Configuration!$F$7=\"D\",$R39,Table7[[#This Row],[Vo]]))","v":0},{"$f":"IF(T$1=0,0,IF(Configuration!$F$8=\"D\",$R39,Table7[[#This Row],[Vo]]))","v":0},{"$f":"IF(U$1=0,0,IF(Configuration!$F$9=\"D\",$R39,Table7[[#This Row],[Vo]]))","v":0},{"$f":"IF(V$1=0,0,IF(Configuration!$F$10=\"D\",$R39,Table7[[#This Row],[Vo]]))","v":0},{"$f":"IF(W$1=0,0,IF(Configuration!$F$11=\"D\",$R39,Table7[[#This Row],[Vo]]))","v":0},{"$f":"IF(X$1=0,0,IF(Configuration!$F$12=\"D\",$R39,Table7[[#This Row],[Vo]]))","v":0},{"$f":"IF(Y$1=0,0,IF(Configuration!$F$13=\"D\",$R39,Table7[[#This Row],[Vo]]))","v":0},{"$f":"IF(Z$1=0,0,IF(Configuration!$F$14=\"D\",$R39,Table7[[#This Row],[Vo]]))","v":0},{"$f":"IF(AA$1=0,0,IF(Configuration!$F$15=\"D\",$R39,Table7[[#This Row],[Vo]]))","v":0},{"$f":"IF(AB$1=0,0,IF(Configuration!$F$16=\"D\",$R39,Table7[[#This Row],[Vo]]))","v":0},{"$f":"IF(AC$1=0,0,IF(Configuration!$F$17=\"D\",$R39,Table7[[#This Row],[Vo]]))","v":0}]
[4.8,"NMS-240-5",36,172.79999999999998,"C",{"$f":"IF(1200/Table2[[#This Row],[Module rated power]]>6,6,ROUNDDOWN(1200/Table2[[#This Row],[Module rated power]],0))","v":6},{"$f":"Table2[[#This Row],[Module rated power]]*Table2[[#This Row],[Available No. of Slot]]","v":1036.8},{"$f":"ROUNDDOWN(Table2[[#This Row],[Max power per output]]/Table2[[#This Row],[Output Voltage]],2)","v":216},null,null,null,null,null,null,null,"Congo, Democratic Republic of",null,6.5,{"$f":"IF(S$1=0,0,IF(Configuration!$F$7=\"D\",$R40,Table7[[#This Row],[Vo]]))","v":0},{"$f":"IF(T$1=0,0,IF(Configuration!$F$8=\"D\",$R40,Table7[[#This Row],[Vo]]))","v":0},{"$f":"IF(U$1=0,0,IF(Configuration!$F$9=\"D\",$R40,Table7[[#This Row],[Vo]]))","v":0},{"$f":"IF(V$1=0,0,IF(Configuration!$F$10=\"D\",$R40,Table7[[#This Row],[Vo]]))","v":0},{"$f":"IF(W$1=0,0,IF(Configuration!$F$11=\"D\",$R40,Table7[[#This Row],[Vo]]))","v":0},{"$f":"IF(X$1=0,0,IF(Configuration!$F$12=\"D\",$R40,Table7[[#This Row],[Vo]]))","v":0},{"$f":"IF(Y$1=0,0,IF(Configuration!$F$13=\"D\",$R40,Table7[[#This Row],[Vo]]))","v":0},{"$f":"IF(Z$1=0,0,IF(Configuration!$F$14=\"D\",$R40,Table7[[#This Row],[Vo]]))","v":0},{"$f":"IF(AA$1=0,0,IF(Configuration!$F$15=\"D\",$R40,Table7[[#This Row],[Vo]]))","v":0},{"$f":"IF(AB$1=0,0,IF(Configuration!$F$16=\"D\",$R40,Table7[[#This Row],[Vo]]))","v":0},{"$f":"IF(AC$1=0,0,IF(Configuration!$F$17=\"D\",$R40,Table7[[#This Row],[Vo]]))","v":0}]
[4.9000000000000004,"NMS-240-5",36,176.4,"C",{"$f":"IF(1200/Table2[[#This Row],[Module rated power]]>6,6,ROUNDDOWN(1200/Table2[[#This Row],[Module rated power]],0))","v":6},{"$f":"Table2[[#This Row],[Module rated power]]*Table2[[#This Row],[Available No. of Slot]]","v":1058.4000000000001},{"$f":"ROUNDDOWN(Table2[[#This Row],[Max power per output]]/Table2[[#This Row],[Output Voltage]],2)","v":216},null,null,null,null,null,null,null,"Côte d'Ivoire",null,6.6,{"$f":"IF(S$1=0,0,IF(Configuration!$F$7=\"D\",$R41,Table7[[#This Row],[Vo]]))","v":0},{"$f":"IF(T$1=0,0,IF(Configuration!$F$8=\"D\",$R41,Table7[[#This Row],[Vo]]))","v":0},{"$f":"IF(U$1=0,0,IF(Configuration!$F$9=\"D\",$R41,Table7[[#This Row],[Vo]]))","v":0},{"$f":"IF(V$1=0,0,IF(Configuration!$F$10=\"D\",$R41,Table7[[#This Row],[Vo]]))","v":0},{"$f":"IF(W$1=0,0,IF(Configuration!$F$11=\"D\",$R41,Table7[[#This Row],[Vo]]))","v":0},{"$f":"IF(X$1=0,0,IF(Configuration!$F$12=\"D\",$R41,Table7[[#This Row],[Vo]]))","v":0},{"$f":"IF(Y$1=0,0,IF(Configuration!$F$13=\"D\",$R41,Table7[[#This Row],[Vo]]))","v":0},{"$f":"IF(Z$1=0,0,IF(Configuration!$F$14=\"D\",$R41,Table7[[#This Row],[Vo]]))","v":0},{"$f":"IF(AA$1=0,0,IF(Configuration!$F$15=\"D\",$R41,Table7[[#This Row],[Vo]]))","v":0},{"$f":"IF(AB$1=0,0,IF(Configuration!$F$16=\"D\",$R41,Table7[[#This Row],[Vo]]))","v":0},{"$f":"IF(AC$1=0,0,IF(Configuration!$F$17=\"D\",$R41,Table7[[#This Row],[Vo]]))","v":0}]
[5,"NMS-240-5",36,180,"C",{"$f":"IF(1200/Table2[[#This Row],[Module rated power]]>6,6,ROUNDDOWN(1200/Table2[[#This Row],[Module rated power]],0))","v":6},{"$f":"Table2[[#This Row],[Module rated power]]*Table2[[#This Row],[Available No. of Slot]]","v":1080},{"$f":"ROUNDDOWN(Table2[[#This Row],[Max power per output]]/Table2[[#This Row],[Output Voltage]],2)","v":216},null,null,null,null,null,null,null,"Cuba",null,6.7,{"$f":"IF(S$1=0,0,IF(Configuration!$F$7=\"D\",$R42,Table7[[#This Row],[Vo]]))","v":0},{"$f":"IF(T$1=0,0,IF(Configuration!$F$8=\"D\",$R42,Table7[[#This Row],[Vo]]))","v":0},{"$f":"IF(U$1=0,0,IF(Configuration!$F$9=\"D\",$R42,Table7[[#This Row],[Vo]]))","v":0},{"$f":"IF(V$1=0,0,IF(Configuration!$F$10=\"D\",$R42,Table7[[#This Row],[Vo]]))","v":0},{"$f":"IF(W$1=0,0,IF(Configuration!$F$11=\"D\",$R42,Table7[[#This Row],[Vo]]))","v":0},{"$f":"IF(X$1=0,0,IF(Configuration!$F$12=\"D\",$R42,Table7[[#This Row],[Vo]]))","v":0},{"$f":"IF(Y$1=0,0,IF(Configuration!$F$13=\"D\",$R42,Table7[[#This Row],[Vo]]))","v":0},{"$f":"IF(Z$1=0,0,IF(Configuration!$F$14=\"D\",$R42,Table7[[#This Row],[Vo]]))","v":0},{"$f":"IF(AA$1=0,0,IF(Configuration!$F$15=\"D\",$R42,Table7[[#This Row],[Vo]]))","v":0},{"$f":"IF(AB$1=0,0,IF(Configuration!$F$16=\"D\",$R42,Table7[[#This Row],[Vo]]))","v":0},{"$f":"IF(AC$1=0,0,IF(Configuration!$F$17=\"D\",$R42,Table7[[#This Row],[Vo]]))","v":0}]
[5.0999999999999996,"NMS-240-5",{"$f":"D42/A42","v":35.294117647058826},180,"C",{"$f":"IF(1200/Table2[[#This Row],[Module rated power]]>6,6,ROUNDDOWN(1200/Table2[[#This Row],[Module rated power]],0))","v":6},{"$f":"Table2[[#This Row],[Module rated power]]*Table2[[#This Row],[Available No. of Slot]]","v":1080},{"$f":"ROUNDDOWN(Table2[[#This Row],[Max power per output]]/Table2[[#This Row],[Output Voltage]],2)","v":211.76},null,null,null,null,null,null,null,"Curaçao",null,6.8,{"$f":"IF(S$1=0,0,IF(Configuration!$F$7=\"D\",$R43,Table7[[#This Row],[Vo]]))","v":0},{"$f":"IF(T$1=0,0,IF(Configuration!$F$8=\"D\",$R43,Table7[[#This Row],[Vo]]))","v":0},{"$f":"IF(U$1=0,0,IF(Configuration!$F$9=\"D\",$R43,Table7[[#This Row],[Vo]]))","v":0},{"$f":"IF(V$1=0,0,IF(Configuration!$F$10=\"D\",$R43,Table7[[#This Row],[Vo]]))","v":0},{"$f":"IF(W$1=0,0,IF(Configuration!$F$11=\"D\",$R43,Table7[[#This Row],[Vo]]))","v":0},{"$f":"IF(X$1=0,0,IF(Configuration!$F$12=\"D\",$R43,Table7[[#This Row],[Vo]]))","v":0},{"$f":"IF(Y$1=0,0,IF(Configuration!$F$13=\"D\",$R43,Table7[[#This Row],[Vo]]))","v":0},{"$f":"IF(Z$1=0,0,IF(Configuration!$F$14=\"D\",$R43,Table7[[#This Row],[Vo]]))","v":0},{"$f":"IF(AA$1=0,0,IF(Configuration!$F$15=\"D\",$R43,Table7[[#This Row],[Vo]]))","v":0},{"$f":"IF(AB$1=0,0,IF(Configuration!$F$16=\"D\",$R43,Table7[[#This Row],[Vo]]))","v":0},{"$f":"IF(AC$1=0,0,IF(Configuration!$F$17=\"D\",$R43,Table7[[#This Row],[Vo]]))","v":0}]
[5.2,"NMS-240-5",34.615384615384613,180,"C",{"$f":"IF(1200/Table2[[#This Row],[Module rated power]]>6,6,ROUNDDOWN(1200/Table2[[#This Row],[Module rated power]],0))","v":6},{"$f":"Table2[[#This Row],[Module rated power]]*Table2[[#This Row],[Available No. of Slot]]","v":1080},{"$f":"ROUNDDOWN(Table2[[#This Row],[Max power per output]]/Table2[[#This Row],[Output Voltage]],2)","v":207.69},null,null,null,null,null,null,null,"Cameroon",null,6.9,{"$f":"IF(S$1=0,0,IF(Configuration!$F$7=\"D\",$R44,Table7[[#This Row],[Vo]]))","v":0},{"$f":"IF(T$1=0,0,IF(Configuration!$F$8=\"D\",$R44,Table7[[#This Row],[Vo]]))","v":0},{"$f":"IF(U$1=0,0,IF(Configuration!$F$9=\"D\",$R44,Table7[[#This Row],[Vo]]))","v":0},{"$f":"IF(V$1=0,0,IF(Configuration!$F$10=\"D\",$R44,Table7[[#This Row],[Vo]]))","v":0},{"$f":"IF(W$1=0,0,IF(Configuration!$F$11=\"D\",$R44,Table7[[#This Row],[Vo]]))","v":0},{"$f":"IF(X$1=0,0,IF(Configuration!$F$12=\"D\",$R44,Table7[[#This Row],[Vo]]))","v":0},{"$f":"IF(Y$1=0,0,IF(Configuration!$F$13=\"D\",$R44,Table7[[#This Row],[Vo]]))","v":0},{"$f":"IF(Z$1=0,0,IF(Configuration!$F$14=\"D\",$R44,Table7[[#This Row],[Vo]]))","v":0},{"$f":"IF(AA$1=0,0,IF(Configuration!$F$15=\"D\",$R44,Table7[[#This Row],[Vo]]))","v":0},{"$f":"IF(AB$1=0,0,IF(Configuration!$F$16=\"D\",$R44,Table7[[#This Row],[Vo]]))","v":0},{"$f":"IF(AC$1=0,0,IF(Configuration!$F$17=\"D\",$R44,Table7[[#This Row],[Vo]]))","v":0}]
[5.3,"NMS-240-5",33.962264150943398,180,"C",{"$f":"IF(1200/Table2[[#This Row],[Module rated power]]>6,6,ROUNDDOWN(1200/Table2[[#This Row],[Module rated power]],0))","v":6},{"$f":"Table2[[#This Row],[Module rated power]]*Table2[[#This Row],[Available No. of Slot]]","v":1080},{"$f":"ROUNDDOWN(Table2[[#This Row],[Max power per output]]/Table2[[#This Row],[Output Voltage]],2)","v":203.77},null,null,null,null,null,null,null,"Canada",null,7,{"$f":"IF(S$1=0,0,IF(Configuration!$F$7=\"D\",$R45,Table7[[#This Row],[Vo]]))","v":0},{"$f":"IF(T$1=0,0,IF(Configuration!$F$8=\"D\",$R45,Table7[[#This Row],[Vo]]))","v":0},{"$f":"IF(U$1=0,0,IF(Configuration!$F$9=\"D\",$R45,Table7[[#This Row],[Vo]]))","v":0},{"$f":"IF(V$1=0,0,IF(Configuration!$F$10=\"D\",$R45,Table7[[#This Row],[Vo]]))","v":0},{"$f":"IF(W$1=0,0,IF(Configuration!$F$11=\"D\",$R45,Table7[[#This Row],[Vo]]))","v":0},{"$f":"IF(X$1=0,0,IF(Configuration!$F$12=\"D\",$R45,Table7[[#This Row],[Vo]]))","v":0},{"$f":"IF(Y$1=0,0,IF(Configuration!$F$13=\"D\",$R45,Table7[[#This Row],[Vo]]))","v":0},{"$f":"IF(Z$1=0,0,IF(Configuration!$F$14=\"D\",$R45,Table7[[#This Row],[Vo]]))","v":0},{"$f":"IF(AA$1=0,0,IF(Configuration!$F$15=\"D\",$R45,Table7[[#This Row],[Vo]]))","v":0},{"$f":"IF(AB$1=0,0,IF(Configuration!$F$16=\"D\",$R45,Table7[[#This Row],[Vo]]))","v":0},{"$f":"IF(AC$1=0,0,IF(Configuration!$F$17=\"D\",$R45,Table7[[#This Row],[Vo]]))","v":0}]
[5.4,"NMS-240-5",33.333333333333329,180,"C",{"$f":"IF(1200/Table2[[#This Row],[Module rated power]]>6,6,ROUNDDOWN(1200/Table2[[#This Row],[Module rated power]],0))","v":6},{"$f":"Table2[[#This Row],[Module rated power]]*Table2[[#This Row],[Available No. of Slot]]","v":1080},{"$f":"ROUNDDOWN(Table2[[#This Row],[Max power per output]]/Table2[[#This Row],[Output Voltage]],2)","v":200},null,null,null,null,null,null,null,"Chile",null,7.1,{"$f":"IF(S$1=0,0,IF(Configuration!$F$7=\"D\",$R46,Table7[[#This Row],[Vo]]))","v":0},{"$f":"IF(T$1=0,0,IF(Configuration!$F$8=\"D\",$R46,Table7[[#This Row],[Vo]]))","v":0},{"$f":"IF(U$1=0,0,IF(Configuration!$F$9=\"D\",$R46,Table7[[#This Row],[Vo]]))","v":0},{"$f":"IF(V$1=0,0,IF(Configuration!$F$10=\"D\",$R46,Table7[[#This Row],[Vo]]))","v":0},{"$f":"IF(W$1=0,0,IF(Configuration!$F$11=\"D\",$R46,Table7[[#This Row],[Vo]]))","v":0},{"$f":"IF(X$1=0,0,IF(Configuration!$F$12=\"D\",$R46,Table7[[#This Row],[Vo]]))","v":0},{"$f":"IF(Y$1=0,0,IF(Configuration!$F$13=\"D\",$R46,Table7[[#This Row],[Vo]]))","v":0},{"$f":"IF(Z$1=0,0,IF(Configuration!$F$14=\"D\",$R46,Table7[[#This Row],[Vo]]))","v":0},{"$f":"IF(AA$1=0,0,IF(Configuration!$F$15=\"D\",$R46,Table7[[#This Row],[Vo]]))","v":0},{"$f":"IF(AB$1=0,0,IF(Configuration!$F$16=\"D\",$R46,Table7[[#This Row],[Vo]]))","v":0},{"$f":"IF(AC$1=0,0,IF(Configuration!$F$17=\"D\",$R46,Table7[[#This Row],[Vo]]))","v":0}]
[5.5,"NMS-240-5",32.727272727272727,180,"C",{"$f":"IF(1200/Table2[[#This Row],[Module rated power]]>6,6,ROUNDDOWN(1200/Table2[[#This Row],[Module rated power]],0))","v":6},{"$f":"Table2[[#This Row],[Module rated power]]*Table2[[#This Row],[Available No. of Slot]]","v":1080},{"$f":"ROUNDDOWN(Table2[[#This Row],[Max power per output]]/Table2[[#This Row],[Output Voltage]],2)","v":196.36},null,null,null,null,null,null,null,"China",null,7.2,{"$f":"IF(S$1=0,0,IF(Configuration!$F$7=\"D\",$R47,Table7[[#This Row],[Vo]]))","v":0},{"$f":"IF(T$1=0,0,IF(Configuration!$F$8=\"D\",$R47,Table7[[#This Row],[Vo]]))","v":0},{"$f":"IF(U$1=0,0,IF(Configuration!$F$9=\"D\",$R47,Table7[[#This Row],[Vo]]))","v":0},{"$f":"IF(V$1=0,0,IF(Configuration!$F$10=\"D\",$R47,Table7[[#This Row],[Vo]]))","v":0},{"$f":"IF(W$1=0,0,IF(Configuration!$F$11=\"D\",$R47,Table7[[#This Row],[Vo]]))","v":0},{"$f":"IF(X$1=0,0,IF(Configuration!$F$12=\"D\",$R47,Table7[[#This Row],[Vo]]))","v":0},{"$f":"IF(Y$1=0,0,IF(Configuration!$F$13=\"D\",$R47,Table7[[#This Row],[Vo]]))","v":0},{"$f":"IF(Z$1=0,0,IF(Configuration!$F$14=\"D\",$R47,Table7[[#This Row],[Vo]]))","v":0},{"$f":"IF(AA$1=0,0,IF(Configuration!$F$15=\"D\",$R47,Table7[[#This Row],[Vo]]))","v":0},{"$f":"IF(AB$1=0,0,IF(Configuration!$F$16=\"D\",$R47,Table7[[#This Row],[Vo]]))","v":0},{"$f":"IF(AC$1=0,0,IF(Configuration!$F$17=\"D\",$R47,Table7[[#This Row],[Vo]]))","v":0}]
[5.6,"NMS-240-5",32.142857142857146,180,"C",{"$f":"IF(1200/Table2[[#This Row],[Module rated power]]>6,6,ROUNDDOWN(1200/Table2[[#This Row],[Module rated power]],0))","v":6},{"$f":"Table2[[#This Row],[Module rated power]]*Table2[[#This Row],[Available No. of Slot]]","v":1080},{"$f":"ROUNDDOWN(Table2[[#This Row],[Max power per output]]/Table2[[#This Row],[Output Voltage]],2)","v":192.85},null,null,null,null,null,null,null,"Colombia",null,7.3,{"$f":"IF(S$1=0,0,IF(Configuration!$F$7=\"D\",$R48,Table7[[#This Row],[Vo]]))","v":0},{"$f":"IF(T$1=0,0,IF(Configuration!$F$8=\"D\",$R48,Table7[[#This Row],[Vo]]))","v":0},{"$f":"IF(U$1=0,0,IF(Configuration!$F$9=\"D\",$R48,Table7[[#This Row],[Vo]]))","v":0},{"$f":"IF(V$1=0,0,IF(Configuration!$F$10=\"D\",$R48,Table7[[#This Row],[Vo]]))","v":0},{"$f":"IF(W$1=0,0,IF(Configuration!$F$11=\"D\",$R48,Table7[[#This Row],[Vo]]))","v":0},{"$f":"IF(X$1=0,0,IF(Configuration!$F$12=\"D\",$R48,Table7[[#This Row],[Vo]]))","v":0},{"$f":"IF(Y$1=0,0,IF(Configuration!$F$13=\"D\",$R48,Table7[[#This Row],[Vo]]))","v":0},{"$f":"IF(Z$1=0,0,IF(Configuration!$F$14=\"D\",$R48,Table7[[#This Row],[Vo]]))","v":0},{"$f":"IF(AA$1=0,0,IF(Configuration!$F$15=\"D\",$R48,Table7[[#This Row],[Vo]]))","v":0},{"$f":"IF(AB$1=0,0,IF(Configuration!$F$16=\"D\",$R48,Table7[[#This Row],[Vo]]))","v":0},{"$f":"IF(AC$1=0,0,IF(Configuration!$F$17=\"D\",$R48,Table7[[#This Row],[Vo]]))","v":0}]
[5.7,"NMS-240-5",31.578947368421051,180,"C",{"$f":"IF(1200/Table2[[#This Row],[Module rated power]]>6,6,ROUNDDOWN(1200/Table2[[#This Row],[Module rated power]],0))","v":6},{"$f":"Table2[[#This Row],[Module rated power]]*Table2[[#This Row],[Available No. of Slot]]","v":1080},{"$f":"ROUNDDOWN(Table2[[#This Row],[Max power per output]]/Table2[[#This Row],[Output Voltage]],2)","v":189.47},null,null,null,null,null,null,null,"Costa Rica",null,7.4,{"$f":"IF(S$1=0,0,IF(Configuration!$F$7=\"D\",$R49,Table7[[#This Row],[Vo]]))","v":0},{"$f":"IF(T$1=0,0,IF(Configuration!$F$8=\"D\",$R49,Table7[[#This Row],[Vo]]))","v":0},{"$f":"IF(U$1=0,0,IF(Configuration!$F$9=\"D\",$R49,Table7[[#This Row],[Vo]]))","v":0},{"$f":"IF(V$1=0,0,IF(Configuration!$F$10=\"D\",$R49,Table7[[#This Row],[Vo]]))","v":0},{"$f":"IF(W$1=0,0,IF(Configuration!$F$11=\"D\",$R49,Table7[[#This Row],[Vo]]))","v":0},{"$f":"IF(X$1=0,0,IF(Configuration!$F$12=\"D\",$R49,Table7[[#This Row],[Vo]]))","v":0},{"$f":"IF(Y$1=0,0,IF(Configuration!$F$13=\"D\",$R49,Table7[[#This Row],[Vo]]))","v":0},{"$f":"IF(Z$1=0,0,IF(Configuration!$F$14=\"D\",$R49,Table7[[#This Row],[Vo]]))","v":0},{"$f":"IF(AA$1=0,0,IF(Configuration!$F$15=\"D\",$R49,Table7[[#This Row],[Vo]]))","v":0},{"$f":"IF(AB$1=0,0,IF(Configuration!$F$16=\"D\",$R49,Table7[[#This Row],[Vo]]))","v":0},{"$f":"IF(AC$1=0,0,IF(Configuration!$F$17=\"D\",$R49,Table7[[#This Row],[Vo]]))","v":0}]
[5.8,"NMS-240-5",31.03448275862069,180,"C",{"$f":"IF(1200/Table2[[#This Row],[Module rated power]]>6,6,ROUNDDOWN(1200/Table2[[#This Row],[Module rated power]],0))","v":6},{"$f":"Table2[[#This Row],[Module rated power]]*Table2[[#This Row],[Available No. of Slot]]","v":1080},{"$f":"ROUNDDOWN(Table2[[#This Row],[Max power per output]]/Table2[[#This Row],[Output Voltage]],2)","v":186.2},null,null,null,null,null,null,null,"Croatia",null,7.5,{"$f":"IF(S$1=0,0,IF(Configuration!$F$7=\"D\",$R50,Table7[[#This Row],[Vo]]))","v":0},{"$f":"IF(T$1=0,0,IF(Configuration!$F$8=\"D\",$R50,Table7[[#This Row],[Vo]]))","v":0},{"$f":"IF(U$1=0,0,IF(Configuration!$F$9=\"D\",$R50,Table7[[#This Row],[Vo]]))","v":0},{"$f":"IF(V$1=0,0,IF(Configuration!$F$10=\"D\",$R50,Table7[[#This Row],[Vo]]))","v":0},{"$f":"IF(W$1=0,0,IF(Configuration!$F$11=\"D\",$R50,Table7[[#This Row],[Vo]]))","v":0},{"$f":"IF(X$1=0,0,IF(Configuration!$F$12=\"D\",$R50,Table7[[#This Row],[Vo]]))","v":0},{"$f":"IF(Y$1=0,0,IF(Configuration!$F$13=\"D\",$R50,Table7[[#This Row],[Vo]]))","v":0},{"$f":"IF(Z$1=0,0,IF(Configuration!$F$14=\"D\",$R50,Table7[[#This Row],[Vo]]))","v":0},{"$f":"IF(AA$1=0,0,IF(Configuration!$F$15=\"D\",$R50,Table7[[#This Row],[Vo]]))","v":0},{"$f":"IF(AB$1=0,0,IF(Configuration!$F$16=\"D\",$R50,Table7[[#This Row],[Vo]]))","v":0},{"$f":"IF(AC$1=0,0,IF(Configuration!$F$17=\"D\",$R50,Table7[[#This Row],[Vo]]))","v":0}]
[5.9,"NMS-240-5",30.508474576271183,180,"C",{"$f":"IF(1200/Table2[[#This Row],[Module rated power]]>6,6,ROUNDDOWN(1200/Table2[[#This Row],[Module rated power]],0))","v":6},{"$f":"Table2[[#This Row],[Module rated power]]*Table2[[#This Row],[Available No. of Slot]]","v":1080},{"$f":"ROUNDDOWN(Table2[[#This Row],[Max power per output]]/Table2[[#This Row],[Output Voltage]],2)","v":183.05},null,null,null,null,null,null,null,"Cyprus",null,7.6,{"$f":"IF(S$1=0,0,IF(Configuration!$F$7=\"D\",$R51,Table7[[#This Row],[Vo]]))","v":0},{"$f":"IF(T$1=0,0,IF(Configuration!$F$8=\"D\",$R51,Table7[[#This Row],[Vo]]))","v":0},{"$f":"IF(U$1=0,0,IF(Configuration!$F$9=\"D\",$R51,Table7[[#This Row],[Vo]]))","v":0},{"$f":"IF(V$1=0,0,IF(Configuration!$F$10=\"D\",$R51,Table7[[#This Row],[Vo]]))","v":0},{"$f":"IF(W$1=0,0,IF(Configuration!$F$11=\"D\",$R51,Table7[[#This Row],[Vo]]))","v":0},{"$f":"IF(X$1=0,0,IF(Configuration!$F$12=\"D\",$R51,Table7[[#This Row],[Vo]]))","v":0},{"$f":"IF(Y$1=0,0,IF(Configuration!$F$13=\"D\",$R51,Table7[[#This Row],[Vo]]))","v":0},{"$f":"IF(Z$1=0,0,IF(Configuration!$F$14=\"D\",$R51,Table7[[#This Row],[Vo]]))","v":0},{"$f":"IF(AA$1=0,0,IF(Configuration!$F$15=\"D\",$R51,Table7[[#This Row],[Vo]]))","v":0},{"$f":"IF(AB$1=0,0,IF(Configuration!$F$16=\"D\",$R51,Table7[[#This Row],[Vo]]))","v":0},{"$f":"IF(AC$1=0,0,IF(Configuration!$F$17=\"D\",$R51,Table7[[#This Row],[Vo]]))","v":0}]
[6,"NMS-240-5",30,180,"C",{"$f":"IF(1200/Table2[[#This Row],[Module rated power]]>6,6,ROUNDDOWN(1200/Table2[[#This Row],[Module rated power]],0))","v":6},{"$f":"Table2[[#This Row],[Module rated power]]*Table2[[#This Row],[Available No. of Slot]]","v":1080},{"$f":"ROUNDDOWN(Table2[[#This Row],[Max power per output]]/Table2[[#This Row],[Output Voltage]],2)","v":180},null,null,null,null,null,null,null,"Czech Republic",null,7.7,{"$f":"IF(S$1=0,0,IF(Configuration!$F$7=\"D\",$R52,Table7[[#This Row],[Vo]]))","v":0},{"$f":"IF(T$1=0,0,IF(Configuration!$F$8=\"D\",$R52,Table7[[#This Row],[Vo]]))","v":0},{"$f":"IF(U$1=0,0,IF(Configuration!$F$9=\"D\",$R52,Table7[[#This Row],[Vo]]))","v":0},{"$f":"IF(V$1=0,0,IF(Configuration!$F$10=\"D\",$R52,Table7[[#This Row],[Vo]]))","v":0},{"$f":"IF(W$1=0,0,IF(Configuration!$F$11=\"D\",$R52,Table7[[#This Row],[Vo]]))","v":0},{"$f":"IF(X$1=0,0,IF(Configuration!$F$12=\"D\",$R52,Table7[[#This Row],[Vo]]))","v":0},{"$f":"IF(Y$1=0,0,IF(Configuration!$F$13=\"D\",$R52,Table7[[#This Row],[Vo]]))","v":0},{"$f":"IF(Z$1=0,0,IF(Configuration!$F$14=\"D\",$R52,Table7[[#This Row],[Vo]]))","v":0},{"$f":"IF(AA$1=0,0,IF(Configuration!$F$15=\"D\",$R52,Table7[[#This Row],[Vo]]))","v":0},{"$f":"IF(AB$1=0,0,IF(Configuration!$F$16=\"D\",$R52,Table7[[#This Row],[Vo]]))","v":0},{"$f":"IF(AC$1=0,0,IF(Configuration!$F$17=\"D\",$R52,Table7[[#This Row],[Vo]]))","v":0}]
[6.1,"NMS-240-12",20,{"$f":"Table2[[#This Row],[Output Voltage]]*Table2[[#This Row],[Module rated current]]","v":122},"E",{"$f":"IF(1200/Table2[[#This Row],[Module rated power]]>6,6,ROUNDDOWN(1200/Table2[[#This Row],[Module rated power]],0))","v":6},{"$f":"Table2[[#This Row],[Module rated power]]*Table2[[#This Row],[Available No. of Slot]]","v":732},{"$f":"ROUNDDOWN(Table2[[#This Row],[Max power per output]]/Table2[[#This Row],[Output Voltage]],2)","v":120},null,null,null,null,null,null,null,"Dominica",null,7.8,{"$f":"IF(S$1=0,0,IF(Configuration!$F$7=\"D\",$R53,Table7[[#This Row],[Vo]]))","v":0},{"$f":"IF(T$1=0,0,IF(Configuration!$F$8=\"D\",$R53,Table7[[#This Row],[Vo]]))","v":0},{"$f":"IF(U$1=0,0,IF(Configuration!$F$9=\"D\",$R53,Table7[[#This Row],[Vo]]))","v":0},{"$f":"IF(V$1=0,0,IF(Configuration!$F$10=\"D\",$R53,Table7[[#This Row],[Vo]]))","v":0},{"$f":"IF(W$1=0,0,IF(Configuration!$F$11=\"D\",$R53,Table7[[#This Row],[Vo]]))","v":0},{"$f":"IF(X$1=0,0,IF(Configuration!$F$12=\"D\",$R53,Table7[[#This Row],[Vo]]))","v":0},{"$f":"IF(Y$1=0,0,IF(Configuration!$F$13=\"D\",$R53,Table7[[#This Row],[Vo]]))","v":0},{"$f":"IF(Z$1=0,0,IF(Configuration!$F$14=\"D\",$R53,Table7[[#This Row],[Vo]]))","v":0},{"$f":"IF(AA$1=0,0,IF(Configuration!$F$15=\"D\",$R53,Table7[[#This Row],[Vo]]))","v":0},{"$f":"IF(AB$1=0,0,IF(Configuration!$F$16=\"D\",$R53,Table7[[#This Row],[Vo]]))","v":0},{"$f":"IF(AC$1=0,0,IF(Configuration!$F$17=\"D\",$R53,Table7[[#This Row],[Vo]]))","v":0}]
[6.2,"NMS-240-12",20,{"$f":"Table2[[#This Row],[Output Voltage]]*Table2[[#This Row],[Module rated current]]","v":124},"E",{"$f":"IF(1200/Table2[[#This Row],[Module rated power]]>6,6,ROUNDDOWN(1200/Table2[[#This Row],[Module rated power]],0))","v":6},{"$f":"Table2[[#This Row],[Module rated power]]*Table2[[#This Row],[Available No. of Slot]]","v":744},{"$f":"ROUNDDOWN(Table2[[#This Row],[Max power per output]]/Table2[[#This Row],[Output Voltage]],2)","v":120},null,null,null,null,null,null,null,"Denmark",null,7.9,{"$f":"IF(S$1=0,0,IF(Configuration!$F$7=\"D\",$R54,Table7[[#This Row],[Vo]]))","v":0},{"$f":"IF(T$1=0,0,IF(Configuration!$F$8=\"D\",$R54,Table7[[#This Row],[Vo]]))","v":0},{"$f":"IF(U$1=0,0,IF(Configuration!$F$9=\"D\",$R54,Table7[[#This Row],[Vo]]))","v":0},{"$f":"IF(V$1=0,0,IF(Configuration!$F$10=\"D\",$R54,Table7[[#This Row],[Vo]]))","v":0},{"$f":"IF(W$1=0,0,IF(Configuration!$F$11=\"D\",$R54,Table7[[#This Row],[Vo]]))","v":0},{"$f":"IF(X$1=0,0,IF(Configuration!$F$12=\"D\",$R54,Table7[[#This Row],[Vo]]))","v":0},{"$f":"IF(Y$1=0,0,IF(Configuration!$F$13=\"D\",$R54,Table7[[#This Row],[Vo]]))","v":0},{"$f":"IF(Z$1=0,0,IF(Configuration!$F$14=\"D\",$R54,Table7[[#This Row],[Vo]]))","v":0},{"$f":"IF(AA$1=0,0,IF(Configuration!$F$15=\"D\",$R54,Table7[[#This Row],[Vo]]))","v":0},{"$f":"IF(AB$1=0,0,IF(Configuration!$F$16=\"D\",$R54,Table7[[#This Row],[Vo]]))","v":0},{"$f":"IF(AC$1=0,0,IF(Configuration!$F$17=\"D\",$R54,Table7[[#This Row],[Vo]]))","v":0}]
[6.3,"NMS-240-12",20,{"$f":"Table2[[#This Row],[Output Voltage]]*Table2[[#This Row],[Module rated current]]","v":126},"E",{"$f":"IF(1200/Table2[[#This Row],[Module rated power]]>6,6,ROUNDDOWN(1200/Table2[[#This Row],[Module rated power]],0))","v":6},{"$f":"Table2[[#This Row],[Module rated power]]*Table2[[#This Row],[Available No. of Slot]]","v":756},{"$f":"ROUNDDOWN(Table2[[#This Row],[Max power per output]]/Table2[[#This Row],[Output Voltage]],2)","v":120},null,null,null,null,null,null,null,"Denmark (Faroe Islands)",null,8,{"$f":"IF(S$1=0,0,IF(Configuration!$F$7=\"D\",$R55,Table7[[#This Row],[Vo]]))","v":0},{"$f":"IF(T$1=0,0,IF(Configuration!$F$8=\"D\",$R55,Table7[[#This Row],[Vo]]))","v":0},{"$f":"IF(U$1=0,0,IF(Configuration!$F$9=\"D\",$R55,Table7[[#This Row],[Vo]]))","v":0},{"$f":"IF(V$1=0,0,IF(Configuration!$F$10=\"D\",$R55,Table7[[#This Row],[Vo]]))","v":0},{"$f":"IF(W$1=0,0,IF(Configuration!$F$11=\"D\",$R55,Table7[[#This Row],[Vo]]))","v":0},{"$f":"IF(X$1=0,0,IF(Configuration!$F$12=\"D\",$R55,Table7[[#This Row],[Vo]]))","v":0},{"$f":"IF(Y$1=0,0,IF(Configuration!$F$13=\"D\",$R55,Table7[[#This Row],[Vo]]))","v":0},{"$f":"IF(Z$1=0,0,IF(Configuration!$F$14=\"D\",$R55,Table7[[#This Row],[Vo]]))","v":0},{"$f":"IF(AA$1=0,0,IF(Configuration!$F$15=\"D\",$R55,Table7[[#This Row],[Vo]]))","v":0},{"$f":"IF(AB$1=0,0,IF(Configuration!$F$16=\"D\",$R55,Table7[[#This Row],[Vo]]))","v":0},{"$f":"IF(AC$1=0,0,IF(Configuration!$F$17=\"D\",$R55,Table7[[#This Row],[Vo]]))","v":0}]
[6.4,"NMS-240-12",20,{"$f":"Table2[[#This Row],[Output Voltage]]*Table2[[#This Row],[Module rated current]]","v":128},"E",{"$f":"IF(1200/Table2[[#This Row],[Module rated power]]>6,6,ROUNDDOWN(1200/Table2[[#This Row],[Module rated power]],0))","v":6},{"$f":"Table2[[#This Row],[Module rated power]]*Table2[[#This Row],[Available No. of Slot]]","v":768},{"$f":"ROUNDDOWN(Table2[[#This Row],[Max power per output]]/Table2[[#This Row],[Output Voltage]],2)","v":120},null,null,null,null,null,null,null,"Djibouti",null,8.1,{"$f":"IF(S$1=0,0,IF(Configuration!$F$7=\"D\",$R56,Table7[[#This Row],[Vo]]))","v":0},{"$f":"IF(T$1=0,0,IF(Configuration!$F$8=\"D\",$R56,Table7[[#This Row],[Vo]]))","v":0},{"$f":"IF(U$1=0,0,IF(Configuration!$F$9=\"D\",$R56,Table7[[#This Row],[Vo]]))","v":0},{"$f":"IF(V$1=0,0,IF(Configuration!$F$10=\"D\",$R56,Table7[[#This Row],[Vo]]))","v":0},{"$f":"IF(W$1=0,0,IF(Configuration!$F$11=\"D\",$R56,Table7[[#This Row],[Vo]]))","v":0},{"$f":"IF(X$1=0,0,IF(Configuration!$F$12=\"D\",$R56,Table7[[#This Row],[Vo]]))","v":0},{"$f":"IF(Y$1=0,0,IF(Configuration!$F$13=\"D\",$R56,Table7[[#This Row],[Vo]]))","v":0},{"$f":"IF(Z$1=0,0,IF(Configuration!$F$14=\"D\",$R56,Table7[[#This Row],[Vo]]))","v":0},{"$f":"IF(AA$1=0,0,IF(Configuration!$F$15=\"D\",$R56,Table7[[#This Row],[Vo]]))","v":0},{"$f":"IF(AB$1=0,0,IF(Configuration!$F$16=\"D\",$R56,Table7[[#This Row],[Vo]]))","v":0},{"$f":"IF(AC$1=0,0,IF(Configuration!$F$17=\"D\",$R56,Table7[[#This Row],[Vo]]))","v":0}]
[6.5,"NMS-240-12",20,{"$f":"Table2[[#This Row],[Output Voltage]]*Table2[[#This Row],[Module rated current]]","v":130},"E",{"$f":"IF(1200/Table2[[#This Row],[Module rated power]]>6,6,ROUNDDOWN(1200/Table2[[#This Row],[Module rated power]],0))","v":6},{"$f":"Table2[[#This Row],[Module rated power]]*Table2[[#This Row],[Available No. of Slot]]","v":780},{"$f":"ROUNDDOWN(Table2[[#This Row],[Max power per output]]/Table2[[#This Row],[Output Voltage]],2)","v":120},null,null,null,null,null,null,null,"Dominican Republic",null,8.1999999999999993,{"$f":"IF(S$1=0,0,IF(Configuration!$F$7=\"D\",$R57,Table7[[#This Row],[Vo]]))","v":0},{"$f":"IF(T$1=0,0,IF(Configuration!$F$8=\"D\",$R57,Table7[[#This Row],[Vo]]))","v":0},{"$f":"IF(U$1=0,0,IF(Configuration!$F$9=\"D\",$R57,Table7[[#This Row],[Vo]]))","v":0},{"$f":"IF(V$1=0,0,IF(Configuration!$F$10=\"D\",$R57,Table7[[#This Row],[Vo]]))","v":0},{"$f":"IF(W$1=0,0,IF(Configuration!$F$11=\"D\",$R57,Table7[[#This Row],[Vo]]))","v":0},{"$f":"IF(X$1=0,0,IF(Configuration!$F$12=\"D\",$R57,Table7[[#This Row],[Vo]]))","v":0},{"$f":"IF(Y$1=0,0,IF(Configuration!$F$13=\"D\",$R57,Table7[[#This Row],[Vo]]))","v":0},{"$f":"IF(Z$1=0,0,IF(Configuration!$F$14=\"D\",$R57,Table7[[#This Row],[Vo]]))","v":0},{"$f":"IF(AA$1=0,0,IF(Configuration!$F$15=\"D\",$R57,Table7[[#This Row],[Vo]]))","v":0},{"$f":"IF(AB$1=0,0,IF(Configuration!$F$16=\"D\",$R57,Table7[[#This Row],[Vo]]))","v":0},{"$f":"IF(AC$1=0,0,IF(Configuration!$F$17=\"D\",$R57,Table7[[#This Row],[Vo]]))","v":0}]
[6.6,"NMS-240-12",20,{"$f":"Table2[[#This Row],[Output Voltage]]*Table2[[#This Row],[Module rated current]]","v":132},"E",{"$f":"IF(1200/Table2[[#This Row],[Module rated power]]>6,6,ROUNDDOWN(1200/Table2[[#This Row],[Module rated power]],0))","v":6},{"$f":"Table2[[#This Row],[Module rated power]]*Table2[[#This Row],[Available No. of Slot]]","v":792},{"$f":"ROUNDDOWN(Table2[[#This Row],[Max power per output]]/Table2[[#This Row],[Output Voltage]],2)","v":120},null,null,null,null,null,null,null,"Equatorial Guinea",null,8.3000000000000007,{"$f":"IF(S$1=0,0,IF(Configuration!$F$7=\"D\",$R58,Table7[[#This Row],[Vo]]))","v":0},{"$f":"IF(T$1=0,0,IF(Configuration!$F$8=\"D\",$R58,Table7[[#This Row],[Vo]]))","v":0},{"$f":"IF(U$1=0,0,IF(Configuration!$F$9=\"D\",$R58,Table7[[#This Row],[Vo]]))","v":0},{"$f":"IF(V$1=0,0,IF(Configuration!$F$10=\"D\",$R58,Table7[[#This Row],[Vo]]))","v":0},{"$f":"IF(W$1=0,0,IF(Configuration!$F$11=\"D\",$R58,Table7[[#This Row],[Vo]]))","v":0},{"$f":"IF(X$1=0,0,IF(Configuration!$F$12=\"D\",$R58,Table7[[#This Row],[Vo]]))","v":0},{"$f":"IF(Y$1=0,0,IF(Configuration!$F$13=\"D\",$R58,Table7[[#This Row],[Vo]]))","v":0},{"$f":"IF(Z$1=0,0,IF(Configuration!$F$14=\"D\",$R58,Table7[[#This Row],[Vo]]))","v":0},{"$f":"IF(AA$1=0,0,IF(Configuration!$F$15=\"D\",$R58,Table7[[#This Row],[Vo]]))","v":0},{"$f":"IF(AB$1=0,0,IF(Configuration!$F$16=\"D\",$R58,Table7[[#This Row],[Vo]]))","v":0},{"$f":"IF(AC$1=0,0,IF(Configuration!$F$17=\"D\",$R58,Table7[[#This Row],[Vo]]))","v":0}]
[6.7,"NMS-240-12",20,{"$f":"Table2[[#This Row],[Output Voltage]]*Table2[[#This Row],[Module rated current]]","v":134},"E",{"$f":"IF(1200/Table2[[#This Row],[Module rated power]]>6,6,ROUNDDOWN(1200/Table2[[#This Row],[Module rated power]],0))","v":6},{"$f":"Table2[[#This Row],[Module rated power]]*Table2[[#This Row],[Available No. of Slot]]","v":804},{"$f":"ROUNDDOWN(Table2[[#This Row],[Max power per output]]/Table2[[#This Row],[Output Voltage]],2)","v":120},null,null,null,null,null,null,null,"Eritrea",null,8.4,{"$f":"IF(S$1=0,0,IF(Configuration!$F$7=\"D\",$R59,Table7[[#This Row],[Vo]]))","v":0},{"$f":"IF(T$1=0,0,IF(Configuration!$F$8=\"D\",$R59,Table7[[#This Row],[Vo]]))","v":0},{"$f":"IF(U$1=0,0,IF(Configuration!$F$9=\"D\",$R59,Table7[[#This Row],[Vo]]))","v":0},{"$f":"IF(V$1=0,0,IF(Configuration!$F$10=\"D\",$R59,Table7[[#This Row],[Vo]]))","v":0},{"$f":"IF(W$1=0,0,IF(Configuration!$F$11=\"D\",$R59,Table7[[#This Row],[Vo]]))","v":0},{"$f":"IF(X$1=0,0,IF(Configuration!$F$12=\"D\",$R59,Table7[[#This Row],[Vo]]))","v":0},{"$f":"IF(Y$1=0,0,IF(Configuration!$F$13=\"D\",$R59,Table7[[#This Row],[Vo]]))","v":0},{"$f":"IF(Z$1=0,0,IF(Configuration!$F$14=\"D\",$R59,Table7[[#This Row],[Vo]]))","v":0},{"$f":"IF(AA$1=0,0,IF(Configuration!$F$15=\"D\",$R59,Table7[[#This Row],[Vo]]))","v":0},{"$f":"IF(AB$1=0,0,IF(Configuration!$F$16=\"D\",$R59,Table7[[#This Row],[Vo]]))","v":0},{"$f":"IF(AC$1=0,0,IF(Configuration!$F$17=\"D\",$R59,Table7[[#This Row],[Vo]]))","v":0}]
[6.8,"NMS-240-12",20,{"$f":"Table2[[#This Row],[Output Voltage]]*Table2[[#This Row],[Module rated current]]","v":136},"E",{"$f":"IF(1200/Table2[[#This Row],[Module rated power]]>6,6,ROUNDDOWN(1200/Table2[[#This Row],[Module rated power]],0))","v":6},{"$f":"Table2[[#This Row],[Module rated power]]*Table2[[#This Row],[Available No. of Slot]]","v":816},{"$f":"ROUNDDOWN(Table2[[#This Row],[Max power per output]]/Table2[[#This Row],[Output Voltage]],2)","v":120},null,null,null,null,null,null,null,"Ethiopia",null,8.5,{"$f":"IF(S$1=0,0,IF(Configuration!$F$7=\"D\",$R60,Table7[[#This Row],[Vo]]))","v":0},{"$f":"IF(T$1=0,0,IF(Configuration!$F$8=\"D\",$R60,Table7[[#This Row],[Vo]]))","v":0},{"$f":"IF(U$1=0,0,IF(Configuration!$F$9=\"D\",$R60,Table7[[#This Row],[Vo]]))","v":0},{"$f":"IF(V$1=0,0,IF(Configuration!$F$10=\"D\",$R60,Table7[[#This Row],[Vo]]))","v":0},{"$f":"IF(W$1=0,0,IF(Configuration!$F$11=\"D\",$R60,Table7[[#This Row],[Vo]]))","v":0},{"$f":"IF(X$1=0,0,IF(Configuration!$F$12=\"D\",$R60,Table7[[#This Row],[Vo]]))","v":0},{"$f":"IF(Y$1=0,0,IF(Configuration!$F$13=\"D\",$R60,Table7[[#This Row],[Vo]]))","v":0},{"$f":"IF(Z$1=0,0,IF(Configuration!$F$14=\"D\",$R60,Table7[[#This Row],[Vo]]))","v":0},{"$f":"IF(AA$1=0,0,IF(Configuration!$F$15=\"D\",$R60,Table7[[#This Row],[Vo]]))","v":0},{"$f":"IF(AB$1=0,0,IF(Configuration!$F$16=\"D\",$R60,Table7[[#This Row],[Vo]]))","v":0},{"$f":"IF(AC$1=0,0,IF(Configuration!$F$17=\"D\",$R60,Table7[[#This Row],[Vo]]))","v":0}]
[6.9,"NMS-240-12",20,{"$f":"Table2[[#This Row],[Output Voltage]]*Table2[[#This Row],[Module rated current]]","v":138},"E",{"$f":"IF(1200/Table2[[#This Row],[Module rated power]]>6,6,ROUNDDOWN(1200/Table2[[#This Row],[Module rated power]],0))","v":6},{"$f":"Table2[[#This Row],[Module rated power]]*Table2[[#This Row],[Available No. of Slot]]","v":828},{"$f":"ROUNDDOWN(Table2[[#This Row],[Max power per output]]/Table2[[#This Row],[Output Voltage]],2)","v":120},null,null,null,null,null,null,null,"Ecuador",null,8.6,{"$f":"IF(S$1=0,0,IF(Configuration!$F$7=\"D\",$R61,Table7[[#This Row],[Vo]]))","v":0},{"$f":"IF(T$1=0,0,IF(Configuration!$F$8=\"D\",$R61,Table7[[#This Row],[Vo]]))","v":0},{"$f":"IF(U$1=0,0,IF(Configuration!$F$9=\"D\",$R61,Table7[[#This Row],[Vo]]))","v":0},{"$f":"IF(V$1=0,0,IF(Configuration!$F$10=\"D\",$R61,Table7[[#This Row],[Vo]]))","v":0},{"$f":"IF(W$1=0,0,IF(Configuration!$F$11=\"D\",$R61,Table7[[#This Row],[Vo]]))","v":0},{"$f":"IF(X$1=0,0,IF(Configuration!$F$12=\"D\",$R61,Table7[[#This Row],[Vo]]))","v":0},{"$f":"IF(Y$1=0,0,IF(Configuration!$F$13=\"D\",$R61,Table7[[#This Row],[Vo]]))","v":0},{"$f":"IF(Z$1=0,0,IF(Configuration!$F$14=\"D\",$R61,Table7[[#This Row],[Vo]]))","v":0},{"$f":"IF(AA$1=0,0,IF(Configuration!$F$15=\"D\",$R61,Table7[[#This Row],[Vo]]))","v":0},{"$f":"IF(AB$1=0,0,IF(Configuration!$F$16=\"D\",$R61,Table7[[#This Row],[Vo]]))","v":0},{"$f":"IF(AC$1=0,0,IF(Configuration!$F$17=\"D\",$R61,Table7[[#This Row],[Vo]]))","v":0}]
[7,"NMS-240-12",20,{"$f":"Table2[[#This Row],[Output Voltage]]*Table2[[#This Row],[Module rated current]]","v":140},"E",{"$f":"IF(1200/Table2[[#This Row],[Module rated power]]>6,6,ROUNDDOWN(1200/Table2[[#This Row],[Module rated power]],0))","v":6},{"$f":"Table2[[#This Row],[Module rated power]]*Table2[[#This Row],[Available No. of Slot]]","v":840},{"$f":"ROUNDDOWN(Table2[[#This Row],[Max power per output]]/Table2[[#This Row],[Output Voltage]],2)","v":120},null,null,null,null,null,null,null,"Egypt",null,8.6999999999999993,{"$f":"IF(S$1=0,0,IF(Configuration!$F$7=\"D\",$R62,Table7[[#This Row],[Vo]]))","v":0},{"$f":"IF(T$1=0,0,IF(Configuration!$F$8=\"D\",$R62,Table7[[#This Row],[Vo]]))","v":0},{"$f":"IF(U$1=0,0,IF(Configuration!$F$9=\"D\",$R62,Table7[[#This Row],[Vo]]))","v":0},{"$f":"IF(V$1=0,0,IF(Configuration!$F$10=\"D\",$R62,Table7[[#This Row],[Vo]]))","v":0},{"$f":"IF(W$1=0,0,IF(Configuration!$F$11=\"D\",$R62,Table7[[#This Row],[Vo]]))","v":0},{"$f":"IF(X$1=0,0,IF(Configuration!$F$12=\"D\",$R62,Table7[[#This Row],[Vo]]))","v":0},{"$f":"IF(Y$1=0,0,IF(Configuration!$F$13=\"D\",$R62,Table7[[#This Row],[Vo]]))","v":0},{"$f":"IF(Z$1=0,0,IF(Configuration!$F$14=\"D\",$R62,Table7[[#This Row],[Vo]]))","v":0},{"$f":"IF(AA$1=0,0,IF(Configuration!$F$15=\"D\",$R62,Table7[[#This Row],[Vo]]))","v":0},{"$f":"IF(AB$1=0,0,IF(Configuration!$F$16=\"D\",$R62,Table7[[#This Row],[Vo]]))","v":0},{"$f":"IF(AC$1=0,0,IF(Configuration!$F$17=\"D\",$R62,Table7[[#This Row],[Vo]]))","v":0}]
[7.1,"NMS-240-12",20,{"$f":"Table2[[#This Row],[Output Voltage]]*Table2[[#This Row],[Module rated current]]","v":142},"E",{"$f":"IF(1200/Table2[[#This Row],[Module rated power]]>6,6,ROUNDDOWN(1200/Table2[[#This Row],[Module rated power]],0))","v":6},{"$f":"Table2[[#This Row],[Module rated power]]*Table2[[#This Row],[Available No. of Slot]]","v":852},{"$f":"ROUNDDOWN(Table2[[#This Row],[Max power per output]]/Table2[[#This Row],[Output Voltage]],2)","v":120},null,null,null,null,null,null,null,"El Salvador",null,8.8000000000000007,{"$f":"IF(S$1=0,0,IF(Configuration!$F$7=\"D\",$R63,Table7[[#This Row],[Vo]]))","v":0},{"$f":"IF(T$1=0,0,IF(Configuration!$F$8=\"D\",$R63,Table7[[#This Row],[Vo]]))","v":0},{"$f":"IF(U$1=0,0,IF(Configuration!$F$9=\"D\",$R63,Table7[[#This Row],[Vo]]))","v":0},{"$f":"IF(V$1=0,0,IF(Configuration!$F$10=\"D\",$R63,Table7[[#This Row],[Vo]]))","v":0},{"$f":"IF(W$1=0,0,IF(Configuration!$F$11=\"D\",$R63,Table7[[#This Row],[Vo]]))","v":0},{"$f":"IF(X$1=0,0,IF(Configuration!$F$12=\"D\",$R63,Table7[[#This Row],[Vo]]))","v":0},{"$f":"IF(Y$1=0,0,IF(Configuration!$F$13=\"D\",$R63,Table7[[#This Row],[Vo]]))","v":0},{"$f":"IF(Z$1=0,0,IF(Configuration!$F$14=\"D\",$R63,Table7[[#This Row],[Vo]]))","v":0},{"$f":"IF(AA$1=0,0,IF(Configuration!$F$15=\"D\",$R63,Table7[[#This Row],[Vo]]))","v":0},{"$f":"IF(AB$1=0,0,IF(Configuration!$F$16=\"D\",$R63,Table7[[#This Row],[Vo]]))","v":0},{"$f":"IF(AC$1=0,0,IF(Configuration!$F$17=\"D\",$R63,Table7[[#This Row],[Vo]]))","v":0}]
[7.2,"NMS-240-12",20,{"$f":"Table2[[#This Row],[Output Voltage]]*Table2[[#This Row],[Module rated current]]","v":144},"E",{"$f":"IF(1200/Table2[[#This Row],[Module rated power]]>6,6,ROUNDDOWN(1200/Table2[[#This Row],[Module rated power]],0))","v":6},{"$f":"Table2[[#This Row],[Module rated power]]*Table2[[#This Row],[Available No. of Slot]]","v":864},{"$f":"ROUNDDOWN(Table2[[#This Row],[Max power per output]]/Table2[[#This Row],[Output Voltage]],2)","v":120},null,null,null,null,null,null,null,"Finland",null,8.9,{"$f":"IF(S$1=0,0,IF(Configuration!$F$7=\"D\",$R64,Table7[[#This Row],[Vo]]))","v":0},{"$f":"IF(T$1=0,0,IF(Configuration!$F$8=\"D\",$R64,Table7[[#This Row],[Vo]]))","v":0},{"$f":"IF(U$1=0,0,IF(Configuration!$F$9=\"D\",$R64,Table7[[#This Row],[Vo]]))","v":0},{"$f":"IF(V$1=0,0,IF(Configuration!$F$10=\"D\",$R64,Table7[[#This Row],[Vo]]))","v":0},{"$f":"IF(W$1=0,0,IF(Configuration!$F$11=\"D\",$R64,Table7[[#This Row],[Vo]]))","v":0},{"$f":"IF(X$1=0,0,IF(Configuration!$F$12=\"D\",$R64,Table7[[#This Row],[Vo]]))","v":0},{"$f":"IF(Y$1=0,0,IF(Configuration!$F$13=\"D\",$R64,Table7[[#This Row],[Vo]]))","v":0},{"$f":"IF(Z$1=0,0,IF(Configuration!$F$14=\"D\",$R64,Table7[[#This Row],[Vo]]))","v":0},{"$f":"IF(AA$1=0,0,IF(Configuration!$F$15=\"D\",$R64,Table7[[#This Row],[Vo]]))","v":0},{"$f":"IF(AB$1=0,0,IF(Configuration!$F$16=\"D\",$R64,Table7[[#This Row],[Vo]]))","v":0},{"$f":"IF(AC$1=0,0,IF(Configuration!$F$17=\"D\",$R64,Table7[[#This Row],[Vo]]))","v":0}]
[7.3,"NMS-240-12",20,{"$f":"Table2[[#This Row],[Output Voltage]]*Table2[[#This Row],[Module rated current]]","v":146},"E",{"$f":"IF(1200/Table2[[#This Row],[Module rated power]]>6,6,ROUNDDOWN(1200/Table2[[#This Row],[Module rated power]],0))","v":6},{"$f":"Table2[[#This Row],[Module rated power]]*Table2[[#This Row],[Available No. of Slot]]","v":876},{"$f":"ROUNDDOWN(Table2[[#This Row],[Max power per output]]/Table2[[#This Row],[Output Voltage]],2)","v":120},null,null,null,null,null,null,null,"France",null,9,{"$f":"IF(S$1=0,0,IF(Configuration!$F$7=\"D\",$R65,Table7[[#This Row],[Vo]]))","v":0},{"$f":"IF(T$1=0,0,IF(Configuration!$F$8=\"D\",$R65,Table7[[#This Row],[Vo]]))","v":0},{"$f":"IF(U$1=0,0,IF(Configuration!$F$9=\"D\",$R65,Table7[[#This Row],[Vo]]))","v":0},{"$f":"IF(V$1=0,0,IF(Configuration!$F$10=\"D\",$R65,Table7[[#This Row],[Vo]]))","v":0},{"$f":"IF(W$1=0,0,IF(Configuration!$F$11=\"D\",$R65,Table7[[#This Row],[Vo]]))","v":0},{"$f":"IF(X$1=0,0,IF(Configuration!$F$12=\"D\",$R65,Table7[[#This Row],[Vo]]))","v":0},{"$f":"IF(Y$1=0,0,IF(Configuration!$F$13=\"D\",$R65,Table7[[#This Row],[Vo]]))","v":0},{"$f":"IF(Z$1=0,0,IF(Configuration!$F$14=\"D\",$R65,Table7[[#This Row],[Vo]]))","v":0},{"$f":"IF(AA$1=0,0,IF(Configuration!$F$15=\"D\",$R65,Table7[[#This Row],[Vo]]))","v":0},{"$f":"IF(AB$1=0,0,IF(Configuration!$F$16=\"D\",$R65,Table7[[#This Row],[Vo]]))","v":0},{"$f":"IF(AC$1=0,0,IF(Configuration!$F$17=\"D\",$R65,Table7[[#This Row],[Vo]]))","v":0}]
[7.4,"NMS-240-12",20,{"$f":"Table2[[#This Row],[Output Voltage]]*Table2[[#This Row],[Module rated current]]","v":148},"E",{"$f":"IF(1200/Table2[[#This Row],[Module rated power]]>6,6,ROUNDDOWN(1200/Table2[[#This Row],[Module rated power]],0))","v":6},{"$f":"Table2[[#This Row],[Module rated power]]*Table2[[#This Row],[Available No. of Slot]]","v":888},{"$f":"ROUNDDOWN(Table2[[#This Row],[Max power per output]]/Table2[[#This Row],[Output Voltage]],2)","v":120},null,null,null,null,null,null,null,"Gabon",null,9.1,{"$f":"IF(S$1=0,0,IF(Configuration!$F$7=\"D\",$R66,Table7[[#This Row],[Vo]]))","v":0},{"$f":"IF(T$1=0,0,IF(Configuration!$F$8=\"D\",$R66,Table7[[#This Row],[Vo]]))","v":0},{"$f":"IF(U$1=0,0,IF(Configuration!$F$9=\"D\",$R66,Table7[[#This Row],[Vo]]))","v":0},{"$f":"IF(V$1=0,0,IF(Configuration!$F$10=\"D\",$R66,Table7[[#This Row],[Vo]]))","v":0},{"$f":"IF(W$1=0,0,IF(Configuration!$F$11=\"D\",$R66,Table7[[#This Row],[Vo]]))","v":0},{"$f":"IF(X$1=0,0,IF(Configuration!$F$12=\"D\",$R66,Table7[[#This Row],[Vo]]))","v":0},{"$f":"IF(Y$1=0,0,IF(Configuration!$F$13=\"D\",$R66,Table7[[#This Row],[Vo]]))","v":0},{"$f":"IF(Z$1=0,0,IF(Configuration!$F$14=\"D\",$R66,Table7[[#This Row],[Vo]]))","v":0},{"$f":"IF(AA$1=0,0,IF(Configuration!$F$15=\"D\",$R66,Table7[[#This Row],[Vo]]))","v":0},{"$f":"IF(AB$1=0,0,IF(Configuration!$F$16=\"D\",$R66,Table7[[#This Row],[Vo]]))","v":0},{"$f":"IF(AC$1=0,0,IF(Configuration!$F$17=\"D\",$R66,Table7[[#This Row],[Vo]]))","v":0}]
[7.5,"NMS-240-12",20,{"$f":"Table2[[#This Row],[Output Voltage]]*Table2[[#This Row],[Module rated current]]","v":150},"E",{"$f":"IF(1200/Table2[[#This Row],[Module rated power]]>6,6,ROUNDDOWN(1200/Table2[[#This Row],[Module rated power]],0))","v":6},{"$f":"Table2[[#This Row],[Module rated power]]*Table2[[#This Row],[Available No. of Slot]]","v":900},{"$f":"ROUNDDOWN(Table2[[#This Row],[Max power per output]]/Table2[[#This Row],[Output Voltage]],2)","v":120},null,null,null,null,null,null,null,"Gambia",null,9.1999999999999993,{"$f":"IF(S$1=0,0,IF(Configuration!$F$7=\"D\",$R67,Table7[[#This Row],[Vo]]))","v":0},{"$f":"IF(T$1=0,0,IF(Configuration!$F$8=\"D\",$R67,Table7[[#This Row],[Vo]]))","v":0},{"$f":"IF(U$1=0,0,IF(Configuration!$F$9=\"D\",$R67,Table7[[#This Row],[Vo]]))","v":0},{"$f":"IF(V$1=0,0,IF(Configuration!$F$10=\"D\",$R67,Table7[[#This Row],[Vo]]))","v":0},{"$f":"IF(W$1=0,0,IF(Configuration!$F$11=\"D\",$R67,Table7[[#This Row],[Vo]]))","v":0},{"$f":"IF(X$1=0,0,IF(Configuration!$F$12=\"D\",$R67,Table7[[#This Row],[Vo]]))","v":0},{"$f":"IF(Y$1=0,0,IF(Configuration!$F$13=\"D\",$R67,Table7[[#This Row],[Vo]]))","v":0},{"$f":"IF(Z$1=0,0,IF(Configuration!$F$14=\"D\",$R67,Table7[[#This Row],[Vo]]))","v":0},{"$f":"IF(AA$1=0,0,IF(Configuration!$F$15=\"D\",$R67,Table7[[#This Row],[Vo]]))","v":0},{"$f":"IF(AB$1=0,0,IF(Configuration!$F$16=\"D\",$R67,Table7[[#This Row],[Vo]]))","v":0},{"$f":"IF(AC$1=0,0,IF(Configuration!$F$17=\"D\",$R67,Table7[[#This Row],[Vo]]))","v":0}]
[7.6,"NMS-240-12",20,{"$f":"Table2[[#This Row],[Output Voltage]]*Table2[[#This Row],[Module rated current]]","v":152},"E",{"$f":"IF(1200/Table2[[#This Row],[Module rated power]]>6,6,ROUNDDOWN(1200/Table2[[#This Row],[Module rated power]],0))","v":6},{"$f":"Table2[[#This Row],[Module rated power]]*Table2[[#This Row],[Available No. of Slot]]","v":912},{"$f":"ROUNDDOWN(Table2[[#This Row],[Max power per output]]/Table2[[#This Row],[Output Voltage]],2)","v":120},null,null,null,null,null,null,null,"Gibraltar",null,9.3000000000000007,{"$f":"IF(S$1=0,0,IF(Configuration!$F$7=\"D\",$R68,Table7[[#This Row],[Vo]]))","v":0},{"$f":"IF(T$1=0,0,IF(Configuration!$F$8=\"D\",$R68,Table7[[#This Row],[Vo]]))","v":0},{"$f":"IF(U$1=0,0,IF(Configuration!$F$9=\"D\",$R68,Table7[[#This Row],[Vo]]))","v":0},{"$f":"IF(V$1=0,0,IF(Configuration!$F$10=\"D\",$R68,Table7[[#This Row],[Vo]]))","v":0},{"$f":"IF(W$1=0,0,IF(Configuration!$F$11=\"D\",$R68,Table7[[#This Row],[Vo]]))","v":0},{"$f":"IF(X$1=0,0,IF(Configuration!$F$12=\"D\",$R68,Table7[[#This Row],[Vo]]))","v":0},{"$f":"IF(Y$1=0,0,IF(Configuration!$F$13=\"D\",$R68,Table7[[#This Row],[Vo]]))","v":0},{"$f":"IF(Z$1=0,0,IF(Configuration!$F$14=\"D\",$R68,Table7[[#This Row],[Vo]]))","v":0},{"$f":"IF(AA$1=0,0,IF(Configuration!$F$15=\"D\",$R68,Table7[[#This Row],[Vo]]))","v":0},{"$f":"IF(AB$1=0,0,IF(Configuration!$F$16=\"D\",$R68,Table7[[#This Row],[Vo]]))","v":0},{"$f":"IF(AC$1=0,0,IF(Configuration!$F$17=\"D\",$R68,Table7[[#This Row],[Vo]]))","v":0}]
[7.7,"NMS-240-12",20,{"$f":"Table2[[#This Row],[Output Voltage]]*Table2[[#This Row],[Module rated current]]","v":154},"E",{"$f":"IF(1200/Table2[[#This Row],[Module rated power]]>6,6,ROUNDDOWN(1200/Table2[[#This Row],[Module rated power]],0))","v":6},{"$f":"Table2[[#This Row],[Module rated power]]*Table2[[#This Row],[Available No. of Slot]]","v":924},{"$f":"ROUNDDOWN(Table2[[#This Row],[Max power per output]]/Table2[[#This Row],[Output Voltage]],2)","v":120},null,null,null,null,null,null,null,"Grenada",null,9.4,{"$f":"IF(S$1=0,0,IF(Configuration!$F$7=\"D\",$R69,Table7[[#This Row],[Vo]]))","v":0},{"$f":"IF(T$1=0,0,IF(Configuration!$F$8=\"D\",$R69,Table7[[#This Row],[Vo]]))","v":0},{"$f":"IF(U$1=0,0,IF(Configuration!$F$9=\"D\",$R69,Table7[[#This Row],[Vo]]))","v":0},{"$f":"IF(V$1=0,0,IF(Configuration!$F$10=\"D\",$R69,Table7[[#This Row],[Vo]]))","v":0},{"$f":"IF(W$1=0,0,IF(Configuration!$F$11=\"D\",$R69,Table7[[#This Row],[Vo]]))","v":0},{"$f":"IF(X$1=0,0,IF(Configuration!$F$12=\"D\",$R69,Table7[[#This Row],[Vo]]))","v":0},{"$f":"IF(Y$1=0,0,IF(Configuration!$F$13=\"D\",$R69,Table7[[#This Row],[Vo]]))","v":0},{"$f":"IF(Z$1=0,0,IF(Configuration!$F$14=\"D\",$R69,Table7[[#This Row],[Vo]]))","v":0},{"$f":"IF(AA$1=0,0,IF(Configuration!$F$15=\"D\",$R69,Table7[[#This Row],[Vo]]))","v":0},{"$f":"IF(AB$1=0,0,IF(Configuration!$F$16=\"D\",$R69,Table7[[#This Row],[Vo]]))","v":0},{"$f":"IF(AC$1=0,0,IF(Configuration!$F$17=\"D\",$R69,Table7[[#This Row],[Vo]]))","v":0}]
[7.8,"NMS-240-12",20,{"$f":"Table2[[#This Row],[Output Voltage]]*Table2[[#This Row],[Module rated current]]","v":156},"E",{"$f":"IF(1200/Table2[[#This Row],[Module rated power]]>6,6,ROUNDDOWN(1200/Table2[[#This Row],[Module rated power]],0))","v":6},{"$f":"Table2[[#This Row],[Module rated power]]*Table2[[#This Row],[Available No. of Slot]]","v":936},{"$f":"ROUNDDOWN(Table2[[#This Row],[Max power per output]]/Table2[[#This Row],[Output Voltage]],2)","v":120},null,null,null,null,null,null,null,"Guinea",null,9.5,{"$f":"IF(S$1=0,0,IF(Configuration!$F$7=\"D\",$R70,Table7[[#This Row],[Vo]]))","v":0},{"$f":"IF(T$1=0,0,IF(Configuration!$F$8=\"D\",$R70,Table7[[#This Row],[Vo]]))","v":0},{"$f":"IF(U$1=0,0,IF(Configuration!$F$9=\"D\",$R70,Table7[[#This Row],[Vo]]))","v":0},{"$f":"IF(V$1=0,0,IF(Configuration!$F$10=\"D\",$R70,Table7[[#This Row],[Vo]]))","v":0},{"$f":"IF(W$1=0,0,IF(Configuration!$F$11=\"D\",$R70,Table7[[#This Row],[Vo]]))","v":0},{"$f":"IF(X$1=0,0,IF(Configuration!$F$12=\"D\",$R70,Table7[[#This Row],[Vo]]))","v":0},{"$f":"IF(Y$1=0,0,IF(Configuration!$F$13=\"D\",$R70,Table7[[#This Row],[Vo]]))","v":0},{"$f":"IF(Z$1=0,0,IF(Configuration!$F$14=\"D\",$R70,Table7[[#This Row],[Vo]]))","v":0},{"$f":"IF(AA$1=0,0,IF(Configuration!$F$15=\"D\",$R70,Table7[[#This Row],[Vo]]))","v":0},{"$f":"IF(AB$1=0,0,IF(Configuration!$F$16=\"D\",$R70,Table7[[#This Row],[Vo]]))","v":0},{"$f":"IF(AC$1=0,0,IF(Configuration!$F$17=\"D\",$R70,Table7[[#This Row],[Vo]]))","v":0}]
[7.9,"NMS-240-12",20,{"$f":"Table2[[#This Row],[Output Voltage]]*Table2[[#This Row],[Module rated current]]","v":158},"E",{"$f":"IF(1200/Table2[[#This Row],[Module rated power]]>6,6,ROUNDDOWN(1200/Table2[[#This Row],[Module rated power]],0))","v":6},{"$f":"Table2[[#This Row],[Module rated power]]*Table2[[#This Row],[Available No. of Slot]]","v":948},{"$f":"ROUNDDOWN(Table2[[#This Row],[Max power per output]]/Table2[[#This Row],[Output Voltage]],2)","v":120},null,null,null,null,null,null,null,"Guinea Bissau",null,{"$f":"ROUNDUP(R69+0.1,1)","v":9.6},{"$f":"IF(S$1=0,0,IF(Configuration!$F$7=\"D\",$R71,Table7[[#This Row],[Vo]]))","v":0},{"$f":"IF(T$1=0,0,IF(Configuration!$F$8=\"D\",$R71,Table7[[#This Row],[Vo]]))","v":0},{"$f":"IF(U$1=0,0,IF(Configuration!$F$9=\"D\",$R71,Table7[[#This Row],[Vo]]))","v":0},{"$f":"IF(V$1=0,0,IF(Configuration!$F$10=\"D\",$R71,Table7[[#This Row],[Vo]]))","v":0},{"$f":"IF(W$1=0,0,IF(Configuration!$F$11=\"D\",$R71,Table7[[#This Row],[Vo]]))","v":0},{"$f":"IF(X$1=0,0,IF(Configuration!$F$12=\"D\",$R71,Table7[[#This Row],[Vo]]))","v":0},{"$f":"IF(Y$1=0,0,IF(Configuration!$F$13=\"D\",$R71,Table7[[#This Row],[Vo]]))","v":0},{"$f":"IF(Z$1=0,0,IF(Configuration!$F$14=\"D\",$R71,Table7[[#This Row],[Vo]]))","v":0},{"$f":"IF(AA$1=0,0,IF(Configuration!$F$15=\"D\",$R71,Table7[[#This Row],[Vo]]))","v":0},{"$f":"IF(AB$1=0,0,IF(Configuration!$F$16=\"D\",$R71,Table7[[#This Row],[Vo]]))","v":0},{"$f":"IF(AC$1=0,0,IF(Configuration!$F$17=\"D\",$R71,Table7[[#This Row],[Vo]]))","v":0}]
[8,"NMS-240-12",20,{"$f":"Table2[[#This Row],[Output Voltage]]*Table2[[#This Row],[Module rated current]]","v":160},"E",{"$f":"IF(1200/Table2[[#This Row],[Module rated power]]>6,6,ROUNDDOWN(1200/Table2[[#This Row],[Module rated power]],0))","v":6},{"$f":"Table2[[#This Row],[Module rated power]]*Table2[[#This Row],[Available No. of Slot]]","v":960},{"$f":"ROUNDDOWN(Table2[[#This Row],[Max power per output]]/Table2[[#This Row],[Output Voltage]],2)","v":120},null,null,null,null,null,null,null,"Guyana",null,9.6999999999999993,{"$f":"IF(S$1=0,0,IF(Configuration!$F$7=\"D\",$R72,Table7[[#This Row],[Vo]]))","v":0},{"$f":"IF(T$1=0,0,IF(Configuration!$F$8=\"D\",$R72,Table7[[#This Row],[Vo]]))","v":0},{"$f":"IF(U$1=0,0,IF(Configuration!$F$9=\"D\",$R72,Table7[[#This Row],[Vo]]))","v":0},{"$f":"IF(V$1=0,0,IF(Configuration!$F$10=\"D\",$R72,Table7[[#This Row],[Vo]]))","v":0},{"$f":"IF(W$1=0,0,IF(Configuration!$F$11=\"D\",$R72,Table7[[#This Row],[Vo]]))","v":0},{"$f":"IF(X$1=0,0,IF(Configuration!$F$12=\"D\",$R72,Table7[[#This Row],[Vo]]))","v":0},{"$f":"IF(Y$1=0,0,IF(Configuration!$F$13=\"D\",$R72,Table7[[#This Row],[Vo]]))","v":0},{"$f":"IF(Z$1=0,0,IF(Configuration!$F$14=\"D\",$R72,Table7[[#This Row],[Vo]]))","v":0},{"$f":"IF(AA$1=0,0,IF(Configuration!$F$15=\"D\",$R72,Table7[[#This Row],[Vo]]))","v":0},{"$f":"IF(AB$1=0,0,IF(Configuration!$F$16=\"D\",$R72,Table7[[#This Row],[Vo]]))","v":0},{"$f":"IF(AC$1=0,0,IF(Configuration!$F$17=\"D\",$R72,Table7[[#This Row],[Vo]]))","v":0}]
[8.1,"NMS-240-12",20,{"$f":"Table2[[#This Row],[Output Voltage]]*Table2[[#This Row],[Module rated current]]","v":162},"E",{"$f":"IF(1200/Table2[[#This Row],[Module rated power]]>6,6,ROUNDDOWN(1200/Table2[[#This Row],[Module rated power]],0))","v":6},{"$f":"Table2[[#This Row],[Module rated power]]*Table2[[#This Row],[Available No. of Slot]]","v":972},{"$f":"ROUNDDOWN(Table2[[#This Row],[Max power per output]]/Table2[[#This Row],[Output Voltage]],2)","v":120},null,null,null,null,null,null,null,"Georgia",null,9.8000000000000007,{"$f":"IF(S$1=0,0,IF(Configuration!$F$7=\"D\",$R73,Table7[[#This Row],[Vo]]))","v":0},{"$f":"IF(T$1=0,0,IF(Configuration!$F$8=\"D\",$R73,Table7[[#This Row],[Vo]]))","v":0},{"$f":"IF(U$1=0,0,IF(Configuration!$F$9=\"D\",$R73,Table7[[#This Row],[Vo]]))","v":0},{"$f":"IF(V$1=0,0,IF(Configuration!$F$10=\"D\",$R73,Table7[[#This Row],[Vo]]))","v":0},{"$f":"IF(W$1=0,0,IF(Configuration!$F$11=\"D\",$R73,Table7[[#This Row],[Vo]]))","v":0},{"$f":"IF(X$1=0,0,IF(Configuration!$F$12=\"D\",$R73,Table7[[#This Row],[Vo]]))","v":0},{"$f":"IF(Y$1=0,0,IF(Configuration!$F$13=\"D\",$R73,Table7[[#This Row],[Vo]]))","v":0},{"$f":"IF(Z$1=0,0,IF(Configuration!$F$14=\"D\",$R73,Table7[[#This Row],[Vo]]))","v":0},{"$f":"IF(AA$1=0,0,IF(Configuration!$F$15=\"D\",$R73,Table7[[#This Row],[Vo]]))","v":0},{"$f":"IF(AB$1=0,0,IF(Configuration!$F$16=\"D\",$R73,Table7[[#This Row],[Vo]]))","v":0},{"$f":"IF(AC$1=0,0,IF(Configuration!$F$17=\"D\",$R73,Table7[[#This Row],[Vo]]))","v":0}]
[8.1999999999999993,"NMS-240-12",20,{"$f":"Table2[[#This Row],[Output Voltage]]*Table2[[#This Row],[Module rated current]]","v":164},"E",{"$f":"IF(1200/Table2[[#This Row],[Module rated power]]>6,6,ROUNDDOWN(1200/Table2[[#This Row],[Module rated power]],0))","v":6},{"$f":"Table2[[#This Row],[Module rated power]]*Table2[[#This Row],[Available No. of Slot]]","v":984},{"$f":"ROUNDDOWN(Table2[[#This Row],[Max power per output]]/Table2[[#This Row],[Output Voltage]],2)","v":120},null,null,null,null,null,null,null,"Germany",null,9.9,{"$f":"IF(S$1=0,0,IF(Configuration!$F$7=\"D\",$R74,Table7[[#This Row],[Vo]]))","v":0},{"$f":"IF(T$1=0,0,IF(Configuration!$F$8=\"D\",$R74,Table7[[#This Row],[Vo]]))","v":0},{"$f":"IF(U$1=0,0,IF(Configuration!$F$9=\"D\",$R74,Table7[[#This Row],[Vo]]))","v":0},{"$f":"IF(V$1=0,0,IF(Configuration!$F$10=\"D\",$R74,Table7[[#This Row],[Vo]]))","v":0},{"$f":"IF(W$1=0,0,IF(Configuration!$F$11=\"D\",$R74,Table7[[#This Row],[Vo]]))","v":0},{"$f":"IF(X$1=0,0,IF(Configuration!$F$12=\"D\",$R74,Table7[[#This Row],[Vo]]))","v":0},{"$f":"IF(Y$1=0,0,IF(Configuration!$F$13=\"D\",$R74,Table7[[#This Row],[Vo]]))","v":0},{"$f":"IF(Z$1=0,0,IF(Configuration!$F$14=\"D\",$R74,Table7[[#This Row],[Vo]]))","v":0},{"$f":"IF(AA$1=0,0,IF(Configuration!$F$15=\"D\",$R74,Table7[[#This Row],[Vo]]))","v":0},{"$f":"IF(AB$1=0,0,IF(Configuration!$F$16=\"D\",$R74,Table7[[#This Row],[Vo]]))","v":0},{"$f":"IF(AC$1=0,0,IF(Configuration!$F$17=\"D\",$R74,Table7[[#This Row],[Vo]]))","v":0}]
[8.3000000000000007,"NMS-240-12",20,{"$f":"Table2[[#This Row],[Output Voltage]]*Table2[[#This Row],[Module rated current]]","v":166},"E",{"$f":"IF(1200/Table2[[#This Row],[Module rated power]]>6,6,ROUNDDOWN(1200/Table2[[#This Row],[Module rated power]],0))","v":6},{"$f":"Table2[[#This Row],[Module rated power]]*Table2[[#This Row],[Available No. of Slot]]","v":996},{"$f":"ROUNDDOWN(Table2[[#This Row],[Max power per output]]/Table2[[#This Row],[Output Voltage]],2)","v":120},null,null,null,null,null,null,null,"Ghana",null,10,{"$f":"IF(S$1=0,0,IF(Configuration!$F$7=\"D\",$R75,Table7[[#This Row],[Vo]]))","v":0},{"$f":"IF(T$1=0,0,IF(Configuration!$F$8=\"D\",$R75,Table7[[#This Row],[Vo]]))","v":0},{"$f":"IF(U$1=0,0,IF(Configuration!$F$9=\"D\",$R75,Table7[[#This Row],[Vo]]))","v":0},{"$f":"IF(V$1=0,0,IF(Configuration!$F$10=\"D\",$R75,Table7[[#This Row],[Vo]]))","v":0},{"$f":"IF(W$1=0,0,IF(Configuration!$F$11=\"D\",$R75,Table7[[#This Row],[Vo]]))","v":0},{"$f":"IF(X$1=0,0,IF(Configuration!$F$12=\"D\",$R75,Table7[[#This Row],[Vo]]))","v":0},{"$f":"IF(Y$1=0,0,IF(Configuration!$F$13=\"D\",$R75,Table7[[#This Row],[Vo]]))","v":0},{"$f":"IF(Z$1=0,0,IF(Configuration!$F$14=\"D\",$R75,Table7[[#This Row],[Vo]]))","v":0},{"$f":"IF(AA$1=0,0,IF(Configuration!$F$15=\"D\",$R75,Table7[[#This Row],[Vo]]))","v":0},{"$f":"IF(AB$1=0,0,IF(Configuration!$F$16=\"D\",$R75,Table7[[#This Row],[Vo]]))","v":0},{"$f":"IF(AC$1=0,0,IF(Configuration!$F$17=\"D\",$R75,Table7[[#This Row],[Vo]]))","v":0}]
[8.4,"NMS-240-12",20,{"$f":"Table2[[#This Row],[Output Voltage]]*Table2[[#This Row],[Module rated current]]","v":168},"E",{"$f":"IF(1200/Table2[[#This Row],[Module rated power]]>6,6,ROUNDDOWN(1200/Table2[[#This Row],[Module rated power]],0))","v":6},{"$f":"Table2[[#This Row],[Module rated power]]*Table2[[#This Row],[Available No. of Slot]]","v":1008},{"$f":"ROUNDDOWN(Table2[[#This Row],[Max power per output]]/Table2[[#This Row],[Output Voltage]],2)","v":120},null,null,null,null,null,null,null,"Greece",null,10.1,{"$f":"IF(S$1=0,0,IF(Configuration!$F$7=\"D\",$R76,Table7[[#This Row],[Vo]]))","v":0},{"$f":"IF(T$1=0,0,IF(Configuration!$F$8=\"D\",$R76,Table7[[#This Row],[Vo]]))","v":0},{"$f":"IF(U$1=0,0,IF(Configuration!$F$9=\"D\",$R76,Table7[[#This Row],[Vo]]))","v":0},{"$f":"IF(V$1=0,0,IF(Configuration!$F$10=\"D\",$R76,Table7[[#This Row],[Vo]]))","v":0},{"$f":"IF(W$1=0,0,IF(Configuration!$F$11=\"D\",$R76,Table7[[#This Row],[Vo]]))","v":0},{"$f":"IF(X$1=0,0,IF(Configuration!$F$12=\"D\",$R76,Table7[[#This Row],[Vo]]))","v":0},{"$f":"IF(Y$1=0,0,IF(Configuration!$F$13=\"D\",$R76,Table7[[#This Row],[Vo]]))","v":0},{"$f":"IF(Z$1=0,0,IF(Configuration!$F$14=\"D\",$R76,Table7[[#This Row],[Vo]]))","v":0},{"$f":"IF(AA$1=0,0,IF(Configuration!$F$15=\"D\",$R76,Table7[[#This Row],[Vo]]))","v":0},{"$f":"IF(AB$1=0,0,IF(Configuration!$F$16=\"D\",$R76,Table7[[#This Row],[Vo]]))","v":0},{"$f":"IF(AC$1=0,0,IF(Configuration!$F$17=\"D\",$R76,Table7[[#This Row],[Vo]]))","v":0}]
[8.5,"NMS-240-12",20,{"$f":"Table2[[#This Row],[Output Voltage]]*Table2[[#This Row],[Module rated current]]","v":170},"E",{"$f":"IF(1200/Table2[[#This Row],[Module rated power]]>6,6,ROUNDDOWN(1200/Table2[[#This Row],[Module rated power]],0))","v":6},{"$f":"Table2[[#This Row],[Module rated power]]*Table2[[#This Row],[Available No. of Slot]]","v":1020},{"$f":"ROUNDDOWN(Table2[[#This Row],[Max power per output]]/Table2[[#This Row],[Output Voltage]],2)","v":120},null,null,null,null,null,null,null,"Guatemala",null,10.199999999999999,{"$f":"IF(S$1=0,0,IF(Configuration!$F$7=\"D\",$R77,Table7[[#This Row],[Vo]]))","v":0},{"$f":"IF(T$1=0,0,IF(Configuration!$F$8=\"D\",$R77,Table7[[#This Row],[Vo]]))","v":0},{"$f":"IF(U$1=0,0,IF(Configuration!$F$9=\"D\",$R77,Table7[[#This Row],[Vo]]))","v":0},{"$f":"IF(V$1=0,0,IF(Configuration!$F$10=\"D\",$R77,Table7[[#This Row],[Vo]]))","v":0},{"$f":"IF(W$1=0,0,IF(Configuration!$F$11=\"D\",$R77,Table7[[#This Row],[Vo]]))","v":0},{"$f":"IF(X$1=0,0,IF(Configuration!$F$12=\"D\",$R77,Table7[[#This Row],[Vo]]))","v":0},{"$f":"IF(Y$1=0,0,IF(Configuration!$F$13=\"D\",$R77,Table7[[#This Row],[Vo]]))","v":0},{"$f":"IF(Z$1=0,0,IF(Configuration!$F$14=\"D\",$R77,Table7[[#This Row],[Vo]]))","v":0},{"$f":"IF(AA$1=0,0,IF(Configuration!$F$15=\"D\",$R77,Table7[[#This Row],[Vo]]))","v":0},{"$f":"IF(AB$1=0,0,IF(Configuration!$F$16=\"D\",$R77,Table7[[#This Row],[Vo]]))","v":0},{"$f":"IF(AC$1=0,0,IF(Configuration!$F$17=\"D\",$R77,Table7[[#This Row],[Vo]]))","v":0}]
[8.6,"NMS-240-12",20,{"$f":"Table2[[#This Row],[Output Voltage]]*Table2[[#This Row],[Module rated current]]","v":172},"E",{"$f":"IF(1200/Table2[[#This Row],[Module rated power]]>6,6,ROUNDDOWN(1200/Table2[[#This Row],[Module rated power]],0))","v":6},{"$f":"Table2[[#This Row],[Module rated power]]*Table2[[#This Row],[Available No. of Slot]]","v":1032},{"$f":"ROUNDDOWN(Table2[[#This Row],[Max power per output]]/Table2[[#This Row],[Output Voltage]],2)","v":120},null,null,null,null,null,null,null,"Guernsey",null,10.3,{"$f":"IF(S$1=0,0,IF(Configuration!$F$7=\"D\",$R78,Table7[[#This Row],[Vo]]))","v":0},{"$f":"IF(T$1=0,0,IF(Configuration!$F$8=\"D\",$R78,Table7[[#This Row],[Vo]]))","v":0},{"$f":"IF(U$1=0,0,IF(Configuration!$F$9=\"D\",$R78,Table7[[#This Row],[Vo]]))","v":0},{"$f":"IF(V$1=0,0,IF(Configuration!$F$10=\"D\",$R78,Table7[[#This Row],[Vo]]))","v":0},{"$f":"IF(W$1=0,0,IF(Configuration!$F$11=\"D\",$R78,Table7[[#This Row],[Vo]]))","v":0},{"$f":"IF(X$1=0,0,IF(Configuration!$F$12=\"D\",$R78,Table7[[#This Row],[Vo]]))","v":0},{"$f":"IF(Y$1=0,0,IF(Configuration!$F$13=\"D\",$R78,Table7[[#This Row],[Vo]]))","v":0},{"$f":"IF(Z$1=0,0,IF(Configuration!$F$14=\"D\",$R78,Table7[[#This Row],[Vo]]))","v":0},{"$f":"IF(AA$1=0,0,IF(Configuration!$F$15=\"D\",$R78,Table7[[#This Row],[Vo]]))","v":0},{"$f":"IF(AB$1=0,0,IF(Configuration!$F$16=\"D\",$R78,Table7[[#This Row],[Vo]]))","v":0},{"$f":"IF(AC$1=0,0,IF(Configuration!$F$17=\"D\",$R78,Table7[[#This Row],[Vo]]))","v":0}]
[8.6999999999999993,"NMS-240-12",20,{"$f":"Table2[[#This Row],[Output Voltage]]*Table2[[#This Row],[Module rated current]]","v":174},"E",{"$f":"IF(1200/Table2[[#This Row],[Module rated power]]>6,6,ROUNDDOWN(1200/Table2[[#This Row],[Module rated power]],0))","v":6},{"$f":"Table2[[#This Row],[Module rated power]]*Table2[[#This Row],[Available No. of Slot]]","v":1044},{"$f":"ROUNDDOWN(Table2[[#This Row],[Max power per output]]/Table2[[#This Row],[Output Voltage]],2)","v":120},null,null,null,null,null,null,null,"Haiti",null,10.4,{"$f":"IF(S$1=0,0,IF(Configuration!$F$7=\"D\",$R79,Table7[[#This Row],[Vo]]))","v":0},{"$f":"IF(T$1=0,0,IF(Configuration!$F$8=\"D\",$R79,Table7[[#This Row],[Vo]]))","v":0},{"$f":"IF(U$1=0,0,IF(Configuration!$F$9=\"D\",$R79,Table7[[#This Row],[Vo]]))","v":0},{"$f":"IF(V$1=0,0,IF(Configuration!$F$10=\"D\",$R79,Table7[[#This Row],[Vo]]))","v":0},{"$f":"IF(W$1=0,0,IF(Configuration!$F$11=\"D\",$R79,Table7[[#This Row],[Vo]]))","v":0},{"$f":"IF(X$1=0,0,IF(Configuration!$F$12=\"D\",$R79,Table7[[#This Row],[Vo]]))","v":0},{"$f":"IF(Y$1=0,0,IF(Configuration!$F$13=\"D\",$R79,Table7[[#This Row],[Vo]]))","v":0},{"$f":"IF(Z$1=0,0,IF(Configuration!$F$14=\"D\",$R79,Table7[[#This Row],[Vo]]))","v":0},{"$f":"IF(AA$1=0,0,IF(Configuration!$F$15=\"D\",$R79,Table7[[#This Row],[Vo]]))","v":0},{"$f":"IF(AB$1=0,0,IF(Configuration!$F$16=\"D\",$R79,Table7[[#This Row],[Vo]]))","v":0},{"$f":"IF(AC$1=0,0,IF(Configuration!$F$17=\"D\",$R79,Table7[[#This Row],[Vo]]))","v":0}]
[8.8000000000000007,"NMS-240-12",20,{"$f":"Table2[[#This Row],[Output Voltage]]*Table2[[#This Row],[Module rated current]]","v":176},"E",{"$f":"IF(1200/Table2[[#This Row],[Module rated power]]>6,6,ROUNDDOWN(1200/Table2[[#This Row],[Module rated power]],0))","v":6},{"$f":"Table2[[#This Row],[Module rated power]]*Table2[[#This Row],[Available No. of Slot]]","v":1056},{"$f":"ROUNDDOWN(Table2[[#This Row],[Max power per output]]/Table2[[#This Row],[Output Voltage]],2)","v":120},null,null,null,null,null,null,null,"Honduras",null,10.5,{"$f":"IF(S$1=0,0,IF(Configuration!$F$7=\"D\",$R80,Table7[[#This Row],[Vo]]))","v":0},{"$f":"IF(T$1=0,0,IF(Configuration!$F$8=\"D\",$R80,Table7[[#This Row],[Vo]]))","v":0},{"$f":"IF(U$1=0,0,IF(Configuration!$F$9=\"D\",$R80,Table7[[#This Row],[Vo]]))","v":0},{"$f":"IF(V$1=0,0,IF(Configuration!$F$10=\"D\",$R80,Table7[[#This Row],[Vo]]))","v":0},{"$f":"IF(W$1=0,0,IF(Configuration!$F$11=\"D\",$R80,Table7[[#This Row],[Vo]]))","v":0},{"$f":"IF(X$1=0,0,IF(Configuration!$F$12=\"D\",$R80,Table7[[#This Row],[Vo]]))","v":0},{"$f":"IF(Y$1=0,0,IF(Configuration!$F$13=\"D\",$R80,Table7[[#This Row],[Vo]]))","v":0},{"$f":"IF(Z$1=0,0,IF(Configuration!$F$14=\"D\",$R80,Table7[[#This Row],[Vo]]))","v":0},{"$f":"IF(AA$1=0,0,IF(Configuration!$F$15=\"D\",$R80,Table7[[#This Row],[Vo]]))","v":0},{"$f":"IF(AB$1=0,0,IF(Configuration!$F$16=\"D\",$R80,Table7[[#This Row],[Vo]]))","v":0},{"$f":"IF(AC$1=0,0,IF(Configuration!$F$17=\"D\",$R80,Table7[[#This Row],[Vo]]))","v":0}]
[8.9,"NMS-240-12",20,{"$f":"Table2[[#This Row],[Output Voltage]]*Table2[[#This Row],[Module rated current]]","v":178},"E",{"$f":"IF(1200/Table2[[#This Row],[Module rated power]]>6,6,ROUNDDOWN(1200/Table2[[#This Row],[Module rated power]],0))","v":6},{"$f":"Table2[[#This Row],[Module rated power]]*Table2[[#This Row],[Available No. of Slot]]","v":1068},{"$f":"ROUNDDOWN(Table2[[#This Row],[Max power per output]]/Table2[[#This Row],[Output Voltage]],2)","v":120},null,null,null,null,null,null,null,"Hong Kong",null,10.6,{"$f":"IF(S$1=0,0,IF(Configuration!$F$7=\"D\",$R81,Table7[[#This Row],[Vo]]))","v":0},{"$f":"IF(T$1=0,0,IF(Configuration!$F$8=\"D\",$R81,Table7[[#This Row],[Vo]]))","v":0},{"$f":"IF(U$1=0,0,IF(Configuration!$F$9=\"D\",$R81,Table7[[#This Row],[Vo]]))","v":0},{"$f":"IF(V$1=0,0,IF(Configuration!$F$10=\"D\",$R81,Table7[[#This Row],[Vo]]))","v":0},{"$f":"IF(W$1=0,0,IF(Configuration!$F$11=\"D\",$R81,Table7[[#This Row],[Vo]]))","v":0},{"$f":"IF(X$1=0,0,IF(Configuration!$F$12=\"D\",$R81,Table7[[#This Row],[Vo]]))","v":0},{"$f":"IF(Y$1=0,0,IF(Configuration!$F$13=\"D\",$R81,Table7[[#This Row],[Vo]]))","v":0},{"$f":"IF(Z$1=0,0,IF(Configuration!$F$14=\"D\",$R81,Table7[[#This Row],[Vo]]))","v":0},{"$f":"IF(AA$1=0,0,IF(Configuration!$F$15=\"D\",$R81,Table7[[#This Row],[Vo]]))","v":0},{"$f":"IF(AB$1=0,0,IF(Configuration!$F$16=\"D\",$R81,Table7[[#This Row],[Vo]]))","v":0},{"$f":"IF(AC$1=0,0,IF(Configuration!$F$17=\"D\",$R81,Table7[[#This Row],[Vo]]))","v":0}]
[9,"NMS-240-12",20,{"$f":"Table2[[#This Row],[Output Voltage]]*Table2[[#This Row],[Module rated current]]","v":180},"E",{"$f":"IF(1200/Table2[[#This Row],[Module rated power]]>6,6,ROUNDDOWN(1200/Table2[[#This Row],[Module rated power]],0))","v":6},{"$f":"Table2[[#This Row],[Module rated power]]*Table2[[#This Row],[Available No. of Slot]]","v":1080},{"$f":"ROUNDDOWN(Table2[[#This Row],[Max power per output]]/Table2[[#This Row],[Output Voltage]],2)","v":120},null,null,null,null,null,null,null,"Hungary",null,10.7,{"$f":"IF(S$1=0,0,IF(Configuration!$F$7=\"D\",$R82,Table7[[#This Row],[Vo]]))","v":0},{"$f":"IF(T$1=0,0,IF(Configuration!$F$8=\"D\",$R82,Table7[[#This Row],[Vo]]))","v":0},{"$f":"IF(U$1=0,0,IF(Configuration!$F$9=\"D\",$R82,Table7[[#This Row],[Vo]]))","v":0},{"$f":"IF(V$1=0,0,IF(Configuration!$F$10=\"D\",$R82,Table7[[#This Row],[Vo]]))","v":0},{"$f":"IF(W$1=0,0,IF(Configuration!$F$11=\"D\",$R82,Table7[[#This Row],[Vo]]))","v":0},{"$f":"IF(X$1=0,0,IF(Configuration!$F$12=\"D\",$R82,Table7[[#This Row],[Vo]]))","v":0},{"$f":"IF(Y$1=0,0,IF(Configuration!$F$13=\"D\",$R82,Table7[[#This Row],[Vo]]))","v":0},{"$f":"IF(Z$1=0,0,IF(Configuration!$F$14=\"D\",$R82,Table7[[#This Row],[Vo]]))","v":0},{"$f":"IF(AA$1=0,0,IF(Configuration!$F$15=\"D\",$R82,Table7[[#This Row],[Vo]]))","v":0},{"$f":"IF(AB$1=0,0,IF(Configuration!$F$16=\"D\",$R82,Table7[[#This Row],[Vo]]))","v":0},{"$f":"IF(AC$1=0,0,IF(Configuration!$F$17=\"D\",$R82,Table7[[#This Row],[Vo]]))","v":0}]
[9.1,"NMS-240-12",20,{"$f":"Table2[[#This Row],[Output Voltage]]*Table2[[#This Row],[Module rated current]]","v":182},"E",{"$f":"IF(1200/Table2[[#This Row],[Module rated power]]>6,6,ROUNDDOWN(1200/Table2[[#This Row],[Module rated power]],0))","v":6},{"$f":"Table2[[#This Row],[Module rated power]]*Table2[[#This Row],[Available No. of Slot]]","v":1092},{"$f":"ROUNDDOWN(Table2[[#This Row],[Max power per output]]/Table2[[#This Row],[Output Voltage]],2)","v":120},null,null,null,null,null,null,null,"Iceland",null,10.8,{"$f":"IF(S$1=0,0,IF(Configuration!$F$7=\"D\",$R83,Table7[[#This Row],[Vo]]))","v":0},{"$f":"IF(T$1=0,0,IF(Configuration!$F$8=\"D\",$R83,Table7[[#This Row],[Vo]]))","v":0},{"$f":"IF(U$1=0,0,IF(Configuration!$F$9=\"D\",$R83,Table7[[#This Row],[Vo]]))","v":0},{"$f":"IF(V$1=0,0,IF(Configuration!$F$10=\"D\",$R83,Table7[[#This Row],[Vo]]))","v":0},{"$f":"IF(W$1=0,0,IF(Configuration!$F$11=\"D\",$R83,Table7[[#This Row],[Vo]]))","v":0},{"$f":"IF(X$1=0,0,IF(Configuration!$F$12=\"D\",$R83,Table7[[#This Row],[Vo]]))","v":0},{"$f":"IF(Y$1=0,0,IF(Configuration!$F$13=\"D\",$R83,Table7[[#This Row],[Vo]]))","v":0},{"$f":"IF(Z$1=0,0,IF(Configuration!$F$14=\"D\",$R83,Table7[[#This Row],[Vo]]))","v":0},{"$f":"IF(AA$1=0,0,IF(Configuration!$F$15=\"D\",$R83,Table7[[#This Row],[Vo]]))","v":0},{"$f":"IF(AB$1=0,0,IF(Configuration!$F$16=\"D\",$R83,Table7[[#This Row],[Vo]]))","v":0},{"$f":"IF(AC$1=0,0,IF(Configuration!$F$17=\"D\",$R83,Table7[[#This Row],[Vo]]))","v":0}]
[9.1999999999999993,"NMS-240-12",20,{"$f":"Table2[[#This Row],[Output Voltage]]*Table2[[#This Row],[Module rated current]]","v":184},"E",{"$f":"IF(1200/Table2[[#This Row],[Module rated power]]>6,6,ROUNDDOWN(1200/Table2[[#This Row],[Module rated power]],0))","v":6},{"$f":"Table2[[#This Row],[Module rated power]]*Table2[[#This Row],[Available No. of Slot]]","v":1104},{"$f":"ROUNDDOWN(Table2[[#This Row],[Max power per output]]/Table2[[#This Row],[Output Voltage]],2)","v":120},null,null,null,null,null,null,null,"India",null,10.9,{"$f":"IF(S$1=0,0,IF(Configuration!$F$7=\"D\",$R84,Table7[[#This Row],[Vo]]))","v":0},{"$f":"IF(T$1=0,0,IF(Configuration!$F$8=\"D\",$R84,Table7[[#This Row],[Vo]]))","v":0},{"$f":"IF(U$1=0,0,IF(Configuration!$F$9=\"D\",$R84,Table7[[#This Row],[Vo]]))","v":0},{"$f":"IF(V$1=0,0,IF(Configuration!$F$10=\"D\",$R84,Table7[[#This Row],[Vo]]))","v":0},{"$f":"IF(W$1=0,0,IF(Configuration!$F$11=\"D\",$R84,Table7[[#This Row],[Vo]]))","v":0},{"$f":"IF(X$1=0,0,IF(Configuration!$F$12=\"D\",$R84,Table7[[#This Row],[Vo]]))","v":0},{"$f":"IF(Y$1=0,0,IF(Configuration!$F$13=\"D\",$R84,Table7[[#This Row],[Vo]]))","v":0},{"$f":"IF(Z$1=0,0,IF(Configuration!$F$14=\"D\",$R84,Table7[[#This Row],[Vo]]))","v":0},{"$f":"IF(AA$1=0,0,IF(Configuration!$F$15=\"D\",$R84,Table7[[#This Row],[Vo]]))","v":0},{"$f":"IF(AB$1=0,0,IF(Configuration!$F$16=\"D\",$R84,Table7[[#This Row],[Vo]]))","v":0},{"$f":"IF(AC$1=0,0,IF(Configuration!$F$17=\"D\",$R84,Table7[[#This Row],[Vo]]))","v":0}]
[9.3000000000000007,"NMS-240-12",20,{"$f":"Table2[[#This Row],[Output Voltage]]*Table2[[#This Row],[Module rated current]]","v":186},"E",{"$f":"IF(1200/Table2[[#This Row],[Module rated power]]>6,6,ROUNDDOWN(1200/Table2[[#This Row],[Module rated power]],0))","v":6},{"$f":"Table2[[#This Row],[Module rated power]]*Table2[[#This Row],[Available No. of Slot]]","v":1116},{"$f":"ROUNDDOWN(Table2[[#This Row],[Max power per output]]/Table2[[#This Row],[Output Voltage]],2)","v":120},null,null,null,null,null,null,null,"Indonesia",null,11,{"$f":"IF(S$1=0,0,IF(Configuration!$F$7=\"D\",$R85,Table7[[#This Row],[Vo]]))","v":0},{"$f":"IF(T$1=0,0,IF(Configuration!$F$8=\"D\",$R85,Table7[[#This Row],[Vo]]))","v":0},{"$f":"IF(U$1=0,0,IF(Configuration!$F$9=\"D\",$R85,Table7[[#This Row],[Vo]]))","v":0},{"$f":"IF(V$1=0,0,IF(Configuration!$F$10=\"D\",$R85,Table7[[#This Row],[Vo]]))","v":0},{"$f":"IF(W$1=0,0,IF(Configuration!$F$11=\"D\",$R85,Table7[[#This Row],[Vo]]))","v":0},{"$f":"IF(X$1=0,0,IF(Configuration!$F$12=\"D\",$R85,Table7[[#This Row],[Vo]]))","v":0},{"$f":"IF(Y$1=0,0,IF(Configuration!$F$13=\"D\",$R85,Table7[[#This Row],[Vo]]))","v":0},{"$f":"IF(Z$1=0,0,IF(Configuration!$F$14=\"D\",$R85,Table7[[#This Row],[Vo]]))","v":0},{"$f":"IF(AA$1=0,0,IF(Configuration!$F$15=\"D\",$R85,Table7[[#This Row],[Vo]]))","v":0},{"$f":"IF(AB$1=0,0,IF(Configuration!$F$16=\"D\",$R85,Table7[[#This Row],[Vo]]))","v":0},{"$f":"IF(AC$1=0,0,IF(Configuration!$F$17=\"D\",$R85,Table7[[#This Row],[Vo]]))","v":0}]
[9.4,"NMS-240-12",20,{"$f":"Table2[[#This Row],[Output Voltage]]*Table2[[#This Row],[Module rated current]]","v":188},"E",{"$f":"IF(1200/Table2[[#This Row],[Module rated power]]>6,6,ROUNDDOWN(1200/Table2[[#This Row],[Module rated power]],0))","v":6},{"$f":"Table2[[#This Row],[Module rated power]]*Table2[[#This Row],[Available No. of Slot]]","v":1128},{"$f":"ROUNDDOWN(Table2[[#This Row],[Max power per output]]/Table2[[#This Row],[Output Voltage]],2)","v":120},null,null,null,null,null,null,null,"Ireland",null,11.1,{"$f":"IF(S$1=0,0,IF(Configuration!$F$7=\"D\",$R86,Table7[[#This Row],[Vo]]))","v":0},{"$f":"IF(T$1=0,0,IF(Configuration!$F$8=\"D\",$R86,Table7[[#This Row],[Vo]]))","v":0},{"$f":"IF(U$1=0,0,IF(Configuration!$F$9=\"D\",$R86,Table7[[#This Row],[Vo]]))","v":0},{"$f":"IF(V$1=0,0,IF(Configuration!$F$10=\"D\",$R86,Table7[[#This Row],[Vo]]))","v":0},{"$f":"IF(W$1=0,0,IF(Configuration!$F$11=\"D\",$R86,Table7[[#This Row],[Vo]]))","v":0},{"$f":"IF(X$1=0,0,IF(Configuration!$F$12=\"D\",$R86,Table7[[#This Row],[Vo]]))","v":0},{"$f":"IF(Y$1=0,0,IF(Configuration!$F$13=\"D\",$R86,Table7[[#This Row],[Vo]]))","v":0},{"$f":"IF(Z$1=0,0,IF(Configuration!$F$14=\"D\",$R86,Table7[[#This Row],[Vo]]))","v":0},{"$f":"IF(AA$1=0,0,IF(Configuration!$F$15=\"D\",$R86,Table7[[#This Row],[Vo]]))","v":0},{"$f":"IF(AB$1=0,0,IF(Configuration!$F$16=\"D\",$R86,Table7[[#This Row],[Vo]]))","v":0},{"$f":"IF(AC$1=0,0,IF(Configuration!$F$17=\"D\",$R86,Table7[[#This Row],[Vo]]))","v":0}]
[9.5,"NMS-240-12",20,{"$f":"Table2[[#This Row],[Output Voltage]]*Table2[[#This Row],[Module rated current]]","v":190},"E",{"$f":"IF(1200/Table2[[#This Row],[Module rated power]]>6,6,ROUNDDOWN(1200/Table2[[#This Row],[Module rated power]],0))","v":6},{"$f":"Table2[[#This Row],[Module rated power]]*Table2[[#This Row],[Available No. of Slot]]","v":1140},{"$f":"ROUNDDOWN(Table2[[#This Row],[Max power per output]]/Table2[[#This Row],[Output Voltage]],2)","v":120},null,null,null,null,null,null,null,"Isle of Man",null,11.2,{"$f":"IF(S$1=0,0,IF(Configuration!$F$7=\"D\",$R87,Table7[[#This Row],[Vo]]))","v":0},{"$f":"IF(T$1=0,0,IF(Configuration!$F$8=\"D\",$R87,Table7[[#This Row],[Vo]]))","v":0},{"$f":"IF(U$1=0,0,IF(Configuration!$F$9=\"D\",$R87,Table7[[#This Row],[Vo]]))","v":0},{"$f":"IF(V$1=0,0,IF(Configuration!$F$10=\"D\",$R87,Table7[[#This Row],[Vo]]))","v":0},{"$f":"IF(W$1=0,0,IF(Configuration!$F$11=\"D\",$R87,Table7[[#This Row],[Vo]]))","v":0},{"$f":"IF(X$1=0,0,IF(Configuration!$F$12=\"D\",$R87,Table7[[#This Row],[Vo]]))","v":0},{"$f":"IF(Y$1=0,0,IF(Configuration!$F$13=\"D\",$R87,Table7[[#This Row],[Vo]]))","v":0},{"$f":"IF(Z$1=0,0,IF(Configuration!$F$14=\"D\",$R87,Table7[[#This Row],[Vo]]))","v":0},{"$f":"IF(AA$1=0,0,IF(Configuration!$F$15=\"D\",$R87,Table7[[#This Row],[Vo]]))","v":0},{"$f":"IF(AB$1=0,0,IF(Configuration!$F$16=\"D\",$R87,Table7[[#This Row],[Vo]]))","v":0},{"$f":"IF(AC$1=0,0,IF(Configuration!$F$17=\"D\",$R87,Table7[[#This Row],[Vo]]))","v":0}]
[{"$f":"ROUNDUP(A86+0.1,1)","v":9.6},"NMS-240-12",20,{"$f":"Table2[[#This Row],[Output Voltage]]*Table2[[#This Row],[Module rated current]]","v":192},"E",{"$f":"IF(1200/Table2[[#This Row],[Module rated power]]>6,6,ROUNDDOWN(1200/Table2[[#This Row],[Module rated power]],0))","v":6},{"$f":"Table2[[#This Row],[Module rated power]]*Table2[[#This Row],[Available No. of Slot]]","v":1152},{"$f":"ROUNDDOWN(Table2[[#This Row],[Max power per output]]/Table2[[#This Row],[Output Voltage]],2)","v":120},null,null,null,null,null,null,null,"Iran",null,11.3,{"$f":"IF(S$1=0,0,IF(Configuration!$F$7=\"D\",$R88,Table7[[#This Row],[Vo]]))","v":0},{"$f":"IF(T$1=0,0,IF(Configuration!$F$8=\"D\",$R88,Table7[[#This Row],[Vo]]))","v":0},{"$f":"IF(U$1=0,0,IF(Configuration!$F$9=\"D\",$R88,Table7[[#This Row],[Vo]]))","v":0},{"$f":"IF(V$1=0,0,IF(Configuration!$F$10=\"D\",$R88,Table7[[#This Row],[Vo]]))","v":0},{"$f":"IF(W$1=0,0,IF(Configuration!$F$11=\"D\",$R88,Table7[[#This Row],[Vo]]))","v":0},{"$f":"IF(X$1=0,0,IF(Configuration!$F$12=\"D\",$R88,Table7[[#This Row],[Vo]]))","v":0},{"$f":"IF(Y$1=0,0,IF(Configuration!$F$13=\"D\",$R88,Table7[[#This Row],[Vo]]))","v":0},{"$f":"IF(Z$1=0,0,IF(Configuration!$F$14=\"D\",$R88,Table7[[#This Row],[Vo]]))","v":0},{"$f":"IF(AA$1=0,0,IF(Configuration!$F$15=\"D\",$R88,Table7[[#This Row],[Vo]]))","v":0},{"$f":"IF(AB$1=0,0,IF(Configuration!$F$16=\"D\",$R88,Table7[[#This Row],[Vo]]))","v":0},{"$f":"IF(AC$1=0,0,IF(Configuration!$F$17=\"D\",$R88,Table7[[#This Row],[Vo]]))","v":0}]
[9.6999999999999993,"NMS-240-12",20,{"$f":"Table2[[#This Row],[Output Voltage]]*Table2[[#This Row],[Module rated current]]","v":194},"E",{"$f":"IF(1200/Table2[[#This Row],[Module rated power]]>6,6,ROUNDDOWN(1200/Table2[[#This Row],[Module rated power]],0))","v":6},{"$f":"Table2[[#This Row],[Module rated power]]*Table2[[#This Row],[Available No. of Slot]]","v":1164},{"$f":"ROUNDDOWN(Table2[[#This Row],[Max power per output]]/Table2[[#This Row],[Output Voltage]],2)","v":120},null,null,null,null,null,null,null,"Iraq",null,11.4,{"$f":"IF(S$1=0,0,IF(Configuration!$F$7=\"D\",$R89,Table7[[#This Row],[Vo]]))","v":0},{"$f":"IF(T$1=0,0,IF(Configuration!$F$8=\"D\",$R89,Table7[[#This Row],[Vo]]))","v":0},{"$f":"IF(U$1=0,0,IF(Configuration!$F$9=\"D\",$R89,Table7[[#This Row],[Vo]]))","v":0},{"$f":"IF(V$1=0,0,IF(Configuration!$F$10=\"D\",$R89,Table7[[#This Row],[Vo]]))","v":0},{"$f":"IF(W$1=0,0,IF(Configuration!$F$11=\"D\",$R89,Table7[[#This Row],[Vo]]))","v":0},{"$f":"IF(X$1=0,0,IF(Configuration!$F$12=\"D\",$R89,Table7[[#This Row],[Vo]]))","v":0},{"$f":"IF(Y$1=0,0,IF(Configuration!$F$13=\"D\",$R89,Table7[[#This Row],[Vo]]))","v":0},{"$f":"IF(Z$1=0,0,IF(Configuration!$F$14=\"D\",$R89,Table7[[#This Row],[Vo]]))","v":0},{"$f":"IF(AA$1=0,0,IF(Configuration!$F$15=\"D\",$R89,Table7[[#This Row],[Vo]]))","v":0},{"$f":"IF(AB$1=0,0,IF(Configuration!$F$16=\"D\",$R89,Table7[[#This Row],[Vo]]))","v":0},{"$f":"IF(AC$1=0,0,IF(Configuration!$F$17=\"D\",$R89,Table7[[#This Row],[Vo]]))","v":0}]
[9.8000000000000007,"NMS-240-12",20,{"$f":"Table2[[#This Row],[Output Voltage]]*Table2[[#This Row],[Module rated current]]","v":196},"E",{"$f":"IF(1200/Table2[[#This Row],[Module rated power]]>6,6,ROUNDDOWN(1200/Table2[[#This Row],[Module rated power]],0))","v":6},{"$f":"Table2[[#This Row],[Module rated power]]*Table2[[#This Row],[Available No. of Slot]]","v":1176},{"$f":"ROUNDDOWN(Table2[[#This Row],[Max power per output]]/Table2[[#This Row],[Output Voltage]],2)","v":120},null,null,null,null,null,null,null,"Israel",null,11.5,{"$f":"IF(S$1=0,0,IF(Configuration!$F$7=\"D\",$R90,Table7[[#This Row],[Vo]]))","v":0},{"$f":"IF(T$1=0,0,IF(Configuration!$F$8=\"D\",$R90,Table7[[#This Row],[Vo]]))","v":0},{"$f":"IF(U$1=0,0,IF(Configuration!$F$9=\"D\",$R90,Table7[[#This Row],[Vo]]))","v":0},{"$f":"IF(V$1=0,0,IF(Configuration!$F$10=\"D\",$R90,Table7[[#This Row],[Vo]]))","v":0},{"$f":"IF(W$1=0,0,IF(Configuration!$F$11=\"D\",$R90,Table7[[#This Row],[Vo]]))","v":0},{"$f":"IF(X$1=0,0,IF(Configuration!$F$12=\"D\",$R90,Table7[[#This Row],[Vo]]))","v":0},{"$f":"IF(Y$1=0,0,IF(Configuration!$F$13=\"D\",$R90,Table7[[#This Row],[Vo]]))","v":0},{"$f":"IF(Z$1=0,0,IF(Configuration!$F$14=\"D\",$R90,Table7[[#This Row],[Vo]]))","v":0},{"$f":"IF(AA$1=0,0,IF(Configuration!$F$15=\"D\",$R90,Table7[[#This Row],[Vo]]))","v":0},{"$f":"IF(AB$1=0,0,IF(Configuration!$F$16=\"D\",$R90,Table7[[#This Row],[Vo]]))","v":0},{"$f":"IF(AC$1=0,0,IF(Configuration!$F$17=\"D\",$R90,Table7[[#This Row],[Vo]]))","v":0}]
[9.9,"NMS-240-12",20,{"$f":"Table2[[#This Row],[Output Voltage]]*Table2[[#This Row],[Module rated current]]","v":198},"E",{"$f":"IF(1200/Table2[[#This Row],[Module rated power]]>6,6,ROUNDDOWN(1200/Table2[[#This Row],[Module rated power]],0))","v":6},{"$f":"Table2[[#This Row],[Module rated power]]*Table2[[#This Row],[Available No. of Slot]]","v":1188},{"$f":"ROUNDDOWN(Table2[[#This Row],[Max power per output]]/Table2[[#This Row],[Output Voltage]],2)","v":120},null,null,null,null,null,null,null,"Italy",null,11.6,{"$f":"IF(S$1=0,0,IF(Configuration!$F$7=\"D\",$R91,Table7[[#This Row],[Vo]]))","v":0},{"$f":"IF(T$1=0,0,IF(Configuration!$F$8=\"D\",$R91,Table7[[#This Row],[Vo]]))","v":0},{"$f":"IF(U$1=0,0,IF(Configuration!$F$9=\"D\",$R91,Table7[[#This Row],[Vo]]))","v":0},{"$f":"IF(V$1=0,0,IF(Configuration!$F$10=\"D\",$R91,Table7[[#This Row],[Vo]]))","v":0},{"$f":"IF(W$1=0,0,IF(Configuration!$F$11=\"D\",$R91,Table7[[#This Row],[Vo]]))","v":0},{"$f":"IF(X$1=0,0,IF(Configuration!$F$12=\"D\",$R91,Table7[[#This Row],[Vo]]))","v":0},{"$f":"IF(Y$1=0,0,IF(Configuration!$F$13=\"D\",$R91,Table7[[#This Row],[Vo]]))","v":0},{"$f":"IF(Z$1=0,0,IF(Configuration!$F$14=\"D\",$R91,Table7[[#This Row],[Vo]]))","v":0},{"$f":"IF(AA$1=0,0,IF(Configuration!$F$15=\"D\",$R91,Table7[[#This Row],[Vo]]))","v":0},{"$f":"IF(AB$1=0,0,IF(Configuration!$F$16=\"D\",$R91,Table7[[#This Row],[Vo]]))","v":0},{"$f":"IF(AC$1=0,0,IF(Configuration!$F$17=\"D\",$R91,Table7[[#This Row],[Vo]]))","v":0}]
[10,"NMS-240-12",20,{"$f":"Table2[[#This Row],[Output Voltage]]*Table2[[#This Row],[Module rated current]]","v":200},"E",{"$f":"IF(1200/Table2[[#This Row],[Module rated power]]>6,6,ROUNDDOWN(1200/Table2[[#This Row],[Module rated power]],0))","v":6},{"$f":"Table2[[#This Row],[Module rated power]]*Table2[[#This Row],[Available No. of Slot]]","v":1200},{"$f":"ROUNDDOWN(Table2[[#This Row],[Max power per output]]/Table2[[#This Row],[Output Voltage]],2)","v":120},null,null,null,null,null,null,null,"Jamaica",null,11.7,{"$f":"IF(S$1=0,0,IF(Configuration!$F$7=\"D\",$R92,Table7[[#This Row],[Vo]]))","v":0},{"$f":"IF(T$1=0,0,IF(Configuration!$F$8=\"D\",$R92,Table7[[#This Row],[Vo]]))","v":0},{"$f":"IF(U$1=0,0,IF(Configuration!$F$9=\"D\",$R92,Table7[[#This Row],[Vo]]))","v":0},{"$f":"IF(V$1=0,0,IF(Configuration!$F$10=\"D\",$R92,Table7[[#This Row],[Vo]]))","v":0},{"$f":"IF(W$1=0,0,IF(Configuration!$F$11=\"D\",$R92,Table7[[#This Row],[Vo]]))","v":0},{"$f":"IF(X$1=0,0,IF(Configuration!$F$12=\"D\",$R92,Table7[[#This Row],[Vo]]))","v":0},{"$f":"IF(Y$1=0,0,IF(Configuration!$F$13=\"D\",$R92,Table7[[#This Row],[Vo]]))","v":0},{"$f":"IF(Z$1=0,0,IF(Configuration!$F$14=\"D\",$R92,Table7[[#This Row],[Vo]]))","v":0},{"$f":"IF(AA$1=0,0,IF(Configuration!$F$15=\"D\",$R92,Table7[[#This Row],[Vo]]))","v":0},{"$f":"IF(AB$1=0,0,IF(Configuration!$F$16=\"D\",$R92,Table7[[#This Row],[Vo]]))","v":0},{"$f":"IF(AC$1=0,0,IF(Configuration!$F$17=\"D\",$R92,Table7[[#This Row],[Vo]]))","v":0}]
[10.1,"NMS-240-12",20,{"$f":"Table2[[#This Row],[Output Voltage]]*Table2[[#This Row],[Module rated current]]","v":202},"E",{"$f":"IF(1200/Table2[[#This Row],[Module rated power]]>6,6,ROUNDDOWN(1200/Table2[[#This Row],[Module rated power]],0))","v":5},{"$f":"Table2[[#This Row],[Module rated power]]*Table2[[#This Row],[Available No. of Slot]]","v":1010},{"$f":"ROUNDDOWN(Table2[[#This Row],[Max power per output]]/Table2[[#This Row],[Output Voltage]],2)","v":100},null,null,null,null,null,null,null,"Japan",null,11.8,{"$f":"IF(S$1=0,0,IF(Configuration!$F$7=\"D\",$R93,Table7[[#This Row],[Vo]]))","v":0},{"$f":"IF(T$1=0,0,IF(Configuration!$F$8=\"D\",$R93,Table7[[#This Row],[Vo]]))","v":0},{"$f":"IF(U$1=0,0,IF(Configuration!$F$9=\"D\",$R93,Table7[[#This Row],[Vo]]))","v":0},{"$f":"IF(V$1=0,0,IF(Configuration!$F$10=\"D\",$R93,Table7[[#This Row],[Vo]]))","v":0},{"$f":"IF(W$1=0,0,IF(Configuration!$F$11=\"D\",$R93,Table7[[#This Row],[Vo]]))","v":0},{"$f":"IF(X$1=0,0,IF(Configuration!$F$12=\"D\",$R93,Table7[[#This Row],[Vo]]))","v":0},{"$f":"IF(Y$1=0,0,IF(Configuration!$F$13=\"D\",$R93,Table7[[#This Row],[Vo]]))","v":0},{"$f":"IF(Z$1=0,0,IF(Configuration!$F$14=\"D\",$R93,Table7[[#This Row],[Vo]]))","v":0},{"$f":"IF(AA$1=0,0,IF(Configuration!$F$15=\"D\",$R93,Table7[[#This Row],[Vo]]))","v":0},{"$f":"IF(AB$1=0,0,IF(Configuration!$F$16=\"D\",$R93,Table7[[#This Row],[Vo]]))","v":0},{"$f":"IF(AC$1=0,0,IF(Configuration!$F$17=\"D\",$R93,Table7[[#This Row],[Vo]]))","v":0}]
[10.199999999999999,"NMS-240-12",20,{"$f":"Table2[[#This Row],[Output Voltage]]*Table2[[#This Row],[Module rated current]]","v":204},"E",{"$f":"IF(1200/Table2[[#This Row],[Module rated power]]>6,6,ROUNDDOWN(1200/Table2[[#This Row],[Module rated power]],0))","v":5},{"$f":"Table2[[#This Row],[Module rated power]]*Table2[[#This Row],[Available No. of Slot]]","v":1020},{"$f":"ROUNDDOWN(Table2[[#This Row],[Max power per output]]/Table2[[#This Row],[Output Voltage]],2)","v":100},null,null,null,null,null,null,null,"Jersey",null,11.9,{"$f":"IF(S$1=0,0,IF(Configuration!$F$7=\"D\",$R94,Table7[[#This Row],[Vo]]))","v":0},{"$f":"IF(T$1=0,0,IF(Configuration!$F$8=\"D\",$R94,Table7[[#This Row],[Vo]]))","v":0},{"$f":"IF(U$1=0,0,IF(Configuration!$F$9=\"D\",$R94,Table7[[#This Row],[Vo]]))","v":0},{"$f":"IF(V$1=0,0,IF(Configuration!$F$10=\"D\",$R94,Table7[[#This Row],[Vo]]))","v":0},{"$f":"IF(W$1=0,0,IF(Configuration!$F$11=\"D\",$R94,Table7[[#This Row],[Vo]]))","v":0},{"$f":"IF(X$1=0,0,IF(Configuration!$F$12=\"D\",$R94,Table7[[#This Row],[Vo]]))","v":0},{"$f":"IF(Y$1=0,0,IF(Configuration!$F$13=\"D\",$R94,Table7[[#This Row],[Vo]]))","v":0},{"$f":"IF(Z$1=0,0,IF(Configuration!$F$14=\"D\",$R94,Table7[[#This Row],[Vo]]))","v":0},{"$f":"IF(AA$1=0,0,IF(Configuration!$F$15=\"D\",$R94,Table7[[#This Row],[Vo]]))","v":0},{"$f":"IF(AB$1=0,0,IF(Configuration!$F$16=\"D\",$R94,Table7[[#This Row],[Vo]]))","v":0},{"$f":"IF(AC$1=0,0,IF(Configuration!$F$17=\"D\",$R94,Table7[[#This Row],[Vo]]))","v":0}]
[10.3,"NMS-240-12",20,{"$f":"Table2[[#This Row],[Output Voltage]]*Table2[[#This Row],[Module rated current]]","v":206},"E",{"$f":"IF(1200/Table2[[#This Row],[Module rated power]]>6,6,ROUNDDOWN(1200/Table2[[#This Row],[Module rated power]],0))","v":5},{"$f":"Table2[[#This Row],[Module rated power]]*Table2[[#This Row],[Available No. of Slot]]","v":1030},{"$f":"ROUNDDOWN(Table2[[#This Row],[Max power per output]]/Table2[[#This Row],[Output Voltage]],2)","v":100},null,null,null,null,null,null,null,"Jordan ",null,12,{"$f":"IF(S$1=0,0,IF(Configuration!$F$7=\"D\",$R95,Table7[[#This Row],[Vo]]))","v":0},{"$f":"IF(T$1=0,0,IF(Configuration!$F$8=\"D\",$R95,Table7[[#This Row],[Vo]]))","v":0},{"$f":"IF(U$1=0,0,IF(Configuration!$F$9=\"D\",$R95,Table7[[#This Row],[Vo]]))","v":0},{"$f":"IF(V$1=0,0,IF(Configuration!$F$10=\"D\",$R95,Table7[[#This Row],[Vo]]))","v":0},{"$f":"IF(W$1=0,0,IF(Configuration!$F$11=\"D\",$R95,Table7[[#This Row],[Vo]]))","v":0},{"$f":"IF(X$1=0,0,IF(Configuration!$F$12=\"D\",$R95,Table7[[#This Row],[Vo]]))","v":0},{"$f":"IF(Y$1=0,0,IF(Configuration!$F$13=\"D\",$R95,Table7[[#This Row],[Vo]]))","v":0},{"$f":"IF(Z$1=0,0,IF(Configuration!$F$14=\"D\",$R95,Table7[[#This Row],[Vo]]))","v":0},{"$f":"IF(AA$1=0,0,IF(Configuration!$F$15=\"D\",$R95,Table7[[#This Row],[Vo]]))","v":0},{"$f":"IF(AB$1=0,0,IF(Configuration!$F$16=\"D\",$R95,Table7[[#This Row],[Vo]]))","v":0},{"$f":"IF(AC$1=0,0,IF(Configuration!$F$17=\"D\",$R95,Table7[[#This Row],[Vo]]))","v":0}]
[10.4,"NMS-240-12",20,{"$f":"Table2[[#This Row],[Output Voltage]]*Table2[[#This Row],[Module rated current]]","v":208},"E",{"$f":"IF(1200/Table2[[#This Row],[Module rated power]]>6,6,ROUNDDOWN(1200/Table2[[#This Row],[Module rated power]],0))","v":5},{"$f":"Table2[[#This Row],[Module rated power]]*Table2[[#This Row],[Available No. of Slot]]","v":1040},{"$f":"ROUNDDOWN(Table2[[#This Row],[Max power per output]]/Table2[[#This Row],[Output Voltage]],2)","v":100},null,null,null,null,null,null,null,"Kiribati ",null,12.1,{"$f":"IF(S$1=0,0,IF(Configuration!$F$7=\"D\",$R96,Table7[[#This Row],[Vo]]))","v":0},{"$f":"IF(T$1=0,0,IF(Configuration!$F$8=\"D\",$R96,Table7[[#This Row],[Vo]]))","v":0},{"$f":"IF(U$1=0,0,IF(Configuration!$F$9=\"D\",$R96,Table7[[#This Row],[Vo]]))","v":0},{"$f":"IF(V$1=0,0,IF(Configuration!$F$10=\"D\",$R96,Table7[[#This Row],[Vo]]))","v":0},{"$f":"IF(W$1=0,0,IF(Configuration!$F$11=\"D\",$R96,Table7[[#This Row],[Vo]]))","v":0},{"$f":"IF(X$1=0,0,IF(Configuration!$F$12=\"D\",$R96,Table7[[#This Row],[Vo]]))","v":0},{"$f":"IF(Y$1=0,0,IF(Configuration!$F$13=\"D\",$R96,Table7[[#This Row],[Vo]]))","v":0},{"$f":"IF(Z$1=0,0,IF(Configuration!$F$14=\"D\",$R96,Table7[[#This Row],[Vo]]))","v":0},{"$f":"IF(AA$1=0,0,IF(Configuration!$F$15=\"D\",$R96,Table7[[#This Row],[Vo]]))","v":0},{"$f":"IF(AB$1=0,0,IF(Configuration!$F$16=\"D\",$R96,Table7[[#This Row],[Vo]]))","v":0},{"$f":"IF(AC$1=0,0,IF(Configuration!$F$17=\"D\",$R96,Table7[[#This Row],[Vo]]))","v":0}]
[10.5,"NMS-240-12",20,{"$f":"Table2[[#This Row],[Output Voltage]]*Table2[[#This Row],[Module rated current]]","v":210},"E",{"$f":"IF(1200/Table2[[#This Row],[Module rated power]]>6,6,ROUNDDOWN(1200/Table2[[#This Row],[Module rated power]],0))","v":5},{"$f":"Table2[[#This Row],[Module rated power]]*Table2[[#This Row],[Available No. of Slot]]","v":1050},{"$f":"ROUNDDOWN(Table2[[#This Row],[Max power per output]]/Table2[[#This Row],[Output Voltage]],2)","v":100},null,null,null,null,null,null,null,"Korea, Democratic People's Republic of",null,12.2,{"$f":"IF(S$1=0,0,IF(Configuration!$F$7=\"D\",$R97,Table7[[#This Row],[Vo]]))","v":0},{"$f":"IF(T$1=0,0,IF(Configuration!$F$8=\"D\",$R97,Table7[[#This Row],[Vo]]))","v":0},{"$f":"IF(U$1=0,0,IF(Configuration!$F$9=\"D\",$R97,Table7[[#This Row],[Vo]]))","v":0},{"$f":"IF(V$1=0,0,IF(Configuration!$F$10=\"D\",$R97,Table7[[#This Row],[Vo]]))","v":0},{"$f":"IF(W$1=0,0,IF(Configuration!$F$11=\"D\",$R97,Table7[[#This Row],[Vo]]))","v":0},{"$f":"IF(X$1=0,0,IF(Configuration!$F$12=\"D\",$R97,Table7[[#This Row],[Vo]]))","v":0},{"$f":"IF(Y$1=0,0,IF(Configuration!$F$13=\"D\",$R97,Table7[[#This Row],[Vo]]))","v":0},{"$f":"IF(Z$1=0,0,IF(Configuration!$F$14=\"D\",$R97,Table7[[#This Row],[Vo]]))","v":0},{"$f":"IF(AA$1=0,0,IF(Configuration!$F$15=\"D\",$R97,Table7[[#This Row],[Vo]]))","v":0},{"$f":"IF(AB$1=0,0,IF(Configuration!$F$16=\"D\",$R97,Table7[[#This Row],[Vo]]))","v":0},{"$f":"IF(AC$1=0,0,IF(Configuration!$F$17=\"D\",$R97,Table7[[#This Row],[Vo]]))","v":0}]
[10.6,"NMS-240-12",20,{"$f":"Table2[[#This Row],[Output Voltage]]*Table2[[#This Row],[Module rated current]]","v":212},"E",{"$f":"IF(1200/Table2[[#This Row],[Module rated power]]>6,6,ROUNDDOWN(1200/Table2[[#This Row],[Module rated power]],0))","v":5},{"$f":"Table2[[#This Row],[Module rated power]]*Table2[[#This Row],[Available No. of Slot]]","v":1060},{"$f":"ROUNDDOWN(Table2[[#This Row],[Max power per output]]/Table2[[#This Row],[Output Voltage]],2)","v":100},null,null,null,null,null,null,null,"Kyrgyzstan",null,12.3,{"$f":"IF(S$1=0,0,IF(Configuration!$F$7=\"D\",$R98,Table7[[#This Row],[Vo]]))","v":0},{"$f":"IF(T$1=0,0,IF(Configuration!$F$8=\"D\",$R98,Table7[[#This Row],[Vo]]))","v":0},{"$f":"IF(U$1=0,0,IF(Configuration!$F$9=\"D\",$R98,Table7[[#This Row],[Vo]]))","v":0},{"$f":"IF(V$1=0,0,IF(Configuration!$F$10=\"D\",$R98,Table7[[#This Row],[Vo]]))","v":0},{"$f":"IF(W$1=0,0,IF(Configuration!$F$11=\"D\",$R98,Table7[[#This Row],[Vo]]))","v":0},{"$f":"IF(X$1=0,0,IF(Configuration!$F$12=\"D\",$R98,Table7[[#This Row],[Vo]]))","v":0},{"$f":"IF(Y$1=0,0,IF(Configuration!$F$13=\"D\",$R98,Table7[[#This Row],[Vo]]))","v":0},{"$f":"IF(Z$1=0,0,IF(Configuration!$F$14=\"D\",$R98,Table7[[#This Row],[Vo]]))","v":0},{"$f":"IF(AA$1=0,0,IF(Configuration!$F$15=\"D\",$R98,Table7[[#This Row],[Vo]]))","v":0},{"$f":"IF(AB$1=0,0,IF(Configuration!$F$16=\"D\",$R98,Table7[[#This Row],[Vo]]))","v":0},{"$f":"IF(AC$1=0,0,IF(Configuration!$F$17=\"D\",$R98,Table7[[#This Row],[Vo]]))","v":0}]
[10.7,"NMS-240-12",20,{"$f":"Table2[[#This Row],[Output Voltage]]*Table2[[#This Row],[Module rated current]]","v":214},"E",{"$f":"IF(1200/Table2[[#This Row],[Module rated power]]>6,6,ROUNDDOWN(1200/Table2[[#This Row],[Module rated power]],0))","v":5},{"$f":"Table2[[#This Row],[Module rated power]]*Table2[[#This Row],[Available No. of Slot]]","v":1070},{"$f":"ROUNDDOWN(Table2[[#This Row],[Max power per output]]/Table2[[#This Row],[Output Voltage]],2)","v":100},null,null,null,null,null,null,null,"Kazakhstan",null,12.4,{"$f":"IF(S$1=0,0,IF(Configuration!$F$7=\"D\",$R99,Table7[[#This Row],[Vo]]))","v":0},{"$f":"IF(T$1=0,0,IF(Configuration!$F$8=\"D\",$R99,Table7[[#This Row],[Vo]]))","v":0},{"$f":"IF(U$1=0,0,IF(Configuration!$F$9=\"D\",$R99,Table7[[#This Row],[Vo]]))","v":0},{"$f":"IF(V$1=0,0,IF(Configuration!$F$10=\"D\",$R99,Table7[[#This Row],[Vo]]))","v":0},{"$f":"IF(W$1=0,0,IF(Configuration!$F$11=\"D\",$R99,Table7[[#This Row],[Vo]]))","v":0},{"$f":"IF(X$1=0,0,IF(Configuration!$F$12=\"D\",$R99,Table7[[#This Row],[Vo]]))","v":0},{"$f":"IF(Y$1=0,0,IF(Configuration!$F$13=\"D\",$R99,Table7[[#This Row],[Vo]]))","v":0},{"$f":"IF(Z$1=0,0,IF(Configuration!$F$14=\"D\",$R99,Table7[[#This Row],[Vo]]))","v":0},{"$f":"IF(AA$1=0,0,IF(Configuration!$F$15=\"D\",$R99,Table7[[#This Row],[Vo]]))","v":0},{"$f":"IF(AB$1=0,0,IF(Configuration!$F$16=\"D\",$R99,Table7[[#This Row],[Vo]]))","v":0},{"$f":"IF(AC$1=0,0,IF(Configuration!$F$17=\"D\",$R99,Table7[[#This Row],[Vo]]))","v":0}]
[10.8,"NMS-240-12",20,{"$f":"Table2[[#This Row],[Output Voltage]]*Table2[[#This Row],[Module rated current]]","v":216},"E",{"$f":"IF(1200/Table2[[#This Row],[Module rated power]]>6,6,ROUNDDOWN(1200/Table2[[#This Row],[Module rated power]],0))","v":5},{"$f":"Table2[[#This Row],[Module rated power]]*Table2[[#This Row],[Available No. of Slot]]","v":1080},{"$f":"ROUNDDOWN(Table2[[#This Row],[Max power per output]]/Table2[[#This Row],[Output Voltage]],2)","v":100},null,null,null,null,null,null,null,"Kenya",null,12.5,{"$f":"IF(S$1=0,0,IF(Configuration!$F$7=\"D\",$R100,Table7[[#This Row],[Vo]]))","v":0},{"$f":"IF(T$1=0,0,IF(Configuration!$F$8=\"D\",$R100,Table7[[#This Row],[Vo]]))","v":0},{"$f":"IF(U$1=0,0,IF(Configuration!$F$9=\"D\",$R100,Table7[[#This Row],[Vo]]))","v":0},{"$f":"IF(V$1=0,0,IF(Configuration!$F$10=\"D\",$R100,Table7[[#This Row],[Vo]]))","v":0},{"$f":"IF(W$1=0,0,IF(Configuration!$F$11=\"D\",$R100,Table7[[#This Row],[Vo]]))","v":0},{"$f":"IF(X$1=0,0,IF(Configuration!$F$12=\"D\",$R100,Table7[[#This Row],[Vo]]))","v":0},{"$f":"IF(Y$1=0,0,IF(Configuration!$F$13=\"D\",$R100,Table7[[#This Row],[Vo]]))","v":0},{"$f":"IF(Z$1=0,0,IF(Configuration!$F$14=\"D\",$R100,Table7[[#This Row],[Vo]]))","v":0},{"$f":"IF(AA$1=0,0,IF(Configuration!$F$15=\"D\",$R100,Table7[[#This Row],[Vo]]))","v":0},{"$f":"IF(AB$1=0,0,IF(Configuration!$F$16=\"D\",$R100,Table7[[#This Row],[Vo]]))","v":0},{"$f":"IF(AC$1=0,0,IF(Configuration!$F$17=\"D\",$R100,Table7[[#This Row],[Vo]]))","v":0}]
[10.9,"NMS-240-12",20,{"$f":"Table2[[#This Row],[Output Voltage]]*Table2[[#This Row],[Module rated current]]","v":218},"E",{"$f":"IF(1200/Table2[[#This Row],[Module rated power]]>6,6,ROUNDDOWN(1200/Table2[[#This Row],[Module rated power]],0))","v":5},{"$f":"Table2[[#This Row],[Module rated power]]*Table2[[#This Row],[Available No. of Slot]]","v":1090},{"$f":"ROUNDDOWN(Table2[[#This Row],[Max power per output]]/Table2[[#This Row],[Output Voltage]],2)","v":100},null,null,null,null,null,null,null,"Kosovo",null,12.6,{"$f":"IF(S$1=0,0,IF(Configuration!$F$7=\"D\",$R101,Table7[[#This Row],[Vo]]))","v":0},{"$f":"IF(T$1=0,0,IF(Configuration!$F$8=\"D\",$R101,Table7[[#This Row],[Vo]]))","v":0},{"$f":"IF(U$1=0,0,IF(Configuration!$F$9=\"D\",$R101,Table7[[#This Row],[Vo]]))","v":0},{"$f":"IF(V$1=0,0,IF(Configuration!$F$10=\"D\",$R101,Table7[[#This Row],[Vo]]))","v":0},{"$f":"IF(W$1=0,0,IF(Configuration!$F$11=\"D\",$R101,Table7[[#This Row],[Vo]]))","v":0},{"$f":"IF(X$1=0,0,IF(Configuration!$F$12=\"D\",$R101,Table7[[#This Row],[Vo]]))","v":0},{"$f":"IF(Y$1=0,0,IF(Configuration!$F$13=\"D\",$R101,Table7[[#This Row],[Vo]]))","v":0},{"$f":"IF(Z$1=0,0,IF(Configuration!$F$14=\"D\",$R101,Table7[[#This Row],[Vo]]))","v":0},{"$f":"IF(AA$1=0,0,IF(Configuration!$F$15=\"D\",$R101,Table7[[#This Row],[Vo]]))","v":0},{"$f":"IF(AB$1=0,0,IF(Configuration!$F$16=\"D\",$R101,Table7[[#This Row],[Vo]]))","v":0},{"$f":"IF(AC$1=0,0,IF(Configuration!$F$17=\"D\",$R101,Table7[[#This Row],[Vo]]))","v":0}]
[11,"NMS-240-12",20,{"$f":"Table2[[#This Row],[Output Voltage]]*Table2[[#This Row],[Module rated current]]","v":220},"E",{"$f":"IF(1200/Table2[[#This Row],[Module rated power]]>6,6,ROUNDDOWN(1200/Table2[[#This Row],[Module rated power]],0))","v":5},{"$f":"Table2[[#This Row],[Module rated power]]*Table2[[#This Row],[Available No. of Slot]]","v":1100},{"$f":"ROUNDDOWN(Table2[[#This Row],[Max power per output]]/Table2[[#This Row],[Output Voltage]],2)","v":100},null,null,null,null,null,null,null,"Kuwait",null,12.7,{"$f":"IF(S$1=0,0,IF(Configuration!$F$7=\"D\",$R102,Table7[[#This Row],[Vo]]))","v":0},{"$f":"IF(T$1=0,0,IF(Configuration!$F$8=\"D\",$R102,Table7[[#This Row],[Vo]]))","v":0},{"$f":"IF(U$1=0,0,IF(Configuration!$F$9=\"D\",$R102,Table7[[#This Row],[Vo]]))","v":0},{"$f":"IF(V$1=0,0,IF(Configuration!$F$10=\"D\",$R102,Table7[[#This Row],[Vo]]))","v":0},{"$f":"IF(W$1=0,0,IF(Configuration!$F$11=\"D\",$R102,Table7[[#This Row],[Vo]]))","v":0},{"$f":"IF(X$1=0,0,IF(Configuration!$F$12=\"D\",$R102,Table7[[#This Row],[Vo]]))","v":0},{"$f":"IF(Y$1=0,0,IF(Configuration!$F$13=\"D\",$R102,Table7[[#This Row],[Vo]]))","v":0},{"$f":"IF(Z$1=0,0,IF(Configuration!$F$14=\"D\",$R102,Table7[[#This Row],[Vo]]))","v":0},{"$f":"IF(AA$1=0,0,IF(Configuration!$F$15=\"D\",$R102,Table7[[#This Row],[Vo]]))","v":0},{"$f":"IF(AB$1=0,0,IF(Configuration!$F$16=\"D\",$R102,Table7[[#This Row],[Vo]]))","v":0},{"$f":"IF(AC$1=0,0,IF(Configuration!$F$17=\"D\",$R102,Table7[[#This Row],[Vo]]))","v":0}]
[11.1,"NMS-240-12",20,{"$f":"Table2[[#This Row],[Output Voltage]]*Table2[[#This Row],[Module rated current]]","v":222},"E",{"$f":"IF(1200/Table2[[#This Row],[Module rated power]]>6,6,ROUNDDOWN(1200/Table2[[#This Row],[Module rated power]],0))","v":5},{"$f":"Table2[[#This Row],[Module rated power]]*Table2[[#This Row],[Available No. of Slot]]","v":1110},{"$f":"ROUNDDOWN(Table2[[#This Row],[Max power per output]]/Table2[[#This Row],[Output Voltage]],2)","v":100},null,null,null,null,null,null,null,"Lao People's Democratic Republic",null,12.8,{"$f":"IF(S$1=0,0,IF(Configuration!$F$7=\"D\",$R103,Table7[[#This Row],[Vo]]))","v":0},{"$f":"IF(T$1=0,0,IF(Configuration!$F$8=\"D\",$R103,Table7[[#This Row],[Vo]]))","v":0},{"$f":"IF(U$1=0,0,IF(Configuration!$F$9=\"D\",$R103,Table7[[#This Row],[Vo]]))","v":0},{"$f":"IF(V$1=0,0,IF(Configuration!$F$10=\"D\",$R103,Table7[[#This Row],[Vo]]))","v":0},{"$f":"IF(W$1=0,0,IF(Configuration!$F$11=\"D\",$R103,Table7[[#This Row],[Vo]]))","v":0},{"$f":"IF(X$1=0,0,IF(Configuration!$F$12=\"D\",$R103,Table7[[#This Row],[Vo]]))","v":0},{"$f":"IF(Y$1=0,0,IF(Configuration!$F$13=\"D\",$R103,Table7[[#This Row],[Vo]]))","v":0},{"$f":"IF(Z$1=0,0,IF(Configuration!$F$14=\"D\",$R103,Table7[[#This Row],[Vo]]))","v":0},{"$f":"IF(AA$1=0,0,IF(Configuration!$F$15=\"D\",$R103,Table7[[#This Row],[Vo]]))","v":0},{"$f":"IF(AB$1=0,0,IF(Configuration!$F$16=\"D\",$R103,Table7[[#This Row],[Vo]]))","v":0},{"$f":"IF(AC$1=0,0,IF(Configuration!$F$17=\"D\",$R103,Table7[[#This Row],[Vo]]))","v":0}]
[11.2,"NMS-240-12",20,{"$f":"Table2[[#This Row],[Output Voltage]]*Table2[[#This Row],[Module rated current]]","v":224},"E",{"$f":"IF(1200/Table2[[#This Row],[Module rated power]]>6,6,ROUNDDOWN(1200/Table2[[#This Row],[Module rated power]],0))","v":5},{"$f":"Table2[[#This Row],[Module rated power]]*Table2[[#This Row],[Available No. of Slot]]","v":1120},{"$f":"ROUNDDOWN(Table2[[#This Row],[Max power per output]]/Table2[[#This Row],[Output Voltage]],2)","v":100},null,null,null,null,null,null,null,"Liberia",null,12.9,{"$f":"IF(S$1=0,0,IF(Configuration!$F$7=\"D\",$R104,Table7[[#This Row],[Vo]]))","v":0},{"$f":"IF(T$1=0,0,IF(Configuration!$F$8=\"D\",$R104,Table7[[#This Row],[Vo]]))","v":0},{"$f":"IF(U$1=0,0,IF(Configuration!$F$9=\"D\",$R104,Table7[[#This Row],[Vo]]))","v":0},{"$f":"IF(V$1=0,0,IF(Configuration!$F$10=\"D\",$R104,Table7[[#This Row],[Vo]]))","v":0},{"$f":"IF(W$1=0,0,IF(Configuration!$F$11=\"D\",$R104,Table7[[#This Row],[Vo]]))","v":0},{"$f":"IF(X$1=0,0,IF(Configuration!$F$12=\"D\",$R104,Table7[[#This Row],[Vo]]))","v":0},{"$f":"IF(Y$1=0,0,IF(Configuration!$F$13=\"D\",$R104,Table7[[#This Row],[Vo]]))","v":0},{"$f":"IF(Z$1=0,0,IF(Configuration!$F$14=\"D\",$R104,Table7[[#This Row],[Vo]]))","v":0},{"$f":"IF(AA$1=0,0,IF(Configuration!$F$15=\"D\",$R104,Table7[[#This Row],[Vo]]))","v":0},{"$f":"IF(AB$1=0,0,IF(Configuration!$F$16=\"D\",$R104,Table7[[#This Row],[Vo]]))","v":0},{"$f":"IF(AC$1=0,0,IF(Configuration!$F$17=\"D\",$R104,Table7[[#This Row],[Vo]]))","v":0}]
[11.3,"NMS-240-12",20,{"$f":"Table2[[#This Row],[Output Voltage]]*Table2[[#This Row],[Module rated current]]","v":226},"E",{"$f":"IF(1200/Table2[[#This Row],[Module rated power]]>6,6,ROUNDDOWN(1200/Table2[[#This Row],[Module rated power]],0))","v":5},{"$f":"Table2[[#This Row],[Module rated power]]*Table2[[#This Row],[Available No. of Slot]]","v":1130},{"$f":"ROUNDDOWN(Table2[[#This Row],[Max power per output]]/Table2[[#This Row],[Output Voltage]],2)","v":100},null,null,null,null,null,null,null,"Libya",null,13,{"$f":"IF(S$1=0,0,IF(Configuration!$F$7=\"D\",$R105,Table7[[#This Row],[Vo]]))","v":0},{"$f":"IF(T$1=0,0,IF(Configuration!$F$8=\"D\",$R105,Table7[[#This Row],[Vo]]))","v":0},{"$f":"IF(U$1=0,0,IF(Configuration!$F$9=\"D\",$R105,Table7[[#This Row],[Vo]]))","v":0},{"$f":"IF(V$1=0,0,IF(Configuration!$F$10=\"D\",$R105,Table7[[#This Row],[Vo]]))","v":0},{"$f":"IF(W$1=0,0,IF(Configuration!$F$11=\"D\",$R105,Table7[[#This Row],[Vo]]))","v":0},{"$f":"IF(X$1=0,0,IF(Configuration!$F$12=\"D\",$R105,Table7[[#This Row],[Vo]]))","v":0},{"$f":"IF(Y$1=0,0,IF(Configuration!$F$13=\"D\",$R105,Table7[[#This Row],[Vo]]))","v":0},{"$f":"IF(Z$1=0,0,IF(Configuration!$F$14=\"D\",$R105,Table7[[#This Row],[Vo]]))","v":0},{"$f":"IF(AA$1=0,0,IF(Configuration!$F$15=\"D\",$R105,Table7[[#This Row],[Vo]]))","v":0},{"$f":"IF(AB$1=0,0,IF(Configuration!$F$16=\"D\",$R105,Table7[[#This Row],[Vo]]))","v":0},{"$f":"IF(AC$1=0,0,IF(Configuration!$F$17=\"D\",$R105,Table7[[#This Row],[Vo]]))","v":0}]
[11.4,"NMS-240-12",20,{"$f":"Table2[[#This Row],[Output Voltage]]*Table2[[#This Row],[Module rated current]]","v":228},"E",{"$f":"IF(1200/Table2[[#This Row],[Module rated power]]>6,6,ROUNDDOWN(1200/Table2[[#This Row],[Module rated power]],0))","v":5},{"$f":"Table2[[#This Row],[Module rated power]]*Table2[[#This Row],[Available No. of Slot]]","v":1140},{"$f":"ROUNDDOWN(Table2[[#This Row],[Max power per output]]/Table2[[#This Row],[Output Voltage]],2)","v":100},null,null,null,null,null,null,null,"Latvia",null,13.1,{"$f":"IF(S$1=0,0,IF(Configuration!$F$7=\"D\",$R106,Table7[[#This Row],[Vo]]))","v":0},{"$f":"IF(T$1=0,0,IF(Configuration!$F$8=\"D\",$R106,Table7[[#This Row],[Vo]]))","v":0},{"$f":"IF(U$1=0,0,IF(Configuration!$F$9=\"D\",$R106,Table7[[#This Row],[Vo]]))","v":0},{"$f":"IF(V$1=0,0,IF(Configuration!$F$10=\"D\",$R106,Table7[[#This Row],[Vo]]))","v":0},{"$f":"IF(W$1=0,0,IF(Configuration!$F$11=\"D\",$R106,Table7[[#This Row],[Vo]]))","v":0},{"$f":"IF(X$1=0,0,IF(Configuration!$F$12=\"D\",$R106,Table7[[#This Row],[Vo]]))","v":0},{"$f":"IF(Y$1=0,0,IF(Configuration!$F$13=\"D\",$R106,Table7[[#This Row],[Vo]]))","v":0},{"$f":"IF(Z$1=0,0,IF(Configuration!$F$14=\"D\",$R106,Table7[[#This Row],[Vo]]))","v":0},{"$f":"IF(AA$1=0,0,IF(Configuration!$F$15=\"D\",$R106,Table7[[#This Row],[Vo]]))","v":0},{"$f":"IF(AB$1=0,0,IF(Configuration!$F$16=\"D\",$R106,Table7[[#This Row],[Vo]]))","v":0},{"$f":"IF(AC$1=0,0,IF(Configuration!$F$17=\"D\",$R106,Table7[[#This Row],[Vo]]))","v":0}]
[11.5,"NMS-240-12",20,{"$f":"Table2[[#This Row],[Output Voltage]]*Table2[[#This Row],[Module rated current]]","v":230},"E",{"$f":"IF(1200/Table2[[#This Row],[Module rated power]]>6,6,ROUNDDOWN(1200/Table2[[#This Row],[Module rated power]],0))","v":5},{"$f":"Table2[[#This Row],[Module rated power]]*Table2[[#This Row],[Available No. of Slot]]","v":1150},{"$f":"ROUNDDOWN(Table2[[#This Row],[Max power per output]]/Table2[[#This Row],[Output Voltage]],2)","v":100},null,null,null,null,null,null,null,"Lebanon",null,13.2,{"$f":"IF(S$1=0,0,IF(Configuration!$F$7=\"D\",$R107,Table7[[#This Row],[Vo]]))","v":0},{"$f":"IF(T$1=0,0,IF(Configuration!$F$8=\"D\",$R107,Table7[[#This Row],[Vo]]))","v":0},{"$f":"IF(U$1=0,0,IF(Configuration!$F$9=\"D\",$R107,Table7[[#This Row],[Vo]]))","v":0},{"$f":"IF(V$1=0,0,IF(Configuration!$F$10=\"D\",$R107,Table7[[#This Row],[Vo]]))","v":0},{"$f":"IF(W$1=0,0,IF(Configuration!$F$11=\"D\",$R107,Table7[[#This Row],[Vo]]))","v":0},{"$f":"IF(X$1=0,0,IF(Configuration!$F$12=\"D\",$R107,Table7[[#This Row],[Vo]]))","v":0},{"$f":"IF(Y$1=0,0,IF(Configuration!$F$13=\"D\",$R107,Table7[[#This Row],[Vo]]))","v":0},{"$f":"IF(Z$1=0,0,IF(Configuration!$F$14=\"D\",$R107,Table7[[#This Row],[Vo]]))","v":0},{"$f":"IF(AA$1=0,0,IF(Configuration!$F$15=\"D\",$R107,Table7[[#This Row],[Vo]]))","v":0},{"$f":"IF(AB$1=0,0,IF(Configuration!$F$16=\"D\",$R107,Table7[[#This Row],[Vo]]))","v":0},{"$f":"IF(AC$1=0,0,IF(Configuration!$F$17=\"D\",$R107,Table7[[#This Row],[Vo]]))","v":0}]
[11.6,"NMS-240-12",20,{"$f":"Table2[[#This Row],[Output Voltage]]*Table2[[#This Row],[Module rated current]]","v":232},"E",{"$f":"IF(1200/Table2[[#This Row],[Module rated power]]>6,6,ROUNDDOWN(1200/Table2[[#This Row],[Module rated power]],0))","v":5},{"$f":"Table2[[#This Row],[Module rated power]]*Table2[[#This Row],[Available No. of Slot]]","v":1160},{"$f":"ROUNDDOWN(Table2[[#This Row],[Max power per output]]/Table2[[#This Row],[Output Voltage]],2)","v":100},null,null,null,null,null,null,null,"Lesotho",null,13.3,{"$f":"IF(S$1=0,0,IF(Configuration!$F$7=\"D\",$R108,Table7[[#This Row],[Vo]]))","v":0},{"$f":"IF(T$1=0,0,IF(Configuration!$F$8=\"D\",$R108,Table7[[#This Row],[Vo]]))","v":0},{"$f":"IF(U$1=0,0,IF(Configuration!$F$9=\"D\",$R108,Table7[[#This Row],[Vo]]))","v":0},{"$f":"IF(V$1=0,0,IF(Configuration!$F$10=\"D\",$R108,Table7[[#This Row],[Vo]]))","v":0},{"$f":"IF(W$1=0,0,IF(Configuration!$F$11=\"D\",$R108,Table7[[#This Row],[Vo]]))","v":0},{"$f":"IF(X$1=0,0,IF(Configuration!$F$12=\"D\",$R108,Table7[[#This Row],[Vo]]))","v":0},{"$f":"IF(Y$1=0,0,IF(Configuration!$F$13=\"D\",$R108,Table7[[#This Row],[Vo]]))","v":0},{"$f":"IF(Z$1=0,0,IF(Configuration!$F$14=\"D\",$R108,Table7[[#This Row],[Vo]]))","v":0},{"$f":"IF(AA$1=0,0,IF(Configuration!$F$15=\"D\",$R108,Table7[[#This Row],[Vo]]))","v":0},{"$f":"IF(AB$1=0,0,IF(Configuration!$F$16=\"D\",$R108,Table7[[#This Row],[Vo]]))","v":0},{"$f":"IF(AC$1=0,0,IF(Configuration!$F$17=\"D\",$R108,Table7[[#This Row],[Vo]]))","v":0}]
[11.7,"NMS-240-12",20,{"$f":"Table2[[#This Row],[Output Voltage]]*Table2[[#This Row],[Module rated current]]","v":234},"E",{"$f":"IF(1200/Table2[[#This Row],[Module rated power]]>6,6,ROUNDDOWN(1200/Table2[[#This Row],[Module rated power]],0))","v":5},{"$f":"Table2[[#This Row],[Module rated power]]*Table2[[#This Row],[Available No. of Slot]]","v":1170},{"$f":"ROUNDDOWN(Table2[[#This Row],[Max power per output]]/Table2[[#This Row],[Output Voltage]],2)","v":100},null,null,null,null,null,null,null,"Liechtenstein",null,13.4,{"$f":"IF(S$1=0,0,IF(Configuration!$F$7=\"D\",$R109,Table7[[#This Row],[Vo]]))","v":0},{"$f":"IF(T$1=0,0,IF(Configuration!$F$8=\"D\",$R109,Table7[[#This Row],[Vo]]))","v":0},{"$f":"IF(U$1=0,0,IF(Configuration!$F$9=\"D\",$R109,Table7[[#This Row],[Vo]]))","v":0},{"$f":"IF(V$1=0,0,IF(Configuration!$F$10=\"D\",$R109,Table7[[#This Row],[Vo]]))","v":0},{"$f":"IF(W$1=0,0,IF(Configuration!$F$11=\"D\",$R109,Table7[[#This Row],[Vo]]))","v":0},{"$f":"IF(X$1=0,0,IF(Configuration!$F$12=\"D\",$R109,Table7[[#This Row],[Vo]]))","v":0},{"$f":"IF(Y$1=0,0,IF(Configuration!$F$13=\"D\",$R109,Table7[[#This Row],[Vo]]))","v":0},{"$f":"IF(Z$1=0,0,IF(Configuration!$F$14=\"D\",$R109,Table7[[#This Row],[Vo]]))","v":0},{"$f":"IF(AA$1=0,0,IF(Configuration!$F$15=\"D\",$R109,Table7[[#This Row],[Vo]]))","v":0},{"$f":"IF(AB$1=0,0,IF(Configuration!$F$16=\"D\",$R109,Table7[[#This Row],[Vo]]))","v":0},{"$f":"IF(AC$1=0,0,IF(Configuration!$F$17=\"D\",$R109,Table7[[#This Row],[Vo]]))","v":0}]
[11.8,"NMS-240-12",20,{"$f":"Table2[[#This Row],[Output Voltage]]*Table2[[#This Row],[Module rated current]]","v":236},"E",{"$f":"IF(1200/Table2[[#This Row],[Module rated power]]>6,6,ROUNDDOWN(1200/Table2[[#This Row],[Module rated power]],0))","v":5},{"$f":"Table2[[#This Row],[Module rated power]]*Table2[[#This Row],[Available No. of Slot]]","v":1180},{"$f":"ROUNDDOWN(Table2[[#This Row],[Max power per output]]/Table2[[#This Row],[Output Voltage]],2)","v":100},null,null,null,null,null,null,null,"Lithuania",null,13.5,{"$f":"IF(S$1=0,0,IF(Configuration!$F$7=\"D\",$R110,Table7[[#This Row],[Vo]]))","v":0},{"$f":"IF(T$1=0,0,IF(Configuration!$F$8=\"D\",$R110,Table7[[#This Row],[Vo]]))","v":0},{"$f":"IF(U$1=0,0,IF(Configuration!$F$9=\"D\",$R110,Table7[[#This Row],[Vo]]))","v":0},{"$f":"IF(V$1=0,0,IF(Configuration!$F$10=\"D\",$R110,Table7[[#This Row],[Vo]]))","v":0},{"$f":"IF(W$1=0,0,IF(Configuration!$F$11=\"D\",$R110,Table7[[#This Row],[Vo]]))","v":0},{"$f":"IF(X$1=0,0,IF(Configuration!$F$12=\"D\",$R110,Table7[[#This Row],[Vo]]))","v":0},{"$f":"IF(Y$1=0,0,IF(Configuration!$F$13=\"D\",$R110,Table7[[#This Row],[Vo]]))","v":0},{"$f":"IF(Z$1=0,0,IF(Configuration!$F$14=\"D\",$R110,Table7[[#This Row],[Vo]]))","v":0},{"$f":"IF(AA$1=0,0,IF(Configuration!$F$15=\"D\",$R110,Table7[[#This Row],[Vo]]))","v":0},{"$f":"IF(AB$1=0,0,IF(Configuration!$F$16=\"D\",$R110,Table7[[#This Row],[Vo]]))","v":0},{"$f":"IF(AC$1=0,0,IF(Configuration!$F$17=\"D\",$R110,Table7[[#This Row],[Vo]]))","v":0}]
[11.9,"NMS-240-12",20,{"$f":"Table2[[#This Row],[Output Voltage]]*Table2[[#This Row],[Module rated current]]","v":238},"E",{"$f":"IF(1200/Table2[[#This Row],[Module rated power]]>6,6,ROUNDDOWN(1200/Table2[[#This Row],[Module rated power]],0))","v":5},{"$f":"Table2[[#This Row],[Module rated power]]*Table2[[#This Row],[Available No. of Slot]]","v":1190},{"$f":"ROUNDDOWN(Table2[[#This Row],[Max power per output]]/Table2[[#This Row],[Output Voltage]],2)","v":100},null,null,null,null,null,null,null,"Luxembourg",null,13.6,{"$f":"IF(S$1=0,0,IF(Configuration!$F$7=\"D\",$R111,Table7[[#This Row],[Vo]]))","v":0},{"$f":"IF(T$1=0,0,IF(Configuration!$F$8=\"D\",$R111,Table7[[#This Row],[Vo]]))","v":0},{"$f":"IF(U$1=0,0,IF(Configuration!$F$9=\"D\",$R111,Table7[[#This Row],[Vo]]))","v":0},{"$f":"IF(V$1=0,0,IF(Configuration!$F$10=\"D\",$R111,Table7[[#This Row],[Vo]]))","v":0},{"$f":"IF(W$1=0,0,IF(Configuration!$F$11=\"D\",$R111,Table7[[#This Row],[Vo]]))","v":0},{"$f":"IF(X$1=0,0,IF(Configuration!$F$12=\"D\",$R111,Table7[[#This Row],[Vo]]))","v":0},{"$f":"IF(Y$1=0,0,IF(Configuration!$F$13=\"D\",$R111,Table7[[#This Row],[Vo]]))","v":0},{"$f":"IF(Z$1=0,0,IF(Configuration!$F$14=\"D\",$R111,Table7[[#This Row],[Vo]]))","v":0},{"$f":"IF(AA$1=0,0,IF(Configuration!$F$15=\"D\",$R111,Table7[[#This Row],[Vo]]))","v":0},{"$f":"IF(AB$1=0,0,IF(Configuration!$F$16=\"D\",$R111,Table7[[#This Row],[Vo]]))","v":0},{"$f":"IF(AC$1=0,0,IF(Configuration!$F$17=\"D\",$R111,Table7[[#This Row],[Vo]]))","v":0}]
[12,"NMS-240-12",20,{"$f":"Table2[[#This Row],[Output Voltage]]*Table2[[#This Row],[Module rated current]]","v":240},"E",{"$f":"IF(1200/Table2[[#This Row],[Module rated power]]>6,6,ROUNDDOWN(1200/Table2[[#This Row],[Module rated power]],0))","v":5},{"$f":"Table2[[#This Row],[Module rated power]]*Table2[[#This Row],[Available No. of Slot]]","v":1200},{"$f":"ROUNDDOWN(Table2[[#This Row],[Max power per output]]/Table2[[#This Row],[Output Voltage]],2)","v":100},null,null,null,null,null,null,null,"Malawi",null,13.7,{"$f":"IF(S$1=0,0,IF(Configuration!$F$7=\"D\",$R112,Table7[[#This Row],[Vo]]))","v":0},{"$f":"IF(T$1=0,0,IF(Configuration!$F$8=\"D\",$R112,Table7[[#This Row],[Vo]]))","v":0},{"$f":"IF(U$1=0,0,IF(Configuration!$F$9=\"D\",$R112,Table7[[#This Row],[Vo]]))","v":0},{"$f":"IF(V$1=0,0,IF(Configuration!$F$10=\"D\",$R112,Table7[[#This Row],[Vo]]))","v":0},{"$f":"IF(W$1=0,0,IF(Configuration!$F$11=\"D\",$R112,Table7[[#This Row],[Vo]]))","v":0},{"$f":"IF(X$1=0,0,IF(Configuration!$F$12=\"D\",$R112,Table7[[#This Row],[Vo]]))","v":0},{"$f":"IF(Y$1=0,0,IF(Configuration!$F$13=\"D\",$R112,Table7[[#This Row],[Vo]]))","v":0},{"$f":"IF(Z$1=0,0,IF(Configuration!$F$14=\"D\",$R112,Table7[[#This Row],[Vo]]))","v":0},{"$f":"IF(AA$1=0,0,IF(Configuration!$F$15=\"D\",$R112,Table7[[#This Row],[Vo]]))","v":0},{"$f":"IF(AB$1=0,0,IF(Configuration!$F$16=\"D\",$R112,Table7[[#This Row],[Vo]]))","v":0},{"$f":"IF(AC$1=0,0,IF(Configuration!$F$17=\"D\",$R112,Table7[[#This Row],[Vo]]))","v":0}]
[12.1,"NMS-240-12",{"$f":"D112/A112","v":19.834710743801654},240,"E",{"$f":"IF(1200/Table2[[#This Row],[Module rated power]]>6,6,ROUNDDOWN(1200/Table2[[#This Row],[Module rated power]],0))","v":5},{"$f":"Table2[[#This Row],[Module rated power]]*Table2[[#This Row],[Available No. of Slot]]","v":1200},{"$f":"ROUNDDOWN(Table2[[#This Row],[Max power per output]]/Table2[[#This Row],[Output Voltage]],2)","v":99.17},null,null,null,null,null,null,null,"Maldives",null,13.8,{"$f":"IF(S$1=0,0,IF(Configuration!$F$7=\"D\",$R113,Table7[[#This Row],[Vo]]))","v":0},{"$f":"IF(T$1=0,0,IF(Configuration!$F$8=\"D\",$R113,Table7[[#This Row],[Vo]]))","v":0},{"$f":"IF(U$1=0,0,IF(Configuration!$F$9=\"D\",$R113,Table7[[#This Row],[Vo]]))","v":0},{"$f":"IF(V$1=0,0,IF(Configuration!$F$10=\"D\",$R113,Table7[[#This Row],[Vo]]))","v":0},{"$f":"IF(W$1=0,0,IF(Configuration!$F$11=\"D\",$R113,Table7[[#This Row],[Vo]]))","v":0},{"$f":"IF(X$1=0,0,IF(Configuration!$F$12=\"D\",$R113,Table7[[#This Row],[Vo]]))","v":0},{"$f":"IF(Y$1=0,0,IF(Configuration!$F$13=\"D\",$R113,Table7[[#This Row],[Vo]]))","v":0},{"$f":"IF(Z$1=0,0,IF(Configuration!$F$14=\"D\",$R113,Table7[[#This Row],[Vo]]))","v":0},{"$f":"IF(AA$1=0,0,IF(Configuration!$F$15=\"D\",$R113,Table7[[#This Row],[Vo]]))","v":0},{"$f":"IF(AB$1=0,0,IF(Configuration!$F$16=\"D\",$R113,Table7[[#This Row],[Vo]]))","v":0},{"$f":"IF(AC$1=0,0,IF(Configuration!$F$17=\"D\",$R113,Table7[[#This Row],[Vo]]))","v":0}]
[12.2,"NMS-240-12",19.672131147540984,240,"E",{"$f":"IF(1200/Table2[[#This Row],[Module rated power]]>6,6,ROUNDDOWN(1200/Table2[[#This Row],[Module rated power]],0))","v":5},{"$f":"Table2[[#This Row],[Module rated power]]*Table2[[#This Row],[Available No. of Slot]]","v":1200},{"$f":"ROUNDDOWN(Table2[[#This Row],[Max power per output]]/Table2[[#This Row],[Output Voltage]],2)","v":98.36},null,null,null,null,null,null,null,"Marshall Islands",null,13.9,{"$f":"IF(S$1=0,0,IF(Configuration!$F$7=\"D\",$R114,Table7[[#This Row],[Vo]]))","v":0},{"$f":"IF(T$1=0,0,IF(Configuration!$F$8=\"D\",$R114,Table7[[#This Row],[Vo]]))","v":0},{"$f":"IF(U$1=0,0,IF(Configuration!$F$9=\"D\",$R114,Table7[[#This Row],[Vo]]))","v":0},{"$f":"IF(V$1=0,0,IF(Configuration!$F$10=\"D\",$R114,Table7[[#This Row],[Vo]]))","v":0},{"$f":"IF(W$1=0,0,IF(Configuration!$F$11=\"D\",$R114,Table7[[#This Row],[Vo]]))","v":0},{"$f":"IF(X$1=0,0,IF(Configuration!$F$12=\"D\",$R114,Table7[[#This Row],[Vo]]))","v":0},{"$f":"IF(Y$1=0,0,IF(Configuration!$F$13=\"D\",$R114,Table7[[#This Row],[Vo]]))","v":0},{"$f":"IF(Z$1=0,0,IF(Configuration!$F$14=\"D\",$R114,Table7[[#This Row],[Vo]]))","v":0},{"$f":"IF(AA$1=0,0,IF(Configuration!$F$15=\"D\",$R114,Table7[[#This Row],[Vo]]))","v":0},{"$f":"IF(AB$1=0,0,IF(Configuration!$F$16=\"D\",$R114,Table7[[#This Row],[Vo]]))","v":0},{"$f":"IF(AC$1=0,0,IF(Configuration!$F$17=\"D\",$R114,Table7[[#This Row],[Vo]]))","v":0}]
[12.3,"NMS-240-12",19.512195121951219,240,"E",{"$f":"IF(1200/Table2[[#This Row],[Module rated power]]>6,6,ROUNDDOWN(1200/Table2[[#This Row],[Module rated power]],0))","v":5},{"$f":"Table2[[#This Row],[Module rated power]]*Table2[[#This Row],[Available No. of Slot]]","v":1200},{"$f":"ROUNDDOWN(Table2[[#This Row],[Max power per output]]/Table2[[#This Row],[Output Voltage]],2)","v":97.56},null,null,null,null,null,null,null,"Mauritania",null,14,{"$f":"IF(S$1=0,0,IF(Configuration!$F$7=\"D\",$R115,Table7[[#This Row],[Vo]]))","v":0},{"$f":"IF(T$1=0,0,IF(Configuration!$F$8=\"D\",$R115,Table7[[#This Row],[Vo]]))","v":0},{"$f":"IF(U$1=0,0,IF(Configuration!$F$9=\"D\",$R115,Table7[[#This Row],[Vo]]))","v":0},{"$f":"IF(V$1=0,0,IF(Configuration!$F$10=\"D\",$R115,Table7[[#This Row],[Vo]]))","v":0},{"$f":"IF(W$1=0,0,IF(Configuration!$F$11=\"D\",$R115,Table7[[#This Row],[Vo]]))","v":0},{"$f":"IF(X$1=0,0,IF(Configuration!$F$12=\"D\",$R115,Table7[[#This Row],[Vo]]))","v":0},{"$f":"IF(Y$1=0,0,IF(Configuration!$F$13=\"D\",$R115,Table7[[#This Row],[Vo]]))","v":0},{"$f":"IF(Z$1=0,0,IF(Configuration!$F$14=\"D\",$R115,Table7[[#This Row],[Vo]]))","v":0},{"$f":"IF(AA$1=0,0,IF(Configuration!$F$15=\"D\",$R115,Table7[[#This Row],[Vo]]))","v":0},{"$f":"IF(AB$1=0,0,IF(Configuration!$F$16=\"D\",$R115,Table7[[#This Row],[Vo]]))","v":0},{"$f":"IF(AC$1=0,0,IF(Configuration!$F$17=\"D\",$R115,Table7[[#This Row],[Vo]]))","v":0}]
[12.4,"NMS-240-12",19.35483870967742,240,"E",{"$f":"IF(1200/Table2[[#This Row],[Module rated power]]>6,6,ROUNDDOWN(1200/Table2[[#This Row],[Module rated power]],0))","v":5},{"$f":"Table2[[#This Row],[Module rated power]]*Table2[[#This Row],[Available No. of Slot]]","v":1200},{"$f":"ROUNDDOWN(Table2[[#This Row],[Max power per output]]/Table2[[#This Row],[Output Voltage]],2)","v":96.77},null,null,null,null,null,null,null,"Micronesia, Federated States of",null,14.1,{"$f":"IF(S$1=0,0,IF(Configuration!$F$7=\"D\",$R116,Table7[[#This Row],[Vo]]))","v":0},{"$f":"IF(T$1=0,0,IF(Configuration!$F$8=\"D\",$R116,Table7[[#This Row],[Vo]]))","v":0},{"$f":"IF(U$1=0,0,IF(Configuration!$F$9=\"D\",$R116,Table7[[#This Row],[Vo]]))","v":0},{"$f":"IF(V$1=0,0,IF(Configuration!$F$10=\"D\",$R116,Table7[[#This Row],[Vo]]))","v":0},{"$f":"IF(W$1=0,0,IF(Configuration!$F$11=\"D\",$R116,Table7[[#This Row],[Vo]]))","v":0},{"$f":"IF(X$1=0,0,IF(Configuration!$F$12=\"D\",$R116,Table7[[#This Row],[Vo]]))","v":0},{"$f":"IF(Y$1=0,0,IF(Configuration!$F$13=\"D\",$R116,Table7[[#This Row],[Vo]]))","v":0},{"$f":"IF(Z$1=0,0,IF(Configuration!$F$14=\"D\",$R116,Table7[[#This Row],[Vo]]))","v":0},{"$f":"IF(AA$1=0,0,IF(Configuration!$F$15=\"D\",$R116,Table7[[#This Row],[Vo]]))","v":0},{"$f":"IF(AB$1=0,0,IF(Configuration!$F$16=\"D\",$R116,Table7[[#This Row],[Vo]]))","v":0},{"$f":"IF(AC$1=0,0,IF(Configuration!$F$17=\"D\",$R116,Table7[[#This Row],[Vo]]))","v":0}]
[12.5,"NMS-240-12",19.2,240,"E",{"$f":"IF(1200/Table2[[#This Row],[Module rated power]]>6,6,ROUNDDOWN(1200/Table2[[#This Row],[Module rated power]],0))","v":5},{"$f":"Table2[[#This Row],[Module rated power]]*Table2[[#This Row],[Available No. of Slot]]","v":1200},{"$f":"ROUNDDOWN(Table2[[#This Row],[Max power per output]]/Table2[[#This Row],[Output Voltage]],2)","v":96},null,null,null,null,null,null,null,"Mongolia",null,14.2,{"$f":"IF(S$1=0,0,IF(Configuration!$F$7=\"D\",$R117,Table7[[#This Row],[Vo]]))","v":0},{"$f":"IF(T$1=0,0,IF(Configuration!$F$8=\"D\",$R117,Table7[[#This Row],[Vo]]))","v":0},{"$f":"IF(U$1=0,0,IF(Configuration!$F$9=\"D\",$R117,Table7[[#This Row],[Vo]]))","v":0},{"$f":"IF(V$1=0,0,IF(Configuration!$F$10=\"D\",$R117,Table7[[#This Row],[Vo]]))","v":0},{"$f":"IF(W$1=0,0,IF(Configuration!$F$11=\"D\",$R117,Table7[[#This Row],[Vo]]))","v":0},{"$f":"IF(X$1=0,0,IF(Configuration!$F$12=\"D\",$R117,Table7[[#This Row],[Vo]]))","v":0},{"$f":"IF(Y$1=0,0,IF(Configuration!$F$13=\"D\",$R117,Table7[[#This Row],[Vo]]))","v":0},{"$f":"IF(Z$1=0,0,IF(Configuration!$F$14=\"D\",$R117,Table7[[#This Row],[Vo]]))","v":0},{"$f":"IF(AA$1=0,0,IF(Configuration!$F$15=\"D\",$R117,Table7[[#This Row],[Vo]]))","v":0},{"$f":"IF(AB$1=0,0,IF(Configuration!$F$16=\"D\",$R117,Table7[[#This Row],[Vo]]))","v":0},{"$f":"IF(AC$1=0,0,IF(Configuration!$F$17=\"D\",$R117,Table7[[#This Row],[Vo]]))","v":0}]
[12.6,"NMS-240-12",19.047619047619047,240,"E",{"$f":"IF(1200/Table2[[#This Row],[Module rated power]]>6,6,ROUNDDOWN(1200/Table2[[#This Row],[Module rated power]],0))","v":5},{"$f":"Table2[[#This Row],[Module rated power]]*Table2[[#This Row],[Available No. of Slot]]","v":1200},{"$f":"ROUNDDOWN(Table2[[#This Row],[Max power per output]]/Table2[[#This Row],[Output Voltage]],2)","v":95.23},null,null,null,null,null,null,null,"Mozambique",null,14.3,{"$f":"IF(S$1=0,0,IF(Configuration!$F$7=\"D\",$R118,Table7[[#This Row],[Vo]]))","v":0},{"$f":"IF(T$1=0,0,IF(Configuration!$F$8=\"D\",$R118,Table7[[#This Row],[Vo]]))","v":0},{"$f":"IF(U$1=0,0,IF(Configuration!$F$9=\"D\",$R118,Table7[[#This Row],[Vo]]))","v":0},{"$f":"IF(V$1=0,0,IF(Configuration!$F$10=\"D\",$R118,Table7[[#This Row],[Vo]]))","v":0},{"$f":"IF(W$1=0,0,IF(Configuration!$F$11=\"D\",$R118,Table7[[#This Row],[Vo]]))","v":0},{"$f":"IF(X$1=0,0,IF(Configuration!$F$12=\"D\",$R118,Table7[[#This Row],[Vo]]))","v":0},{"$f":"IF(Y$1=0,0,IF(Configuration!$F$13=\"D\",$R118,Table7[[#This Row],[Vo]]))","v":0},{"$f":"IF(Z$1=0,0,IF(Configuration!$F$14=\"D\",$R118,Table7[[#This Row],[Vo]]))","v":0},{"$f":"IF(AA$1=0,0,IF(Configuration!$F$15=\"D\",$R118,Table7[[#This Row],[Vo]]))","v":0},{"$f":"IF(AB$1=0,0,IF(Configuration!$F$16=\"D\",$R118,Table7[[#This Row],[Vo]]))","v":0},{"$f":"IF(AC$1=0,0,IF(Configuration!$F$17=\"D\",$R118,Table7[[#This Row],[Vo]]))","v":0}]
[12.7,"NMS-240-12",18.897637795275593,240,"E",{"$f":"IF(1200/Table2[[#This Row],[Module rated power]]>6,6,ROUNDDOWN(1200/Table2[[#This Row],[Module rated power]],0))","v":5},{"$f":"Table2[[#This Row],[Module rated power]]*Table2[[#This Row],[Available No. of Slot]]","v":1200},{"$f":"ROUNDDOWN(Table2[[#This Row],[Max power per output]]/Table2[[#This Row],[Output Voltage]],2)","v":94.48},null,null,null,null,null,null,null,"Myanmar/Burma",null,14.4,{"$f":"IF(S$1=0,0,IF(Configuration!$F$7=\"D\",$R119,Table7[[#This Row],[Vo]]))","v":0},{"$f":"IF(T$1=0,0,IF(Configuration!$F$8=\"D\",$R119,Table7[[#This Row],[Vo]]))","v":0},{"$f":"IF(U$1=0,0,IF(Configuration!$F$9=\"D\",$R119,Table7[[#This Row],[Vo]]))","v":0},{"$f":"IF(V$1=0,0,IF(Configuration!$F$10=\"D\",$R119,Table7[[#This Row],[Vo]]))","v":0},{"$f":"IF(W$1=0,0,IF(Configuration!$F$11=\"D\",$R119,Table7[[#This Row],[Vo]]))","v":0},{"$f":"IF(X$1=0,0,IF(Configuration!$F$12=\"D\",$R119,Table7[[#This Row],[Vo]]))","v":0},{"$f":"IF(Y$1=0,0,IF(Configuration!$F$13=\"D\",$R119,Table7[[#This Row],[Vo]]))","v":0},{"$f":"IF(Z$1=0,0,IF(Configuration!$F$14=\"D\",$R119,Table7[[#This Row],[Vo]]))","v":0},{"$f":"IF(AA$1=0,0,IF(Configuration!$F$15=\"D\",$R119,Table7[[#This Row],[Vo]]))","v":0},{"$f":"IF(AB$1=0,0,IF(Configuration!$F$16=\"D\",$R119,Table7[[#This Row],[Vo]]))","v":0},{"$f":"IF(AC$1=0,0,IF(Configuration!$F$17=\"D\",$R119,Table7[[#This Row],[Vo]]))","v":0}]
[12.8,"NMS-240-12",18.75,240,"E",{"$f":"IF(1200/Table2[[#This Row],[Module rated power]]>6,6,ROUNDDOWN(1200/Table2[[#This Row],[Module rated power]],0))","v":5},{"$f":"Table2[[#This Row],[Module rated power]]*Table2[[#This Row],[Available No. of Slot]]","v":1200},{"$f":"ROUNDDOWN(Table2[[#This Row],[Max power per output]]/Table2[[#This Row],[Output Voltage]],2)","v":93.75},null,null,null,null,null,null,null,"Macedonia",null,14.5,{"$f":"IF(S$1=0,0,IF(Configuration!$F$7=\"D\",$R120,Table7[[#This Row],[Vo]]))","v":0},{"$f":"IF(T$1=0,0,IF(Configuration!$F$8=\"D\",$R120,Table7[[#This Row],[Vo]]))","v":0},{"$f":"IF(U$1=0,0,IF(Configuration!$F$9=\"D\",$R120,Table7[[#This Row],[Vo]]))","v":0},{"$f":"IF(V$1=0,0,IF(Configuration!$F$10=\"D\",$R120,Table7[[#This Row],[Vo]]))","v":0},{"$f":"IF(W$1=0,0,IF(Configuration!$F$11=\"D\",$R120,Table7[[#This Row],[Vo]]))","v":0},{"$f":"IF(X$1=0,0,IF(Configuration!$F$12=\"D\",$R120,Table7[[#This Row],[Vo]]))","v":0},{"$f":"IF(Y$1=0,0,IF(Configuration!$F$13=\"D\",$R120,Table7[[#This Row],[Vo]]))","v":0},{"$f":"IF(Z$1=0,0,IF(Configuration!$F$14=\"D\",$R120,Table7[[#This Row],[Vo]]))","v":0},{"$f":"IF(AA$1=0,0,IF(Configuration!$F$15=\"D\",$R120,Table7[[#This Row],[Vo]]))","v":0},{"$f":"IF(AB$1=0,0,IF(Configuration!$F$16=\"D\",$R120,Table7[[#This Row],[Vo]]))","v":0},{"$f":"IF(AC$1=0,0,IF(Configuration!$F$17=\"D\",$R120,Table7[[#This Row],[Vo]]))","v":0}]
[12.9,"NMS-240-12",18.604651162790699,240,"E",{"$f":"IF(1200/Table2[[#This Row],[Module rated power]]>6,6,ROUNDDOWN(1200/Table2[[#This Row],[Module rated power]],0))","v":5},{"$f":"Table2[[#This Row],[Module rated power]]*Table2[[#This Row],[Available No. of Slot]]","v":1200},{"$f":"ROUNDDOWN(Table2[[#This Row],[Max power per output]]/Table2[[#This Row],[Output Voltage]],2)","v":93.02},null,null,null,null,null,null,null,"Macao",null,14.6,{"$f":"IF(S$1=0,0,IF(Configuration!$F$7=\"D\",$R121,Table7[[#This Row],[Vo]]))","v":0},{"$f":"IF(T$1=0,0,IF(Configuration!$F$8=\"D\",$R121,Table7[[#This Row],[Vo]]))","v":0},{"$f":"IF(U$1=0,0,IF(Configuration!$F$9=\"D\",$R121,Table7[[#This Row],[Vo]]))","v":0},{"$f":"IF(V$1=0,0,IF(Configuration!$F$10=\"D\",$R121,Table7[[#This Row],[Vo]]))","v":0},{"$f":"IF(W$1=0,0,IF(Configuration!$F$11=\"D\",$R121,Table7[[#This Row],[Vo]]))","v":0},{"$f":"IF(X$1=0,0,IF(Configuration!$F$12=\"D\",$R121,Table7[[#This Row],[Vo]]))","v":0},{"$f":"IF(Y$1=0,0,IF(Configuration!$F$13=\"D\",$R121,Table7[[#This Row],[Vo]]))","v":0},{"$f":"IF(Z$1=0,0,IF(Configuration!$F$14=\"D\",$R121,Table7[[#This Row],[Vo]]))","v":0},{"$f":"IF(AA$1=0,0,IF(Configuration!$F$15=\"D\",$R121,Table7[[#This Row],[Vo]]))","v":0},{"$f":"IF(AB$1=0,0,IF(Configuration!$F$16=\"D\",$R121,Table7[[#This Row],[Vo]]))","v":0},{"$f":"IF(AC$1=0,0,IF(Configuration!$F$17=\"D\",$R121,Table7[[#This Row],[Vo]]))","v":0}]
[13,"NMS-240-12",18.46153846153846,240,"E",{"$f":"IF(1200/Table2[[#This Row],[Module rated power]]>6,6,ROUNDDOWN(1200/Table2[[#This Row],[Module rated power]],0))","v":5},{"$f":"Table2[[#This Row],[Module rated power]]*Table2[[#This Row],[Available No. of Slot]]","v":1200},{"$f":"ROUNDDOWN(Table2[[#This Row],[Max power per output]]/Table2[[#This Row],[Output Voltage]],2)","v":92.3},null,null,null,null,null,null,null,"Madagascar",null,14.7,{"$f":"IF(S$1=0,0,IF(Configuration!$F$7=\"D\",$R122,Table7[[#This Row],[Vo]]))","v":0},{"$f":"IF(T$1=0,0,IF(Configuration!$F$8=\"D\",$R122,Table7[[#This Row],[Vo]]))","v":0},{"$f":"IF(U$1=0,0,IF(Configuration!$F$9=\"D\",$R122,Table7[[#This Row],[Vo]]))","v":0},{"$f":"IF(V$1=0,0,IF(Configuration!$F$10=\"D\",$R122,Table7[[#This Row],[Vo]]))","v":0},{"$f":"IF(W$1=0,0,IF(Configuration!$F$11=\"D\",$R122,Table7[[#This Row],[Vo]]))","v":0},{"$f":"IF(X$1=0,0,IF(Configuration!$F$12=\"D\",$R122,Table7[[#This Row],[Vo]]))","v":0},{"$f":"IF(Y$1=0,0,IF(Configuration!$F$13=\"D\",$R122,Table7[[#This Row],[Vo]]))","v":0},{"$f":"IF(Z$1=0,0,IF(Configuration!$F$14=\"D\",$R122,Table7[[#This Row],[Vo]]))","v":0},{"$f":"IF(AA$1=0,0,IF(Configuration!$F$15=\"D\",$R122,Table7[[#This Row],[Vo]]))","v":0},{"$f":"IF(AB$1=0,0,IF(Configuration!$F$16=\"D\",$R122,Table7[[#This Row],[Vo]]))","v":0},{"$f":"IF(AC$1=0,0,IF(Configuration!$F$17=\"D\",$R122,Table7[[#This Row],[Vo]]))","v":0}]
[13.1,"NMS-240-12",18.320610687022903,240,"E",{"$f":"IF(1200/Table2[[#This Row],[Module rated power]]>6,6,ROUNDDOWN(1200/Table2[[#This Row],[Module rated power]],0))","v":5},{"$f":"Table2[[#This Row],[Module rated power]]*Table2[[#This Row],[Available No. of Slot]]","v":1200},{"$f":"ROUNDDOWN(Table2[[#This Row],[Max power per output]]/Table2[[#This Row],[Output Voltage]],2)","v":91.6},null,null,null,null,null,null,null,"Malaysia",null,14.8,{"$f":"IF(S$1=0,0,IF(Configuration!$F$7=\"D\",$R123,Table7[[#This Row],[Vo]]))","v":0},{"$f":"IF(T$1=0,0,IF(Configuration!$F$8=\"D\",$R123,Table7[[#This Row],[Vo]]))","v":0},{"$f":"IF(U$1=0,0,IF(Configuration!$F$9=\"D\",$R123,Table7[[#This Row],[Vo]]))","v":0},{"$f":"IF(V$1=0,0,IF(Configuration!$F$10=\"D\",$R123,Table7[[#This Row],[Vo]]))","v":0},{"$f":"IF(W$1=0,0,IF(Configuration!$F$11=\"D\",$R123,Table7[[#This Row],[Vo]]))","v":0},{"$f":"IF(X$1=0,0,IF(Configuration!$F$12=\"D\",$R123,Table7[[#This Row],[Vo]]))","v":0},{"$f":"IF(Y$1=0,0,IF(Configuration!$F$13=\"D\",$R123,Table7[[#This Row],[Vo]]))","v":0},{"$f":"IF(Z$1=0,0,IF(Configuration!$F$14=\"D\",$R123,Table7[[#This Row],[Vo]]))","v":0},{"$f":"IF(AA$1=0,0,IF(Configuration!$F$15=\"D\",$R123,Table7[[#This Row],[Vo]]))","v":0},{"$f":"IF(AB$1=0,0,IF(Configuration!$F$16=\"D\",$R123,Table7[[#This Row],[Vo]]))","v":0},{"$f":"IF(AC$1=0,0,IF(Configuration!$F$17=\"D\",$R123,Table7[[#This Row],[Vo]]))","v":0}]
[13.2,"NMS-240-12",18.181818181818183,240,"E",{"$f":"IF(1200/Table2[[#This Row],[Module rated power]]>6,6,ROUNDDOWN(1200/Table2[[#This Row],[Module rated power]],0))","v":5},{"$f":"Table2[[#This Row],[Module rated power]]*Table2[[#This Row],[Available No. of Slot]]","v":1200},{"$f":"ROUNDDOWN(Table2[[#This Row],[Max power per output]]/Table2[[#This Row],[Output Voltage]],2)","v":90.9},null,null,null,null,null,null,null,"Mali",null,14.9,{"$f":"IF(S$1=0,0,IF(Configuration!$F$7=\"D\",$R124,Table7[[#This Row],[Vo]]))","v":0},{"$f":"IF(T$1=0,0,IF(Configuration!$F$8=\"D\",$R124,Table7[[#This Row],[Vo]]))","v":0},{"$f":"IF(U$1=0,0,IF(Configuration!$F$9=\"D\",$R124,Table7[[#This Row],[Vo]]))","v":0},{"$f":"IF(V$1=0,0,IF(Configuration!$F$10=\"D\",$R124,Table7[[#This Row],[Vo]]))","v":0},{"$f":"IF(W$1=0,0,IF(Configuration!$F$11=\"D\",$R124,Table7[[#This Row],[Vo]]))","v":0},{"$f":"IF(X$1=0,0,IF(Configuration!$F$12=\"D\",$R124,Table7[[#This Row],[Vo]]))","v":0},{"$f":"IF(Y$1=0,0,IF(Configuration!$F$13=\"D\",$R124,Table7[[#This Row],[Vo]]))","v":0},{"$f":"IF(Z$1=0,0,IF(Configuration!$F$14=\"D\",$R124,Table7[[#This Row],[Vo]]))","v":0},{"$f":"IF(AA$1=0,0,IF(Configuration!$F$15=\"D\",$R124,Table7[[#This Row],[Vo]]))","v":0},{"$f":"IF(AB$1=0,0,IF(Configuration!$F$16=\"D\",$R124,Table7[[#This Row],[Vo]]))","v":0},{"$f":"IF(AC$1=0,0,IF(Configuration!$F$17=\"D\",$R124,Table7[[#This Row],[Vo]]))","v":0}]
[13.3,"NMS-240-12",18.045112781954888,240,"E",{"$f":"IF(1200/Table2[[#This Row],[Module rated power]]>6,6,ROUNDDOWN(1200/Table2[[#This Row],[Module rated power]],0))","v":5},{"$f":"Table2[[#This Row],[Module rated power]]*Table2[[#This Row],[Available No. of Slot]]","v":1200},{"$f":"ROUNDDOWN(Table2[[#This Row],[Max power per output]]/Table2[[#This Row],[Output Voltage]],2)","v":90.22},null,null,null,null,null,null,null,"Malta",null,15,{"$f":"IF(S$1=0,0,IF(Configuration!$F$7=\"D\",$R125,Table7[[#This Row],[Vo]]))","v":0},{"$f":"IF(T$1=0,0,IF(Configuration!$F$8=\"D\",$R125,Table7[[#This Row],[Vo]]))","v":0},{"$f":"IF(U$1=0,0,IF(Configuration!$F$9=\"D\",$R125,Table7[[#This Row],[Vo]]))","v":0},{"$f":"IF(V$1=0,0,IF(Configuration!$F$10=\"D\",$R125,Table7[[#This Row],[Vo]]))","v":0},{"$f":"IF(W$1=0,0,IF(Configuration!$F$11=\"D\",$R125,Table7[[#This Row],[Vo]]))","v":0},{"$f":"IF(X$1=0,0,IF(Configuration!$F$12=\"D\",$R125,Table7[[#This Row],[Vo]]))","v":0},{"$f":"IF(Y$1=0,0,IF(Configuration!$F$13=\"D\",$R125,Table7[[#This Row],[Vo]]))","v":0},{"$f":"IF(Z$1=0,0,IF(Configuration!$F$14=\"D\",$R125,Table7[[#This Row],[Vo]]))","v":0},{"$f":"IF(AA$1=0,0,IF(Configuration!$F$15=\"D\",$R125,Table7[[#This Row],[Vo]]))","v":0},{"$f":"IF(AB$1=0,0,IF(Configuration!$F$16=\"D\",$R125,Table7[[#This Row],[Vo]]))","v":0},{"$f":"IF(AC$1=0,0,IF(Configuration!$F$17=\"D\",$R125,Table7[[#This Row],[Vo]]))","v":0}]
[13.4,"NMS-240-12",17.910447761194028,240,"E",{"$f":"IF(1200/Table2[[#This Row],[Module rated power]]>6,6,ROUNDDOWN(1200/Table2[[#This Row],[Module rated power]],0))","v":5},{"$f":"Table2[[#This Row],[Module rated power]]*Table2[[#This Row],[Available No. of Slot]]","v":1200},{"$f":"ROUNDDOWN(Table2[[#This Row],[Max power per output]]/Table2[[#This Row],[Output Voltage]],2)","v":89.55},null,null,null,null,null,null,null,"Mauritius",null,15.1,{"$f":"IF(S$1=0,0,IF(Configuration!$F$7=\"D\",$R126,Table7[[#This Row],[Vo]]))","v":0},{"$f":"IF(T$1=0,0,IF(Configuration!$F$8=\"D\",$R126,Table7[[#This Row],[Vo]]))","v":0},{"$f":"IF(U$1=0,0,IF(Configuration!$F$9=\"D\",$R126,Table7[[#This Row],[Vo]]))","v":0},{"$f":"IF(V$1=0,0,IF(Configuration!$F$10=\"D\",$R126,Table7[[#This Row],[Vo]]))","v":0},{"$f":"IF(W$1=0,0,IF(Configuration!$F$11=\"D\",$R126,Table7[[#This Row],[Vo]]))","v":0},{"$f":"IF(X$1=0,0,IF(Configuration!$F$12=\"D\",$R126,Table7[[#This Row],[Vo]]))","v":0},{"$f":"IF(Y$1=0,0,IF(Configuration!$F$13=\"D\",$R126,Table7[[#This Row],[Vo]]))","v":0},{"$f":"IF(Z$1=0,0,IF(Configuration!$F$14=\"D\",$R126,Table7[[#This Row],[Vo]]))","v":0},{"$f":"IF(AA$1=0,0,IF(Configuration!$F$15=\"D\",$R126,Table7[[#This Row],[Vo]]))","v":0},{"$f":"IF(AB$1=0,0,IF(Configuration!$F$16=\"D\",$R126,Table7[[#This Row],[Vo]]))","v":0},{"$f":"IF(AC$1=0,0,IF(Configuration!$F$17=\"D\",$R126,Table7[[#This Row],[Vo]]))","v":0}]
[13.5,"NMS-240-12",17.777777777777779,240,"E",{"$f":"IF(1200/Table2[[#This Row],[Module rated power]]>6,6,ROUNDDOWN(1200/Table2[[#This Row],[Module rated power]],0))","v":5},{"$f":"Table2[[#This Row],[Module rated power]]*Table2[[#This Row],[Available No. of Slot]]","v":1200},{"$f":"ROUNDDOWN(Table2[[#This Row],[Max power per output]]/Table2[[#This Row],[Output Voltage]],2)","v":88.88},null,null,null,null,null,null,null,"Mexico",null,15.2,{"$f":"IF(S$1=0,0,IF(Configuration!$F$7=\"D\",$R127,Table7[[#This Row],[Vo]]))","v":0},{"$f":"IF(T$1=0,0,IF(Configuration!$F$8=\"D\",$R127,Table7[[#This Row],[Vo]]))","v":0},{"$f":"IF(U$1=0,0,IF(Configuration!$F$9=\"D\",$R127,Table7[[#This Row],[Vo]]))","v":0},{"$f":"IF(V$1=0,0,IF(Configuration!$F$10=\"D\",$R127,Table7[[#This Row],[Vo]]))","v":0},{"$f":"IF(W$1=0,0,IF(Configuration!$F$11=\"D\",$R127,Table7[[#This Row],[Vo]]))","v":0},{"$f":"IF(X$1=0,0,IF(Configuration!$F$12=\"D\",$R127,Table7[[#This Row],[Vo]]))","v":0},{"$f":"IF(Y$1=0,0,IF(Configuration!$F$13=\"D\",$R127,Table7[[#This Row],[Vo]]))","v":0},{"$f":"IF(Z$1=0,0,IF(Configuration!$F$14=\"D\",$R127,Table7[[#This Row],[Vo]]))","v":0},{"$f":"IF(AA$1=0,0,IF(Configuration!$F$15=\"D\",$R127,Table7[[#This Row],[Vo]]))","v":0},{"$f":"IF(AB$1=0,0,IF(Configuration!$F$16=\"D\",$R127,Table7[[#This Row],[Vo]]))","v":0},{"$f":"IF(AC$1=0,0,IF(Configuration!$F$17=\"D\",$R127,Table7[[#This Row],[Vo]]))","v":0}]
[13.6,"NMS-240-12",17.647058823529413,240,"E",{"$f":"IF(1200/Table2[[#This Row],[Module rated power]]>6,6,ROUNDDOWN(1200/Table2[[#This Row],[Module rated power]],0))","v":5},{"$f":"Table2[[#This Row],[Module rated power]]*Table2[[#This Row],[Available No. of Slot]]","v":1200},{"$f":"ROUNDDOWN(Table2[[#This Row],[Max power per output]]/Table2[[#This Row],[Output Voltage]],2)","v":88.23},null,null,null,null,null,null,null,"Monaco",null,15.3,{"$f":"IF(S$1=0,0,IF(Configuration!$F$7=\"D\",$R128,Table7[[#This Row],[Vo]]))","v":0},{"$f":"IF(T$1=0,0,IF(Configuration!$F$8=\"D\",$R128,Table7[[#This Row],[Vo]]))","v":0},{"$f":"IF(U$1=0,0,IF(Configuration!$F$9=\"D\",$R128,Table7[[#This Row],[Vo]]))","v":0},{"$f":"IF(V$1=0,0,IF(Configuration!$F$10=\"D\",$R128,Table7[[#This Row],[Vo]]))","v":0},{"$f":"IF(W$1=0,0,IF(Configuration!$F$11=\"D\",$R128,Table7[[#This Row],[Vo]]))","v":0},{"$f":"IF(X$1=0,0,IF(Configuration!$F$12=\"D\",$R128,Table7[[#This Row],[Vo]]))","v":0},{"$f":"IF(Y$1=0,0,IF(Configuration!$F$13=\"D\",$R128,Table7[[#This Row],[Vo]]))","v":0},{"$f":"IF(Z$1=0,0,IF(Configuration!$F$14=\"D\",$R128,Table7[[#This Row],[Vo]]))","v":0},{"$f":"IF(AA$1=0,0,IF(Configuration!$F$15=\"D\",$R128,Table7[[#This Row],[Vo]]))","v":0},{"$f":"IF(AB$1=0,0,IF(Configuration!$F$16=\"D\",$R128,Table7[[#This Row],[Vo]]))","v":0},{"$f":"IF(AC$1=0,0,IF(Configuration!$F$17=\"D\",$R128,Table7[[#This Row],[Vo]]))","v":0}]
[13.7,"NMS-240-12",17.518248175182482,240,"E",{"$f":"IF(1200/Table2[[#This Row],[Module rated power]]>6,6,ROUNDDOWN(1200/Table2[[#This Row],[Module rated power]],0))","v":5},{"$f":"Table2[[#This Row],[Module rated power]]*Table2[[#This Row],[Available No. of Slot]]","v":1200},{"$f":"ROUNDDOWN(Table2[[#This Row],[Max power per output]]/Table2[[#This Row],[Output Voltage]],2)","v":87.59},null,null,null,null,null,null,null,"Montenegro",null,15.4,{"$f":"IF(S$1=0,0,IF(Configuration!$F$7=\"D\",$R129,Table7[[#This Row],[Vo]]))","v":0},{"$f":"IF(T$1=0,0,IF(Configuration!$F$8=\"D\",$R129,Table7[[#This Row],[Vo]]))","v":0},{"$f":"IF(U$1=0,0,IF(Configuration!$F$9=\"D\",$R129,Table7[[#This Row],[Vo]]))","v":0},{"$f":"IF(V$1=0,0,IF(Configuration!$F$10=\"D\",$R129,Table7[[#This Row],[Vo]]))","v":0},{"$f":"IF(W$1=0,0,IF(Configuration!$F$11=\"D\",$R129,Table7[[#This Row],[Vo]]))","v":0},{"$f":"IF(X$1=0,0,IF(Configuration!$F$12=\"D\",$R129,Table7[[#This Row],[Vo]]))","v":0},{"$f":"IF(Y$1=0,0,IF(Configuration!$F$13=\"D\",$R129,Table7[[#This Row],[Vo]]))","v":0},{"$f":"IF(Z$1=0,0,IF(Configuration!$F$14=\"D\",$R129,Table7[[#This Row],[Vo]]))","v":0},{"$f":"IF(AA$1=0,0,IF(Configuration!$F$15=\"D\",$R129,Table7[[#This Row],[Vo]]))","v":0},{"$f":"IF(AB$1=0,0,IF(Configuration!$F$16=\"D\",$R129,Table7[[#This Row],[Vo]]))","v":0},{"$f":"IF(AC$1=0,0,IF(Configuration!$F$17=\"D\",$R129,Table7[[#This Row],[Vo]]))","v":0}]
[13.8,"NMS-240-12",17.391304347826086,240,"E",{"$f":"IF(1200/Table2[[#This Row],[Module rated power]]>6,6,ROUNDDOWN(1200/Table2[[#This Row],[Module rated power]],0))","v":5},{"$f":"Table2[[#This Row],[Module rated power]]*Table2[[#This Row],[Available No. of Slot]]","v":1200},{"$f":"ROUNDDOWN(Table2[[#This Row],[Max power per output]]/Table2[[#This Row],[Output Voltage]],2)","v":86.95},null,null,null,null,null,null,null,"Morocco",null,15.5,{"$f":"IF(S$1=0,0,IF(Configuration!$F$7=\"D\",$R130,Table7[[#This Row],[Vo]]))","v":0},{"$f":"IF(T$1=0,0,IF(Configuration!$F$8=\"D\",$R130,Table7[[#This Row],[Vo]]))","v":0},{"$f":"IF(U$1=0,0,IF(Configuration!$F$9=\"D\",$R130,Table7[[#This Row],[Vo]]))","v":0},{"$f":"IF(V$1=0,0,IF(Configuration!$F$10=\"D\",$R130,Table7[[#This Row],[Vo]]))","v":0},{"$f":"IF(W$1=0,0,IF(Configuration!$F$11=\"D\",$R130,Table7[[#This Row],[Vo]]))","v":0},{"$f":"IF(X$1=0,0,IF(Configuration!$F$12=\"D\",$R130,Table7[[#This Row],[Vo]]))","v":0},{"$f":"IF(Y$1=0,0,IF(Configuration!$F$13=\"D\",$R130,Table7[[#This Row],[Vo]]))","v":0},{"$f":"IF(Z$1=0,0,IF(Configuration!$F$14=\"D\",$R130,Table7[[#This Row],[Vo]]))","v":0},{"$f":"IF(AA$1=0,0,IF(Configuration!$F$15=\"D\",$R130,Table7[[#This Row],[Vo]]))","v":0},{"$f":"IF(AB$1=0,0,IF(Configuration!$F$16=\"D\",$R130,Table7[[#This Row],[Vo]]))","v":0},{"$f":"IF(AC$1=0,0,IF(Configuration!$F$17=\"D\",$R130,Table7[[#This Row],[Vo]]))","v":0}]
[13.9,"NMS-240-12",17.266187050359711,240,"E",{"$f":"IF(1200/Table2[[#This Row],[Module rated power]]>6,6,ROUNDDOWN(1200/Table2[[#This Row],[Module rated power]],0))","v":5},{"$f":"Table2[[#This Row],[Module rated power]]*Table2[[#This Row],[Available No. of Slot]]","v":1200},{"$f":"ROUNDDOWN(Table2[[#This Row],[Max power per output]]/Table2[[#This Row],[Output Voltage]],2)","v":86.33},null,null,null,null,null,null,null,"Nauru",null,15.6,{"$f":"IF(S$1=0,0,IF(Configuration!$F$7=\"D\",$R131,Table7[[#This Row],[Vo]]))","v":0},{"$f":"IF(T$1=0,0,IF(Configuration!$F$8=\"D\",$R131,Table7[[#This Row],[Vo]]))","v":0},{"$f":"IF(U$1=0,0,IF(Configuration!$F$9=\"D\",$R131,Table7[[#This Row],[Vo]]))","v":0},{"$f":"IF(V$1=0,0,IF(Configuration!$F$10=\"D\",$R131,Table7[[#This Row],[Vo]]))","v":0},{"$f":"IF(W$1=0,0,IF(Configuration!$F$11=\"D\",$R131,Table7[[#This Row],[Vo]]))","v":0},{"$f":"IF(X$1=0,0,IF(Configuration!$F$12=\"D\",$R131,Table7[[#This Row],[Vo]]))","v":0},{"$f":"IF(Y$1=0,0,IF(Configuration!$F$13=\"D\",$R131,Table7[[#This Row],[Vo]]))","v":0},{"$f":"IF(Z$1=0,0,IF(Configuration!$F$14=\"D\",$R131,Table7[[#This Row],[Vo]]))","v":0},{"$f":"IF(AA$1=0,0,IF(Configuration!$F$15=\"D\",$R131,Table7[[#This Row],[Vo]]))","v":0},{"$f":"IF(AB$1=0,0,IF(Configuration!$F$16=\"D\",$R131,Table7[[#This Row],[Vo]]))","v":0},{"$f":"IF(AC$1=0,0,IF(Configuration!$F$17=\"D\",$R131,Table7[[#This Row],[Vo]]))","v":0}]
[14,"NMS-240-12",17.142857142857142,240,"E",{"$f":"IF(1200/Table2[[#This Row],[Module rated power]]>6,6,ROUNDDOWN(1200/Table2[[#This Row],[Module rated power]],0))","v":5},{"$f":"Table2[[#This Row],[Module rated power]]*Table2[[#This Row],[Available No. of Slot]]","v":1200},{"$f":"ROUNDDOWN(Table2[[#This Row],[Max power per output]]/Table2[[#This Row],[Output Voltage]],2)","v":85.71},null,null,null,null,null,null,null,"Nepal",null,15.7,{"$f":"IF(S$1=0,0,IF(Configuration!$F$7=\"D\",$R132,Table7[[#This Row],[Vo]]))","v":0},{"$f":"IF(T$1=0,0,IF(Configuration!$F$8=\"D\",$R132,Table7[[#This Row],[Vo]]))","v":0},{"$f":"IF(U$1=0,0,IF(Configuration!$F$9=\"D\",$R132,Table7[[#This Row],[Vo]]))","v":0},{"$f":"IF(V$1=0,0,IF(Configuration!$F$10=\"D\",$R132,Table7[[#This Row],[Vo]]))","v":0},{"$f":"IF(W$1=0,0,IF(Configuration!$F$11=\"D\",$R132,Table7[[#This Row],[Vo]]))","v":0},{"$f":"IF(X$1=0,0,IF(Configuration!$F$12=\"D\",$R132,Table7[[#This Row],[Vo]]))","v":0},{"$f":"IF(Y$1=0,0,IF(Configuration!$F$13=\"D\",$R132,Table7[[#This Row],[Vo]]))","v":0},{"$f":"IF(Z$1=0,0,IF(Configuration!$F$14=\"D\",$R132,Table7[[#This Row],[Vo]]))","v":0},{"$f":"IF(AA$1=0,0,IF(Configuration!$F$15=\"D\",$R132,Table7[[#This Row],[Vo]]))","v":0},{"$f":"IF(AB$1=0,0,IF(Configuration!$F$16=\"D\",$R132,Table7[[#This Row],[Vo]]))","v":0},{"$f":"IF(AC$1=0,0,IF(Configuration!$F$17=\"D\",$R132,Table7[[#This Row],[Vo]]))","v":0}]
[14.1,"NMS-240-12",17.021276595744681,240,"E",{"$f":"IF(1200/Table2[[#This Row],[Module rated power]]>6,6,ROUNDDOWN(1200/Table2[[#This Row],[Module rated power]],0))","v":5},{"$f":"Table2[[#This Row],[Module rated power]]*Table2[[#This Row],[Available No. of Slot]]","v":1200},{"$f":"ROUNDDOWN(Table2[[#This Row],[Max power per output]]/Table2[[#This Row],[Output Voltage]],2)","v":85.1},null,null,null,null,null,null,null,"Nicaragua",null,15.8,{"$f":"IF(S$1=0,0,IF(Configuration!$F$7=\"D\",$R133,Table7[[#This Row],[Vo]]))","v":0},{"$f":"IF(T$1=0,0,IF(Configuration!$F$8=\"D\",$R133,Table7[[#This Row],[Vo]]))","v":0},{"$f":"IF(U$1=0,0,IF(Configuration!$F$9=\"D\",$R133,Table7[[#This Row],[Vo]]))","v":0},{"$f":"IF(V$1=0,0,IF(Configuration!$F$10=\"D\",$R133,Table7[[#This Row],[Vo]]))","v":0},{"$f":"IF(W$1=0,0,IF(Configuration!$F$11=\"D\",$R133,Table7[[#This Row],[Vo]]))","v":0},{"$f":"IF(X$1=0,0,IF(Configuration!$F$12=\"D\",$R133,Table7[[#This Row],[Vo]]))","v":0},{"$f":"IF(Y$1=0,0,IF(Configuration!$F$13=\"D\",$R133,Table7[[#This Row],[Vo]]))","v":0},{"$f":"IF(Z$1=0,0,IF(Configuration!$F$14=\"D\",$R133,Table7[[#This Row],[Vo]]))","v":0},{"$f":"IF(AA$1=0,0,IF(Configuration!$F$15=\"D\",$R133,Table7[[#This Row],[Vo]]))","v":0},{"$f":"IF(AB$1=0,0,IF(Configuration!$F$16=\"D\",$R133,Table7[[#This Row],[Vo]]))","v":0},{"$f":"IF(AC$1=0,0,IF(Configuration!$F$17=\"D\",$R133,Table7[[#This Row],[Vo]]))","v":0}]
[14.2,"NMS-240-12",16.901408450704228,240,"E",{"$f":"IF(1200/Table2[[#This Row],[Module rated power]]>6,6,ROUNDDOWN(1200/Table2[[#This Row],[Module rated power]],0))","v":5},{"$f":"Table2[[#This Row],[Module rated power]]*Table2[[#This Row],[Available No. of Slot]]","v":1200},{"$f":"ROUNDDOWN(Table2[[#This Row],[Max power per output]]/Table2[[#This Row],[Output Voltage]],2)","v":84.5},null,null,null,null,null,null,null,"Niger",null,15.9,{"$f":"IF(S$1=0,0,IF(Configuration!$F$7=\"D\",$R134,Table7[[#This Row],[Vo]]))","v":0},{"$f":"IF(T$1=0,0,IF(Configuration!$F$8=\"D\",$R134,Table7[[#This Row],[Vo]]))","v":0},{"$f":"IF(U$1=0,0,IF(Configuration!$F$9=\"D\",$R134,Table7[[#This Row],[Vo]]))","v":0},{"$f":"IF(V$1=0,0,IF(Configuration!$F$10=\"D\",$R134,Table7[[#This Row],[Vo]]))","v":0},{"$f":"IF(W$1=0,0,IF(Configuration!$F$11=\"D\",$R134,Table7[[#This Row],[Vo]]))","v":0},{"$f":"IF(X$1=0,0,IF(Configuration!$F$12=\"D\",$R134,Table7[[#This Row],[Vo]]))","v":0},{"$f":"IF(Y$1=0,0,IF(Configuration!$F$13=\"D\",$R134,Table7[[#This Row],[Vo]]))","v":0},{"$f":"IF(Z$1=0,0,IF(Configuration!$F$14=\"D\",$R134,Table7[[#This Row],[Vo]]))","v":0},{"$f":"IF(AA$1=0,0,IF(Configuration!$F$15=\"D\",$R134,Table7[[#This Row],[Vo]]))","v":0},{"$f":"IF(AB$1=0,0,IF(Configuration!$F$16=\"D\",$R134,Table7[[#This Row],[Vo]]))","v":0},{"$f":"IF(AC$1=0,0,IF(Configuration!$F$17=\"D\",$R134,Table7[[#This Row],[Vo]]))","v":0}]
[14.3,"NMS-240-12",16.783216783216783,240,"E",{"$f":"IF(1200/Table2[[#This Row],[Module rated power]]>6,6,ROUNDDOWN(1200/Table2[[#This Row],[Module rated power]],0))","v":5},{"$f":"Table2[[#This Row],[Module rated power]]*Table2[[#This Row],[Available No. of Slot]]","v":1200},{"$f":"ROUNDDOWN(Table2[[#This Row],[Max power per output]]/Table2[[#This Row],[Output Voltage]],2)","v":83.91},null,null,null,null,null,null,null,"Namibia",null,{"$f":"ROUNDUP(R133+0.1,1)","v":16},{"$f":"IF(S$1=0,0,IF(Configuration!$F$7=\"D\",$R135,Table7[[#This Row],[Vo]]))","v":0},{"$f":"IF(T$1=0,0,IF(Configuration!$F$8=\"D\",$R135,Table7[[#This Row],[Vo]]))","v":0},{"$f":"IF(U$1=0,0,IF(Configuration!$F$9=\"D\",$R135,Table7[[#This Row],[Vo]]))","v":0},{"$f":"IF(V$1=0,0,IF(Configuration!$F$10=\"D\",$R135,Table7[[#This Row],[Vo]]))","v":0},{"$f":"IF(W$1=0,0,IF(Configuration!$F$11=\"D\",$R135,Table7[[#This Row],[Vo]]))","v":0},{"$f":"IF(X$1=0,0,IF(Configuration!$F$12=\"D\",$R135,Table7[[#This Row],[Vo]]))","v":0},{"$f":"IF(Y$1=0,0,IF(Configuration!$F$13=\"D\",$R135,Table7[[#This Row],[Vo]]))","v":0},{"$f":"IF(Z$1=0,0,IF(Configuration!$F$14=\"D\",$R135,Table7[[#This Row],[Vo]]))","v":0},{"$f":"IF(AA$1=0,0,IF(Configuration!$F$15=\"D\",$R135,Table7[[#This Row],[Vo]]))","v":0},{"$f":"IF(AB$1=0,0,IF(Configuration!$F$16=\"D\",$R135,Table7[[#This Row],[Vo]]))","v":0},{"$f":"IF(AC$1=0,0,IF(Configuration!$F$17=\"D\",$R135,Table7[[#This Row],[Vo]]))","v":0}]
[14.4,"NMS-240-12",16.666666666666668,240,"E",{"$f":"IF(1200/Table2[[#This Row],[Module rated power]]>6,6,ROUNDDOWN(1200/Table2[[#This Row],[Module rated power]],0))","v":5},{"$f":"Table2[[#This Row],[Module rated power]]*Table2[[#This Row],[Available No. of Slot]]","v":1200},{"$f":"ROUNDDOWN(Table2[[#This Row],[Max power per output]]/Table2[[#This Row],[Output Voltage]],2)","v":83.33},null,null,null,null,null,null,null,"Netherlands",null,16.100000000000001,{"$f":"IF(S$1=0,0,IF(Configuration!$F$7=\"D\",$R136,Table7[[#This Row],[Vo]]))","v":0},{"$f":"IF(T$1=0,0,IF(Configuration!$F$8=\"D\",$R136,Table7[[#This Row],[Vo]]))","v":0},{"$f":"IF(U$1=0,0,IF(Configuration!$F$9=\"D\",$R136,Table7[[#This Row],[Vo]]))","v":0},{"$f":"IF(V$1=0,0,IF(Configuration!$F$10=\"D\",$R136,Table7[[#This Row],[Vo]]))","v":0},{"$f":"IF(W$1=0,0,IF(Configuration!$F$11=\"D\",$R136,Table7[[#This Row],[Vo]]))","v":0},{"$f":"IF(X$1=0,0,IF(Configuration!$F$12=\"D\",$R136,Table7[[#This Row],[Vo]]))","v":0},{"$f":"IF(Y$1=0,0,IF(Configuration!$F$13=\"D\",$R136,Table7[[#This Row],[Vo]]))","v":0},{"$f":"IF(Z$1=0,0,IF(Configuration!$F$14=\"D\",$R136,Table7[[#This Row],[Vo]]))","v":0},{"$f":"IF(AA$1=0,0,IF(Configuration!$F$15=\"D\",$R136,Table7[[#This Row],[Vo]]))","v":0},{"$f":"IF(AB$1=0,0,IF(Configuration!$F$16=\"D\",$R136,Table7[[#This Row],[Vo]]))","v":0},{"$f":"IF(AC$1=0,0,IF(Configuration!$F$17=\"D\",$R136,Table7[[#This Row],[Vo]]))","v":0}]
[14.5,"NMS-240-12",16.551724137931036,240,"E",{"$f":"IF(1200/Table2[[#This Row],[Module rated power]]>6,6,ROUNDDOWN(1200/Table2[[#This Row],[Module rated power]],0))","v":5},{"$f":"Table2[[#This Row],[Module rated power]]*Table2[[#This Row],[Available No. of Slot]]","v":1200},{"$f":"ROUNDDOWN(Table2[[#This Row],[Max power per output]]/Table2[[#This Row],[Output Voltage]],2)","v":82.75},null,null,null,null,null,null,null,"New Zealand",null,16.2,{"$f":"IF(S$1=0,0,IF(Configuration!$F$7=\"D\",$R137,Table7[[#This Row],[Vo]]))","v":0},{"$f":"IF(T$1=0,0,IF(Configuration!$F$8=\"D\",$R137,Table7[[#This Row],[Vo]]))","v":0},{"$f":"IF(U$1=0,0,IF(Configuration!$F$9=\"D\",$R137,Table7[[#This Row],[Vo]]))","v":0},{"$f":"IF(V$1=0,0,IF(Configuration!$F$10=\"D\",$R137,Table7[[#This Row],[Vo]]))","v":0},{"$f":"IF(W$1=0,0,IF(Configuration!$F$11=\"D\",$R137,Table7[[#This Row],[Vo]]))","v":0},{"$f":"IF(X$1=0,0,IF(Configuration!$F$12=\"D\",$R137,Table7[[#This Row],[Vo]]))","v":0},{"$f":"IF(Y$1=0,0,IF(Configuration!$F$13=\"D\",$R137,Table7[[#This Row],[Vo]]))","v":0},{"$f":"IF(Z$1=0,0,IF(Configuration!$F$14=\"D\",$R137,Table7[[#This Row],[Vo]]))","v":0},{"$f":"IF(AA$1=0,0,IF(Configuration!$F$15=\"D\",$R137,Table7[[#This Row],[Vo]]))","v":0},{"$f":"IF(AB$1=0,0,IF(Configuration!$F$16=\"D\",$R137,Table7[[#This Row],[Vo]]))","v":0},{"$f":"IF(AC$1=0,0,IF(Configuration!$F$17=\"D\",$R137,Table7[[#This Row],[Vo]]))","v":0}]
[14.6,"NMS-240-12",16.438356164383563,240,"E",{"$f":"IF(1200/Table2[[#This Row],[Module rated power]]>6,6,ROUNDDOWN(1200/Table2[[#This Row],[Module rated power]],0))","v":5},{"$f":"Table2[[#This Row],[Module rated power]]*Table2[[#This Row],[Available No. of Slot]]","v":1200},{"$f":"ROUNDDOWN(Table2[[#This Row],[Max power per output]]/Table2[[#This Row],[Output Voltage]],2)","v":82.19},null,null,null,null,null,null,null,"Nigeria",null,16.3,{"$f":"IF(S$1=0,0,IF(Configuration!$F$7=\"D\",$R138,Table7[[#This Row],[Vo]]))","v":0},{"$f":"IF(T$1=0,0,IF(Configuration!$F$8=\"D\",$R138,Table7[[#This Row],[Vo]]))","v":0},{"$f":"IF(U$1=0,0,IF(Configuration!$F$9=\"D\",$R138,Table7[[#This Row],[Vo]]))","v":0},{"$f":"IF(V$1=0,0,IF(Configuration!$F$10=\"D\",$R138,Table7[[#This Row],[Vo]]))","v":0},{"$f":"IF(W$1=0,0,IF(Configuration!$F$11=\"D\",$R138,Table7[[#This Row],[Vo]]))","v":0},{"$f":"IF(X$1=0,0,IF(Configuration!$F$12=\"D\",$R138,Table7[[#This Row],[Vo]]))","v":0},{"$f":"IF(Y$1=0,0,IF(Configuration!$F$13=\"D\",$R138,Table7[[#This Row],[Vo]]))","v":0},{"$f":"IF(Z$1=0,0,IF(Configuration!$F$14=\"D\",$R138,Table7[[#This Row],[Vo]]))","v":0},{"$f":"IF(AA$1=0,0,IF(Configuration!$F$15=\"D\",$R138,Table7[[#This Row],[Vo]]))","v":0},{"$f":"IF(AB$1=0,0,IF(Configuration!$F$16=\"D\",$R138,Table7[[#This Row],[Vo]]))","v":0},{"$f":"IF(AC$1=0,0,IF(Configuration!$F$17=\"D\",$R138,Table7[[#This Row],[Vo]]))","v":0}]
[14.7,"NMS-240-12",16.326530612244898,240,"E",{"$f":"IF(1200/Table2[[#This Row],[Module rated power]]>6,6,ROUNDDOWN(1200/Table2[[#This Row],[Module rated power]],0))","v":5},{"$f":"Table2[[#This Row],[Module rated power]]*Table2[[#This Row],[Available No. of Slot]]","v":1200},{"$f":"ROUNDDOWN(Table2[[#This Row],[Max power per output]]/Table2[[#This Row],[Output Voltage]],2)","v":81.63},null,null,null,null,null,null,null,"Norway",null,16.399999999999999,{"$f":"IF(S$1=0,0,IF(Configuration!$F$7=\"D\",$R139,Table7[[#This Row],[Vo]]))","v":0},{"$f":"IF(T$1=0,0,IF(Configuration!$F$8=\"D\",$R139,Table7[[#This Row],[Vo]]))","v":0},{"$f":"IF(U$1=0,0,IF(Configuration!$F$9=\"D\",$R139,Table7[[#This Row],[Vo]]))","v":0},{"$f":"IF(V$1=0,0,IF(Configuration!$F$10=\"D\",$R139,Table7[[#This Row],[Vo]]))","v":0},{"$f":"IF(W$1=0,0,IF(Configuration!$F$11=\"D\",$R139,Table7[[#This Row],[Vo]]))","v":0},{"$f":"IF(X$1=0,0,IF(Configuration!$F$12=\"D\",$R139,Table7[[#This Row],[Vo]]))","v":0},{"$f":"IF(Y$1=0,0,IF(Configuration!$F$13=\"D\",$R139,Table7[[#This Row],[Vo]]))","v":0},{"$f":"IF(Z$1=0,0,IF(Configuration!$F$14=\"D\",$R139,Table7[[#This Row],[Vo]]))","v":0},{"$f":"IF(AA$1=0,0,IF(Configuration!$F$15=\"D\",$R139,Table7[[#This Row],[Vo]]))","v":0},{"$f":"IF(AB$1=0,0,IF(Configuration!$F$16=\"D\",$R139,Table7[[#This Row],[Vo]]))","v":0},{"$f":"IF(AC$1=0,0,IF(Configuration!$F$17=\"D\",$R139,Table7[[#This Row],[Vo]]))","v":0}]
[14.8,"NMS-240-12",16.216216216216214,240,"E",{"$f":"IF(1200/Table2[[#This Row],[Module rated power]]>6,6,ROUNDDOWN(1200/Table2[[#This Row],[Module rated power]],0))","v":5},{"$f":"Table2[[#This Row],[Module rated power]]*Table2[[#This Row],[Available No. of Slot]]","v":1200},{"$f":"ROUNDDOWN(Table2[[#This Row],[Max power per output]]/Table2[[#This Row],[Output Voltage]],2)","v":81.08},null,null,null,null,null,null,null,"Oman",null,16.5,{"$f":"IF(S$1=0,0,IF(Configuration!$F$7=\"D\",$R140,Table7[[#This Row],[Vo]]))","v":0},{"$f":"IF(T$1=0,0,IF(Configuration!$F$8=\"D\",$R140,Table7[[#This Row],[Vo]]))","v":0},{"$f":"IF(U$1=0,0,IF(Configuration!$F$9=\"D\",$R140,Table7[[#This Row],[Vo]]))","v":0},{"$f":"IF(V$1=0,0,IF(Configuration!$F$10=\"D\",$R140,Table7[[#This Row],[Vo]]))","v":0},{"$f":"IF(W$1=0,0,IF(Configuration!$F$11=\"D\",$R140,Table7[[#This Row],[Vo]]))","v":0},{"$f":"IF(X$1=0,0,IF(Configuration!$F$12=\"D\",$R140,Table7[[#This Row],[Vo]]))","v":0},{"$f":"IF(Y$1=0,0,IF(Configuration!$F$13=\"D\",$R140,Table7[[#This Row],[Vo]]))","v":0},{"$f":"IF(Z$1=0,0,IF(Configuration!$F$14=\"D\",$R140,Table7[[#This Row],[Vo]]))","v":0},{"$f":"IF(AA$1=0,0,IF(Configuration!$F$15=\"D\",$R140,Table7[[#This Row],[Vo]]))","v":0},{"$f":"IF(AB$1=0,0,IF(Configuration!$F$16=\"D\",$R140,Table7[[#This Row],[Vo]]))","v":0},{"$f":"IF(AC$1=0,0,IF(Configuration!$F$17=\"D\",$R140,Table7[[#This Row],[Vo]]))","v":0}]
[14.9,"NMS-240-12",16.107382550335569,240,"E",{"$f":"IF(1200/Table2[[#This Row],[Module rated power]]>6,6,ROUNDDOWN(1200/Table2[[#This Row],[Module rated power]],0))","v":5},{"$f":"Table2[[#This Row],[Module rated power]]*Table2[[#This Row],[Available No. of Slot]]","v":1200},{"$f":"ROUNDDOWN(Table2[[#This Row],[Max power per output]]/Table2[[#This Row],[Output Voltage]],2)","v":80.53},null,null,null,null,null,null,null,"Pakistan",null,16.600000000000001,{"$f":"IF(S$1=0,0,IF(Configuration!$F$7=\"D\",$R141,Table7[[#This Row],[Vo]]))","v":0},{"$f":"IF(T$1=0,0,IF(Configuration!$F$8=\"D\",$R141,Table7[[#This Row],[Vo]]))","v":0},{"$f":"IF(U$1=0,0,IF(Configuration!$F$9=\"D\",$R141,Table7[[#This Row],[Vo]]))","v":0},{"$f":"IF(V$1=0,0,IF(Configuration!$F$10=\"D\",$R141,Table7[[#This Row],[Vo]]))","v":0},{"$f":"IF(W$1=0,0,IF(Configuration!$F$11=\"D\",$R141,Table7[[#This Row],[Vo]]))","v":0},{"$f":"IF(X$1=0,0,IF(Configuration!$F$12=\"D\",$R141,Table7[[#This Row],[Vo]]))","v":0},{"$f":"IF(Y$1=0,0,IF(Configuration!$F$13=\"D\",$R141,Table7[[#This Row],[Vo]]))","v":0},{"$f":"IF(Z$1=0,0,IF(Configuration!$F$14=\"D\",$R141,Table7[[#This Row],[Vo]]))","v":0},{"$f":"IF(AA$1=0,0,IF(Configuration!$F$15=\"D\",$R141,Table7[[#This Row],[Vo]]))","v":0},{"$f":"IF(AB$1=0,0,IF(Configuration!$F$16=\"D\",$R141,Table7[[#This Row],[Vo]]))","v":0},{"$f":"IF(AC$1=0,0,IF(Configuration!$F$17=\"D\",$R141,Table7[[#This Row],[Vo]]))","v":0}]
[15,"NMS-240-12",16,240,"E",{"$f":"IF(1200/Table2[[#This Row],[Module rated power]]>6,6,ROUNDDOWN(1200/Table2[[#This Row],[Module rated power]],0))","v":5},{"$f":"Table2[[#This Row],[Module rated power]]*Table2[[#This Row],[Available No. of Slot]]","v":1200},{"$f":"ROUNDDOWN(Table2[[#This Row],[Max power per output]]/Table2[[#This Row],[Output Voltage]],2)","v":80},null,null,null,null,null,null,null,"Palestinian Territory ",null,16.7,{"$f":"IF(S$1=0,0,IF(Configuration!$F$7=\"D\",$R142,Table7[[#This Row],[Vo]]))","v":0},{"$f":"IF(T$1=0,0,IF(Configuration!$F$8=\"D\",$R142,Table7[[#This Row],[Vo]]))","v":0},{"$f":"IF(U$1=0,0,IF(Configuration!$F$9=\"D\",$R142,Table7[[#This Row],[Vo]]))","v":0},{"$f":"IF(V$1=0,0,IF(Configuration!$F$10=\"D\",$R142,Table7[[#This Row],[Vo]]))","v":0},{"$f":"IF(W$1=0,0,IF(Configuration!$F$11=\"D\",$R142,Table7[[#This Row],[Vo]]))","v":0},{"$f":"IF(X$1=0,0,IF(Configuration!$F$12=\"D\",$R142,Table7[[#This Row],[Vo]]))","v":0},{"$f":"IF(Y$1=0,0,IF(Configuration!$F$13=\"D\",$R142,Table7[[#This Row],[Vo]]))","v":0},{"$f":"IF(Z$1=0,0,IF(Configuration!$F$14=\"D\",$R142,Table7[[#This Row],[Vo]]))","v":0},{"$f":"IF(AA$1=0,0,IF(Configuration!$F$15=\"D\",$R142,Table7[[#This Row],[Vo]]))","v":0},{"$f":"IF(AB$1=0,0,IF(Configuration!$F$16=\"D\",$R142,Table7[[#This Row],[Vo]]))","v":0},{"$f":"IF(AC$1=0,0,IF(Configuration!$F$17=\"D\",$R142,Table7[[#This Row],[Vo]]))","v":0}]
[15.1,"NMS-240-24",10,{"$f":"Table2[[#This Row],[Output Voltage]]*Table2[[#This Row],[Module rated current]]","v":151},"H",{"$f":"IF(1200/Table2[[#This Row],[Module rated power]]>6,6,ROUNDDOWN(1200/Table2[[#This Row],[Module rated power]],0))","v":6},{"$f":"Table2[[#This Row],[Module rated power]]*Table2[[#This Row],[Available No. of Slot]]","v":906},{"$f":"ROUNDDOWN(Table2[[#This Row],[Max power per output]]/Table2[[#This Row],[Output Voltage]],2)","v":60},null,null,null,null,null,null,null,"Panama",null,16.8,{"$f":"IF(S$1=0,0,IF(Configuration!$F$7=\"D\",$R143,Table7[[#This Row],[Vo]]))","v":0},{"$f":"IF(T$1=0,0,IF(Configuration!$F$8=\"D\",$R143,Table7[[#This Row],[Vo]]))","v":0},{"$f":"IF(U$1=0,0,IF(Configuration!$F$9=\"D\",$R143,Table7[[#This Row],[Vo]]))","v":0},{"$f":"IF(V$1=0,0,IF(Configuration!$F$10=\"D\",$R143,Table7[[#This Row],[Vo]]))","v":0},{"$f":"IF(W$1=0,0,IF(Configuration!$F$11=\"D\",$R143,Table7[[#This Row],[Vo]]))","v":0},{"$f":"IF(X$1=0,0,IF(Configuration!$F$12=\"D\",$R143,Table7[[#This Row],[Vo]]))","v":0},{"$f":"IF(Y$1=0,0,IF(Configuration!$F$13=\"D\",$R143,Table7[[#This Row],[Vo]]))","v":0},{"$f":"IF(Z$1=0,0,IF(Configuration!$F$14=\"D\",$R143,Table7[[#This Row],[Vo]]))","v":0},{"$f":"IF(AA$1=0,0,IF(Configuration!$F$15=\"D\",$R143,Table7[[#This Row],[Vo]]))","v":0},{"$f":"IF(AB$1=0,0,IF(Configuration!$F$16=\"D\",$R143,Table7[[#This Row],[Vo]]))","v":0},{"$f":"IF(AC$1=0,0,IF(Configuration!$F$17=\"D\",$R143,Table7[[#This Row],[Vo]]))","v":0}]
[15.2,"NMS-240-24",10,{"$f":"Table2[[#This Row],[Output Voltage]]*Table2[[#This Row],[Module rated current]]","v":152},"H",{"$f":"IF(1200/Table2[[#This Row],[Module rated power]]>6,6,ROUNDDOWN(1200/Table2[[#This Row],[Module rated power]],0))","v":6},{"$f":"Table2[[#This Row],[Module rated power]]*Table2[[#This Row],[Available No. of Slot]]","v":912},{"$f":"ROUNDDOWN(Table2[[#This Row],[Max power per output]]/Table2[[#This Row],[Output Voltage]],2)","v":60},null,null,null,null,null,null,null,"Papua New Guinea",null,16.899999999999999,{"$f":"IF(S$1=0,0,IF(Configuration!$F$7=\"D\",$R144,Table7[[#This Row],[Vo]]))","v":0},{"$f":"IF(T$1=0,0,IF(Configuration!$F$8=\"D\",$R144,Table7[[#This Row],[Vo]]))","v":0},{"$f":"IF(U$1=0,0,IF(Configuration!$F$9=\"D\",$R144,Table7[[#This Row],[Vo]]))","v":0},{"$f":"IF(V$1=0,0,IF(Configuration!$F$10=\"D\",$R144,Table7[[#This Row],[Vo]]))","v":0},{"$f":"IF(W$1=0,0,IF(Configuration!$F$11=\"D\",$R144,Table7[[#This Row],[Vo]]))","v":0},{"$f":"IF(X$1=0,0,IF(Configuration!$F$12=\"D\",$R144,Table7[[#This Row],[Vo]]))","v":0},{"$f":"IF(Y$1=0,0,IF(Configuration!$F$13=\"D\",$R144,Table7[[#This Row],[Vo]]))","v":0},{"$f":"IF(Z$1=0,0,IF(Configuration!$F$14=\"D\",$R144,Table7[[#This Row],[Vo]]))","v":0},{"$f":"IF(AA$1=0,0,IF(Configuration!$F$15=\"D\",$R144,Table7[[#This Row],[Vo]]))","v":0},{"$f":"IF(AB$1=0,0,IF(Configuration!$F$16=\"D\",$R144,Table7[[#This Row],[Vo]]))","v":0},{"$f":"IF(AC$1=0,0,IF(Configuration!$F$17=\"D\",$R144,Table7[[#This Row],[Vo]]))","v":0}]
[15.3,"NMS-240-24",10,{"$f":"Table2[[#This Row],[Output Voltage]]*Table2[[#This Row],[Module rated current]]","v":153},"H",{"$f":"IF(1200/Table2[[#This Row],[Module rated power]]>6,6,ROUNDDOWN(1200/Table2[[#This Row],[Module rated power]],0))","v":6},{"$f":"Table2[[#This Row],[Module rated power]]*Table2[[#This Row],[Available No. of Slot]]","v":918},{"$f":"ROUNDDOWN(Table2[[#This Row],[Max power per output]]/Table2[[#This Row],[Output Voltage]],2)","v":60},null,null,null,null,null,null,null,"Paraguay",null,17,{"$f":"IF(S$1=0,0,IF(Configuration!$F$7=\"D\",$R145,Table7[[#This Row],[Vo]]))","v":0},{"$f":"IF(T$1=0,0,IF(Configuration!$F$8=\"D\",$R145,Table7[[#This Row],[Vo]]))","v":0},{"$f":"IF(U$1=0,0,IF(Configuration!$F$9=\"D\",$R145,Table7[[#This Row],[Vo]]))","v":0},{"$f":"IF(V$1=0,0,IF(Configuration!$F$10=\"D\",$R145,Table7[[#This Row],[Vo]]))","v":0},{"$f":"IF(W$1=0,0,IF(Configuration!$F$11=\"D\",$R145,Table7[[#This Row],[Vo]]))","v":0},{"$f":"IF(X$1=0,0,IF(Configuration!$F$12=\"D\",$R145,Table7[[#This Row],[Vo]]))","v":0},{"$f":"IF(Y$1=0,0,IF(Configuration!$F$13=\"D\",$R145,Table7[[#This Row],[Vo]]))","v":0},{"$f":"IF(Z$1=0,0,IF(Configuration!$F$14=\"D\",$R145,Table7[[#This Row],[Vo]]))","v":0},{"$f":"IF(AA$1=0,0,IF(Configuration!$F$15=\"D\",$R145,Table7[[#This Row],[Vo]]))","v":0},{"$f":"IF(AB$1=0,0,IF(Configuration!$F$16=\"D\",$R145,Table7[[#This Row],[Vo]]))","v":0},{"$f":"IF(AC$1=0,0,IF(Configuration!$F$17=\"D\",$R145,Table7[[#This Row],[Vo]]))","v":0}]
[15.4,"NMS-240-24",10,{"$f":"Table2[[#This Row],[Output Voltage]]*Table2[[#This Row],[Module rated current]]","v":154},"H",{"$f":"IF(1200/Table2[[#This Row],[Module rated power]]>6,6,ROUNDDOWN(1200/Table2[[#This Row],[Module rated power]],0))","v":6},{"$f":"Table2[[#This Row],[Module rated power]]*Table2[[#This Row],[Available No. of Slot]]","v":924},{"$f":"ROUNDDOWN(Table2[[#This Row],[Max power per output]]/Table2[[#This Row],[Output Voltage]],2)","v":60},null,null,null,null,null,null,null,"Peru",null,17.100000000000001,{"$f":"IF(S$1=0,0,IF(Configuration!$F$7=\"D\",$R146,Table7[[#This Row],[Vo]]))","v":0},{"$f":"IF(T$1=0,0,IF(Configuration!$F$8=\"D\",$R146,Table7[[#This Row],[Vo]]))","v":0},{"$f":"IF(U$1=0,0,IF(Configuration!$F$9=\"D\",$R146,Table7[[#This Row],[Vo]]))","v":0},{"$f":"IF(V$1=0,0,IF(Configuration!$F$10=\"D\",$R146,Table7[[#This Row],[Vo]]))","v":0},{"$f":"IF(W$1=0,0,IF(Configuration!$F$11=\"D\",$R146,Table7[[#This Row],[Vo]]))","v":0},{"$f":"IF(X$1=0,0,IF(Configuration!$F$12=\"D\",$R146,Table7[[#This Row],[Vo]]))","v":0},{"$f":"IF(Y$1=0,0,IF(Configuration!$F$13=\"D\",$R146,Table7[[#This Row],[Vo]]))","v":0},{"$f":"IF(Z$1=0,0,IF(Configuration!$F$14=\"D\",$R146,Table7[[#This Row],[Vo]]))","v":0},{"$f":"IF(AA$1=0,0,IF(Configuration!$F$15=\"D\",$R146,Table7[[#This Row],[Vo]]))","v":0},{"$f":"IF(AB$1=0,0,IF(Configuration!$F$16=\"D\",$R146,Table7[[#This Row],[Vo]]))","v":0},{"$f":"IF(AC$1=0,0,IF(Configuration!$F$17=\"D\",$R146,Table7[[#This Row],[Vo]]))","v":0}]
[15.5,"NMS-240-24",10,{"$f":"Table2[[#This Row],[Output Voltage]]*Table2[[#This Row],[Module rated current]]","v":155},"H",{"$f":"IF(1200/Table2[[#This Row],[Module rated power]]>6,6,ROUNDDOWN(1200/Table2[[#This Row],[Module rated power]],0))","v":6},{"$f":"Table2[[#This Row],[Module rated power]]*Table2[[#This Row],[Available No. of Slot]]","v":930},{"$f":"ROUNDDOWN(Table2[[#This Row],[Max power per output]]/Table2[[#This Row],[Output Voltage]],2)","v":60},null,null,null,null,null,null,null,"Philippines",null,17.2,{"$f":"IF(S$1=0,0,IF(Configuration!$F$7=\"D\",$R147,Table7[[#This Row],[Vo]]))","v":0},{"$f":"IF(T$1=0,0,IF(Configuration!$F$8=\"D\",$R147,Table7[[#This Row],[Vo]]))","v":0},{"$f":"IF(U$1=0,0,IF(Configuration!$F$9=\"D\",$R147,Table7[[#This Row],[Vo]]))","v":0},{"$f":"IF(V$1=0,0,IF(Configuration!$F$10=\"D\",$R147,Table7[[#This Row],[Vo]]))","v":0},{"$f":"IF(W$1=0,0,IF(Configuration!$F$11=\"D\",$R147,Table7[[#This Row],[Vo]]))","v":0},{"$f":"IF(X$1=0,0,IF(Configuration!$F$12=\"D\",$R147,Table7[[#This Row],[Vo]]))","v":0},{"$f":"IF(Y$1=0,0,IF(Configuration!$F$13=\"D\",$R147,Table7[[#This Row],[Vo]]))","v":0},{"$f":"IF(Z$1=0,0,IF(Configuration!$F$14=\"D\",$R147,Table7[[#This Row],[Vo]]))","v":0},{"$f":"IF(AA$1=0,0,IF(Configuration!$F$15=\"D\",$R147,Table7[[#This Row],[Vo]]))","v":0},{"$f":"IF(AB$1=0,0,IF(Configuration!$F$16=\"D\",$R147,Table7[[#This Row],[Vo]]))","v":0},{"$f":"IF(AC$1=0,0,IF(Configuration!$F$17=\"D\",$R147,Table7[[#This Row],[Vo]]))","v":0}]
[15.6,"NMS-240-24",10,{"$f":"Table2[[#This Row],[Output Voltage]]*Table2[[#This Row],[Module rated current]]","v":156},"H",{"$f":"IF(1200/Table2[[#This Row],[Module rated power]]>6,6,ROUNDDOWN(1200/Table2[[#This Row],[Module rated power]],0))","v":6},{"$f":"Table2[[#This Row],[Module rated power]]*Table2[[#This Row],[Available No. of Slot]]","v":936},{"$f":"ROUNDDOWN(Table2[[#This Row],[Max power per output]]/Table2[[#This Row],[Output Voltage]],2)","v":60},null,null,null,null,null,null,null,"Poland",null,17.3,{"$f":"IF(S$1=0,0,IF(Configuration!$F$7=\"D\",$R148,Table7[[#This Row],[Vo]]))","v":0},{"$f":"IF(T$1=0,0,IF(Configuration!$F$8=\"D\",$R148,Table7[[#This Row],[Vo]]))","v":0},{"$f":"IF(U$1=0,0,IF(Configuration!$F$9=\"D\",$R148,Table7[[#This Row],[Vo]]))","v":0},{"$f":"IF(V$1=0,0,IF(Configuration!$F$10=\"D\",$R148,Table7[[#This Row],[Vo]]))","v":0},{"$f":"IF(W$1=0,0,IF(Configuration!$F$11=\"D\",$R148,Table7[[#This Row],[Vo]]))","v":0},{"$f":"IF(X$1=0,0,IF(Configuration!$F$12=\"D\",$R148,Table7[[#This Row],[Vo]]))","v":0},{"$f":"IF(Y$1=0,0,IF(Configuration!$F$13=\"D\",$R148,Table7[[#This Row],[Vo]]))","v":0},{"$f":"IF(Z$1=0,0,IF(Configuration!$F$14=\"D\",$R148,Table7[[#This Row],[Vo]]))","v":0},{"$f":"IF(AA$1=0,0,IF(Configuration!$F$15=\"D\",$R148,Table7[[#This Row],[Vo]]))","v":0},{"$f":"IF(AB$1=0,0,IF(Configuration!$F$16=\"D\",$R148,Table7[[#This Row],[Vo]]))","v":0},{"$f":"IF(AC$1=0,0,IF(Configuration!$F$17=\"D\",$R148,Table7[[#This Row],[Vo]]))","v":0}]
[15.7,"NMS-240-24",10,{"$f":"Table2[[#This Row],[Output Voltage]]*Table2[[#This Row],[Module rated current]]","v":157},"H",{"$f":"IF(1200/Table2[[#This Row],[Module rated power]]>6,6,ROUNDDOWN(1200/Table2[[#This Row],[Module rated power]],0))","v":6},{"$f":"Table2[[#This Row],[Module rated power]]*Table2[[#This Row],[Available No. of Slot]]","v":942},{"$f":"ROUNDDOWN(Table2[[#This Row],[Max power per output]]/Table2[[#This Row],[Output Voltage]],2)","v":60},null,null,null,null,null,null,null,"Portugal",null,17.399999999999999,{"$f":"IF(S$1=0,0,IF(Configuration!$F$7=\"D\",$R149,Table7[[#This Row],[Vo]]))","v":0},{"$f":"IF(T$1=0,0,IF(Configuration!$F$8=\"D\",$R149,Table7[[#This Row],[Vo]]))","v":0},{"$f":"IF(U$1=0,0,IF(Configuration!$F$9=\"D\",$R149,Table7[[#This Row],[Vo]]))","v":0},{"$f":"IF(V$1=0,0,IF(Configuration!$F$10=\"D\",$R149,Table7[[#This Row],[Vo]]))","v":0},{"$f":"IF(W$1=0,0,IF(Configuration!$F$11=\"D\",$R149,Table7[[#This Row],[Vo]]))","v":0},{"$f":"IF(X$1=0,0,IF(Configuration!$F$12=\"D\",$R149,Table7[[#This Row],[Vo]]))","v":0},{"$f":"IF(Y$1=0,0,IF(Configuration!$F$13=\"D\",$R149,Table7[[#This Row],[Vo]]))","v":0},{"$f":"IF(Z$1=0,0,IF(Configuration!$F$14=\"D\",$R149,Table7[[#This Row],[Vo]]))","v":0},{"$f":"IF(AA$1=0,0,IF(Configuration!$F$15=\"D\",$R149,Table7[[#This Row],[Vo]]))","v":0},{"$f":"IF(AB$1=0,0,IF(Configuration!$F$16=\"D\",$R149,Table7[[#This Row],[Vo]]))","v":0},{"$f":"IF(AC$1=0,0,IF(Configuration!$F$17=\"D\",$R149,Table7[[#This Row],[Vo]]))","v":0}]
[15.8,"NMS-240-24",10,{"$f":"Table2[[#This Row],[Output Voltage]]*Table2[[#This Row],[Module rated current]]","v":158},"H",{"$f":"IF(1200/Table2[[#This Row],[Module rated power]]>6,6,ROUNDDOWN(1200/Table2[[#This Row],[Module rated power]],0))","v":6},{"$f":"Table2[[#This Row],[Module rated power]]*Table2[[#This Row],[Available No. of Slot]]","v":948},{"$f":"ROUNDDOWN(Table2[[#This Row],[Max power per output]]/Table2[[#This Row],[Output Voltage]],2)","v":60},null,null,null,null,null,null,null,"Palau",null,17.5,{"$f":"IF(S$1=0,0,IF(Configuration!$F$7=\"D\",$R150,Table7[[#This Row],[Vo]]))","v":0},{"$f":"IF(T$1=0,0,IF(Configuration!$F$8=\"D\",$R150,Table7[[#This Row],[Vo]]))","v":0},{"$f":"IF(U$1=0,0,IF(Configuration!$F$9=\"D\",$R150,Table7[[#This Row],[Vo]]))","v":0},{"$f":"IF(V$1=0,0,IF(Configuration!$F$10=\"D\",$R150,Table7[[#This Row],[Vo]]))","v":0},{"$f":"IF(W$1=0,0,IF(Configuration!$F$11=\"D\",$R150,Table7[[#This Row],[Vo]]))","v":0},{"$f":"IF(X$1=0,0,IF(Configuration!$F$12=\"D\",$R150,Table7[[#This Row],[Vo]]))","v":0},{"$f":"IF(Y$1=0,0,IF(Configuration!$F$13=\"D\",$R150,Table7[[#This Row],[Vo]]))","v":0},{"$f":"IF(Z$1=0,0,IF(Configuration!$F$14=\"D\",$R150,Table7[[#This Row],[Vo]]))","v":0},{"$f":"IF(AA$1=0,0,IF(Configuration!$F$15=\"D\",$R150,Table7[[#This Row],[Vo]]))","v":0},{"$f":"IF(AB$1=0,0,IF(Configuration!$F$16=\"D\",$R150,Table7[[#This Row],[Vo]]))","v":0},{"$f":"IF(AC$1=0,0,IF(Configuration!$F$17=\"D\",$R150,Table7[[#This Row],[Vo]]))","v":0}]
[15.9,"NMS-240-24",10,{"$f":"Table2[[#This Row],[Output Voltage]]*Table2[[#This Row],[Module rated current]]","v":159},"H",{"$f":"IF(1200/Table2[[#This Row],[Module rated power]]>6,6,ROUNDDOWN(1200/Table2[[#This Row],[Module rated power]],0))","v":6},{"$f":"Table2[[#This Row],[Module rated power]]*Table2[[#This Row],[Available No. of Slot]]","v":954},{"$f":"ROUNDDOWN(Table2[[#This Row],[Max power per output]]/Table2[[#This Row],[Output Voltage]],2)","v":60},null,null,null,null,null,null,null,"Qatar",null,17.600000000000001,{"$f":"IF(S$1=0,0,IF(Configuration!$F$7=\"D\",$R151,Table7[[#This Row],[Vo]]))","v":0},{"$f":"IF(T$1=0,0,IF(Configuration!$F$8=\"D\",$R151,Table7[[#This Row],[Vo]]))","v":0},{"$f":"IF(U$1=0,0,IF(Configuration!$F$9=\"D\",$R151,Table7[[#This Row],[Vo]]))","v":0},{"$f":"IF(V$1=0,0,IF(Configuration!$F$10=\"D\",$R151,Table7[[#This Row],[Vo]]))","v":0},{"$f":"IF(W$1=0,0,IF(Configuration!$F$11=\"D\",$R151,Table7[[#This Row],[Vo]]))","v":0},{"$f":"IF(X$1=0,0,IF(Configuration!$F$12=\"D\",$R151,Table7[[#This Row],[Vo]]))","v":0},{"$f":"IF(Y$1=0,0,IF(Configuration!$F$13=\"D\",$R151,Table7[[#This Row],[Vo]]))","v":0},{"$f":"IF(Z$1=0,0,IF(Configuration!$F$14=\"D\",$R151,Table7[[#This Row],[Vo]]))","v":0},{"$f":"IF(AA$1=0,0,IF(Configuration!$F$15=\"D\",$R151,Table7[[#This Row],[Vo]]))","v":0},{"$f":"IF(AB$1=0,0,IF(Configuration!$F$16=\"D\",$R151,Table7[[#This Row],[Vo]]))","v":0},{"$f":"IF(AC$1=0,0,IF(Configuration!$F$17=\"D\",$R151,Table7[[#This Row],[Vo]]))","v":0}]
[{"$f":"ROUNDUP(A150+0.1,1)","v":16},"NMS-240-24",10,{"$f":"Table2[[#This Row],[Output Voltage]]*Table2[[#This Row],[Module rated current]]","v":160},"H",{"$f":"IF(1200/Table2[[#This Row],[Module rated power]]>6,6,ROUNDDOWN(1200/Table2[[#This Row],[Module rated power]],0))","v":6},{"$f":"Table2[[#This Row],[Module rated power]]*Table2[[#This Row],[Available No. of Slot]]","v":960},{"$f":"ROUNDDOWN(Table2[[#This Row],[Max power per output]]/Table2[[#This Row],[Output Voltage]],2)","v":60},null,null,null,null,null,null,null,"Republic of Korea",null,17.7,{"$f":"IF(S$1=0,0,IF(Configuration!$F$7=\"D\",$R152,Table7[[#This Row],[Vo]]))","v":0},{"$f":"IF(T$1=0,0,IF(Configuration!$F$8=\"D\",$R152,Table7[[#This Row],[Vo]]))","v":0},{"$f":"IF(U$1=0,0,IF(Configuration!$F$9=\"D\",$R152,Table7[[#This Row],[Vo]]))","v":0},{"$f":"IF(V$1=0,0,IF(Configuration!$F$10=\"D\",$R152,Table7[[#This Row],[Vo]]))","v":0},{"$f":"IF(W$1=0,0,IF(Configuration!$F$11=\"D\",$R152,Table7[[#This Row],[Vo]]))","v":0},{"$f":"IF(X$1=0,0,IF(Configuration!$F$12=\"D\",$R152,Table7[[#This Row],[Vo]]))","v":0},{"$f":"IF(Y$1=0,0,IF(Configuration!$F$13=\"D\",$R152,Table7[[#This Row],[Vo]]))","v":0},{"$f":"IF(Z$1=0,0,IF(Configuration!$F$14=\"D\",$R152,Table7[[#This Row],[Vo]]))","v":0},{"$f":"IF(AA$1=0,0,IF(Configuration!$F$15=\"D\",$R152,Table7[[#This Row],[Vo]]))","v":0},{"$f":"IF(AB$1=0,0,IF(Configuration!$F$16=\"D\",$R152,Table7[[#This Row],[Vo]]))","v":0},{"$f":"IF(AC$1=0,0,IF(Configuration!$F$17=\"D\",$R152,Table7[[#This Row],[Vo]]))","v":0}]
[16.100000000000001,"NMS-240-24",10,{"$f":"Table2[[#This Row],[Output Voltage]]*Table2[[#This Row],[Module rated current]]","v":161},"H",{"$f":"IF(1200/Table2[[#This Row],[Module rated power]]>6,6,ROUNDDOWN(1200/Table2[[#This Row],[Module rated power]],0))","v":6},{"$f":"Table2[[#This Row],[Module rated power]]*Table2[[#This Row],[Available No. of Slot]]","v":966},{"$f":"ROUNDDOWN(Table2[[#This Row],[Max power per output]]/Table2[[#This Row],[Output Voltage]],2)","v":60},null,null,null,null,null,null,null,"Republic of Moldova",null,17.8,{"$f":"IF(S$1=0,0,IF(Configuration!$F$7=\"D\",$R153,Table7[[#This Row],[Vo]]))","v":0},{"$f":"IF(T$1=0,0,IF(Configuration!$F$8=\"D\",$R153,Table7[[#This Row],[Vo]]))","v":0},{"$f":"IF(U$1=0,0,IF(Configuration!$F$9=\"D\",$R153,Table7[[#This Row],[Vo]]))","v":0},{"$f":"IF(V$1=0,0,IF(Configuration!$F$10=\"D\",$R153,Table7[[#This Row],[Vo]]))","v":0},{"$f":"IF(W$1=0,0,IF(Configuration!$F$11=\"D\",$R153,Table7[[#This Row],[Vo]]))","v":0},{"$f":"IF(X$1=0,0,IF(Configuration!$F$12=\"D\",$R153,Table7[[#This Row],[Vo]]))","v":0},{"$f":"IF(Y$1=0,0,IF(Configuration!$F$13=\"D\",$R153,Table7[[#This Row],[Vo]]))","v":0},{"$f":"IF(Z$1=0,0,IF(Configuration!$F$14=\"D\",$R153,Table7[[#This Row],[Vo]]))","v":0},{"$f":"IF(AA$1=0,0,IF(Configuration!$F$15=\"D\",$R153,Table7[[#This Row],[Vo]]))","v":0},{"$f":"IF(AB$1=0,0,IF(Configuration!$F$16=\"D\",$R153,Table7[[#This Row],[Vo]]))","v":0},{"$f":"IF(AC$1=0,0,IF(Configuration!$F$17=\"D\",$R153,Table7[[#This Row],[Vo]]))","v":0}]
[16.2,"NMS-240-24",10,{"$f":"Table2[[#This Row],[Output Voltage]]*Table2[[#This Row],[Module rated current]]","v":162},"H",{"$f":"IF(1200/Table2[[#This Row],[Module rated power]]>6,6,ROUNDDOWN(1200/Table2[[#This Row],[Module rated power]],0))","v":6},{"$f":"Table2[[#This Row],[Module rated power]]*Table2[[#This Row],[Available No. of Slot]]","v":972},{"$f":"ROUNDDOWN(Table2[[#This Row],[Max power per output]]/Table2[[#This Row],[Output Voltage]],2)","v":60},null,null,null,null,null,null,null,"Romania",null,17.899999999999999,{"$f":"IF(S$1=0,0,IF(Configuration!$F$7=\"D\",$R154,Table7[[#This Row],[Vo]]))","v":0},{"$f":"IF(T$1=0,0,IF(Configuration!$F$8=\"D\",$R154,Table7[[#This Row],[Vo]]))","v":0},{"$f":"IF(U$1=0,0,IF(Configuration!$F$9=\"D\",$R154,Table7[[#This Row],[Vo]]))","v":0},{"$f":"IF(V$1=0,0,IF(Configuration!$F$10=\"D\",$R154,Table7[[#This Row],[Vo]]))","v":0},{"$f":"IF(W$1=0,0,IF(Configuration!$F$11=\"D\",$R154,Table7[[#This Row],[Vo]]))","v":0},{"$f":"IF(X$1=0,0,IF(Configuration!$F$12=\"D\",$R154,Table7[[#This Row],[Vo]]))","v":0},{"$f":"IF(Y$1=0,0,IF(Configuration!$F$13=\"D\",$R154,Table7[[#This Row],[Vo]]))","v":0},{"$f":"IF(Z$1=0,0,IF(Configuration!$F$14=\"D\",$R154,Table7[[#This Row],[Vo]]))","v":0},{"$f":"IF(AA$1=0,0,IF(Configuration!$F$15=\"D\",$R154,Table7[[#This Row],[Vo]]))","v":0},{"$f":"IF(AB$1=0,0,IF(Configuration!$F$16=\"D\",$R154,Table7[[#This Row],[Vo]]))","v":0},{"$f":"IF(AC$1=0,0,IF(Configuration!$F$17=\"D\",$R154,Table7[[#This Row],[Vo]]))","v":0}]
[16.3,"NMS-240-24",10,{"$f":"Table2[[#This Row],[Output Voltage]]*Table2[[#This Row],[Module rated current]]","v":163},"H",{"$f":"IF(1200/Table2[[#This Row],[Module rated power]]>6,6,ROUNDDOWN(1200/Table2[[#This Row],[Module rated power]],0))","v":6},{"$f":"Table2[[#This Row],[Module rated power]]*Table2[[#This Row],[Available No. of Slot]]","v":978},{"$f":"ROUNDDOWN(Table2[[#This Row],[Max power per output]]/Table2[[#This Row],[Output Voltage]],2)","v":60},null,null,null,null,null,null,null,"Russian Federation",null,18,{"$f":"IF(S$1=0,0,IF(Configuration!$F$7=\"D\",$R155,Table7[[#This Row],[Vo]]))","v":0},{"$f":"IF(T$1=0,0,IF(Configuration!$F$8=\"D\",$R155,Table7[[#This Row],[Vo]]))","v":0},{"$f":"IF(U$1=0,0,IF(Configuration!$F$9=\"D\",$R155,Table7[[#This Row],[Vo]]))","v":0},{"$f":"IF(V$1=0,0,IF(Configuration!$F$10=\"D\",$R155,Table7[[#This Row],[Vo]]))","v":0},{"$f":"IF(W$1=0,0,IF(Configuration!$F$11=\"D\",$R155,Table7[[#This Row],[Vo]]))","v":0},{"$f":"IF(X$1=0,0,IF(Configuration!$F$12=\"D\",$R155,Table7[[#This Row],[Vo]]))","v":0},{"$f":"IF(Y$1=0,0,IF(Configuration!$F$13=\"D\",$R155,Table7[[#This Row],[Vo]]))","v":0},{"$f":"IF(Z$1=0,0,IF(Configuration!$F$14=\"D\",$R155,Table7[[#This Row],[Vo]]))","v":0},{"$f":"IF(AA$1=0,0,IF(Configuration!$F$15=\"D\",$R155,Table7[[#This Row],[Vo]]))","v":0},{"$f":"IF(AB$1=0,0,IF(Configuration!$F$16=\"D\",$R155,Table7[[#This Row],[Vo]]))","v":0},{"$f":"IF(AC$1=0,0,IF(Configuration!$F$17=\"D\",$R155,Table7[[#This Row],[Vo]]))","v":0}]
[16.399999999999999,"NMS-240-24",10,{"$f":"Table2[[#This Row],[Output Voltage]]*Table2[[#This Row],[Module rated current]]","v":164},"H",{"$f":"IF(1200/Table2[[#This Row],[Module rated power]]>6,6,ROUNDDOWN(1200/Table2[[#This Row],[Module rated power]],0))","v":6},{"$f":"Table2[[#This Row],[Module rated power]]*Table2[[#This Row],[Available No. of Slot]]","v":984},{"$f":"ROUNDDOWN(Table2[[#This Row],[Max power per output]]/Table2[[#This Row],[Output Voltage]],2)","v":60},null,null,null,null,null,null,null,"Rwanda",null,18.100000000000001,{"$f":"IF(S$1=0,0,IF(Configuration!$F$7=\"D\",$R156,Table7[[#This Row],[Vo]]))","v":0},{"$f":"IF(T$1=0,0,IF(Configuration!$F$8=\"D\",$R156,Table7[[#This Row],[Vo]]))","v":0},{"$f":"IF(U$1=0,0,IF(Configuration!$F$9=\"D\",$R156,Table7[[#This Row],[Vo]]))","v":0},{"$f":"IF(V$1=0,0,IF(Configuration!$F$10=\"D\",$R156,Table7[[#This Row],[Vo]]))","v":0},{"$f":"IF(W$1=0,0,IF(Configuration!$F$11=\"D\",$R156,Table7[[#This Row],[Vo]]))","v":0},{"$f":"IF(X$1=0,0,IF(Configuration!$F$12=\"D\",$R156,Table7[[#This Row],[Vo]]))","v":0},{"$f":"IF(Y$1=0,0,IF(Configuration!$F$13=\"D\",$R156,Table7[[#This Row],[Vo]]))","v":0},{"$f":"IF(Z$1=0,0,IF(Configuration!$F$14=\"D\",$R156,Table7[[#This Row],[Vo]]))","v":0},{"$f":"IF(AA$1=0,0,IF(Configuration!$F$15=\"D\",$R156,Table7[[#This Row],[Vo]]))","v":0},{"$f":"IF(AB$1=0,0,IF(Configuration!$F$16=\"D\",$R156,Table7[[#This Row],[Vo]]))","v":0},{"$f":"IF(AC$1=0,0,IF(Configuration!$F$17=\"D\",$R156,Table7[[#This Row],[Vo]]))","v":0}]
[16.5,"NMS-240-24",10,{"$f":"Table2[[#This Row],[Output Voltage]]*Table2[[#This Row],[Module rated current]]","v":165},"H",{"$f":"IF(1200/Table2[[#This Row],[Module rated power]]>6,6,ROUNDDOWN(1200/Table2[[#This Row],[Module rated power]],0))","v":6},{"$f":"Table2[[#This Row],[Module rated power]]*Table2[[#This Row],[Available No. of Slot]]","v":990},{"$f":"ROUNDDOWN(Table2[[#This Row],[Max power per output]]/Table2[[#This Row],[Output Voltage]],2)","v":60},null,null,null,null,null,null,null,"Saint Kitts and Nevis",null,18.2,{"$f":"IF(S$1=0,0,IF(Configuration!$F$7=\"D\",$R157,Table7[[#This Row],[Vo]]))","v":0},{"$f":"IF(T$1=0,0,IF(Configuration!$F$8=\"D\",$R157,Table7[[#This Row],[Vo]]))","v":0},{"$f":"IF(U$1=0,0,IF(Configuration!$F$9=\"D\",$R157,Table7[[#This Row],[Vo]]))","v":0},{"$f":"IF(V$1=0,0,IF(Configuration!$F$10=\"D\",$R157,Table7[[#This Row],[Vo]]))","v":0},{"$f":"IF(W$1=0,0,IF(Configuration!$F$11=\"D\",$R157,Table7[[#This Row],[Vo]]))","v":0},{"$f":"IF(X$1=0,0,IF(Configuration!$F$12=\"D\",$R157,Table7[[#This Row],[Vo]]))","v":0},{"$f":"IF(Y$1=0,0,IF(Configuration!$F$13=\"D\",$R157,Table7[[#This Row],[Vo]]))","v":0},{"$f":"IF(Z$1=0,0,IF(Configuration!$F$14=\"D\",$R157,Table7[[#This Row],[Vo]]))","v":0},{"$f":"IF(AA$1=0,0,IF(Configuration!$F$15=\"D\",$R157,Table7[[#This Row],[Vo]]))","v":0},{"$f":"IF(AB$1=0,0,IF(Configuration!$F$16=\"D\",$R157,Table7[[#This Row],[Vo]]))","v":0},{"$f":"IF(AC$1=0,0,IF(Configuration!$F$17=\"D\",$R157,Table7[[#This Row],[Vo]]))","v":0}]
[16.600000000000001,"NMS-240-24",10,{"$f":"Table2[[#This Row],[Output Voltage]]*Table2[[#This Row],[Module rated current]]","v":166},"H",{"$f":"IF(1200/Table2[[#This Row],[Module rated power]]>6,6,ROUNDDOWN(1200/Table2[[#This Row],[Module rated power]],0))","v":6},{"$f":"Table2[[#This Row],[Module rated power]]*Table2[[#This Row],[Available No. of Slot]]","v":996},{"$f":"ROUNDDOWN(Table2[[#This Row],[Max power per output]]/Table2[[#This Row],[Output Voltage]],2)","v":60},null,null,null,null,null,null,null,"Saint Lucia",null,18.3,{"$f":"IF(S$1=0,0,IF(Configuration!$F$7=\"D\",$R158,Table7[[#This Row],[Vo]]))","v":0},{"$f":"IF(T$1=0,0,IF(Configuration!$F$8=\"D\",$R158,Table7[[#This Row],[Vo]]))","v":0},{"$f":"IF(U$1=0,0,IF(Configuration!$F$9=\"D\",$R158,Table7[[#This Row],[Vo]]))","v":0},{"$f":"IF(V$1=0,0,IF(Configuration!$F$10=\"D\",$R158,Table7[[#This Row],[Vo]]))","v":0},{"$f":"IF(W$1=0,0,IF(Configuration!$F$11=\"D\",$R158,Table7[[#This Row],[Vo]]))","v":0},{"$f":"IF(X$1=0,0,IF(Configuration!$F$12=\"D\",$R158,Table7[[#This Row],[Vo]]))","v":0},{"$f":"IF(Y$1=0,0,IF(Configuration!$F$13=\"D\",$R158,Table7[[#This Row],[Vo]]))","v":0},{"$f":"IF(Z$1=0,0,IF(Configuration!$F$14=\"D\",$R158,Table7[[#This Row],[Vo]]))","v":0},{"$f":"IF(AA$1=0,0,IF(Configuration!$F$15=\"D\",$R158,Table7[[#This Row],[Vo]]))","v":0},{"$f":"IF(AB$1=0,0,IF(Configuration!$F$16=\"D\",$R158,Table7[[#This Row],[Vo]]))","v":0},{"$f":"IF(AC$1=0,0,IF(Configuration!$F$17=\"D\",$R158,Table7[[#This Row],[Vo]]))","v":0}]
[16.7,"NMS-240-24",10,{"$f":"Table2[[#This Row],[Output Voltage]]*Table2[[#This Row],[Module rated current]]","v":167},"H",{"$f":"IF(1200/Table2[[#This Row],[Module rated power]]>6,6,ROUNDDOWN(1200/Table2[[#This Row],[Module rated power]],0))","v":6},{"$f":"Table2[[#This Row],[Module rated power]]*Table2[[#This Row],[Available No. of Slot]]","v":1002},{"$f":"ROUNDDOWN(Table2[[#This Row],[Max power per output]]/Table2[[#This Row],[Output Voltage]],2)","v":60},null,null,null,null,null,null,null,"Saint Vincent and the Grenadines",null,18.399999999999999,{"$f":"IF(S$1=0,0,IF(Configuration!$F$7=\"D\",$R159,Table7[[#This Row],[Vo]]))","v":0},{"$f":"IF(T$1=0,0,IF(Configuration!$F$8=\"D\",$R159,Table7[[#This Row],[Vo]]))","v":0},{"$f":"IF(U$1=0,0,IF(Configuration!$F$9=\"D\",$R159,Table7[[#This Row],[Vo]]))","v":0},{"$f":"IF(V$1=0,0,IF(Configuration!$F$10=\"D\",$R159,Table7[[#This Row],[Vo]]))","v":0},{"$f":"IF(W$1=0,0,IF(Configuration!$F$11=\"D\",$R159,Table7[[#This Row],[Vo]]))","v":0},{"$f":"IF(X$1=0,0,IF(Configuration!$F$12=\"D\",$R159,Table7[[#This Row],[Vo]]))","v":0},{"$f":"IF(Y$1=0,0,IF(Configuration!$F$13=\"D\",$R159,Table7[[#This Row],[Vo]]))","v":0},{"$f":"IF(Z$1=0,0,IF(Configuration!$F$14=\"D\",$R159,Table7[[#This Row],[Vo]]))","v":0},{"$f":"IF(AA$1=0,0,IF(Configuration!$F$15=\"D\",$R159,Table7[[#This Row],[Vo]]))","v":0},{"$f":"IF(AB$1=0,0,IF(Configuration!$F$16=\"D\",$R159,Table7[[#This Row],[Vo]]))","v":0},{"$f":"IF(AC$1=0,0,IF(Configuration!$F$17=\"D\",$R159,Table7[[#This Row],[Vo]]))","v":0}]
[16.8,"NMS-240-24",10,{"$f":"Table2[[#This Row],[Output Voltage]]*Table2[[#This Row],[Module rated current]]","v":168},"H",{"$f":"IF(1200/Table2[[#This Row],[Module rated power]]>6,6,ROUNDDOWN(1200/Table2[[#This Row],[Module rated power]],0))","v":6},{"$f":"Table2[[#This Row],[Module rated power]]*Table2[[#This Row],[Available No. of Slot]]","v":1008},{"$f":"ROUNDDOWN(Table2[[#This Row],[Max power per output]]/Table2[[#This Row],[Output Voltage]],2)","v":60},null,null,null,null,null,null,null,"Samoa",null,18.5,{"$f":"IF(S$1=0,0,IF(Configuration!$F$7=\"D\",$R160,Table7[[#This Row],[Vo]]))","v":0},{"$f":"IF(T$1=0,0,IF(Configuration!$F$8=\"D\",$R160,Table7[[#This Row],[Vo]]))","v":0},{"$f":"IF(U$1=0,0,IF(Configuration!$F$9=\"D\",$R160,Table7[[#This Row],[Vo]]))","v":0},{"$f":"IF(V$1=0,0,IF(Configuration!$F$10=\"D\",$R160,Table7[[#This Row],[Vo]]))","v":0},{"$f":"IF(W$1=0,0,IF(Configuration!$F$11=\"D\",$R160,Table7[[#This Row],[Vo]]))","v":0},{"$f":"IF(X$1=0,0,IF(Configuration!$F$12=\"D\",$R160,Table7[[#This Row],[Vo]]))","v":0},{"$f":"IF(Y$1=0,0,IF(Configuration!$F$13=\"D\",$R160,Table7[[#This Row],[Vo]]))","v":0},{"$f":"IF(Z$1=0,0,IF(Configuration!$F$14=\"D\",$R160,Table7[[#This Row],[Vo]]))","v":0},{"$f":"IF(AA$1=0,0,IF(Configuration!$F$15=\"D\",$R160,Table7[[#This Row],[Vo]]))","v":0},{"$f":"IF(AB$1=0,0,IF(Configuration!$F$16=\"D\",$R160,Table7[[#This Row],[Vo]]))","v":0},{"$f":"IF(AC$1=0,0,IF(Configuration!$F$17=\"D\",$R160,Table7[[#This Row],[Vo]]))","v":0}]
[16.899999999999999,"NMS-240-24",10,{"$f":"Table2[[#This Row],[Output Voltage]]*Table2[[#This Row],[Module rated current]]","v":169},"H",{"$f":"IF(1200/Table2[[#This Row],[Module rated power]]>6,6,ROUNDDOWN(1200/Table2[[#This Row],[Module rated power]],0))","v":6},{"$f":"Table2[[#This Row],[Module rated power]]*Table2[[#This Row],[Available No. of Slot]]","v":1014},{"$f":"ROUNDDOWN(Table2[[#This Row],[Max power per output]]/Table2[[#This Row],[Output Voltage]],2)","v":60},null,null,null,null,null,null,null,"San Marino",null,18.600000000000001,{"$f":"IF(S$1=0,0,IF(Configuration!$F$7=\"D\",$R161,Table7[[#This Row],[Vo]]))","v":0},{"$f":"IF(T$1=0,0,IF(Configuration!$F$8=\"D\",$R161,Table7[[#This Row],[Vo]]))","v":0},{"$f":"IF(U$1=0,0,IF(Configuration!$F$9=\"D\",$R161,Table7[[#This Row],[Vo]]))","v":0},{"$f":"IF(V$1=0,0,IF(Configuration!$F$10=\"D\",$R161,Table7[[#This Row],[Vo]]))","v":0},{"$f":"IF(W$1=0,0,IF(Configuration!$F$11=\"D\",$R161,Table7[[#This Row],[Vo]]))","v":0},{"$f":"IF(X$1=0,0,IF(Configuration!$F$12=\"D\",$R161,Table7[[#This Row],[Vo]]))","v":0},{"$f":"IF(Y$1=0,0,IF(Configuration!$F$13=\"D\",$R161,Table7[[#This Row],[Vo]]))","v":0},{"$f":"IF(Z$1=0,0,IF(Configuration!$F$14=\"D\",$R161,Table7[[#This Row],[Vo]]))","v":0},{"$f":"IF(AA$1=0,0,IF(Configuration!$F$15=\"D\",$R161,Table7[[#This Row],[Vo]]))","v":0},{"$f":"IF(AB$1=0,0,IF(Configuration!$F$16=\"D\",$R161,Table7[[#This Row],[Vo]]))","v":0},{"$f":"IF(AC$1=0,0,IF(Configuration!$F$17=\"D\",$R161,Table7[[#This Row],[Vo]]))","v":0}]
[17,"NMS-240-24",10,{"$f":"Table2[[#This Row],[Output Voltage]]*Table2[[#This Row],[Module rated current]]","v":170},"H",{"$f":"IF(1200/Table2[[#This Row],[Module rated power]]>6,6,ROUNDDOWN(1200/Table2[[#This Row],[Module rated power]],0))","v":6},{"$f":"Table2[[#This Row],[Module rated power]]*Table2[[#This Row],[Available No. of Slot]]","v":1020},{"$f":"ROUNDDOWN(Table2[[#This Row],[Max power per output]]/Table2[[#This Row],[Output Voltage]],2)","v":60},null,null,null,null,null,null,null,"Sao Tome and Principe",null,18.7,{"$f":"IF(S$1=0,0,IF(Configuration!$F$7=\"D\",$R162,Table7[[#This Row],[Vo]]))","v":0},{"$f":"IF(T$1=0,0,IF(Configuration!$F$8=\"D\",$R162,Table7[[#This Row],[Vo]]))","v":0},{"$f":"IF(U$1=0,0,IF(Configuration!$F$9=\"D\",$R162,Table7[[#This Row],[Vo]]))","v":0},{"$f":"IF(V$1=0,0,IF(Configuration!$F$10=\"D\",$R162,Table7[[#This Row],[Vo]]))","v":0},{"$f":"IF(W$1=0,0,IF(Configuration!$F$11=\"D\",$R162,Table7[[#This Row],[Vo]]))","v":0},{"$f":"IF(X$1=0,0,IF(Configuration!$F$12=\"D\",$R162,Table7[[#This Row],[Vo]]))","v":0},{"$f":"IF(Y$1=0,0,IF(Configuration!$F$13=\"D\",$R162,Table7[[#This Row],[Vo]]))","v":0},{"$f":"IF(Z$1=0,0,IF(Configuration!$F$14=\"D\",$R162,Table7[[#This Row],[Vo]]))","v":0},{"$f":"IF(AA$1=0,0,IF(Configuration!$F$15=\"D\",$R162,Table7[[#This Row],[Vo]]))","v":0},{"$f":"IF(AB$1=0,0,IF(Configuration!$F$16=\"D\",$R162,Table7[[#This Row],[Vo]]))","v":0},{"$f":"IF(AC$1=0,0,IF(Configuration!$F$17=\"D\",$R162,Table7[[#This Row],[Vo]]))","v":0}]
[17.100000000000001,"NMS-240-24",10,{"$f":"Table2[[#This Row],[Output Voltage]]*Table2[[#This Row],[Module rated current]]","v":171},"H",{"$f":"IF(1200/Table2[[#This Row],[Module rated power]]>6,6,ROUNDDOWN(1200/Table2[[#This Row],[Module rated power]],0))","v":6},{"$f":"Table2[[#This Row],[Module rated power]]*Table2[[#This Row],[Available No. of Slot]]","v":1026},{"$f":"ROUNDDOWN(Table2[[#This Row],[Max power per output]]/Table2[[#This Row],[Output Voltage]],2)","v":60},null,null,null,null,null,null,null,"Seychelles",null,18.8,{"$f":"IF(S$1=0,0,IF(Configuration!$F$7=\"D\",$R163,Table7[[#This Row],[Vo]]))","v":0},{"$f":"IF(T$1=0,0,IF(Configuration!$F$8=\"D\",$R163,Table7[[#This Row],[Vo]]))","v":0},{"$f":"IF(U$1=0,0,IF(Configuration!$F$9=\"D\",$R163,Table7[[#This Row],[Vo]]))","v":0},{"$f":"IF(V$1=0,0,IF(Configuration!$F$10=\"D\",$R163,Table7[[#This Row],[Vo]]))","v":0},{"$f":"IF(W$1=0,0,IF(Configuration!$F$11=\"D\",$R163,Table7[[#This Row],[Vo]]))","v":0},{"$f":"IF(X$1=0,0,IF(Configuration!$F$12=\"D\",$R163,Table7[[#This Row],[Vo]]))","v":0},{"$f":"IF(Y$1=0,0,IF(Configuration!$F$13=\"D\",$R163,Table7[[#This Row],[Vo]]))","v":0},{"$f":"IF(Z$1=0,0,IF(Configuration!$F$14=\"D\",$R163,Table7[[#This Row],[Vo]]))","v":0},{"$f":"IF(AA$1=0,0,IF(Configuration!$F$15=\"D\",$R163,Table7[[#This Row],[Vo]]))","v":0},{"$f":"IF(AB$1=0,0,IF(Configuration!$F$16=\"D\",$R163,Table7[[#This Row],[Vo]]))","v":0},{"$f":"IF(AC$1=0,0,IF(Configuration!$F$17=\"D\",$R163,Table7[[#This Row],[Vo]]))","v":0}]
[17.2,"NMS-240-24",10,{"$f":"Table2[[#This Row],[Output Voltage]]*Table2[[#This Row],[Module rated current]]","v":172},"H",{"$f":"IF(1200/Table2[[#This Row],[Module rated power]]>6,6,ROUNDDOWN(1200/Table2[[#This Row],[Module rated power]],0))","v":6},{"$f":"Table2[[#This Row],[Module rated power]]*Table2[[#This Row],[Available No. of Slot]]","v":1032},{"$f":"ROUNDDOWN(Table2[[#This Row],[Max power per output]]/Table2[[#This Row],[Output Voltage]],2)","v":60},null,null,null,null,null,null,null,"Sierra Leone",null,18.899999999999999,{"$f":"IF(S$1=0,0,IF(Configuration!$F$7=\"D\",$R164,Table7[[#This Row],[Vo]]))","v":0},{"$f":"IF(T$1=0,0,IF(Configuration!$F$8=\"D\",$R164,Table7[[#This Row],[Vo]]))","v":0},{"$f":"IF(U$1=0,0,IF(Configuration!$F$9=\"D\",$R164,Table7[[#This Row],[Vo]]))","v":0},{"$f":"IF(V$1=0,0,IF(Configuration!$F$10=\"D\",$R164,Table7[[#This Row],[Vo]]))","v":0},{"$f":"IF(W$1=0,0,IF(Configuration!$F$11=\"D\",$R164,Table7[[#This Row],[Vo]]))","v":0},{"$f":"IF(X$1=0,0,IF(Configuration!$F$12=\"D\",$R164,Table7[[#This Row],[Vo]]))","v":0},{"$f":"IF(Y$1=0,0,IF(Configuration!$F$13=\"D\",$R164,Table7[[#This Row],[Vo]]))","v":0},{"$f":"IF(Z$1=0,0,IF(Configuration!$F$14=\"D\",$R164,Table7[[#This Row],[Vo]]))","v":0},{"$f":"IF(AA$1=0,0,IF(Configuration!$F$15=\"D\",$R164,Table7[[#This Row],[Vo]]))","v":0},{"$f":"IF(AB$1=0,0,IF(Configuration!$F$16=\"D\",$R164,Table7[[#This Row],[Vo]]))","v":0},{"$f":"IF(AC$1=0,0,IF(Configuration!$F$17=\"D\",$R164,Table7[[#This Row],[Vo]]))","v":0}]
[17.3,"NMS-240-24",10,{"$f":"Table2[[#This Row],[Output Voltage]]*Table2[[#This Row],[Module rated current]]","v":173},"H",{"$f":"IF(1200/Table2[[#This Row],[Module rated power]]>6,6,ROUNDDOWN(1200/Table2[[#This Row],[Module rated power]],0))","v":6},{"$f":"Table2[[#This Row],[Module rated power]]*Table2[[#This Row],[Available No. of Slot]]","v":1038},{"$f":"ROUNDDOWN(Table2[[#This Row],[Max power per output]]/Table2[[#This Row],[Output Voltage]],2)","v":60},null,null,null,null,null,null,null,"Sint Maarten",null,19,{"$f":"IF(S$1=0,0,IF(Configuration!$F$7=\"D\",$R165,Table7[[#This Row],[Vo]]))","v":0},{"$f":"IF(T$1=0,0,IF(Configuration!$F$8=\"D\",$R165,Table7[[#This Row],[Vo]]))","v":0},{"$f":"IF(U$1=0,0,IF(Configuration!$F$9=\"D\",$R165,Table7[[#This Row],[Vo]]))","v":0},{"$f":"IF(V$1=0,0,IF(Configuration!$F$10=\"D\",$R165,Table7[[#This Row],[Vo]]))","v":0},{"$f":"IF(W$1=0,0,IF(Configuration!$F$11=\"D\",$R165,Table7[[#This Row],[Vo]]))","v":0},{"$f":"IF(X$1=0,0,IF(Configuration!$F$12=\"D\",$R165,Table7[[#This Row],[Vo]]))","v":0},{"$f":"IF(Y$1=0,0,IF(Configuration!$F$13=\"D\",$R165,Table7[[#This Row],[Vo]]))","v":0},{"$f":"IF(Z$1=0,0,IF(Configuration!$F$14=\"D\",$R165,Table7[[#This Row],[Vo]]))","v":0},{"$f":"IF(AA$1=0,0,IF(Configuration!$F$15=\"D\",$R165,Table7[[#This Row],[Vo]]))","v":0},{"$f":"IF(AB$1=0,0,IF(Configuration!$F$16=\"D\",$R165,Table7[[#This Row],[Vo]]))","v":0},{"$f":"IF(AC$1=0,0,IF(Configuration!$F$17=\"D\",$R165,Table7[[#This Row],[Vo]]))","v":0}]
[17.399999999999999,"NMS-240-24",10,{"$f":"Table2[[#This Row],[Output Voltage]]*Table2[[#This Row],[Module rated current]]","v":174},"H",{"$f":"IF(1200/Table2[[#This Row],[Module rated power]]>6,6,ROUNDDOWN(1200/Table2[[#This Row],[Module rated power]],0))","v":6},{"$f":"Table2[[#This Row],[Module rated power]]*Table2[[#This Row],[Available No. of Slot]]","v":1044},{"$f":"ROUNDDOWN(Table2[[#This Row],[Max power per output]]/Table2[[#This Row],[Output Voltage]],2)","v":60},null,null,null,null,null,null,null,"Solomon Islands",null,19.100000000000001,{"$f":"IF(S$1=0,0,IF(Configuration!$F$7=\"D\",$R166,Table7[[#This Row],[Vo]]))","v":0},{"$f":"IF(T$1=0,0,IF(Configuration!$F$8=\"D\",$R166,Table7[[#This Row],[Vo]]))","v":0},{"$f":"IF(U$1=0,0,IF(Configuration!$F$9=\"D\",$R166,Table7[[#This Row],[Vo]]))","v":0},{"$f":"IF(V$1=0,0,IF(Configuration!$F$10=\"D\",$R166,Table7[[#This Row],[Vo]]))","v":0},{"$f":"IF(W$1=0,0,IF(Configuration!$F$11=\"D\",$R166,Table7[[#This Row],[Vo]]))","v":0},{"$f":"IF(X$1=0,0,IF(Configuration!$F$12=\"D\",$R166,Table7[[#This Row],[Vo]]))","v":0},{"$f":"IF(Y$1=0,0,IF(Configuration!$F$13=\"D\",$R166,Table7[[#This Row],[Vo]]))","v":0},{"$f":"IF(Z$1=0,0,IF(Configuration!$F$14=\"D\",$R166,Table7[[#This Row],[Vo]]))","v":0},{"$f":"IF(AA$1=0,0,IF(Configuration!$F$15=\"D\",$R166,Table7[[#This Row],[Vo]]))","v":0},{"$f":"IF(AB$1=0,0,IF(Configuration!$F$16=\"D\",$R166,Table7[[#This Row],[Vo]]))","v":0},{"$f":"IF(AC$1=0,0,IF(Configuration!$F$17=\"D\",$R166,Table7[[#This Row],[Vo]]))","v":0}]
[17.5,"NMS-240-24",10,{"$f":"Table2[[#This Row],[Output Voltage]]*Table2[[#This Row],[Module rated current]]","v":175},"H",{"$f":"IF(1200/Table2[[#This Row],[Module rated power]]>6,6,ROUNDDOWN(1200/Table2[[#This Row],[Module rated power]],0))","v":6},{"$f":"Table2[[#This Row],[Module rated power]]*Table2[[#This Row],[Available No. of Slot]]","v":1050},{"$f":"ROUNDDOWN(Table2[[#This Row],[Max power per output]]/Table2[[#This Row],[Output Voltage]],2)","v":60},null,null,null,null,null,null,null,"Somalia",null,19.2,{"$f":"IF(S$1=0,0,IF(Configuration!$F$7=\"D\",$R167,Table7[[#This Row],[Vo]]))","v":0},{"$f":"IF(T$1=0,0,IF(Configuration!$F$8=\"D\",$R167,Table7[[#This Row],[Vo]]))","v":0},{"$f":"IF(U$1=0,0,IF(Configuration!$F$9=\"D\",$R167,Table7[[#This Row],[Vo]]))","v":0},{"$f":"IF(V$1=0,0,IF(Configuration!$F$10=\"D\",$R167,Table7[[#This Row],[Vo]]))","v":0},{"$f":"IF(W$1=0,0,IF(Configuration!$F$11=\"D\",$R167,Table7[[#This Row],[Vo]]))","v":0},{"$f":"IF(X$1=0,0,IF(Configuration!$F$12=\"D\",$R167,Table7[[#This Row],[Vo]]))","v":0},{"$f":"IF(Y$1=0,0,IF(Configuration!$F$13=\"D\",$R167,Table7[[#This Row],[Vo]]))","v":0},{"$f":"IF(Z$1=0,0,IF(Configuration!$F$14=\"D\",$R167,Table7[[#This Row],[Vo]]))","v":0},{"$f":"IF(AA$1=0,0,IF(Configuration!$F$15=\"D\",$R167,Table7[[#This Row],[Vo]]))","v":0},{"$f":"IF(AB$1=0,0,IF(Configuration!$F$16=\"D\",$R167,Table7[[#This Row],[Vo]]))","v":0},{"$f":"IF(AC$1=0,0,IF(Configuration!$F$17=\"D\",$R167,Table7[[#This Row],[Vo]]))","v":0}]
[17.600000000000001,"NMS-240-24",10,{"$f":"Table2[[#This Row],[Output Voltage]]*Table2[[#This Row],[Module rated current]]","v":176},"H",{"$f":"IF(1200/Table2[[#This Row],[Module rated power]]>6,6,ROUNDDOWN(1200/Table2[[#This Row],[Module rated power]],0))","v":6},{"$f":"Table2[[#This Row],[Module rated power]]*Table2[[#This Row],[Available No. of Slot]]","v":1056},{"$f":"ROUNDDOWN(Table2[[#This Row],[Max power per output]]/Table2[[#This Row],[Output Voltage]],2)","v":60},null,null,null,null,null,null,null,"South Sudan",null,19.3,{"$f":"IF(S$1=0,0,IF(Configuration!$F$7=\"D\",$R168,Table7[[#This Row],[Vo]]))","v":0},{"$f":"IF(T$1=0,0,IF(Configuration!$F$8=\"D\",$R168,Table7[[#This Row],[Vo]]))","v":0},{"$f":"IF(U$1=0,0,IF(Configuration!$F$9=\"D\",$R168,Table7[[#This Row],[Vo]]))","v":0},{"$f":"IF(V$1=0,0,IF(Configuration!$F$10=\"D\",$R168,Table7[[#This Row],[Vo]]))","v":0},{"$f":"IF(W$1=0,0,IF(Configuration!$F$11=\"D\",$R168,Table7[[#This Row],[Vo]]))","v":0},{"$f":"IF(X$1=0,0,IF(Configuration!$F$12=\"D\",$R168,Table7[[#This Row],[Vo]]))","v":0},{"$f":"IF(Y$1=0,0,IF(Configuration!$F$13=\"D\",$R168,Table7[[#This Row],[Vo]]))","v":0},{"$f":"IF(Z$1=0,0,IF(Configuration!$F$14=\"D\",$R168,Table7[[#This Row],[Vo]]))","v":0},{"$f":"IF(AA$1=0,0,IF(Configuration!$F$15=\"D\",$R168,Table7[[#This Row],[Vo]]))","v":0},{"$f":"IF(AB$1=0,0,IF(Configuration!$F$16=\"D\",$R168,Table7[[#This Row],[Vo]]))","v":0},{"$f":"IF(AC$1=0,0,IF(Configuration!$F$17=\"D\",$R168,Table7[[#This Row],[Vo]]))","v":0}]
[17.7,"NMS-240-24",10,{"$f":"Table2[[#This Row],[Output Voltage]]*Table2[[#This Row],[Module rated current]]","v":177},"H",{"$f":"IF(1200/Table2[[#This Row],[Module rated power]]>6,6,ROUNDDOWN(1200/Table2[[#This Row],[Module rated power]],0))","v":6},{"$f":"Table2[[#This Row],[Module rated power]]*Table2[[#This Row],[Available No. of Slot]]","v":1062},{"$f":"ROUNDDOWN(Table2[[#This Row],[Max power per output]]/Table2[[#This Row],[Output Voltage]],2)","v":60},null,null,null,null,null,null,null,"Sudan",null,19.399999999999999,{"$f":"IF(S$1=0,0,IF(Configuration!$F$7=\"D\",$R169,Table7[[#This Row],[Vo]]))","v":0},{"$f":"IF(T$1=0,0,IF(Configuration!$F$8=\"D\",$R169,Table7[[#This Row],[Vo]]))","v":0},{"$f":"IF(U$1=0,0,IF(Configuration!$F$9=\"D\",$R169,Table7[[#This Row],[Vo]]))","v":0},{"$f":"IF(V$1=0,0,IF(Configuration!$F$10=\"D\",$R169,Table7[[#This Row],[Vo]]))","v":0},{"$f":"IF(W$1=0,0,IF(Configuration!$F$11=\"D\",$R169,Table7[[#This Row],[Vo]]))","v":0},{"$f":"IF(X$1=0,0,IF(Configuration!$F$12=\"D\",$R169,Table7[[#This Row],[Vo]]))","v":0},{"$f":"IF(Y$1=0,0,IF(Configuration!$F$13=\"D\",$R169,Table7[[#This Row],[Vo]]))","v":0},{"$f":"IF(Z$1=0,0,IF(Configuration!$F$14=\"D\",$R169,Table7[[#This Row],[Vo]]))","v":0},{"$f":"IF(AA$1=0,0,IF(Configuration!$F$15=\"D\",$R169,Table7[[#This Row],[Vo]]))","v":0},{"$f":"IF(AB$1=0,0,IF(Configuration!$F$16=\"D\",$R169,Table7[[#This Row],[Vo]]))","v":0},{"$f":"IF(AC$1=0,0,IF(Configuration!$F$17=\"D\",$R169,Table7[[#This Row],[Vo]]))","v":0}]
[17.8,"NMS-240-24",10,{"$f":"Table2[[#This Row],[Output Voltage]]*Table2[[#This Row],[Module rated current]]","v":178},"H",{"$f":"IF(1200/Table2[[#This Row],[Module rated power]]>6,6,ROUNDDOWN(1200/Table2[[#This Row],[Module rated power]],0))","v":6},{"$f":"Table2[[#This Row],[Module rated power]]*Table2[[#This Row],[Available No. of Slot]]","v":1068},{"$f":"ROUNDDOWN(Table2[[#This Row],[Max power per output]]/Table2[[#This Row],[Output Voltage]],2)","v":60},null,null,null,null,null,null,null,"Suriname",null,19.5,{"$f":"IF(S$1=0,0,IF(Configuration!$F$7=\"D\",$R170,Table7[[#This Row],[Vo]]))","v":0},{"$f":"IF(T$1=0,0,IF(Configuration!$F$8=\"D\",$R170,Table7[[#This Row],[Vo]]))","v":0},{"$f":"IF(U$1=0,0,IF(Configuration!$F$9=\"D\",$R170,Table7[[#This Row],[Vo]]))","v":0},{"$f":"IF(V$1=0,0,IF(Configuration!$F$10=\"D\",$R170,Table7[[#This Row],[Vo]]))","v":0},{"$f":"IF(W$1=0,0,IF(Configuration!$F$11=\"D\",$R170,Table7[[#This Row],[Vo]]))","v":0},{"$f":"IF(X$1=0,0,IF(Configuration!$F$12=\"D\",$R170,Table7[[#This Row],[Vo]]))","v":0},{"$f":"IF(Y$1=0,0,IF(Configuration!$F$13=\"D\",$R170,Table7[[#This Row],[Vo]]))","v":0},{"$f":"IF(Z$1=0,0,IF(Configuration!$F$14=\"D\",$R170,Table7[[#This Row],[Vo]]))","v":0},{"$f":"IF(AA$1=0,0,IF(Configuration!$F$15=\"D\",$R170,Table7[[#This Row],[Vo]]))","v":0},{"$f":"IF(AB$1=0,0,IF(Configuration!$F$16=\"D\",$R170,Table7[[#This Row],[Vo]]))","v":0},{"$f":"IF(AC$1=0,0,IF(Configuration!$F$17=\"D\",$R170,Table7[[#This Row],[Vo]]))","v":0}]
[17.899999999999999,"NMS-240-24",10,{"$f":"Table2[[#This Row],[Output Voltage]]*Table2[[#This Row],[Module rated current]]","v":179},"H",{"$f":"IF(1200/Table2[[#This Row],[Module rated power]]>6,6,ROUNDDOWN(1200/Table2[[#This Row],[Module rated power]],0))","v":6},{"$f":"Table2[[#This Row],[Module rated power]]*Table2[[#This Row],[Available No. of Slot]]","v":1074},{"$f":"ROUNDDOWN(Table2[[#This Row],[Max power per output]]/Table2[[#This Row],[Output Voltage]],2)","v":60},null,null,null,null,null,null,null,"Swaziland",null,19.600000000000001,{"$f":"IF(S$1=0,0,IF(Configuration!$F$7=\"D\",$R171,Table7[[#This Row],[Vo]]))","v":0},{"$f":"IF(T$1=0,0,IF(Configuration!$F$8=\"D\",$R171,Table7[[#This Row],[Vo]]))","v":0},{"$f":"IF(U$1=0,0,IF(Configuration!$F$9=\"D\",$R171,Table7[[#This Row],[Vo]]))","v":0},{"$f":"IF(V$1=0,0,IF(Configuration!$F$10=\"D\",$R171,Table7[[#This Row],[Vo]]))","v":0},{"$f":"IF(W$1=0,0,IF(Configuration!$F$11=\"D\",$R171,Table7[[#This Row],[Vo]]))","v":0},{"$f":"IF(X$1=0,0,IF(Configuration!$F$12=\"D\",$R171,Table7[[#This Row],[Vo]]))","v":0},{"$f":"IF(Y$1=0,0,IF(Configuration!$F$13=\"D\",$R171,Table7[[#This Row],[Vo]]))","v":0},{"$f":"IF(Z$1=0,0,IF(Configuration!$F$14=\"D\",$R171,Table7[[#This Row],[Vo]]))","v":0},{"$f":"IF(AA$1=0,0,IF(Configuration!$F$15=\"D\",$R171,Table7[[#This Row],[Vo]]))","v":0},{"$f":"IF(AB$1=0,0,IF(Configuration!$F$16=\"D\",$R171,Table7[[#This Row],[Vo]]))","v":0},{"$f":"IF(AC$1=0,0,IF(Configuration!$F$17=\"D\",$R171,Table7[[#This Row],[Vo]]))","v":0}]
[18,"NMS-240-24",10,{"$f":"Table2[[#This Row],[Output Voltage]]*Table2[[#This Row],[Module rated current]]","v":180},"H",{"$f":"IF(1200/Table2[[#This Row],[Module rated power]]>6,6,ROUNDDOWN(1200/Table2[[#This Row],[Module rated power]],0))","v":6},{"$f":"Table2[[#This Row],[Module rated power]]*Table2[[#This Row],[Available No. of Slot]]","v":1080},{"$f":"ROUNDDOWN(Table2[[#This Row],[Max power per output]]/Table2[[#This Row],[Output Voltage]],2)","v":60},null,null,null,null,null,null,null,"Saudi Arabia",null,19.7,{"$f":"IF(S$1=0,0,IF(Configuration!$F$7=\"D\",$R172,Table7[[#This Row],[Vo]]))","v":0},{"$f":"IF(T$1=0,0,IF(Configuration!$F$8=\"D\",$R172,Table7[[#This Row],[Vo]]))","v":0},{"$f":"IF(U$1=0,0,IF(Configuration!$F$9=\"D\",$R172,Table7[[#This Row],[Vo]]))","v":0},{"$f":"IF(V$1=0,0,IF(Configuration!$F$10=\"D\",$R172,Table7[[#This Row],[Vo]]))","v":0},{"$f":"IF(W$1=0,0,IF(Configuration!$F$11=\"D\",$R172,Table7[[#This Row],[Vo]]))","v":0},{"$f":"IF(X$1=0,0,IF(Configuration!$F$12=\"D\",$R172,Table7[[#This Row],[Vo]]))","v":0},{"$f":"IF(Y$1=0,0,IF(Configuration!$F$13=\"D\",$R172,Table7[[#This Row],[Vo]]))","v":0},{"$f":"IF(Z$1=0,0,IF(Configuration!$F$14=\"D\",$R172,Table7[[#This Row],[Vo]]))","v":0},{"$f":"IF(AA$1=0,0,IF(Configuration!$F$15=\"D\",$R172,Table7[[#This Row],[Vo]]))","v":0},{"$f":"IF(AB$1=0,0,IF(Configuration!$F$16=\"D\",$R172,Table7[[#This Row],[Vo]]))","v":0},{"$f":"IF(AC$1=0,0,IF(Configuration!$F$17=\"D\",$R172,Table7[[#This Row],[Vo]]))","v":0}]
[18.100000000000001,"NMS-240-24",10,{"$f":"Table2[[#This Row],[Output Voltage]]*Table2[[#This Row],[Module rated current]]","v":181},"H",{"$f":"IF(1200/Table2[[#This Row],[Module rated power]]>6,6,ROUNDDOWN(1200/Table2[[#This Row],[Module rated power]],0))","v":6},{"$f":"Table2[[#This Row],[Module rated power]]*Table2[[#This Row],[Available No. of Slot]]","v":1086},{"$f":"ROUNDDOWN(Table2[[#This Row],[Max power per output]]/Table2[[#This Row],[Output Voltage]],2)","v":60},null,null,null,null,null,null,null,"Senegal",null,19.8,{"$f":"IF(S$1=0,0,IF(Configuration!$F$7=\"D\",$R173,Table7[[#This Row],[Vo]]))","v":0},{"$f":"IF(T$1=0,0,IF(Configuration!$F$8=\"D\",$R173,Table7[[#This Row],[Vo]]))","v":0},{"$f":"IF(U$1=0,0,IF(Configuration!$F$9=\"D\",$R173,Table7[[#This Row],[Vo]]))","v":0},{"$f":"IF(V$1=0,0,IF(Configuration!$F$10=\"D\",$R173,Table7[[#This Row],[Vo]]))","v":0},{"$f":"IF(W$1=0,0,IF(Configuration!$F$11=\"D\",$R173,Table7[[#This Row],[Vo]]))","v":0},{"$f":"IF(X$1=0,0,IF(Configuration!$F$12=\"D\",$R173,Table7[[#This Row],[Vo]]))","v":0},{"$f":"IF(Y$1=0,0,IF(Configuration!$F$13=\"D\",$R173,Table7[[#This Row],[Vo]]))","v":0},{"$f":"IF(Z$1=0,0,IF(Configuration!$F$14=\"D\",$R173,Table7[[#This Row],[Vo]]))","v":0},{"$f":"IF(AA$1=0,0,IF(Configuration!$F$15=\"D\",$R173,Table7[[#This Row],[Vo]]))","v":0},{"$f":"IF(AB$1=0,0,IF(Configuration!$F$16=\"D\",$R173,Table7[[#This Row],[Vo]]))","v":0},{"$f":"IF(AC$1=0,0,IF(Configuration!$F$17=\"D\",$R173,Table7[[#This Row],[Vo]]))","v":0}]
[18.2,"NMS-240-24",10,{"$f":"Table2[[#This Row],[Output Voltage]]*Table2[[#This Row],[Module rated current]]","v":182},"H",{"$f":"IF(1200/Table2[[#This Row],[Module rated power]]>6,6,ROUNDDOWN(1200/Table2[[#This Row],[Module rated power]],0))","v":6},{"$f":"Table2[[#This Row],[Module rated power]]*Table2[[#This Row],[Available No. of Slot]]","v":1092},{"$f":"ROUNDDOWN(Table2[[#This Row],[Max power per output]]/Table2[[#This Row],[Output Voltage]],2)","v":60},null,null,null,null,null,null,null,"Serbia",null,19.899999999999999,{"$f":"IF(S$1=0,0,IF(Configuration!$F$7=\"D\",$R174,Table7[[#This Row],[Vo]]))","v":0},{"$f":"IF(T$1=0,0,IF(Configuration!$F$8=\"D\",$R174,Table7[[#This Row],[Vo]]))","v":0},{"$f":"IF(U$1=0,0,IF(Configuration!$F$9=\"D\",$R174,Table7[[#This Row],[Vo]]))","v":0},{"$f":"IF(V$1=0,0,IF(Configuration!$F$10=\"D\",$R174,Table7[[#This Row],[Vo]]))","v":0},{"$f":"IF(W$1=0,0,IF(Configuration!$F$11=\"D\",$R174,Table7[[#This Row],[Vo]]))","v":0},{"$f":"IF(X$1=0,0,IF(Configuration!$F$12=\"D\",$R174,Table7[[#This Row],[Vo]]))","v":0},{"$f":"IF(Y$1=0,0,IF(Configuration!$F$13=\"D\",$R174,Table7[[#This Row],[Vo]]))","v":0},{"$f":"IF(Z$1=0,0,IF(Configuration!$F$14=\"D\",$R174,Table7[[#This Row],[Vo]]))","v":0},{"$f":"IF(AA$1=0,0,IF(Configuration!$F$15=\"D\",$R174,Table7[[#This Row],[Vo]]))","v":0},{"$f":"IF(AB$1=0,0,IF(Configuration!$F$16=\"D\",$R174,Table7[[#This Row],[Vo]]))","v":0},{"$f":"IF(AC$1=0,0,IF(Configuration!$F$17=\"D\",$R174,Table7[[#This Row],[Vo]]))","v":0}]
[18.3,"NMS-240-24",10,{"$f":"Table2[[#This Row],[Output Voltage]]*Table2[[#This Row],[Module rated current]]","v":183},"H",{"$f":"IF(1200/Table2[[#This Row],[Module rated power]]>6,6,ROUNDDOWN(1200/Table2[[#This Row],[Module rated power]],0))","v":6},{"$f":"Table2[[#This Row],[Module rated power]]*Table2[[#This Row],[Available No. of Slot]]","v":1098},{"$f":"ROUNDDOWN(Table2[[#This Row],[Max power per output]]/Table2[[#This Row],[Output Voltage]],2)","v":60},null,null,null,null,null,null,null,"Singapore",null,20,{"$f":"IF(S$1=0,0,IF(Configuration!$F$7=\"D\",$R175,Table7[[#This Row],[Vo]]))","v":0},{"$f":"IF(T$1=0,0,IF(Configuration!$F$8=\"D\",$R175,Table7[[#This Row],[Vo]]))","v":0},{"$f":"IF(U$1=0,0,IF(Configuration!$F$9=\"D\",$R175,Table7[[#This Row],[Vo]]))","v":0},{"$f":"IF(V$1=0,0,IF(Configuration!$F$10=\"D\",$R175,Table7[[#This Row],[Vo]]))","v":0},{"$f":"IF(W$1=0,0,IF(Configuration!$F$11=\"D\",$R175,Table7[[#This Row],[Vo]]))","v":0},{"$f":"IF(X$1=0,0,IF(Configuration!$F$12=\"D\",$R175,Table7[[#This Row],[Vo]]))","v":0},{"$f":"IF(Y$1=0,0,IF(Configuration!$F$13=\"D\",$R175,Table7[[#This Row],[Vo]]))","v":0},{"$f":"IF(Z$1=0,0,IF(Configuration!$F$14=\"D\",$R175,Table7[[#This Row],[Vo]]))","v":0},{"$f":"IF(AA$1=0,0,IF(Configuration!$F$15=\"D\",$R175,Table7[[#This Row],[Vo]]))","v":0},{"$f":"IF(AB$1=0,0,IF(Configuration!$F$16=\"D\",$R175,Table7[[#This Row],[Vo]]))","v":0},{"$f":"IF(AC$1=0,0,IF(Configuration!$F$17=\"D\",$R175,Table7[[#This Row],[Vo]]))","v":0}]
[18.399999999999999,"NMS-240-24",10,{"$f":"Table2[[#This Row],[Output Voltage]]*Table2[[#This Row],[Module rated current]]","v":184},"H",{"$f":"IF(1200/Table2[[#This Row],[Module rated power]]>6,6,ROUNDDOWN(1200/Table2[[#This Row],[Module rated power]],0))","v":6},{"$f":"Table2[[#This Row],[Module rated power]]*Table2[[#This Row],[Available No. of Slot]]","v":1104},{"$f":"ROUNDDOWN(Table2[[#This Row],[Max power per output]]/Table2[[#This Row],[Output Voltage]],2)","v":60},null,null,null,null,null,null,null,"Slovakia",null,20.100000000000001,{"$f":"IF(S$1=0,0,IF(Configuration!$F$7=\"D\",$R176,Table7[[#This Row],[Vo]]))","v":0},{"$f":"IF(T$1=0,0,IF(Configuration!$F$8=\"D\",$R176,Table7[[#This Row],[Vo]]))","v":0},{"$f":"IF(U$1=0,0,IF(Configuration!$F$9=\"D\",$R176,Table7[[#This Row],[Vo]]))","v":0},{"$f":"IF(V$1=0,0,IF(Configuration!$F$10=\"D\",$R176,Table7[[#This Row],[Vo]]))","v":0},{"$f":"IF(W$1=0,0,IF(Configuration!$F$11=\"D\",$R176,Table7[[#This Row],[Vo]]))","v":0},{"$f":"IF(X$1=0,0,IF(Configuration!$F$12=\"D\",$R176,Table7[[#This Row],[Vo]]))","v":0},{"$f":"IF(Y$1=0,0,IF(Configuration!$F$13=\"D\",$R176,Table7[[#This Row],[Vo]]))","v":0},{"$f":"IF(Z$1=0,0,IF(Configuration!$F$14=\"D\",$R176,Table7[[#This Row],[Vo]]))","v":0},{"$f":"IF(AA$1=0,0,IF(Configuration!$F$15=\"D\",$R176,Table7[[#This Row],[Vo]]))","v":0},{"$f":"IF(AB$1=0,0,IF(Configuration!$F$16=\"D\",$R176,Table7[[#This Row],[Vo]]))","v":0},{"$f":"IF(AC$1=0,0,IF(Configuration!$F$17=\"D\",$R176,Table7[[#This Row],[Vo]]))","v":0}]
[18.5,"NMS-240-24",10,{"$f":"Table2[[#This Row],[Output Voltage]]*Table2[[#This Row],[Module rated current]]","v":185},"H",{"$f":"IF(1200/Table2[[#This Row],[Module rated power]]>6,6,ROUNDDOWN(1200/Table2[[#This Row],[Module rated power]],0))","v":6},{"$f":"Table2[[#This Row],[Module rated power]]*Table2[[#This Row],[Available No. of Slot]]","v":1110},{"$f":"ROUNDDOWN(Table2[[#This Row],[Max power per output]]/Table2[[#This Row],[Output Voltage]],2)","v":60},null,null,null,null,null,null,null,"Slovenia",null,20.2,{"$f":"IF(S$1=0,0,IF(Configuration!$F$7=\"D\",$R177,Table7[[#This Row],[Vo]]))","v":0},{"$f":"IF(T$1=0,0,IF(Configuration!$F$8=\"D\",$R177,Table7[[#This Row],[Vo]]))","v":0},{"$f":"IF(U$1=0,0,IF(Configuration!$F$9=\"D\",$R177,Table7[[#This Row],[Vo]]))","v":0},{"$f":"IF(V$1=0,0,IF(Configuration!$F$10=\"D\",$R177,Table7[[#This Row],[Vo]]))","v":0},{"$f":"IF(W$1=0,0,IF(Configuration!$F$11=\"D\",$R177,Table7[[#This Row],[Vo]]))","v":0},{"$f":"IF(X$1=0,0,IF(Configuration!$F$12=\"D\",$R177,Table7[[#This Row],[Vo]]))","v":0},{"$f":"IF(Y$1=0,0,IF(Configuration!$F$13=\"D\",$R177,Table7[[#This Row],[Vo]]))","v":0},{"$f":"IF(Z$1=0,0,IF(Configuration!$F$14=\"D\",$R177,Table7[[#This Row],[Vo]]))","v":0},{"$f":"IF(AA$1=0,0,IF(Configuration!$F$15=\"D\",$R177,Table7[[#This Row],[Vo]]))","v":0},{"$f":"IF(AB$1=0,0,IF(Configuration!$F$16=\"D\",$R177,Table7[[#This Row],[Vo]]))","v":0},{"$f":"IF(AC$1=0,0,IF(Configuration!$F$17=\"D\",$R177,Table7[[#This Row],[Vo]]))","v":0}]
[18.600000000000001,"NMS-240-24",10,{"$f":"Table2[[#This Row],[Output Voltage]]*Table2[[#This Row],[Module rated current]]","v":186},"H",{"$f":"IF(1200/Table2[[#This Row],[Module rated power]]>6,6,ROUNDDOWN(1200/Table2[[#This Row],[Module rated power]],0))","v":6},{"$f":"Table2[[#This Row],[Module rated power]]*Table2[[#This Row],[Available No. of Slot]]","v":1116},{"$f":"ROUNDDOWN(Table2[[#This Row],[Max power per output]]/Table2[[#This Row],[Output Voltage]],2)","v":60},null,null,null,null,null,null,null,"South Africa",null,20.3,{"$f":"IF(S$1=0,0,IF(Configuration!$F$7=\"D\",$R178,Table7[[#This Row],[Vo]]))","v":0},{"$f":"IF(T$1=0,0,IF(Configuration!$F$8=\"D\",$R178,Table7[[#This Row],[Vo]]))","v":0},{"$f":"IF(U$1=0,0,IF(Configuration!$F$9=\"D\",$R178,Table7[[#This Row],[Vo]]))","v":0},{"$f":"IF(V$1=0,0,IF(Configuration!$F$10=\"D\",$R178,Table7[[#This Row],[Vo]]))","v":0},{"$f":"IF(W$1=0,0,IF(Configuration!$F$11=\"D\",$R178,Table7[[#This Row],[Vo]]))","v":0},{"$f":"IF(X$1=0,0,IF(Configuration!$F$12=\"D\",$R178,Table7[[#This Row],[Vo]]))","v":0},{"$f":"IF(Y$1=0,0,IF(Configuration!$F$13=\"D\",$R178,Table7[[#This Row],[Vo]]))","v":0},{"$f":"IF(Z$1=0,0,IF(Configuration!$F$14=\"D\",$R178,Table7[[#This Row],[Vo]]))","v":0},{"$f":"IF(AA$1=0,0,IF(Configuration!$F$15=\"D\",$R178,Table7[[#This Row],[Vo]]))","v":0},{"$f":"IF(AB$1=0,0,IF(Configuration!$F$16=\"D\",$R178,Table7[[#This Row],[Vo]]))","v":0},{"$f":"IF(AC$1=0,0,IF(Configuration!$F$17=\"D\",$R178,Table7[[#This Row],[Vo]]))","v":0}]
[18.7,"NMS-240-24",10,{"$f":"Table2[[#This Row],[Output Voltage]]*Table2[[#This Row],[Module rated current]]","v":187},"H",{"$f":"IF(1200/Table2[[#This Row],[Module rated power]]>6,6,ROUNDDOWN(1200/Table2[[#This Row],[Module rated power]],0))","v":6},{"$f":"Table2[[#This Row],[Module rated power]]*Table2[[#This Row],[Available No. of Slot]]","v":1122},{"$f":"ROUNDDOWN(Table2[[#This Row],[Max power per output]]/Table2[[#This Row],[Output Voltage]],2)","v":60},null,null,null,null,null,null,null,"Spain",null,20.399999999999999,{"$f":"IF(S$1=0,0,IF(Configuration!$F$7=\"D\",$R179,Table7[[#This Row],[Vo]]))","v":0},{"$f":"IF(T$1=0,0,IF(Configuration!$F$8=\"D\",$R179,Table7[[#This Row],[Vo]]))","v":0},{"$f":"IF(U$1=0,0,IF(Configuration!$F$9=\"D\",$R179,Table7[[#This Row],[Vo]]))","v":0},{"$f":"IF(V$1=0,0,IF(Configuration!$F$10=\"D\",$R179,Table7[[#This Row],[Vo]]))","v":0},{"$f":"IF(W$1=0,0,IF(Configuration!$F$11=\"D\",$R179,Table7[[#This Row],[Vo]]))","v":0},{"$f":"IF(X$1=0,0,IF(Configuration!$F$12=\"D\",$R179,Table7[[#This Row],[Vo]]))","v":0},{"$f":"IF(Y$1=0,0,IF(Configuration!$F$13=\"D\",$R179,Table7[[#This Row],[Vo]]))","v":0},{"$f":"IF(Z$1=0,0,IF(Configuration!$F$14=\"D\",$R179,Table7[[#This Row],[Vo]]))","v":0},{"$f":"IF(AA$1=0,0,IF(Configuration!$F$15=\"D\",$R179,Table7[[#This Row],[Vo]]))","v":0},{"$f":"IF(AB$1=0,0,IF(Configuration!$F$16=\"D\",$R179,Table7[[#This Row],[Vo]]))","v":0},{"$f":"IF(AC$1=0,0,IF(Configuration!$F$17=\"D\",$R179,Table7[[#This Row],[Vo]]))","v":0}]
[18.8,"NMS-240-24",10,{"$f":"Table2[[#This Row],[Output Voltage]]*Table2[[#This Row],[Module rated current]]","v":188},"H",{"$f":"IF(1200/Table2[[#This Row],[Module rated power]]>6,6,ROUNDDOWN(1200/Table2[[#This Row],[Module rated power]],0))","v":6},{"$f":"Table2[[#This Row],[Module rated power]]*Table2[[#This Row],[Available No. of Slot]]","v":1128},{"$f":"ROUNDDOWN(Table2[[#This Row],[Max power per output]]/Table2[[#This Row],[Output Voltage]],2)","v":60},null,null,null,null,null,null,null,"Sri Lanka",null,20.5,{"$f":"IF(S$1=0,0,IF(Configuration!$F$7=\"D\",$R180,Table7[[#This Row],[Vo]]))","v":0},{"$f":"IF(T$1=0,0,IF(Configuration!$F$8=\"D\",$R180,Table7[[#This Row],[Vo]]))","v":0},{"$f":"IF(U$1=0,0,IF(Configuration!$F$9=\"D\",$R180,Table7[[#This Row],[Vo]]))","v":0},{"$f":"IF(V$1=0,0,IF(Configuration!$F$10=\"D\",$R180,Table7[[#This Row],[Vo]]))","v":0},{"$f":"IF(W$1=0,0,IF(Configuration!$F$11=\"D\",$R180,Table7[[#This Row],[Vo]]))","v":0},{"$f":"IF(X$1=0,0,IF(Configuration!$F$12=\"D\",$R180,Table7[[#This Row],[Vo]]))","v":0},{"$f":"IF(Y$1=0,0,IF(Configuration!$F$13=\"D\",$R180,Table7[[#This Row],[Vo]]))","v":0},{"$f":"IF(Z$1=0,0,IF(Configuration!$F$14=\"D\",$R180,Table7[[#This Row],[Vo]]))","v":0},{"$f":"IF(AA$1=0,0,IF(Configuration!$F$15=\"D\",$R180,Table7[[#This Row],[Vo]]))","v":0},{"$f":"IF(AB$1=0,0,IF(Configuration!$F$16=\"D\",$R180,Table7[[#This Row],[Vo]]))","v":0},{"$f":"IF(AC$1=0,0,IF(Configuration!$F$17=\"D\",$R180,Table7[[#This Row],[Vo]]))","v":0}]
[18.899999999999999,"NMS-240-24",10,{"$f":"Table2[[#This Row],[Output Voltage]]*Table2[[#This Row],[Module rated current]]","v":189},"H",{"$f":"IF(1200/Table2[[#This Row],[Module rated power]]>6,6,ROUNDDOWN(1200/Table2[[#This Row],[Module rated power]],0))","v":6},{"$f":"Table2[[#This Row],[Module rated power]]*Table2[[#This Row],[Available No. of Slot]]","v":1134},{"$f":"ROUNDDOWN(Table2[[#This Row],[Max power per output]]/Table2[[#This Row],[Output Voltage]],2)","v":60},null,null,null,null,null,null,null,"Sweden",null,20.6,{"$f":"IF(S$1=0,0,IF(Configuration!$F$7=\"D\",$R181,Table7[[#This Row],[Vo]]))","v":0},{"$f":"IF(T$1=0,0,IF(Configuration!$F$8=\"D\",$R181,Table7[[#This Row],[Vo]]))","v":0},{"$f":"IF(U$1=0,0,IF(Configuration!$F$9=\"D\",$R181,Table7[[#This Row],[Vo]]))","v":0},{"$f":"IF(V$1=0,0,IF(Configuration!$F$10=\"D\",$R181,Table7[[#This Row],[Vo]]))","v":0},{"$f":"IF(W$1=0,0,IF(Configuration!$F$11=\"D\",$R181,Table7[[#This Row],[Vo]]))","v":0},{"$f":"IF(X$1=0,0,IF(Configuration!$F$12=\"D\",$R181,Table7[[#This Row],[Vo]]))","v":0},{"$f":"IF(Y$1=0,0,IF(Configuration!$F$13=\"D\",$R181,Table7[[#This Row],[Vo]]))","v":0},{"$f":"IF(Z$1=0,0,IF(Configuration!$F$14=\"D\",$R181,Table7[[#This Row],[Vo]]))","v":0},{"$f":"IF(AA$1=0,0,IF(Configuration!$F$15=\"D\",$R181,Table7[[#This Row],[Vo]]))","v":0},{"$f":"IF(AB$1=0,0,IF(Configuration!$F$16=\"D\",$R181,Table7[[#This Row],[Vo]]))","v":0},{"$f":"IF(AC$1=0,0,IF(Configuration!$F$17=\"D\",$R181,Table7[[#This Row],[Vo]]))","v":0}]
[19,"NMS-240-24",10,{"$f":"Table2[[#This Row],[Output Voltage]]*Table2[[#This Row],[Module rated current]]","v":190},"H",{"$f":"IF(1200/Table2[[#This Row],[Module rated power]]>6,6,ROUNDDOWN(1200/Table2[[#This Row],[Module rated power]],0))","v":6},{"$f":"Table2[[#This Row],[Module rated power]]*Table2[[#This Row],[Available No. of Slot]]","v":1140},{"$f":"ROUNDDOWN(Table2[[#This Row],[Max power per output]]/Table2[[#This Row],[Output Voltage]],2)","v":60},null,null,null,null,null,null,null,"Switzerland",null,20.7,{"$f":"IF(S$1=0,0,IF(Configuration!$F$7=\"D\",$R182,Table7[[#This Row],[Vo]]))","v":0},{"$f":"IF(T$1=0,0,IF(Configuration!$F$8=\"D\",$R182,Table7[[#This Row],[Vo]]))","v":0},{"$f":"IF(U$1=0,0,IF(Configuration!$F$9=\"D\",$R182,Table7[[#This Row],[Vo]]))","v":0},{"$f":"IF(V$1=0,0,IF(Configuration!$F$10=\"D\",$R182,Table7[[#This Row],[Vo]]))","v":0},{"$f":"IF(W$1=0,0,IF(Configuration!$F$11=\"D\",$R182,Table7[[#This Row],[Vo]]))","v":0},{"$f":"IF(X$1=0,0,IF(Configuration!$F$12=\"D\",$R182,Table7[[#This Row],[Vo]]))","v":0},{"$f":"IF(Y$1=0,0,IF(Configuration!$F$13=\"D\",$R182,Table7[[#This Row],[Vo]]))","v":0},{"$f":"IF(Z$1=0,0,IF(Configuration!$F$14=\"D\",$R182,Table7[[#This Row],[Vo]]))","v":0},{"$f":"IF(AA$1=0,0,IF(Configuration!$F$15=\"D\",$R182,Table7[[#This Row],[Vo]]))","v":0},{"$f":"IF(AB$1=0,0,IF(Configuration!$F$16=\"D\",$R182,Table7[[#This Row],[Vo]]))","v":0},{"$f":"IF(AC$1=0,0,IF(Configuration!$F$17=\"D\",$R182,Table7[[#This Row],[Vo]]))","v":0}]
[19.100000000000001,"NMS-240-24",10,{"$f":"Table2[[#This Row],[Output Voltage]]*Table2[[#This Row],[Module rated current]]","v":191},"H",{"$f":"IF(1200/Table2[[#This Row],[Module rated power]]>6,6,ROUNDDOWN(1200/Table2[[#This Row],[Module rated power]],0))","v":6},{"$f":"Table2[[#This Row],[Module rated power]]*Table2[[#This Row],[Available No. of Slot]]","v":1146},{"$f":"ROUNDDOWN(Table2[[#This Row],[Max power per output]]/Table2[[#This Row],[Output Voltage]],2)","v":60},null,null,null,null,null,null,null,"Syrian Arab Republic",null,20.8,{"$f":"IF(S$1=0,0,IF(Configuration!$F$7=\"D\",$R183,Table7[[#This Row],[Vo]]))","v":0},{"$f":"IF(T$1=0,0,IF(Configuration!$F$8=\"D\",$R183,Table7[[#This Row],[Vo]]))","v":0},{"$f":"IF(U$1=0,0,IF(Configuration!$F$9=\"D\",$R183,Table7[[#This Row],[Vo]]))","v":0},{"$f":"IF(V$1=0,0,IF(Configuration!$F$10=\"D\",$R183,Table7[[#This Row],[Vo]]))","v":0},{"$f":"IF(W$1=0,0,IF(Configuration!$F$11=\"D\",$R183,Table7[[#This Row],[Vo]]))","v":0},{"$f":"IF(X$1=0,0,IF(Configuration!$F$12=\"D\",$R183,Table7[[#This Row],[Vo]]))","v":0},{"$f":"IF(Y$1=0,0,IF(Configuration!$F$13=\"D\",$R183,Table7[[#This Row],[Vo]]))","v":0},{"$f":"IF(Z$1=0,0,IF(Configuration!$F$14=\"D\",$R183,Table7[[#This Row],[Vo]]))","v":0},{"$f":"IF(AA$1=0,0,IF(Configuration!$F$15=\"D\",$R183,Table7[[#This Row],[Vo]]))","v":0},{"$f":"IF(AB$1=0,0,IF(Configuration!$F$16=\"D\",$R183,Table7[[#This Row],[Vo]]))","v":0},{"$f":"IF(AC$1=0,0,IF(Configuration!$F$17=\"D\",$R183,Table7[[#This Row],[Vo]]))","v":0}]
[19.2,"NMS-240-24",10,{"$f":"Table2[[#This Row],[Output Voltage]]*Table2[[#This Row],[Module rated current]]","v":192},"H",{"$f":"IF(1200/Table2[[#This Row],[Module rated power]]>6,6,ROUNDDOWN(1200/Table2[[#This Row],[Module rated power]],0))","v":6},{"$f":"Table2[[#This Row],[Module rated power]]*Table2[[#This Row],[Available No. of Slot]]","v":1152},{"$f":"ROUNDDOWN(Table2[[#This Row],[Max power per output]]/Table2[[#This Row],[Output Voltage]],2)","v":60},null,null,null,null,null,null,null,"Tajikistan",null,20.9,{"$f":"IF(S$1=0,0,IF(Configuration!$F$7=\"D\",$R184,Table7[[#This Row],[Vo]]))","v":0},{"$f":"IF(T$1=0,0,IF(Configuration!$F$8=\"D\",$R184,Table7[[#This Row],[Vo]]))","v":0},{"$f":"IF(U$1=0,0,IF(Configuration!$F$9=\"D\",$R184,Table7[[#This Row],[Vo]]))","v":0},{"$f":"IF(V$1=0,0,IF(Configuration!$F$10=\"D\",$R184,Table7[[#This Row],[Vo]]))","v":0},{"$f":"IF(W$1=0,0,IF(Configuration!$F$11=\"D\",$R184,Table7[[#This Row],[Vo]]))","v":0},{"$f":"IF(X$1=0,0,IF(Configuration!$F$12=\"D\",$R184,Table7[[#This Row],[Vo]]))","v":0},{"$f":"IF(Y$1=0,0,IF(Configuration!$F$13=\"D\",$R184,Table7[[#This Row],[Vo]]))","v":0},{"$f":"IF(Z$1=0,0,IF(Configuration!$F$14=\"D\",$R184,Table7[[#This Row],[Vo]]))","v":0},{"$f":"IF(AA$1=0,0,IF(Configuration!$F$15=\"D\",$R184,Table7[[#This Row],[Vo]]))","v":0},{"$f":"IF(AB$1=0,0,IF(Configuration!$F$16=\"D\",$R184,Table7[[#This Row],[Vo]]))","v":0},{"$f":"IF(AC$1=0,0,IF(Configuration!$F$17=\"D\",$R184,Table7[[#This Row],[Vo]]))","v":0}]
[19.3,"NMS-240-24",10,{"$f":"Table2[[#This Row],[Output Voltage]]*Table2[[#This Row],[Module rated current]]","v":193},"H",{"$f":"IF(1200/Table2[[#This Row],[Module rated power]]>6,6,ROUNDDOWN(1200/Table2[[#This Row],[Module rated power]],0))","v":6},{"$f":"Table2[[#This Row],[Module rated power]]*Table2[[#This Row],[Available No. of Slot]]","v":1158},{"$f":"ROUNDDOWN(Table2[[#This Row],[Max power per output]]/Table2[[#This Row],[Output Voltage]],2)","v":60},null,null,null,null,null,null,null,"Timor-Leste",null,21,{"$f":"IF(S$1=0,0,IF(Configuration!$F$7=\"D\",$R185,Table7[[#This Row],[Vo]]))","v":0},{"$f":"IF(T$1=0,0,IF(Configuration!$F$8=\"D\",$R185,Table7[[#This Row],[Vo]]))","v":0},{"$f":"IF(U$1=0,0,IF(Configuration!$F$9=\"D\",$R185,Table7[[#This Row],[Vo]]))","v":0},{"$f":"IF(V$1=0,0,IF(Configuration!$F$10=\"D\",$R185,Table7[[#This Row],[Vo]]))","v":0},{"$f":"IF(W$1=0,0,IF(Configuration!$F$11=\"D\",$R185,Table7[[#This Row],[Vo]]))","v":0},{"$f":"IF(X$1=0,0,IF(Configuration!$F$12=\"D\",$R185,Table7[[#This Row],[Vo]]))","v":0},{"$f":"IF(Y$1=0,0,IF(Configuration!$F$13=\"D\",$R185,Table7[[#This Row],[Vo]]))","v":0},{"$f":"IF(Z$1=0,0,IF(Configuration!$F$14=\"D\",$R185,Table7[[#This Row],[Vo]]))","v":0},{"$f":"IF(AA$1=0,0,IF(Configuration!$F$15=\"D\",$R185,Table7[[#This Row],[Vo]]))","v":0},{"$f":"IF(AB$1=0,0,IF(Configuration!$F$16=\"D\",$R185,Table7[[#This Row],[Vo]]))","v":0},{"$f":"IF(AC$1=0,0,IF(Configuration!$F$17=\"D\",$R185,Table7[[#This Row],[Vo]]))","v":0}]
[19.399999999999999,"NMS-240-24",10,{"$f":"Table2[[#This Row],[Output Voltage]]*Table2[[#This Row],[Module rated current]]","v":194},"H",{"$f":"IF(1200/Table2[[#This Row],[Module rated power]]>6,6,ROUNDDOWN(1200/Table2[[#This Row],[Module rated power]],0))","v":6},{"$f":"Table2[[#This Row],[Module rated power]]*Table2[[#This Row],[Available No. of Slot]]","v":1164},{"$f":"ROUNDDOWN(Table2[[#This Row],[Max power per output]]/Table2[[#This Row],[Output Voltage]],2)","v":60},null,null,null,null,null,null,null,"Tonga",null,21.1,{"$f":"IF(S$1=0,0,IF(Configuration!$F$7=\"D\",$R186,Table7[[#This Row],[Vo]]))","v":0},{"$f":"IF(T$1=0,0,IF(Configuration!$F$8=\"D\",$R186,Table7[[#This Row],[Vo]]))","v":0},{"$f":"IF(U$1=0,0,IF(Configuration!$F$9=\"D\",$R186,Table7[[#This Row],[Vo]]))","v":0},{"$f":"IF(V$1=0,0,IF(Configuration!$F$10=\"D\",$R186,Table7[[#This Row],[Vo]]))","v":0},{"$f":"IF(W$1=0,0,IF(Configuration!$F$11=\"D\",$R186,Table7[[#This Row],[Vo]]))","v":0},{"$f":"IF(X$1=0,0,IF(Configuration!$F$12=\"D\",$R186,Table7[[#This Row],[Vo]]))","v":0},{"$f":"IF(Y$1=0,0,IF(Configuration!$F$13=\"D\",$R186,Table7[[#This Row],[Vo]]))","v":0},{"$f":"IF(Z$1=0,0,IF(Configuration!$F$14=\"D\",$R186,Table7[[#This Row],[Vo]]))","v":0},{"$f":"IF(AA$1=0,0,IF(Configuration!$F$15=\"D\",$R186,Table7[[#This Row],[Vo]]))","v":0},{"$f":"IF(AB$1=0,0,IF(Configuration!$F$16=\"D\",$R186,Table7[[#This Row],[Vo]]))","v":0},{"$f":"IF(AC$1=0,0,IF(Configuration!$F$17=\"D\",$R186,Table7[[#This Row],[Vo]]))","v":0}]
[19.5,"NMS-240-24",10,{"$f":"Table2[[#This Row],[Output Voltage]]*Table2[[#This Row],[Module rated current]]","v":195},"H",{"$f":"IF(1200/Table2[[#This Row],[Module rated power]]>6,6,ROUNDDOWN(1200/Table2[[#This Row],[Module rated power]],0))","v":6},{"$f":"Table2[[#This Row],[Module rated power]]*Table2[[#This Row],[Available No. of Slot]]","v":1170},{"$f":"ROUNDDOWN(Table2[[#This Row],[Max power per output]]/Table2[[#This Row],[Output Voltage]],2)","v":60},null,null,null,null,null,null,null,"Trinidad and Tobago",null,21.2,{"$f":"IF(S$1=0,0,IF(Configuration!$F$7=\"D\",$R187,Table7[[#This Row],[Vo]]))","v":0},{"$f":"IF(T$1=0,0,IF(Configuration!$F$8=\"D\",$R187,Table7[[#This Row],[Vo]]))","v":0},{"$f":"IF(U$1=0,0,IF(Configuration!$F$9=\"D\",$R187,Table7[[#This Row],[Vo]]))","v":0},{"$f":"IF(V$1=0,0,IF(Configuration!$F$10=\"D\",$R187,Table7[[#This Row],[Vo]]))","v":0},{"$f":"IF(W$1=0,0,IF(Configuration!$F$11=\"D\",$R187,Table7[[#This Row],[Vo]]))","v":0},{"$f":"IF(X$1=0,0,IF(Configuration!$F$12=\"D\",$R187,Table7[[#This Row],[Vo]]))","v":0},{"$f":"IF(Y$1=0,0,IF(Configuration!$F$13=\"D\",$R187,Table7[[#This Row],[Vo]]))","v":0},{"$f":"IF(Z$1=0,0,IF(Configuration!$F$14=\"D\",$R187,Table7[[#This Row],[Vo]]))","v":0},{"$f":"IF(AA$1=0,0,IF(Configuration!$F$15=\"D\",$R187,Table7[[#This Row],[Vo]]))","v":0},{"$f":"IF(AB$1=0,0,IF(Configuration!$F$16=\"D\",$R187,Table7[[#This Row],[Vo]]))","v":0},{"$f":"IF(AC$1=0,0,IF(Configuration!$F$17=\"D\",$R187,Table7[[#This Row],[Vo]]))","v":0}]
[19.600000000000001,"NMS-240-24",10,{"$f":"Table2[[#This Row],[Output Voltage]]*Table2[[#This Row],[Module rated current]]","v":196},"H",{"$f":"IF(1200/Table2[[#This Row],[Module rated power]]>6,6,ROUNDDOWN(1200/Table2[[#This Row],[Module rated power]],0))","v":6},{"$f":"Table2[[#This Row],[Module rated power]]*Table2[[#This Row],[Available No. of Slot]]","v":1176},{"$f":"ROUNDDOWN(Table2[[#This Row],[Max power per output]]/Table2[[#This Row],[Output Voltage]],2)","v":60},null,null,null,null,null,null,null,"Turkmenistan",null,21.3,{"$f":"IF(S$1=0,0,IF(Configuration!$F$7=\"D\",$R188,Table7[[#This Row],[Vo]]))","v":0},{"$f":"IF(T$1=0,0,IF(Configuration!$F$8=\"D\",$R188,Table7[[#This Row],[Vo]]))","v":0},{"$f":"IF(U$1=0,0,IF(Configuration!$F$9=\"D\",$R188,Table7[[#This Row],[Vo]]))","v":0},{"$f":"IF(V$1=0,0,IF(Configuration!$F$10=\"D\",$R188,Table7[[#This Row],[Vo]]))","v":0},{"$f":"IF(W$1=0,0,IF(Configuration!$F$11=\"D\",$R188,Table7[[#This Row],[Vo]]))","v":0},{"$f":"IF(X$1=0,0,IF(Configuration!$F$12=\"D\",$R188,Table7[[#This Row],[Vo]]))","v":0},{"$f":"IF(Y$1=0,0,IF(Configuration!$F$13=\"D\",$R188,Table7[[#This Row],[Vo]]))","v":0},{"$f":"IF(Z$1=0,0,IF(Configuration!$F$14=\"D\",$R188,Table7[[#This Row],[Vo]]))","v":0},{"$f":"IF(AA$1=0,0,IF(Configuration!$F$15=\"D\",$R188,Table7[[#This Row],[Vo]]))","v":0},{"$f":"IF(AB$1=0,0,IF(Configuration!$F$16=\"D\",$R188,Table7[[#This Row],[Vo]]))","v":0},{"$f":"IF(AC$1=0,0,IF(Configuration!$F$17=\"D\",$R188,Table7[[#This Row],[Vo]]))","v":0}]
[19.7,"NMS-240-24",10,{"$f":"Table2[[#This Row],[Output Voltage]]*Table2[[#This Row],[Module rated current]]","v":197},"H",{"$f":"IF(1200/Table2[[#This Row],[Module rated power]]>6,6,ROUNDDOWN(1200/Table2[[#This Row],[Module rated power]],0))","v":6},{"$f":"Table2[[#This Row],[Module rated power]]*Table2[[#This Row],[Available No. of Slot]]","v":1182},{"$f":"ROUNDDOWN(Table2[[#This Row],[Max power per output]]/Table2[[#This Row],[Output Voltage]],2)","v":60},null,null,null,null,null,null,null,"Tuvalu",null,21.4,{"$f":"IF(S$1=0,0,IF(Configuration!$F$7=\"D\",$R189,Table7[[#This Row],[Vo]]))","v":0},{"$f":"IF(T$1=0,0,IF(Configuration!$F$8=\"D\",$R189,Table7[[#This Row],[Vo]]))","v":0},{"$f":"IF(U$1=0,0,IF(Configuration!$F$9=\"D\",$R189,Table7[[#This Row],[Vo]]))","v":0},{"$f":"IF(V$1=0,0,IF(Configuration!$F$10=\"D\",$R189,Table7[[#This Row],[Vo]]))","v":0},{"$f":"IF(W$1=0,0,IF(Configuration!$F$11=\"D\",$R189,Table7[[#This Row],[Vo]]))","v":0},{"$f":"IF(X$1=0,0,IF(Configuration!$F$12=\"D\",$R189,Table7[[#This Row],[Vo]]))","v":0},{"$f":"IF(Y$1=0,0,IF(Configuration!$F$13=\"D\",$R189,Table7[[#This Row],[Vo]]))","v":0},{"$f":"IF(Z$1=0,0,IF(Configuration!$F$14=\"D\",$R189,Table7[[#This Row],[Vo]]))","v":0},{"$f":"IF(AA$1=0,0,IF(Configuration!$F$15=\"D\",$R189,Table7[[#This Row],[Vo]]))","v":0},{"$f":"IF(AB$1=0,0,IF(Configuration!$F$16=\"D\",$R189,Table7[[#This Row],[Vo]]))","v":0},{"$f":"IF(AC$1=0,0,IF(Configuration!$F$17=\"D\",$R189,Table7[[#This Row],[Vo]]))","v":0}]
[19.8,"NMS-240-24",10,{"$f":"Table2[[#This Row],[Output Voltage]]*Table2[[#This Row],[Module rated current]]","v":198},"H",{"$f":"IF(1200/Table2[[#This Row],[Module rated power]]>6,6,ROUNDDOWN(1200/Table2[[#This Row],[Module rated power]],0))","v":6},{"$f":"Table2[[#This Row],[Module rated power]]*Table2[[#This Row],[Available No. of Slot]]","v":1188},{"$f":"ROUNDDOWN(Table2[[#This Row],[Max power per output]]/Table2[[#This Row],[Output Voltage]],2)","v":60},null,null,null,null,null,null,null,"Taiwan",null,21.5,{"$f":"IF(S$1=0,0,IF(Configuration!$F$7=\"D\",$R190,Table7[[#This Row],[Vo]]))","v":0},{"$f":"IF(T$1=0,0,IF(Configuration!$F$8=\"D\",$R190,Table7[[#This Row],[Vo]]))","v":0},{"$f":"IF(U$1=0,0,IF(Configuration!$F$9=\"D\",$R190,Table7[[#This Row],[Vo]]))","v":0},{"$f":"IF(V$1=0,0,IF(Configuration!$F$10=\"D\",$R190,Table7[[#This Row],[Vo]]))","v":0},{"$f":"IF(W$1=0,0,IF(Configuration!$F$11=\"D\",$R190,Table7[[#This Row],[Vo]]))","v":0},{"$f":"IF(X$1=0,0,IF(Configuration!$F$12=\"D\",$R190,Table7[[#This Row],[Vo]]))","v":0},{"$f":"IF(Y$1=0,0,IF(Configuration!$F$13=\"D\",$R190,Table7[[#This Row],[Vo]]))","v":0},{"$f":"IF(Z$1=0,0,IF(Configuration!$F$14=\"D\",$R190,Table7[[#This Row],[Vo]]))","v":0},{"$f":"IF(AA$1=0,0,IF(Configuration!$F$15=\"D\",$R190,Table7[[#This Row],[Vo]]))","v":0},{"$f":"IF(AB$1=0,0,IF(Configuration!$F$16=\"D\",$R190,Table7[[#This Row],[Vo]]))","v":0},{"$f":"IF(AC$1=0,0,IF(Configuration!$F$17=\"D\",$R190,Table7[[#This Row],[Vo]]))","v":0}]
[19.899999999999999,"NMS-240-24",10,{"$f":"Table2[[#This Row],[Output Voltage]]*Table2[[#This Row],[Module rated current]]","v":199},"H",{"$f":"IF(1200/Table2[[#This Row],[Module rated power]]>6,6,ROUNDDOWN(1200/Table2[[#This Row],[Module rated power]],0))","v":6},{"$f":"Table2[[#This Row],[Module rated power]]*Table2[[#This Row],[Available No. of Slot]]","v":1194},{"$f":"ROUNDDOWN(Table2[[#This Row],[Max power per output]]/Table2[[#This Row],[Output Voltage]],2)","v":60},null,null,null,null,null,null,null,"Tanzania",null,21.6,{"$f":"IF(S$1=0,0,IF(Configuration!$F$7=\"D\",$R191,Table7[[#This Row],[Vo]]))","v":0},{"$f":"IF(T$1=0,0,IF(Configuration!$F$8=\"D\",$R191,Table7[[#This Row],[Vo]]))","v":0},{"$f":"IF(U$1=0,0,IF(Configuration!$F$9=\"D\",$R191,Table7[[#This Row],[Vo]]))","v":0},{"$f":"IF(V$1=0,0,IF(Configuration!$F$10=\"D\",$R191,Table7[[#This Row],[Vo]]))","v":0},{"$f":"IF(W$1=0,0,IF(Configuration!$F$11=\"D\",$R191,Table7[[#This Row],[Vo]]))","v":0},{"$f":"IF(X$1=0,0,IF(Configuration!$F$12=\"D\",$R191,Table7[[#This Row],[Vo]]))","v":0},{"$f":"IF(Y$1=0,0,IF(Configuration!$F$13=\"D\",$R191,Table7[[#This Row],[Vo]]))","v":0},{"$f":"IF(Z$1=0,0,IF(Configuration!$F$14=\"D\",$R191,Table7[[#This Row],[Vo]]))","v":0},{"$f":"IF(AA$1=0,0,IF(Configuration!$F$15=\"D\",$R191,Table7[[#This Row],[Vo]]))","v":0},{"$f":"IF(AB$1=0,0,IF(Configuration!$F$16=\"D\",$R191,Table7[[#This Row],[Vo]]))","v":0},{"$f":"IF(AC$1=0,0,IF(Configuration!$F$17=\"D\",$R191,Table7[[#This Row],[Vo]]))","v":0}]
[20,"NMS-240-24",10,{"$f":"Table2[[#This Row],[Output Voltage]]*Table2[[#This Row],[Module rated current]]","v":200},"H",{"$f":"IF(1200/Table2[[#This Row],[Module rated power]]>6,6,ROUNDDOWN(1200/Table2[[#This Row],[Module rated power]],0))","v":6},{"$f":"Table2[[#This Row],[Module rated power]]*Table2[[#This Row],[Available No. of Slot]]","v":1200},{"$f":"ROUNDDOWN(Table2[[#This Row],[Max power per output]]/Table2[[#This Row],[Output Voltage]],2)","v":60},null,null,null,null,null,null,null,"Thailand",null,21.7,{"$f":"IF(S$1=0,0,IF(Configuration!$F$7=\"D\",$R192,Table7[[#This Row],[Vo]]))","v":0},{"$f":"IF(T$1=0,0,IF(Configuration!$F$8=\"D\",$R192,Table7[[#This Row],[Vo]]))","v":0},{"$f":"IF(U$1=0,0,IF(Configuration!$F$9=\"D\",$R192,Table7[[#This Row],[Vo]]))","v":0},{"$f":"IF(V$1=0,0,IF(Configuration!$F$10=\"D\",$R192,Table7[[#This Row],[Vo]]))","v":0},{"$f":"IF(W$1=0,0,IF(Configuration!$F$11=\"D\",$R192,Table7[[#This Row],[Vo]]))","v":0},{"$f":"IF(X$1=0,0,IF(Configuration!$F$12=\"D\",$R192,Table7[[#This Row],[Vo]]))","v":0},{"$f":"IF(Y$1=0,0,IF(Configuration!$F$13=\"D\",$R192,Table7[[#This Row],[Vo]]))","v":0},{"$f":"IF(Z$1=0,0,IF(Configuration!$F$14=\"D\",$R192,Table7[[#This Row],[Vo]]))","v":0},{"$f":"IF(AA$1=0,0,IF(Configuration!$F$15=\"D\",$R192,Table7[[#This Row],[Vo]]))","v":0},{"$f":"IF(AB$1=0,0,IF(Configuration!$F$16=\"D\",$R192,Table7[[#This Row],[Vo]]))","v":0},{"$f":"IF(AC$1=0,0,IF(Configuration!$F$17=\"D\",$R192,Table7[[#This Row],[Vo]]))","v":0}]
[20.100000000000001,"NMS-240-24",10,{"$f":"Table2[[#This Row],[Output Voltage]]*Table2[[#This Row],[Module rated current]]","v":201},"H",{"$f":"IF(1200/Table2[[#This Row],[Module rated power]]>6,6,ROUNDDOWN(1200/Table2[[#This Row],[Module rated power]],0))","v":5},{"$f":"Table2[[#This Row],[Module rated power]]*Table2[[#This Row],[Available No. of Slot]]","v":1005},{"$f":"ROUNDDOWN(Table2[[#This Row],[Max power per output]]/Table2[[#This Row],[Output Voltage]],2)","v":50},null,null,null,null,null,null,null,"Togo",null,21.8,{"$f":"IF(S$1=0,0,IF(Configuration!$F$7=\"D\",$R193,Table7[[#This Row],[Vo]]))","v":0},{"$f":"IF(T$1=0,0,IF(Configuration!$F$8=\"D\",$R193,Table7[[#This Row],[Vo]]))","v":0},{"$f":"IF(U$1=0,0,IF(Configuration!$F$9=\"D\",$R193,Table7[[#This Row],[Vo]]))","v":0},{"$f":"IF(V$1=0,0,IF(Configuration!$F$10=\"D\",$R193,Table7[[#This Row],[Vo]]))","v":0},{"$f":"IF(W$1=0,0,IF(Configuration!$F$11=\"D\",$R193,Table7[[#This Row],[Vo]]))","v":0},{"$f":"IF(X$1=0,0,IF(Configuration!$F$12=\"D\",$R193,Table7[[#This Row],[Vo]]))","v":0},{"$f":"IF(Y$1=0,0,IF(Configuration!$F$13=\"D\",$R193,Table7[[#This Row],[Vo]]))","v":0},{"$f":"IF(Z$1=0,0,IF(Configuration!$F$14=\"D\",$R193,Table7[[#This Row],[Vo]]))","v":0},{"$f":"IF(AA$1=0,0,IF(Configuration!$F$15=\"D\",$R193,Table7[[#This Row],[Vo]]))","v":0},{"$f":"IF(AB$1=0,0,IF(Configuration!$F$16=\"D\",$R193,Table7[[#This Row],[Vo]]))","v":0},{"$f":"IF(AC$1=0,0,IF(Configuration!$F$17=\"D\",$R193,Table7[[#This Row],[Vo]]))","v":0}]
[20.2,"NMS-240-24",10,{"$f":"Table2[[#This Row],[Output Voltage]]*Table2[[#This Row],[Module rated current]]","v":202},"H",{"$f":"IF(1200/Table2[[#This Row],[Module rated power]]>6,6,ROUNDDOWN(1200/Table2[[#This Row],[Module rated power]],0))","v":5},{"$f":"Table2[[#This Row],[Module rated power]]*Table2[[#This Row],[Available No. of Slot]]","v":1010},{"$f":"ROUNDDOWN(Table2[[#This Row],[Max power per output]]/Table2[[#This Row],[Output Voltage]],2)","v":50},null,null,null,null,null,null,null,"Tunisia",null,21.9,{"$f":"IF(S$1=0,0,IF(Configuration!$F$7=\"D\",$R194,Table7[[#This Row],[Vo]]))","v":0},{"$f":"IF(T$1=0,0,IF(Configuration!$F$8=\"D\",$R194,Table7[[#This Row],[Vo]]))","v":0},{"$f":"IF(U$1=0,0,IF(Configuration!$F$9=\"D\",$R194,Table7[[#This Row],[Vo]]))","v":0},{"$f":"IF(V$1=0,0,IF(Configuration!$F$10=\"D\",$R194,Table7[[#This Row],[Vo]]))","v":0},{"$f":"IF(W$1=0,0,IF(Configuration!$F$11=\"D\",$R194,Table7[[#This Row],[Vo]]))","v":0},{"$f":"IF(X$1=0,0,IF(Configuration!$F$12=\"D\",$R194,Table7[[#This Row],[Vo]]))","v":0},{"$f":"IF(Y$1=0,0,IF(Configuration!$F$13=\"D\",$R194,Table7[[#This Row],[Vo]]))","v":0},{"$f":"IF(Z$1=0,0,IF(Configuration!$F$14=\"D\",$R194,Table7[[#This Row],[Vo]]))","v":0},{"$f":"IF(AA$1=0,0,IF(Configuration!$F$15=\"D\",$R194,Table7[[#This Row],[Vo]]))","v":0},{"$f":"IF(AB$1=0,0,IF(Configuration!$F$16=\"D\",$R194,Table7[[#This Row],[Vo]]))","v":0},{"$f":"IF(AC$1=0,0,IF(Configuration!$F$17=\"D\",$R194,Table7[[#This Row],[Vo]]))","v":0}]
[20.3,"NMS-240-24",10,{"$f":"Table2[[#This Row],[Output Voltage]]*Table2[[#This Row],[Module rated current]]","v":203},"H",{"$f":"IF(1200/Table2[[#This Row],[Module rated power]]>6,6,ROUNDDOWN(1200/Table2[[#This Row],[Module rated power]],0))","v":5},{"$f":"Table2[[#This Row],[Module rated power]]*Table2[[#This Row],[Available No. of Slot]]","v":1015},{"$f":"ROUNDDOWN(Table2[[#This Row],[Max power per output]]/Table2[[#This Row],[Output Voltage]],2)","v":50},null,null,null,null,null,null,null,"Turkey",null,22,{"$f":"IF(S$1=0,0,IF(Configuration!$F$7=\"D\",$R195,Table7[[#This Row],[Vo]]))","v":0},{"$f":"IF(T$1=0,0,IF(Configuration!$F$8=\"D\",$R195,Table7[[#This Row],[Vo]]))","v":0},{"$f":"IF(U$1=0,0,IF(Configuration!$F$9=\"D\",$R195,Table7[[#This Row],[Vo]]))","v":0},{"$f":"IF(V$1=0,0,IF(Configuration!$F$10=\"D\",$R195,Table7[[#This Row],[Vo]]))","v":0},{"$f":"IF(W$1=0,0,IF(Configuration!$F$11=\"D\",$R195,Table7[[#This Row],[Vo]]))","v":0},{"$f":"IF(X$1=0,0,IF(Configuration!$F$12=\"D\",$R195,Table7[[#This Row],[Vo]]))","v":0},{"$f":"IF(Y$1=0,0,IF(Configuration!$F$13=\"D\",$R195,Table7[[#This Row],[Vo]]))","v":0},{"$f":"IF(Z$1=0,0,IF(Configuration!$F$14=\"D\",$R195,Table7[[#This Row],[Vo]]))","v":0},{"$f":"IF(AA$1=0,0,IF(Configuration!$F$15=\"D\",$R195,Table7[[#This Row],[Vo]]))","v":0},{"$f":"IF(AB$1=0,0,IF(Configuration!$F$16=\"D\",$R195,Table7[[#This Row],[Vo]]))","v":0},{"$f":"IF(AC$1=0,0,IF(Configuration!$F$17=\"D\",$R195,Table7[[#This Row],[Vo]]))","v":0}]
[20.399999999999999,"NMS-240-24",10,{"$f":"Table2[[#This Row],[Output Voltage]]*Table2[[#This Row],[Module rated current]]","v":204},"H",{"$f":"IF(1200/Table2[[#This Row],[Module rated power]]>6,6,ROUNDDOWN(1200/Table2[[#This Row],[Module rated power]],0))","v":5},{"$f":"Table2[[#This Row],[Module rated power]]*Table2[[#This Row],[Available No. of Slot]]","v":1020},{"$f":"ROUNDDOWN(Table2[[#This Row],[Max power per output]]/Table2[[#This Row],[Output Voltage]],2)","v":50},null,null,null,null,null,null,null,"Uganda",null,22.1,{"$f":"IF(S$1=0,0,IF(Configuration!$F$7=\"D\",$R196,Table7[[#This Row],[Vo]]))","v":0},{"$f":"IF(T$1=0,0,IF(Configuration!$F$8=\"D\",$R196,Table7[[#This Row],[Vo]]))","v":0},{"$f":"IF(U$1=0,0,IF(Configuration!$F$9=\"D\",$R196,Table7[[#This Row],[Vo]]))","v":0},{"$f":"IF(V$1=0,0,IF(Configuration!$F$10=\"D\",$R196,Table7[[#This Row],[Vo]]))","v":0},{"$f":"IF(W$1=0,0,IF(Configuration!$F$11=\"D\",$R196,Table7[[#This Row],[Vo]]))","v":0},{"$f":"IF(X$1=0,0,IF(Configuration!$F$12=\"D\",$R196,Table7[[#This Row],[Vo]]))","v":0},{"$f":"IF(Y$1=0,0,IF(Configuration!$F$13=\"D\",$R196,Table7[[#This Row],[Vo]]))","v":0},{"$f":"IF(Z$1=0,0,IF(Configuration!$F$14=\"D\",$R196,Table7[[#This Row],[Vo]]))","v":0},{"$f":"IF(AA$1=0,0,IF(Configuration!$F$15=\"D\",$R196,Table7[[#This Row],[Vo]]))","v":0},{"$f":"IF(AB$1=0,0,IF(Configuration!$F$16=\"D\",$R196,Table7[[#This Row],[Vo]]))","v":0},{"$f":"IF(AC$1=0,0,IF(Configuration!$F$17=\"D\",$R196,Table7[[#This Row],[Vo]]))","v":0}]
[20.5,"NMS-240-24",10,{"$f":"Table2[[#This Row],[Output Voltage]]*Table2[[#This Row],[Module rated current]]","v":205},"H",{"$f":"IF(1200/Table2[[#This Row],[Module rated power]]>6,6,ROUNDDOWN(1200/Table2[[#This Row],[Module rated power]],0))","v":5},{"$f":"Table2[[#This Row],[Module rated power]]*Table2[[#This Row],[Available No. of Slot]]","v":1025},{"$f":"ROUNDDOWN(Table2[[#This Row],[Max power per output]]/Table2[[#This Row],[Output Voltage]],2)","v":50},null,null,null,null,null,null,null,"Ukraine",null,22.2,{"$f":"IF(S$1=0,0,IF(Configuration!$F$7=\"D\",$R197,Table7[[#This Row],[Vo]]))","v":0},{"$f":"IF(T$1=0,0,IF(Configuration!$F$8=\"D\",$R197,Table7[[#This Row],[Vo]]))","v":0},{"$f":"IF(U$1=0,0,IF(Configuration!$F$9=\"D\",$R197,Table7[[#This Row],[Vo]]))","v":0},{"$f":"IF(V$1=0,0,IF(Configuration!$F$10=\"D\",$R197,Table7[[#This Row],[Vo]]))","v":0},{"$f":"IF(W$1=0,0,IF(Configuration!$F$11=\"D\",$R197,Table7[[#This Row],[Vo]]))","v":0},{"$f":"IF(X$1=0,0,IF(Configuration!$F$12=\"D\",$R197,Table7[[#This Row],[Vo]]))","v":0},{"$f":"IF(Y$1=0,0,IF(Configuration!$F$13=\"D\",$R197,Table7[[#This Row],[Vo]]))","v":0},{"$f":"IF(Z$1=0,0,IF(Configuration!$F$14=\"D\",$R197,Table7[[#This Row],[Vo]]))","v":0},{"$f":"IF(AA$1=0,0,IF(Configuration!$F$15=\"D\",$R197,Table7[[#This Row],[Vo]]))","v":0},{"$f":"IF(AB$1=0,0,IF(Configuration!$F$16=\"D\",$R197,Table7[[#This Row],[Vo]]))","v":0},{"$f":"IF(AC$1=0,0,IF(Configuration!$F$17=\"D\",$R197,Table7[[#This Row],[Vo]]))","v":0}]
[20.6,"NMS-240-24",10,{"$f":"Table2[[#This Row],[Output Voltage]]*Table2[[#This Row],[Module rated current]]","v":206},"H",{"$f":"IF(1200/Table2[[#This Row],[Module rated power]]>6,6,ROUNDDOWN(1200/Table2[[#This Row],[Module rated power]],0))","v":5},{"$f":"Table2[[#This Row],[Module rated power]]*Table2[[#This Row],[Available No. of Slot]]","v":1030},{"$f":"ROUNDDOWN(Table2[[#This Row],[Max power per output]]/Table2[[#This Row],[Output Voltage]],2)","v":50},null,null,null,null,null,null,null,"United Arab Emirates",null,22.3,{"$f":"IF(S$1=0,0,IF(Configuration!$F$7=\"D\",$R198,Table7[[#This Row],[Vo]]))","v":0},{"$f":"IF(T$1=0,0,IF(Configuration!$F$8=\"D\",$R198,Table7[[#This Row],[Vo]]))","v":0},{"$f":"IF(U$1=0,0,IF(Configuration!$F$9=\"D\",$R198,Table7[[#This Row],[Vo]]))","v":0},{"$f":"IF(V$1=0,0,IF(Configuration!$F$10=\"D\",$R198,Table7[[#This Row],[Vo]]))","v":0},{"$f":"IF(W$1=0,0,IF(Configuration!$F$11=\"D\",$R198,Table7[[#This Row],[Vo]]))","v":0},{"$f":"IF(X$1=0,0,IF(Configuration!$F$12=\"D\",$R198,Table7[[#This Row],[Vo]]))","v":0},{"$f":"IF(Y$1=0,0,IF(Configuration!$F$13=\"D\",$R198,Table7[[#This Row],[Vo]]))","v":0},{"$f":"IF(Z$1=0,0,IF(Configuration!$F$14=\"D\",$R198,Table7[[#This Row],[Vo]]))","v":0},{"$f":"IF(AA$1=0,0,IF(Configuration!$F$15=\"D\",$R198,Table7[[#This Row],[Vo]]))","v":0},{"$f":"IF(AB$1=0,0,IF(Configuration!$F$16=\"D\",$R198,Table7[[#This Row],[Vo]]))","v":0},{"$f":"IF(AC$1=0,0,IF(Configuration!$F$17=\"D\",$R198,Table7[[#This Row],[Vo]]))","v":0}]
[20.7,"NMS-240-24",10,{"$f":"Table2[[#This Row],[Output Voltage]]*Table2[[#This Row],[Module rated current]]","v":207},"H",{"$f":"IF(1200/Table2[[#This Row],[Module rated power]]>6,6,ROUNDDOWN(1200/Table2[[#This Row],[Module rated power]],0))","v":5},{"$f":"Table2[[#This Row],[Module rated power]]*Table2[[#This Row],[Available No. of Slot]]","v":1035},{"$f":"ROUNDDOWN(Table2[[#This Row],[Max power per output]]/Table2[[#This Row],[Output Voltage]],2)","v":50},null,null,null,null,null,null,null,"United Kingdom",null,{"$f":"ROUNDUP(R197+0.1,1)","v":22.4},{"$f":"IF(S$1=0,0,IF(Configuration!$F$7=\"D\",$R199,Table7[[#This Row],[Vo]]))","v":0},{"$f":"IF(T$1=0,0,IF(Configuration!$F$8=\"D\",$R199,Table7[[#This Row],[Vo]]))","v":0},{"$f":"IF(U$1=0,0,IF(Configuration!$F$9=\"D\",$R199,Table7[[#This Row],[Vo]]))","v":0},{"$f":"IF(V$1=0,0,IF(Configuration!$F$10=\"D\",$R199,Table7[[#This Row],[Vo]]))","v":0},{"$f":"IF(W$1=0,0,IF(Configuration!$F$11=\"D\",$R199,Table7[[#This Row],[Vo]]))","v":0},{"$f":"IF(X$1=0,0,IF(Configuration!$F$12=\"D\",$R199,Table7[[#This Row],[Vo]]))","v":0},{"$f":"IF(Y$1=0,0,IF(Configuration!$F$13=\"D\",$R199,Table7[[#This Row],[Vo]]))","v":0},{"$f":"IF(Z$1=0,0,IF(Configuration!$F$14=\"D\",$R199,Table7[[#This Row],[Vo]]))","v":0},{"$f":"IF(AA$1=0,0,IF(Configuration!$F$15=\"D\",$R199,Table7[[#This Row],[Vo]]))","v":0},{"$f":"IF(AB$1=0,0,IF(Configuration!$F$16=\"D\",$R199,Table7[[#This Row],[Vo]]))","v":0},{"$f":"IF(AC$1=0,0,IF(Configuration!$F$17=\"D\",$R199,Table7[[#This Row],[Vo]]))","v":0}]
[20.8,"NMS-240-24",10,{"$f":"Table2[[#This Row],[Output Voltage]]*Table2[[#This Row],[Module rated current]]","v":208},"H",{"$f":"IF(1200/Table2[[#This Row],[Module rated power]]>6,6,ROUNDDOWN(1200/Table2[[#This Row],[Module rated power]],0))","v":5},{"$f":"Table2[[#This Row],[Module rated power]]*Table2[[#This Row],[Available No. of Slot]]","v":1040},{"$f":"ROUNDDOWN(Table2[[#This Row],[Max power per output]]/Table2[[#This Row],[Output Voltage]],2)","v":50},null,null,null,null,null,null,null,"United States of America",null,22.5,{"$f":"IF(S$1=0,0,IF(Configuration!$F$7=\"D\",$R200,Table7[[#This Row],[Vo]]))","v":0},{"$f":"IF(T$1=0,0,IF(Configuration!$F$8=\"D\",$R200,Table7[[#This Row],[Vo]]))","v":0},{"$f":"IF(U$1=0,0,IF(Configuration!$F$9=\"D\",$R200,Table7[[#This Row],[Vo]]))","v":0},{"$f":"IF(V$1=0,0,IF(Configuration!$F$10=\"D\",$R200,Table7[[#This Row],[Vo]]))","v":0},{"$f":"IF(W$1=0,0,IF(Configuration!$F$11=\"D\",$R200,Table7[[#This Row],[Vo]]))","v":0},{"$f":"IF(X$1=0,0,IF(Configuration!$F$12=\"D\",$R200,Table7[[#This Row],[Vo]]))","v":0},{"$f":"IF(Y$1=0,0,IF(Configuration!$F$13=\"D\",$R200,Table7[[#This Row],[Vo]]))","v":0},{"$f":"IF(Z$1=0,0,IF(Configuration!$F$14=\"D\",$R200,Table7[[#This Row],[Vo]]))","v":0},{"$f":"IF(AA$1=0,0,IF(Configuration!$F$15=\"D\",$R200,Table7[[#This Row],[Vo]]))","v":0},{"$f":"IF(AB$1=0,0,IF(Configuration!$F$16=\"D\",$R200,Table7[[#This Row],[Vo]]))","v":0},{"$f":"IF(AC$1=0,0,IF(Configuration!$F$17=\"D\",$R200,Table7[[#This Row],[Vo]]))","v":0}]
[20.9,"NMS-240-24",10,{"$f":"Table2[[#This Row],[Output Voltage]]*Table2[[#This Row],[Module rated current]]","v":209},"H",{"$f":"IF(1200/Table2[[#This Row],[Module rated power]]>6,6,ROUNDDOWN(1200/Table2[[#This Row],[Module rated power]],0))","v":5},{"$f":"Table2[[#This Row],[Module rated power]]*Table2[[#This Row],[Available No. of Slot]]","v":1045},{"$f":"ROUNDDOWN(Table2[[#This Row],[Max power per output]]/Table2[[#This Row],[Output Voltage]],2)","v":50},null,null,null,null,null,null,null,"United States of America (Puerto Rico)",null,22.6,{"$f":"IF(S$1=0,0,IF(Configuration!$F$7=\"D\",$R201,Table7[[#This Row],[Vo]]))","v":0},{"$f":"IF(T$1=0,0,IF(Configuration!$F$8=\"D\",$R201,Table7[[#This Row],[Vo]]))","v":0},{"$f":"IF(U$1=0,0,IF(Configuration!$F$9=\"D\",$R201,Table7[[#This Row],[Vo]]))","v":0},{"$f":"IF(V$1=0,0,IF(Configuration!$F$10=\"D\",$R201,Table7[[#This Row],[Vo]]))","v":0},{"$f":"IF(W$1=0,0,IF(Configuration!$F$11=\"D\",$R201,Table7[[#This Row],[Vo]]))","v":0},{"$f":"IF(X$1=0,0,IF(Configuration!$F$12=\"D\",$R201,Table7[[#This Row],[Vo]]))","v":0},{"$f":"IF(Y$1=0,0,IF(Configuration!$F$13=\"D\",$R201,Table7[[#This Row],[Vo]]))","v":0},{"$f":"IF(Z$1=0,0,IF(Configuration!$F$14=\"D\",$R201,Table7[[#This Row],[Vo]]))","v":0},{"$f":"IF(AA$1=0,0,IF(Configuration!$F$15=\"D\",$R201,Table7[[#This Row],[Vo]]))","v":0},{"$f":"IF(AB$1=0,0,IF(Configuration!$F$16=\"D\",$R201,Table7[[#This Row],[Vo]]))","v":0},{"$f":"IF(AC$1=0,0,IF(Configuration!$F$17=\"D\",$R201,Table7[[#This Row],[Vo]]))","v":0}]
[21,"NMS-240-24",10,{"$f":"Table2[[#This Row],[Output Voltage]]*Table2[[#This Row],[Module rated current]]","v":210},"H",{"$f":"IF(1200/Table2[[#This Row],[Module rated power]]>6,6,ROUNDDOWN(1200/Table2[[#This Row],[Module rated power]],0))","v":5},{"$f":"Table2[[#This Row],[Module rated power]]*Table2[[#This Row],[Available No. of Slot]]","v":1050},{"$f":"ROUNDDOWN(Table2[[#This Row],[Max power per output]]/Table2[[#This Row],[Output Voltage]],2)","v":50},null,null,null,null,null,null,null,"Uruguay",null,22.7,{"$f":"IF(S$1=0,0,IF(Configuration!$F$7=\"D\",$R202,Table7[[#This Row],[Vo]]))","v":0},{"$f":"IF(T$1=0,0,IF(Configuration!$F$8=\"D\",$R202,Table7[[#This Row],[Vo]]))","v":0},{"$f":"IF(U$1=0,0,IF(Configuration!$F$9=\"D\",$R202,Table7[[#This Row],[Vo]]))","v":0},{"$f":"IF(V$1=0,0,IF(Configuration!$F$10=\"D\",$R202,Table7[[#This Row],[Vo]]))","v":0},{"$f":"IF(W$1=0,0,IF(Configuration!$F$11=\"D\",$R202,Table7[[#This Row],[Vo]]))","v":0},{"$f":"IF(X$1=0,0,IF(Configuration!$F$12=\"D\",$R202,Table7[[#This Row],[Vo]]))","v":0},{"$f":"IF(Y$1=0,0,IF(Configuration!$F$13=\"D\",$R202,Table7[[#This Row],[Vo]]))","v":0},{"$f":"IF(Z$1=0,0,IF(Configuration!$F$14=\"D\",$R202,Table7[[#This Row],[Vo]]))","v":0},{"$f":"IF(AA$1=0,0,IF(Configuration!$F$15=\"D\",$R202,Table7[[#This Row],[Vo]]))","v":0},{"$f":"IF(AB$1=0,0,IF(Configuration!$F$16=\"D\",$R202,Table7[[#This Row],[Vo]]))","v":0},{"$f":"IF(AC$1=0,0,IF(Configuration!$F$17=\"D\",$R202,Table7[[#This Row],[Vo]]))","v":0}]
[21.1,"NMS-240-24",10,{"$f":"Table2[[#This Row],[Output Voltage]]*Table2[[#This Row],[Module rated current]]","v":211},"H",{"$f":"IF(1200/Table2[[#This Row],[Module rated power]]>6,6,ROUNDDOWN(1200/Table2[[#This Row],[Module rated power]],0))","v":5},{"$f":"Table2[[#This Row],[Module rated power]]*Table2[[#This Row],[Available No. of Slot]]","v":1055},{"$f":"ROUNDDOWN(Table2[[#This Row],[Max power per output]]/Table2[[#This Row],[Output Voltage]],2)","v":50},null,null,null,null,null,null,null,"Uzbekistan",null,22.8,{"$f":"IF(S$1=0,0,IF(Configuration!$F$7=\"D\",$R203,Table7[[#This Row],[Vo]]))","v":0},{"$f":"IF(T$1=0,0,IF(Configuration!$F$8=\"D\",$R203,Table7[[#This Row],[Vo]]))","v":0},{"$f":"IF(U$1=0,0,IF(Configuration!$F$9=\"D\",$R203,Table7[[#This Row],[Vo]]))","v":0},{"$f":"IF(V$1=0,0,IF(Configuration!$F$10=\"D\",$R203,Table7[[#This Row],[Vo]]))","v":0},{"$f":"IF(W$1=0,0,IF(Configuration!$F$11=\"D\",$R203,Table7[[#This Row],[Vo]]))","v":0},{"$f":"IF(X$1=0,0,IF(Configuration!$F$12=\"D\",$R203,Table7[[#This Row],[Vo]]))","v":0},{"$f":"IF(Y$1=0,0,IF(Configuration!$F$13=\"D\",$R203,Table7[[#This Row],[Vo]]))","v":0},{"$f":"IF(Z$1=0,0,IF(Configuration!$F$14=\"D\",$R203,Table7[[#This Row],[Vo]]))","v":0},{"$f":"IF(AA$1=0,0,IF(Configuration!$F$15=\"D\",$R203,Table7[[#This Row],[Vo]]))","v":0},{"$f":"IF(AB$1=0,0,IF(Configuration!$F$16=\"D\",$R203,Table7[[#This Row],[Vo]]))","v":0},{"$f":"IF(AC$1=0,0,IF(Configuration!$F$17=\"D\",$R203,Table7[[#This Row],[Vo]]))","v":0}]
[21.2,"NMS-240-24",10,{"$f":"Table2[[#This Row],[Output Voltage]]*Table2[[#This Row],[Module rated current]]","v":212},"H",{"$f":"IF(1200/Table2[[#This Row],[Module rated power]]>6,6,ROUNDDOWN(1200/Table2[[#This Row],[Module rated power]],0))","v":5},{"$f":"Table2[[#This Row],[Module rated power]]*Table2[[#This Row],[Available No. of Slot]]","v":1060},{"$f":"ROUNDDOWN(Table2[[#This Row],[Max power per output]]/Table2[[#This Row],[Output Voltage]],2)","v":50},null,null,null,null,null,null,null,"Vanuatu",null,22.9,{"$f":"IF(S$1=0,0,IF(Configuration!$F$7=\"D\",$R204,Table7[[#This Row],[Vo]]))","v":0},{"$f":"IF(T$1=0,0,IF(Configuration!$F$8=\"D\",$R204,Table7[[#This Row],[Vo]]))","v":0},{"$f":"IF(U$1=0,0,IF(Configuration!$F$9=\"D\",$R204,Table7[[#This Row],[Vo]]))","v":0},{"$f":"IF(V$1=0,0,IF(Configuration!$F$10=\"D\",$R204,Table7[[#This Row],[Vo]]))","v":0},{"$f":"IF(W$1=0,0,IF(Configuration!$F$11=\"D\",$R204,Table7[[#This Row],[Vo]]))","v":0},{"$f":"IF(X$1=0,0,IF(Configuration!$F$12=\"D\",$R204,Table7[[#This Row],[Vo]]))","v":0},{"$f":"IF(Y$1=0,0,IF(Configuration!$F$13=\"D\",$R204,Table7[[#This Row],[Vo]]))","v":0},{"$f":"IF(Z$1=0,0,IF(Configuration!$F$14=\"D\",$R204,Table7[[#This Row],[Vo]]))","v":0},{"$f":"IF(AA$1=0,0,IF(Configuration!$F$15=\"D\",$R204,Table7[[#This Row],[Vo]]))","v":0},{"$f":"IF(AB$1=0,0,IF(Configuration!$F$16=\"D\",$R204,Table7[[#This Row],[Vo]]))","v":0},{"$f":"IF(AC$1=0,0,IF(Configuration!$F$17=\"D\",$R204,Table7[[#This Row],[Vo]]))","v":0}]
[21.3,"NMS-240-24",10,{"$f":"Table2[[#This Row],[Output Voltage]]*Table2[[#This Row],[Module rated current]]","v":213},"H",{"$f":"IF(1200/Table2[[#This Row],[Module rated power]]>6,6,ROUNDDOWN(1200/Table2[[#This Row],[Module rated power]],0))","v":5},{"$f":"Table2[[#This Row],[Module rated power]]*Table2[[#This Row],[Available No. of Slot]]","v":1065},{"$f":"ROUNDDOWN(Table2[[#This Row],[Max power per output]]/Table2[[#This Row],[Output Voltage]],2)","v":50},null,null,null,null,null,null,null,"Vatican City State/Holy See",null,23,{"$f":"IF(S$1=0,0,IF(Configuration!$F$7=\"D\",$R205,Table7[[#This Row],[Vo]]))","v":0},{"$f":"IF(T$1=0,0,IF(Configuration!$F$8=\"D\",$R205,Table7[[#This Row],[Vo]]))","v":0},{"$f":"IF(U$1=0,0,IF(Configuration!$F$9=\"D\",$R205,Table7[[#This Row],[Vo]]))","v":0},{"$f":"IF(V$1=0,0,IF(Configuration!$F$10=\"D\",$R205,Table7[[#This Row],[Vo]]))","v":0},{"$f":"IF(W$1=0,0,IF(Configuration!$F$11=\"D\",$R205,Table7[[#This Row],[Vo]]))","v":0},{"$f":"IF(X$1=0,0,IF(Configuration!$F$12=\"D\",$R205,Table7[[#This Row],[Vo]]))","v":0},{"$f":"IF(Y$1=0,0,IF(Configuration!$F$13=\"D\",$R205,Table7[[#This Row],[Vo]]))","v":0},{"$f":"IF(Z$1=0,0,IF(Configuration!$F$14=\"D\",$R205,Table7[[#This Row],[Vo]]))","v":0},{"$f":"IF(AA$1=0,0,IF(Configuration!$F$15=\"D\",$R205,Table7[[#This Row],[Vo]]))","v":0},{"$f":"IF(AB$1=0,0,IF(Configuration!$F$16=\"D\",$R205,Table7[[#This Row],[Vo]]))","v":0},{"$f":"IF(AC$1=0,0,IF(Configuration!$F$17=\"D\",$R205,Table7[[#This Row],[Vo]]))","v":0}]
[21.4,"NMS-240-24",10,{"$f":"Table2[[#This Row],[Output Voltage]]*Table2[[#This Row],[Module rated current]]","v":214},"H",{"$f":"IF(1200/Table2[[#This Row],[Module rated power]]>6,6,ROUNDDOWN(1200/Table2[[#This Row],[Module rated power]],0))","v":5},{"$f":"Table2[[#This Row],[Module rated power]]*Table2[[#This Row],[Available No. of Slot]]","v":1070},{"$f":"ROUNDDOWN(Table2[[#This Row],[Max power per output]]/Table2[[#This Row],[Output Voltage]],2)","v":50},null,null,null,null,null,null,null,"Virgin Islands (British)",null,23.1,{"$f":"IF(S$1=0,0,IF(Configuration!$F$7=\"D\",$R206,Table7[[#This Row],[Vo]]))","v":0},{"$f":"IF(T$1=0,0,IF(Configuration!$F$8=\"D\",$R206,Table7[[#This Row],[Vo]]))","v":0},{"$f":"IF(U$1=0,0,IF(Configuration!$F$9=\"D\",$R206,Table7[[#This Row],[Vo]]))","v":0},{"$f":"IF(V$1=0,0,IF(Configuration!$F$10=\"D\",$R206,Table7[[#This Row],[Vo]]))","v":0},{"$f":"IF(W$1=0,0,IF(Configuration!$F$11=\"D\",$R206,Table7[[#This Row],[Vo]]))","v":0},{"$f":"IF(X$1=0,0,IF(Configuration!$F$12=\"D\",$R206,Table7[[#This Row],[Vo]]))","v":0},{"$f":"IF(Y$1=0,0,IF(Configuration!$F$13=\"D\",$R206,Table7[[#This Row],[Vo]]))","v":0},{"$f":"IF(Z$1=0,0,IF(Configuration!$F$14=\"D\",$R206,Table7[[#This Row],[Vo]]))","v":0},{"$f":"IF(AA$1=0,0,IF(Configuration!$F$15=\"D\",$R206,Table7[[#This Row],[Vo]]))","v":0},{"$f":"IF(AB$1=0,0,IF(Configuration!$F$16=\"D\",$R206,Table7[[#This Row],[Vo]]))","v":0},{"$f":"IF(AC$1=0,0,IF(Configuration!$F$17=\"D\",$R206,Table7[[#This Row],[Vo]]))","v":0}]
[21.5,"NMS-240-24",10,{"$f":"Table2[[#This Row],[Output Voltage]]*Table2[[#This Row],[Module rated current]]","v":215},"H",{"$f":"IF(1200/Table2[[#This Row],[Module rated power]]>6,6,ROUNDDOWN(1200/Table2[[#This Row],[Module rated power]],0))","v":5},{"$f":"Table2[[#This Row],[Module rated power]]*Table2[[#This Row],[Available No. of Slot]]","v":1075},{"$f":"ROUNDDOWN(Table2[[#This Row],[Max power per output]]/Table2[[#This Row],[Output Voltage]],2)","v":50},null,null,null,null,null,null,null,"Venezuela",null,23.2,{"$f":"IF(S$1=0,0,IF(Configuration!$F$7=\"D\",$R207,Table7[[#This Row],[Vo]]))","v":0},{"$f":"IF(T$1=0,0,IF(Configuration!$F$8=\"D\",$R207,Table7[[#This Row],[Vo]]))","v":0},{"$f":"IF(U$1=0,0,IF(Configuration!$F$9=\"D\",$R207,Table7[[#This Row],[Vo]]))","v":0},{"$f":"IF(V$1=0,0,IF(Configuration!$F$10=\"D\",$R207,Table7[[#This Row],[Vo]]))","v":0},{"$f":"IF(W$1=0,0,IF(Configuration!$F$11=\"D\",$R207,Table7[[#This Row],[Vo]]))","v":0},{"$f":"IF(X$1=0,0,IF(Configuration!$F$12=\"D\",$R207,Table7[[#This Row],[Vo]]))","v":0},{"$f":"IF(Y$1=0,0,IF(Configuration!$F$13=\"D\",$R207,Table7[[#This Row],[Vo]]))","v":0},{"$f":"IF(Z$1=0,0,IF(Configuration!$F$14=\"D\",$R207,Table7[[#This Row],[Vo]]))","v":0},{"$f":"IF(AA$1=0,0,IF(Configuration!$F$15=\"D\",$R207,Table7[[#This Row],[Vo]]))","v":0},{"$f":"IF(AB$1=0,0,IF(Configuration!$F$16=\"D\",$R207,Table7[[#This Row],[Vo]]))","v":0},{"$f":"IF(AC$1=0,0,IF(Configuration!$F$17=\"D\",$R207,Table7[[#This Row],[Vo]]))","v":0}]
[21.6,"NMS-240-24",10,{"$f":"Table2[[#This Row],[Output Voltage]]*Table2[[#This Row],[Module rated current]]","v":216},"H",{"$f":"IF(1200/Table2[[#This Row],[Module rated power]]>6,6,ROUNDDOWN(1200/Table2[[#This Row],[Module rated power]],0))","v":5},{"$f":"Table2[[#This Row],[Module rated power]]*Table2[[#This Row],[Available No. of Slot]]","v":1080},{"$f":"ROUNDDOWN(Table2[[#This Row],[Max power per output]]/Table2[[#This Row],[Output Voltage]],2)","v":50},null,null,null,null,null,null,null,"Vietnam",null,23.3,{"$f":"IF(S$1=0,0,IF(Configuration!$F$7=\"D\",$R208,Table7[[#This Row],[Vo]]))","v":0},{"$f":"IF(T$1=0,0,IF(Configuration!$F$8=\"D\",$R208,Table7[[#This Row],[Vo]]))","v":0},{"$f":"IF(U$1=0,0,IF(Configuration!$F$9=\"D\",$R208,Table7[[#This Row],[Vo]]))","v":0},{"$f":"IF(V$1=0,0,IF(Configuration!$F$10=\"D\",$R208,Table7[[#This Row],[Vo]]))","v":0},{"$f":"IF(W$1=0,0,IF(Configuration!$F$11=\"D\",$R208,Table7[[#This Row],[Vo]]))","v":0},{"$f":"IF(X$1=0,0,IF(Configuration!$F$12=\"D\",$R208,Table7[[#This Row],[Vo]]))","v":0},{"$f":"IF(Y$1=0,0,IF(Configuration!$F$13=\"D\",$R208,Table7[[#This Row],[Vo]]))","v":0},{"$f":"IF(Z$1=0,0,IF(Configuration!$F$14=\"D\",$R208,Table7[[#This Row],[Vo]]))","v":0},{"$f":"IF(AA$1=0,0,IF(Configuration!$F$15=\"D\",$R208,Table7[[#This Row],[Vo]]))","v":0},{"$f":"IF(AB$1=0,0,IF(Configuration!$F$16=\"D\",$R208,Table7[[#This Row],[Vo]]))","v":0},{"$f":"IF(AC$1=0,0,IF(Configuration!$F$17=\"D\",$R208,Table7[[#This Row],[Vo]]))","v":0}]
[21.7,"NMS-240-24",10,{"$f":"Table2[[#This Row],[Output Voltage]]*Table2[[#This Row],[Module rated current]]","v":217},"H",{"$f":"IF(1200/Table2[[#This Row],[Module rated power]]>6,6,ROUNDDOWN(1200/Table2[[#This Row],[Module rated power]],0))","v":5},{"$f":"Table2[[#This Row],[Module rated power]]*Table2[[#This Row],[Available No. of Slot]]","v":1085},{"$f":"ROUNDDOWN(Table2[[#This Row],[Max power per output]]/Table2[[#This Row],[Output Voltage]],2)","v":50},null,null,null,null,null,null,null,"Yemen ",null,23.4,{"$f":"IF(S$1=0,0,IF(Configuration!$F$7=\"D\",$R209,Table7[[#This Row],[Vo]]))","v":0},{"$f":"IF(T$1=0,0,IF(Configuration!$F$8=\"D\",$R209,Table7[[#This Row],[Vo]]))","v":0},{"$f":"IF(U$1=0,0,IF(Configuration!$F$9=\"D\",$R209,Table7[[#This Row],[Vo]]))","v":0},{"$f":"IF(V$1=0,0,IF(Configuration!$F$10=\"D\",$R209,Table7[[#This Row],[Vo]]))","v":0},{"$f":"IF(W$1=0,0,IF(Configuration!$F$11=\"D\",$R209,Table7[[#This Row],[Vo]]))","v":0},{"$f":"IF(X$1=0,0,IF(Configuration!$F$12=\"D\",$R209,Table7[[#This Row],[Vo]]))","v":0},{"$f":"IF(Y$1=0,0,IF(Configuration!$F$13=\"D\",$R209,Table7[[#This Row],[Vo]]))","v":0},{"$f":"IF(Z$1=0,0,IF(Configuration!$F$14=\"D\",$R209,Table7[[#This Row],[Vo]]))","v":0},{"$f":"IF(AA$1=0,0,IF(Configuration!$F$15=\"D\",$R209,Table7[[#This Row],[Vo]]))","v":0},{"$f":"IF(AB$1=0,0,IF(Configuration!$F$16=\"D\",$R209,Table7[[#This Row],[Vo]]))","v":0},{"$f":"IF(AC$1=0,0,IF(Configuration!$F$17=\"D\",$R209,Table7[[#This Row],[Vo]]))","v":0}]
[21.8,"NMS-240-24",10,{"$f":"Table2[[#This Row],[Output Voltage]]*Table2[[#This Row],[Module rated current]]","v":218},"H",{"$f":"IF(1200/Table2[[#This Row],[Module rated power]]>6,6,ROUNDDOWN(1200/Table2[[#This Row],[Module rated power]],0))","v":5},{"$f":"Table2[[#This Row],[Module rated power]]*Table2[[#This Row],[Available No. of Slot]]","v":1090},{"$f":"ROUNDDOWN(Table2[[#This Row],[Max power per output]]/Table2[[#This Row],[Output Voltage]],2)","v":50},null,null,null,null,null,null,null,"Zambia",null,23.5,{"$f":"IF(S$1=0,0,IF(Configuration!$F$7=\"D\",$R210,Table7[[#This Row],[Vo]]))","v":0},{"$f":"IF(T$1=0,0,IF(Configuration!$F$8=\"D\",$R210,Table7[[#This Row],[Vo]]))","v":0},{"$f":"IF(U$1=0,0,IF(Configuration!$F$9=\"D\",$R210,Table7[[#This Row],[Vo]]))","v":0},{"$f":"IF(V$1=0,0,IF(Configuration!$F$10=\"D\",$R210,Table7[[#This Row],[Vo]]))","v":0},{"$f":"IF(W$1=0,0,IF(Configuration!$F$11=\"D\",$R210,Table7[[#This Row],[Vo]]))","v":0},{"$f":"IF(X$1=0,0,IF(Configuration!$F$12=\"D\",$R210,Table7[[#This Row],[Vo]]))","v":0},{"$f":"IF(Y$1=0,0,IF(Configuration!$F$13=\"D\",$R210,Table7[[#This Row],[Vo]]))","v":0},{"$f":"IF(Z$1=0,0,IF(Configuration!$F$14=\"D\",$R210,Table7[[#This Row],[Vo]]))","v":0},{"$f":"IF(AA$1=0,0,IF(Configuration!$F$15=\"D\",$R210,Table7[[#This Row],[Vo]]))","v":0},{"$f":"IF(AB$1=0,0,IF(Configuration!$F$16=\"D\",$R210,Table7[[#This Row],[Vo]]))","v":0},{"$f":"IF(AC$1=0,0,IF(Configuration!$F$17=\"D\",$R210,Table7[[#This Row],[Vo]]))","v":0}]
[21.9,"NMS-240-24",10,{"$f":"Table2[[#This Row],[Output Voltage]]*Table2[[#This Row],[Module rated current]]","v":219},"H",{"$f":"IF(1200/Table2[[#This Row],[Module rated power]]>6,6,ROUNDDOWN(1200/Table2[[#This Row],[Module rated power]],0))","v":5},{"$f":"Table2[[#This Row],[Module rated power]]*Table2[[#This Row],[Available No. of Slot]]","v":1095},{"$f":"ROUNDDOWN(Table2[[#This Row],[Max power per output]]/Table2[[#This Row],[Output Voltage]],2)","v":50},null,null,null,null,null,null,null,"Zimbabwe",null,23.6,{"$f":"IF(S$1=0,0,IF(Configuration!$F$7=\"D\",$R211,Table7[[#This Row],[Vo]]))","v":0},{"$f":"IF(T$1=0,0,IF(Configuration!$F$8=\"D\",$R211,Table7[[#This Row],[Vo]]))","v":0},{"$f":"IF(U$1=0,0,IF(Configuration!$F$9=\"D\",$R211,Table7[[#This Row],[Vo]]))","v":0},{"$f":"IF(V$1=0,0,IF(Configuration!$F$10=\"D\",$R211,Table7[[#This Row],[Vo]]))","v":0},{"$f":"IF(W$1=0,0,IF(Configuration!$F$11=\"D\",$R211,Table7[[#This Row],[Vo]]))","v":0},{"$f":"IF(X$1=0,0,IF(Configuration!$F$12=\"D\",$R211,Table7[[#This Row],[Vo]]))","v":0},{"$f":"IF(Y$1=0,0,IF(Configuration!$F$13=\"D\",$R211,Table7[[#This Row],[Vo]]))","v":0},{"$f":"IF(Z$1=0,0,IF(Configuration!$F$14=\"D\",$R211,Table7[[#This Row],[Vo]]))","v":0},{"$f":"IF(AA$1=0,0,IF(Configuration!$F$15=\"D\",$R211,Table7[[#This Row],[Vo]]))","v":0},{"$f":"IF(AB$1=0,0,IF(Configuration!$F$16=\"D\",$R211,Table7[[#This Row],[Vo]]))","v":0},{"$f":"IF(AC$1=0,0,IF(Configuration!$F$17=\"D\",$R211,Table7[[#This Row],[Vo]]))","v":0}]
[22,"NMS-240-24",10,{"$f":"Table2[[#This Row],[Output Voltage]]*Table2[[#This Row],[Module rated current]]","v":220},"H",{"$f":"IF(1200/Table2[[#This Row],[Module rated power]]>6,6,ROUNDDOWN(1200/Table2[[#This Row],[Module rated power]],0))","v":5},{"$f":"Table2[[#This Row],[Module rated power]]*Table2[[#This Row],[Available No. of Slot]]","v":1100},{"$f":"ROUNDDOWN(Table2[[#This Row],[Max power per output]]/Table2[[#This Row],[Output Voltage]],2)","v":50},null,null,null,null,null,null,null,null,null,23.7,{"$f":"IF(S$1=0,0,IF(Configuration!$F$7=\"D\",$R212,Table7[[#This Row],[Vo]]))","v":0},{"$f":"IF(T$1=0,0,IF(Configuration!$F$8=\"D\",$R212,Table7[[#This Row],[Vo]]))","v":0},{"$f":"IF(U$1=0,0,IF(Configuration!$F$9=\"D\",$R212,Table7[[#This Row],[Vo]]))","v":0},{"$f":"IF(V$1=0,0,IF(Configuration!$F$10=\"D\",$R212,Table7[[#This Row],[Vo]]))","v":0},{"$f":"IF(W$1=0,0,IF(Configuration!$F$11=\"D\",$R212,Table7[[#This Row],[Vo]]))","v":0},{"$f":"IF(X$1=0,0,IF(Configuration!$F$12=\"D\",$R212,Table7[[#This Row],[Vo]]))","v":0},{"$f":"IF(Y$1=0,0,IF(Configuration!$F$13=\"D\",$R212,Table7[[#This Row],[Vo]]))","v":0},{"$f":"IF(Z$1=0,0,IF(Configuration!$F$14=\"D\",$R212,Table7[[#This Row],[Vo]]))","v":0},{"$f":"IF(AA$1=0,0,IF(Configuration!$F$15=\"D\",$R212,Table7[[#This Row],[Vo]]))","v":0},{"$f":"IF(AB$1=0,0,IF(Configuration!$F$16=\"D\",$R212,Table7[[#This Row],[Vo]]))","v":0},{"$f":"IF(AC$1=0,0,IF(Configuration!$F$17=\"D\",$R212,Table7[[#This Row],[Vo]]))","v":0}]
[22.1,"NMS-240-24",10,{"$f":"Table2[[#This Row],[Output Voltage]]*Table2[[#This Row],[Module rated current]]","v":221},"H",{"$f":"IF(1200/Table2[[#This Row],[Module rated power]]>6,6,ROUNDDOWN(1200/Table2[[#This Row],[Module rated power]],0))","v":5},{"$f":"Table2[[#This Row],[Module rated power]]*Table2[[#This Row],[Available No. of Slot]]","v":1105},{"$f":"ROUNDDOWN(Table2[[#This Row],[Max power per output]]/Table2[[#This Row],[Output Voltage]],2)","v":50},null,null,null,null,null,null,null,null,null,23.8,{"$f":"IF(S$1=0,0,IF(Configuration!$F$7=\"D\",$R213,Table7[[#This Row],[Vo]]))","v":0},{"$f":"IF(T$1=0,0,IF(Configuration!$F$8=\"D\",$R213,Table7[[#This Row],[Vo]]))","v":0},{"$f":"IF(U$1=0,0,IF(Configuration!$F$9=\"D\",$R213,Table7[[#This Row],[Vo]]))","v":0},{"$f":"IF(V$1=0,0,IF(Configuration!$F$10=\"D\",$R213,Table7[[#This Row],[Vo]]))","v":0},{"$f":"IF(W$1=0,0,IF(Configuration!$F$11=\"D\",$R213,Table7[[#This Row],[Vo]]))","v":0},{"$f":"IF(X$1=0,0,IF(Configuration!$F$12=\"D\",$R213,Table7[[#This Row],[Vo]]))","v":0},{"$f":"IF(Y$1=0,0,IF(Configuration!$F$13=\"D\",$R213,Table7[[#This Row],[Vo]]))","v":0},{"$f":"IF(Z$1=0,0,IF(Configuration!$F$14=\"D\",$R213,Table7[[#This Row],[Vo]]))","v":0},{"$f":"IF(AA$1=0,0,IF(Configuration!$F$15=\"D\",$R213,Table7[[#This Row],[Vo]]))","v":0},{"$f":"IF(AB$1=0,0,IF(Configuration!$F$16=\"D\",$R213,Table7[[#This Row],[Vo]]))","v":0},{"$f":"IF(AC$1=0,0,IF(Configuration!$F$17=\"D\",$R213,Table7[[#This Row],[Vo]]))","v":0}]
[22.2,"NMS-240-24",10,{"$f":"Table2[[#This Row],[Output Voltage]]*Table2[[#This Row],[Module rated current]]","v":222},"H",{"$f":"IF(1200/Table2[[#This Row],[Module rated power]]>6,6,ROUNDDOWN(1200/Table2[[#This Row],[Module rated power]],0))","v":5},{"$f":"Table2[[#This Row],[Module rated power]]*Table2[[#This Row],[Available No. of Slot]]","v":1110},{"$f":"ROUNDDOWN(Table2[[#This Row],[Max power per output]]/Table2[[#This Row],[Output Voltage]],2)","v":50},null,null,null,null,null,null,null,null,null,23.9,{"$f":"IF(S$1=0,0,IF(Configuration!$F$7=\"D\",$R214,Table7[[#This Row],[Vo]]))","v":0},{"$f":"IF(T$1=0,0,IF(Configuration!$F$8=\"D\",$R214,Table7[[#This Row],[Vo]]))","v":0},{"$f":"IF(U$1=0,0,IF(Configuration!$F$9=\"D\",$R214,Table7[[#This Row],[Vo]]))","v":0},{"$f":"IF(V$1=0,0,IF(Configuration!$F$10=\"D\",$R214,Table7[[#This Row],[Vo]]))","v":0},{"$f":"IF(W$1=0,0,IF(Configuration!$F$11=\"D\",$R214,Table7[[#This Row],[Vo]]))","v":0},{"$f":"IF(X$1=0,0,IF(Configuration!$F$12=\"D\",$R214,Table7[[#This Row],[Vo]]))","v":0},{"$f":"IF(Y$1=0,0,IF(Configuration!$F$13=\"D\",$R214,Table7[[#This Row],[Vo]]))","v":0},{"$f":"IF(Z$1=0,0,IF(Configuration!$F$14=\"D\",$R214,Table7[[#This Row],[Vo]]))","v":0},{"$f":"IF(AA$1=0,0,IF(Configuration!$F$15=\"D\",$R214,Table7[[#This Row],[Vo]]))","v":0},{"$f":"IF(AB$1=0,0,IF(Configuration!$F$16=\"D\",$R214,Table7[[#This Row],[Vo]]))","v":0},{"$f":"IF(AC$1=0,0,IF(Configuration!$F$17=\"D\",$R214,Table7[[#This Row],[Vo]]))","v":0}]
[22.3,"NMS-240-24",10,{"$f":"Table2[[#This Row],[Output Voltage]]*Table2[[#This Row],[Module rated current]]","v":223},"H",{"$f":"IF(1200/Table2[[#This Row],[Module rated power]]>6,6,ROUNDDOWN(1200/Table2[[#This Row],[Module rated power]],0))","v":5},{"$f":"Table2[[#This Row],[Module rated power]]*Table2[[#This Row],[Available No. of Slot]]","v":1115},{"$f":"ROUNDDOWN(Table2[[#This Row],[Max power per output]]/Table2[[#This Row],[Output Voltage]],2)","v":50},null,null,null,null,null,null,null,null,null,24,{"$f":"IF(S$1=0,0,IF(Configuration!$F$7=\"D\",$R215,Table7[[#This Row],[Vo]]))","v":0},{"$f":"IF(T$1=0,0,IF(Configuration!$F$8=\"D\",$R215,Table7[[#This Row],[Vo]]))","v":0},{"$f":"IF(U$1=0,0,IF(Configuration!$F$9=\"D\",$R215,Table7[[#This Row],[Vo]]))","v":0},{"$f":"IF(V$1=0,0,IF(Configuration!$F$10=\"D\",$R215,Table7[[#This Row],[Vo]]))","v":0},{"$f":"IF(W$1=0,0,IF(Configuration!$F$11=\"D\",$R215,Table7[[#This Row],[Vo]]))","v":0},{"$f":"IF(X$1=0,0,IF(Configuration!$F$12=\"D\",$R215,Table7[[#This Row],[Vo]]))","v":0},{"$f":"IF(Y$1=0,0,IF(Configuration!$F$13=\"D\",$R215,Table7[[#This Row],[Vo]]))","v":0},{"$f":"IF(Z$1=0,0,IF(Configuration!$F$14=\"D\",$R215,Table7[[#This Row],[Vo]]))","v":0},{"$f":"IF(AA$1=0,0,IF(Configuration!$F$15=\"D\",$R215,Table7[[#This Row],[Vo]]))","v":0},{"$f":"IF(AB$1=0,0,IF(Configuration!$F$16=\"D\",$R215,Table7[[#This Row],[Vo]]))","v":0},{"$f":"IF(AC$1=0,0,IF(Configuration!$F$17=\"D\",$R215,Table7[[#This Row],[Vo]]))","v":0}]
[{"$f":"ROUNDUP(A214+0.1,1)","v":22.4},"NMS-240-24",10,{"$f":"Table2[[#This Row],[Output Voltage]]*Table2[[#This Row],[Module rated current]]","v":224},"H",{"$f":"IF(1200/Table2[[#This Row],[Module rated power]]>6,6,ROUNDDOWN(1200/Table2[[#This Row],[Module rated power]],0))","v":5},{"$f":"Table2[[#This Row],[Module rated power]]*Table2[[#This Row],[Available No. of Slot]]","v":1120},{"$f":"ROUNDDOWN(Table2[[#This Row],[Max power per output]]/Table2[[#This Row],[Output Voltage]],2)","v":50},null,null,null,null,null,null,null,null,null,24.1,{"$f":"IF(S$1=0,0,IF(Configuration!$F$7=\"D\",$R216,Table7[[#This Row],[Vo]]))","v":0},{"$f":"IF(T$1=0,0,IF(Configuration!$F$8=\"D\",$R216,Table7[[#This Row],[Vo]]))","v":0},{"$f":"IF(U$1=0,0,IF(Configuration!$F$9=\"D\",$R216,Table7[[#This Row],[Vo]]))","v":0},{"$f":"IF(V$1=0,0,IF(Configuration!$F$10=\"D\",$R216,Table7[[#This Row],[Vo]]))","v":0},{"$f":"IF(W$1=0,0,IF(Configuration!$F$11=\"D\",$R216,Table7[[#This Row],[Vo]]))","v":0},{"$f":"IF(X$1=0,0,IF(Configuration!$F$12=\"D\",$R216,Table7[[#This Row],[Vo]]))","v":0},{"$f":"IF(Y$1=0,0,IF(Configuration!$F$13=\"D\",$R216,Table7[[#This Row],[Vo]]))","v":0},{"$f":"IF(Z$1=0,0,IF(Configuration!$F$14=\"D\",$R216,Table7[[#This Row],[Vo]]))","v":0},{"$f":"IF(AA$1=0,0,IF(Configuration!$F$15=\"D\",$R216,Table7[[#This Row],[Vo]]))","v":0},{"$f":"IF(AB$1=0,0,IF(Configuration!$F$16=\"D\",$R216,Table7[[#This Row],[Vo]]))","v":0},{"$f":"IF(AC$1=0,0,IF(Configuration!$F$17=\"D\",$R216,Table7[[#This Row],[Vo]]))","v":0}]
[22.5,"NMS-240-24",10,{"$f":"Table2[[#This Row],[Output Voltage]]*Table2[[#This Row],[Module rated current]]","v":225},"H",{"$f":"IF(1200/Table2[[#This Row],[Module rated power]]>6,6,ROUNDDOWN(1200/Table2[[#This Row],[Module rated power]],0))","v":5},{"$f":"Table2[[#This Row],[Module rated power]]*Table2[[#This Row],[Available No. of Slot]]","v":1125},{"$f":"ROUNDDOWN(Table2[[#This Row],[Max power per output]]/Table2[[#This Row],[Output Voltage]],2)","v":50},null,null,null,null,null,null,null,null,null,24.2,{"$f":"IF(S$1=0,0,IF(Configuration!$F$7=\"D\",$R217,Table7[[#This Row],[Vo]]))","v":0},{"$f":"IF(T$1=0,0,IF(Configuration!$F$8=\"D\",$R217,Table7[[#This Row],[Vo]]))","v":0},{"$f":"IF(U$1=0,0,IF(Configuration!$F$9=\"D\",$R217,Table7[[#This Row],[Vo]]))","v":0},{"$f":"IF(V$1=0,0,IF(Configuration!$F$10=\"D\",$R217,Table7[[#This Row],[Vo]]))","v":0},{"$f":"IF(W$1=0,0,IF(Configuration!$F$11=\"D\",$R217,Table7[[#This Row],[Vo]]))","v":0},{"$f":"IF(X$1=0,0,IF(Configuration!$F$12=\"D\",$R217,Table7[[#This Row],[Vo]]))","v":0},{"$f":"IF(Y$1=0,0,IF(Configuration!$F$13=\"D\",$R217,Table7[[#This Row],[Vo]]))","v":0},{"$f":"IF(Z$1=0,0,IF(Configuration!$F$14=\"D\",$R217,Table7[[#This Row],[Vo]]))","v":0},{"$f":"IF(AA$1=0,0,IF(Configuration!$F$15=\"D\",$R217,Table7[[#This Row],[Vo]]))","v":0},{"$f":"IF(AB$1=0,0,IF(Configuration!$F$16=\"D\",$R217,Table7[[#This Row],[Vo]]))","v":0},{"$f":"IF(AC$1=0,0,IF(Configuration!$F$17=\"D\",$R217,Table7[[#This Row],[Vo]]))","v":0}]
[22.6,"NMS-240-24",10,{"$f":"Table2[[#This Row],[Output Voltage]]*Table2[[#This Row],[Module rated current]]","v":226},"H",{"$f":"IF(1200/Table2[[#This Row],[Module rated power]]>6,6,ROUNDDOWN(1200/Table2[[#This Row],[Module rated power]],0))","v":5},{"$f":"Table2[[#This Row],[Module rated power]]*Table2[[#This Row],[Available No. of Slot]]","v":1130},{"$f":"ROUNDDOWN(Table2[[#This Row],[Max power per output]]/Table2[[#This Row],[Output Voltage]],2)","v":50},null,null,null,null,null,null,null,null,null,24.3,{"$f":"IF(S$1=0,0,IF(Configuration!$F$7=\"D\",$R218,Table7[[#This Row],[Vo]]))","v":0},{"$f":"IF(T$1=0,0,IF(Configuration!$F$8=\"D\",$R218,Table7[[#This Row],[Vo]]))","v":0},{"$f":"IF(U$1=0,0,IF(Configuration!$F$9=\"D\",$R218,Table7[[#This Row],[Vo]]))","v":0},{"$f":"IF(V$1=0,0,IF(Configuration!$F$10=\"D\",$R218,Table7[[#This Row],[Vo]]))","v":0},{"$f":"IF(W$1=0,0,IF(Configuration!$F$11=\"D\",$R218,Table7[[#This Row],[Vo]]))","v":0},{"$f":"IF(X$1=0,0,IF(Configuration!$F$12=\"D\",$R218,Table7[[#This Row],[Vo]]))","v":0},{"$f":"IF(Y$1=0,0,IF(Configuration!$F$13=\"D\",$R218,Table7[[#This Row],[Vo]]))","v":0},{"$f":"IF(Z$1=0,0,IF(Configuration!$F$14=\"D\",$R218,Table7[[#This Row],[Vo]]))","v":0},{"$f":"IF(AA$1=0,0,IF(Configuration!$F$15=\"D\",$R218,Table7[[#This Row],[Vo]]))","v":0},{"$f":"IF(AB$1=0,0,IF(Configuration!$F$16=\"D\",$R218,Table7[[#This Row],[Vo]]))","v":0},{"$f":"IF(AC$1=0,0,IF(Configuration!$F$17=\"D\",$R218,Table7[[#This Row],[Vo]]))","v":0}]
[22.7,"NMS-240-24",10,{"$f":"Table2[[#This Row],[Output Voltage]]*Table2[[#This Row],[Module rated current]]","v":227},"H",{"$f":"IF(1200/Table2[[#This Row],[Module rated power]]>6,6,ROUNDDOWN(1200/Table2[[#This Row],[Module rated power]],0))","v":5},{"$f":"Table2[[#This Row],[Module rated power]]*Table2[[#This Row],[Available No. of Slot]]","v":1135},{"$f":"ROUNDDOWN(Table2[[#This Row],[Max power per output]]/Table2[[#This Row],[Output Voltage]],2)","v":50},null,null,null,null,null,null,null,null,null,24.4,{"$f":"IF(S$1=0,0,IF(Configuration!$F$7=\"D\",$R219,Table7[[#This Row],[Vo]]))","v":0},{"$f":"IF(T$1=0,0,IF(Configuration!$F$8=\"D\",$R219,Table7[[#This Row],[Vo]]))","v":0},{"$f":"IF(U$1=0,0,IF(Configuration!$F$9=\"D\",$R219,Table7[[#This Row],[Vo]]))","v":0},{"$f":"IF(V$1=0,0,IF(Configuration!$F$10=\"D\",$R219,Table7[[#This Row],[Vo]]))","v":0},{"$f":"IF(W$1=0,0,IF(Configuration!$F$11=\"D\",$R219,Table7[[#This Row],[Vo]]))","v":0},{"$f":"IF(X$1=0,0,IF(Configuration!$F$12=\"D\",$R219,Table7[[#This Row],[Vo]]))","v":0},{"$f":"IF(Y$1=0,0,IF(Configuration!$F$13=\"D\",$R219,Table7[[#This Row],[Vo]]))","v":0},{"$f":"IF(Z$1=0,0,IF(Configuration!$F$14=\"D\",$R219,Table7[[#This Row],[Vo]]))","v":0},{"$f":"IF(AA$1=0,0,IF(Configuration!$F$15=\"D\",$R219,Table7[[#This Row],[Vo]]))","v":0},{"$f":"IF(AB$1=0,0,IF(Configuration!$F$16=\"D\",$R219,Table7[[#This Row],[Vo]]))","v":0},{"$f":"IF(AC$1=0,0,IF(Configuration!$F$17=\"D\",$R219,Table7[[#This Row],[Vo]]))","v":0}]
[22.8,"NMS-240-24",10,{"$f":"Table2[[#This Row],[Output Voltage]]*Table2[[#This Row],[Module rated current]]","v":228},"H",{"$f":"IF(1200/Table2[[#This Row],[Module rated power]]>6,6,ROUNDDOWN(1200/Table2[[#This Row],[Module rated power]],0))","v":5},{"$f":"Table2[[#This Row],[Module rated power]]*Table2[[#This Row],[Available No. of Slot]]","v":1140},{"$f":"ROUNDDOWN(Table2[[#This Row],[Max power per output]]/Table2[[#This Row],[Output Voltage]],2)","v":50},null,null,null,null,null,null,null,null,null,24.5,{"$f":"IF(S$1=0,0,IF(Configuration!$F$7=\"D\",$R220,Table7[[#This Row],[Vo]]))","v":0},{"$f":"IF(T$1=0,0,IF(Configuration!$F$8=\"D\",$R220,Table7[[#This Row],[Vo]]))","v":0},{"$f":"IF(U$1=0,0,IF(Configuration!$F$9=\"D\",$R220,Table7[[#This Row],[Vo]]))","v":0},{"$f":"IF(V$1=0,0,IF(Configuration!$F$10=\"D\",$R220,Table7[[#This Row],[Vo]]))","v":0},{"$f":"IF(W$1=0,0,IF(Configuration!$F$11=\"D\",$R220,Table7[[#This Row],[Vo]]))","v":0},{"$f":"IF(X$1=0,0,IF(Configuration!$F$12=\"D\",$R220,Table7[[#This Row],[Vo]]))","v":0},{"$f":"IF(Y$1=0,0,IF(Configuration!$F$13=\"D\",$R220,Table7[[#This Row],[Vo]]))","v":0},{"$f":"IF(Z$1=0,0,IF(Configuration!$F$14=\"D\",$R220,Table7[[#This Row],[Vo]]))","v":0},{"$f":"IF(AA$1=0,0,IF(Configuration!$F$15=\"D\",$R220,Table7[[#This Row],[Vo]]))","v":0},{"$f":"IF(AB$1=0,0,IF(Configuration!$F$16=\"D\",$R220,Table7[[#This Row],[Vo]]))","v":0},{"$f":"IF(AC$1=0,0,IF(Configuration!$F$17=\"D\",$R220,Table7[[#This Row],[Vo]]))","v":0}]
[22.9,"NMS-240-24",10,{"$f":"Table2[[#This Row],[Output Voltage]]*Table2[[#This Row],[Module rated current]]","v":229},"H",{"$f":"IF(1200/Table2[[#This Row],[Module rated power]]>6,6,ROUNDDOWN(1200/Table2[[#This Row],[Module rated power]],0))","v":5},{"$f":"Table2[[#This Row],[Module rated power]]*Table2[[#This Row],[Available No. of Slot]]","v":1145},{"$f":"ROUNDDOWN(Table2[[#This Row],[Max power per output]]/Table2[[#This Row],[Output Voltage]],2)","v":50},null,null,null,null,null,null,null,null,null,24.6,{"$f":"IF(S$1=0,0,IF(Configuration!$F$7=\"D\",$R221,Table7[[#This Row],[Vo]]))","v":0},{"$f":"IF(T$1=0,0,IF(Configuration!$F$8=\"D\",$R221,Table7[[#This Row],[Vo]]))","v":0},{"$f":"IF(U$1=0,0,IF(Configuration!$F$9=\"D\",$R221,Table7[[#This Row],[Vo]]))","v":0},{"$f":"IF(V$1=0,0,IF(Configuration!$F$10=\"D\",$R221,Table7[[#This Row],[Vo]]))","v":0},{"$f":"IF(W$1=0,0,IF(Configuration!$F$11=\"D\",$R221,Table7[[#This Row],[Vo]]))","v":0},{"$f":"IF(X$1=0,0,IF(Configuration!$F$12=\"D\",$R221,Table7[[#This Row],[Vo]]))","v":0},{"$f":"IF(Y$1=0,0,IF(Configuration!$F$13=\"D\",$R221,Table7[[#This Row],[Vo]]))","v":0},{"$f":"IF(Z$1=0,0,IF(Configuration!$F$14=\"D\",$R221,Table7[[#This Row],[Vo]]))","v":0},{"$f":"IF(AA$1=0,0,IF(Configuration!$F$15=\"D\",$R221,Table7[[#This Row],[Vo]]))","v":0},{"$f":"IF(AB$1=0,0,IF(Configuration!$F$16=\"D\",$R221,Table7[[#This Row],[Vo]]))","v":0},{"$f":"IF(AC$1=0,0,IF(Configuration!$F$17=\"D\",$R221,Table7[[#This Row],[Vo]]))","v":0}]
[23,"NMS-240-24",10,{"$f":"Table2[[#This Row],[Output Voltage]]*Table2[[#This Row],[Module rated current]]","v":230},"H",{"$f":"IF(1200/Table2[[#This Row],[Module rated power]]>6,6,ROUNDDOWN(1200/Table2[[#This Row],[Module rated power]],0))","v":5},{"$f":"Table2[[#This Row],[Module rated power]]*Table2[[#This Row],[Available No. of Slot]]","v":1150},{"$f":"ROUNDDOWN(Table2[[#This Row],[Max power per output]]/Table2[[#This Row],[Output Voltage]],2)","v":50},null,null,null,null,null,null,null,null,null,24.7,{"$f":"IF(S$1=0,0,IF(Configuration!$F$7=\"D\",$R222,Table7[[#This Row],[Vo]]))","v":0},{"$f":"IF(T$1=0,0,IF(Configuration!$F$8=\"D\",$R222,Table7[[#This Row],[Vo]]))","v":0},{"$f":"IF(U$1=0,0,IF(Configuration!$F$9=\"D\",$R222,Table7[[#This Row],[Vo]]))","v":0},{"$f":"IF(V$1=0,0,IF(Configuration!$F$10=\"D\",$R222,Table7[[#This Row],[Vo]]))","v":0},{"$f":"IF(W$1=0,0,IF(Configuration!$F$11=\"D\",$R222,Table7[[#This Row],[Vo]]))","v":0},{"$f":"IF(X$1=0,0,IF(Configuration!$F$12=\"D\",$R222,Table7[[#This Row],[Vo]]))","v":0},{"$f":"IF(Y$1=0,0,IF(Configuration!$F$13=\"D\",$R222,Table7[[#This Row],[Vo]]))","v":0},{"$f":"IF(Z$1=0,0,IF(Configuration!$F$14=\"D\",$R222,Table7[[#This Row],[Vo]]))","v":0},{"$f":"IF(AA$1=0,0,IF(Configuration!$F$15=\"D\",$R222,Table7[[#This Row],[Vo]]))","v":0},{"$f":"IF(AB$1=0,0,IF(Configuration!$F$16=\"D\",$R222,Table7[[#This Row],[Vo]]))","v":0},{"$f":"IF(AC$1=0,0,IF(Configuration!$F$17=\"D\",$R222,Table7[[#This Row],[Vo]]))","v":0}]
[23.1,"NMS-240-24",10,{"$f":"Table2[[#This Row],[Output Voltage]]*Table2[[#This Row],[Module rated current]]","v":231},"H",{"$f":"IF(1200/Table2[[#This Row],[Module rated power]]>6,6,ROUNDDOWN(1200/Table2[[#This Row],[Module rated power]],0))","v":5},{"$f":"Table2[[#This Row],[Module rated power]]*Table2[[#This Row],[Available No. of Slot]]","v":1155},{"$f":"ROUNDDOWN(Table2[[#This Row],[Max power per output]]/Table2[[#This Row],[Output Voltage]],2)","v":50},null,null,null,null,null,null,null,null,null,24.8,{"$f":"IF(S$1=0,0,IF(Configuration!$F$7=\"D\",$R223,Table7[[#This Row],[Vo]]))","v":0},{"$f":"IF(T$1=0,0,IF(Configuration!$F$8=\"D\",$R223,Table7[[#This Row],[Vo]]))","v":0},{"$f":"IF(U$1=0,0,IF(Configuration!$F$9=\"D\",$R223,Table7[[#This Row],[Vo]]))","v":0},{"$f":"IF(V$1=0,0,IF(Configuration!$F$10=\"D\",$R223,Table7[[#This Row],[Vo]]))","v":0},{"$f":"IF(W$1=0,0,IF(Configuration!$F$11=\"D\",$R223,Table7[[#This Row],[Vo]]))","v":0},{"$f":"IF(X$1=0,0,IF(Configuration!$F$12=\"D\",$R223,Table7[[#This Row],[Vo]]))","v":0},{"$f":"IF(Y$1=0,0,IF(Configuration!$F$13=\"D\",$R223,Table7[[#This Row],[Vo]]))","v":0},{"$f":"IF(Z$1=0,0,IF(Configuration!$F$14=\"D\",$R223,Table7[[#This Row],[Vo]]))","v":0},{"$f":"IF(AA$1=0,0,IF(Configuration!$F$15=\"D\",$R223,Table7[[#This Row],[Vo]]))","v":0},{"$f":"IF(AB$1=0,0,IF(Configuration!$F$16=\"D\",$R223,Table7[[#This Row],[Vo]]))","v":0},{"$f":"IF(AC$1=0,0,IF(Configuration!$F$17=\"D\",$R223,Table7[[#This Row],[Vo]]))","v":0}]
[23.2,"NMS-240-24",10,{"$f":"Table2[[#This Row],[Output Voltage]]*Table2[[#This Row],[Module rated current]]","v":232},"H",{"$f":"IF(1200/Table2[[#This Row],[Module rated power]]>6,6,ROUNDDOWN(1200/Table2[[#This Row],[Module rated power]],0))","v":5},{"$f":"Table2[[#This Row],[Module rated power]]*Table2[[#This Row],[Available No. of Slot]]","v":1160},{"$f":"ROUNDDOWN(Table2[[#This Row],[Max power per output]]/Table2[[#This Row],[Output Voltage]],2)","v":50},null,null,null,null,null,null,null,null,null,24.9,{"$f":"IF(S$1=0,0,IF(Configuration!$F$7=\"D\",$R224,Table7[[#This Row],[Vo]]))","v":0},{"$f":"IF(T$1=0,0,IF(Configuration!$F$8=\"D\",$R224,Table7[[#This Row],[Vo]]))","v":0},{"$f":"IF(U$1=0,0,IF(Configuration!$F$9=\"D\",$R224,Table7[[#This Row],[Vo]]))","v":0},{"$f":"IF(V$1=0,0,IF(Configuration!$F$10=\"D\",$R224,Table7[[#This Row],[Vo]]))","v":0},{"$f":"IF(W$1=0,0,IF(Configuration!$F$11=\"D\",$R224,Table7[[#This Row],[Vo]]))","v":0},{"$f":"IF(X$1=0,0,IF(Configuration!$F$12=\"D\",$R224,Table7[[#This Row],[Vo]]))","v":0},{"$f":"IF(Y$1=0,0,IF(Configuration!$F$13=\"D\",$R224,Table7[[#This Row],[Vo]]))","v":0},{"$f":"IF(Z$1=0,0,IF(Configuration!$F$14=\"D\",$R224,Table7[[#This Row],[Vo]]))","v":0},{"$f":"IF(AA$1=0,0,IF(Configuration!$F$15=\"D\",$R224,Table7[[#This Row],[Vo]]))","v":0},{"$f":"IF(AB$1=0,0,IF(Configuration!$F$16=\"D\",$R224,Table7[[#This Row],[Vo]]))","v":0},{"$f":"IF(AC$1=0,0,IF(Configuration!$F$17=\"D\",$R224,Table7[[#This Row],[Vo]]))","v":0}]
[23.3,"NMS-240-24",10,{"$f":"Table2[[#This Row],[Output Voltage]]*Table2[[#This Row],[Module rated current]]","v":233},"H",{"$f":"IF(1200/Table2[[#This Row],[Module rated power]]>6,6,ROUNDDOWN(1200/Table2[[#This Row],[Module rated power]],0))","v":5},{"$f":"Table2[[#This Row],[Module rated power]]*Table2[[#This Row],[Available No. of Slot]]","v":1165},{"$f":"ROUNDDOWN(Table2[[#This Row],[Max power per output]]/Table2[[#This Row],[Output Voltage]],2)","v":50},null,null,null,null,null,null,null,null,null,25,{"$f":"IF(S$1=0,0,IF(Configuration!$F$7=\"D\",$R225,Table7[[#This Row],[Vo]]))","v":0},{"$f":"IF(T$1=0,0,IF(Configuration!$F$8=\"D\",$R225,Table7[[#This Row],[Vo]]))","v":0},{"$f":"IF(U$1=0,0,IF(Configuration!$F$9=\"D\",$R225,Table7[[#This Row],[Vo]]))","v":0},{"$f":"IF(V$1=0,0,IF(Configuration!$F$10=\"D\",$R225,Table7[[#This Row],[Vo]]))","v":0},{"$f":"IF(W$1=0,0,IF(Configuration!$F$11=\"D\",$R225,Table7[[#This Row],[Vo]]))","v":0},{"$f":"IF(X$1=0,0,IF(Configuration!$F$12=\"D\",$R225,Table7[[#This Row],[Vo]]))","v":0},{"$f":"IF(Y$1=0,0,IF(Configuration!$F$13=\"D\",$R225,Table7[[#This Row],[Vo]]))","v":0},{"$f":"IF(Z$1=0,0,IF(Configuration!$F$14=\"D\",$R225,Table7[[#This Row],[Vo]]))","v":0},{"$f":"IF(AA$1=0,0,IF(Configuration!$F$15=\"D\",$R225,Table7[[#This Row],[Vo]]))","v":0},{"$f":"IF(AB$1=0,0,IF(Configuration!$F$16=\"D\",$R225,Table7[[#This Row],[Vo]]))","v":0},{"$f":"IF(AC$1=0,0,IF(Configuration!$F$17=\"D\",$R225,Table7[[#This Row],[Vo]]))","v":0}]
[23.4,"NMS-240-24",10,{"$f":"Table2[[#This Row],[Output Voltage]]*Table2[[#This Row],[Module rated current]]","v":234},"H",{"$f":"IF(1200/Table2[[#This Row],[Module rated power]]>6,6,ROUNDDOWN(1200/Table2[[#This Row],[Module rated power]],0))","v":5},{"$f":"Table2[[#This Row],[Module rated power]]*Table2[[#This Row],[Available No. of Slot]]","v":1170},{"$f":"ROUNDDOWN(Table2[[#This Row],[Max power per output]]/Table2[[#This Row],[Output Voltage]],2)","v":50},null,null,null,null,null,null,null,null,null,25.1,{"$f":"IF(S$1=0,0,IF(Configuration!$F$7=\"D\",$R226,Table7[[#This Row],[Vo]]))","v":0},{"$f":"IF(T$1=0,0,IF(Configuration!$F$8=\"D\",$R226,Table7[[#This Row],[Vo]]))","v":0},{"$f":"IF(U$1=0,0,IF(Configuration!$F$9=\"D\",$R226,Table7[[#This Row],[Vo]]))","v":0},{"$f":"IF(V$1=0,0,IF(Configuration!$F$10=\"D\",$R226,Table7[[#This Row],[Vo]]))","v":0},{"$f":"IF(W$1=0,0,IF(Configuration!$F$11=\"D\",$R226,Table7[[#This Row],[Vo]]))","v":0},{"$f":"IF(X$1=0,0,IF(Configuration!$F$12=\"D\",$R226,Table7[[#This Row],[Vo]]))","v":0},{"$f":"IF(Y$1=0,0,IF(Configuration!$F$13=\"D\",$R226,Table7[[#This Row],[Vo]]))","v":0},{"$f":"IF(Z$1=0,0,IF(Configuration!$F$14=\"D\",$R226,Table7[[#This Row],[Vo]]))","v":0},{"$f":"IF(AA$1=0,0,IF(Configuration!$F$15=\"D\",$R226,Table7[[#This Row],[Vo]]))","v":0},{"$f":"IF(AB$1=0,0,IF(Configuration!$F$16=\"D\",$R226,Table7[[#This Row],[Vo]]))","v":0},{"$f":"IF(AC$1=0,0,IF(Configuration!$F$17=\"D\",$R226,Table7[[#This Row],[Vo]]))","v":0}]
[23.5,"NMS-240-24",10,{"$f":"Table2[[#This Row],[Output Voltage]]*Table2[[#This Row],[Module rated current]]","v":235},"H",{"$f":"IF(1200/Table2[[#This Row],[Module rated power]]>6,6,ROUNDDOWN(1200/Table2[[#This Row],[Module rated power]],0))","v":5},{"$f":"Table2[[#This Row],[Module rated power]]*Table2[[#This Row],[Available No. of Slot]]","v":1175},{"$f":"ROUNDDOWN(Table2[[#This Row],[Max power per output]]/Table2[[#This Row],[Output Voltage]],2)","v":50},null,null,null,null,null,null,null,null,null,25.2,{"$f":"IF(S$1=0,0,IF(Configuration!$F$7=\"D\",$R227,Table7[[#This Row],[Vo]]))","v":0},{"$f":"IF(T$1=0,0,IF(Configuration!$F$8=\"D\",$R227,Table7[[#This Row],[Vo]]))","v":0},{"$f":"IF(U$1=0,0,IF(Configuration!$F$9=\"D\",$R227,Table7[[#This Row],[Vo]]))","v":0},{"$f":"IF(V$1=0,0,IF(Configuration!$F$10=\"D\",$R227,Table7[[#This Row],[Vo]]))","v":0},{"$f":"IF(W$1=0,0,IF(Configuration!$F$11=\"D\",$R227,Table7[[#This Row],[Vo]]))","v":0},{"$f":"IF(X$1=0,0,IF(Configuration!$F$12=\"D\",$R227,Table7[[#This Row],[Vo]]))","v":0},{"$f":"IF(Y$1=0,0,IF(Configuration!$F$13=\"D\",$R227,Table7[[#This Row],[Vo]]))","v":0},{"$f":"IF(Z$1=0,0,IF(Configuration!$F$14=\"D\",$R227,Table7[[#This Row],[Vo]]))","v":0},{"$f":"IF(AA$1=0,0,IF(Configuration!$F$15=\"D\",$R227,Table7[[#This Row],[Vo]]))","v":0},{"$f":"IF(AB$1=0,0,IF(Configuration!$F$16=\"D\",$R227,Table7[[#This Row],[Vo]]))","v":0},{"$f":"IF(AC$1=0,0,IF(Configuration!$F$17=\"D\",$R227,Table7[[#This Row],[Vo]]))","v":0}]
[23.6,"NMS-240-24",10,{"$f":"Table2[[#This Row],[Output Voltage]]*Table2[[#This Row],[Module rated current]]","v":236},"H",{"$f":"IF(1200/Table2[[#This Row],[Module rated power]]>6,6,ROUNDDOWN(1200/Table2[[#This Row],[Module rated power]],0))","v":5},{"$f":"Table2[[#This Row],[Module rated power]]*Table2[[#This Row],[Available No. of Slot]]","v":1180},{"$f":"ROUNDDOWN(Table2[[#This Row],[Max power per output]]/Table2[[#This Row],[Output Voltage]],2)","v":50},null,null,null,null,null,null,null,null,null,25.3,{"$f":"IF(S$1=0,0,IF(Configuration!$F$7=\"D\",$R228,Table7[[#This Row],[Vo]]))","v":0},{"$f":"IF(T$1=0,0,IF(Configuration!$F$8=\"D\",$R228,Table7[[#This Row],[Vo]]))","v":0},{"$f":"IF(U$1=0,0,IF(Configuration!$F$9=\"D\",$R228,Table7[[#This Row],[Vo]]))","v":0},{"$f":"IF(V$1=0,0,IF(Configuration!$F$10=\"D\",$R228,Table7[[#This Row],[Vo]]))","v":0},{"$f":"IF(W$1=0,0,IF(Configuration!$F$11=\"D\",$R228,Table7[[#This Row],[Vo]]))","v":0},{"$f":"IF(X$1=0,0,IF(Configuration!$F$12=\"D\",$R228,Table7[[#This Row],[Vo]]))","v":0},{"$f":"IF(Y$1=0,0,IF(Configuration!$F$13=\"D\",$R228,Table7[[#This Row],[Vo]]))","v":0},{"$f":"IF(Z$1=0,0,IF(Configuration!$F$14=\"D\",$R228,Table7[[#This Row],[Vo]]))","v":0},{"$f":"IF(AA$1=0,0,IF(Configuration!$F$15=\"D\",$R228,Table7[[#This Row],[Vo]]))","v":0},{"$f":"IF(AB$1=0,0,IF(Configuration!$F$16=\"D\",$R228,Table7[[#This Row],[Vo]]))","v":0},{"$f":"IF(AC$1=0,0,IF(Configuration!$F$17=\"D\",$R228,Table7[[#This Row],[Vo]]))","v":0}]
[23.7,"NMS-240-24",10,{"$f":"Table2[[#This Row],[Output Voltage]]*Table2[[#This Row],[Module rated current]]","v":237},"H",{"$f":"IF(1200/Table2[[#This Row],[Module rated power]]>6,6,ROUNDDOWN(1200/Table2[[#This Row],[Module rated power]],0))","v":5},{"$f":"Table2[[#This Row],[Module rated power]]*Table2[[#This Row],[Available No. of Slot]]","v":1185},{"$f":"ROUNDDOWN(Table2[[#This Row],[Max power per output]]/Table2[[#This Row],[Output Voltage]],2)","v":50},null,null,null,null,null,null,null,null,null,25.4,{"$f":"IF(S$1=0,0,IF(Configuration!$F$7=\"D\",$R229,Table7[[#This Row],[Vo]]))","v":0},{"$f":"IF(T$1=0,0,IF(Configuration!$F$8=\"D\",$R229,Table7[[#This Row],[Vo]]))","v":0},{"$f":"IF(U$1=0,0,IF(Configuration!$F$9=\"D\",$R229,Table7[[#This Row],[Vo]]))","v":0},{"$f":"IF(V$1=0,0,IF(Configuration!$F$10=\"D\",$R229,Table7[[#This Row],[Vo]]))","v":0},{"$f":"IF(W$1=0,0,IF(Configuration!$F$11=\"D\",$R229,Table7[[#This Row],[Vo]]))","v":0},{"$f":"IF(X$1=0,0,IF(Configuration!$F$12=\"D\",$R229,Table7[[#This Row],[Vo]]))","v":0},{"$f":"IF(Y$1=0,0,IF(Configuration!$F$13=\"D\",$R229,Table7[[#This Row],[Vo]]))","v":0},{"$f":"IF(Z$1=0,0,IF(Configuration!$F$14=\"D\",$R229,Table7[[#This Row],[Vo]]))","v":0},{"$f":"IF(AA$1=0,0,IF(Configuration!$F$15=\"D\",$R229,Table7[[#This Row],[Vo]]))","v":0},{"$f":"IF(AB$1=0,0,IF(Configuration!$F$16=\"D\",$R229,Table7[[#This Row],[Vo]]))","v":0},{"$f":"IF(AC$1=0,0,IF(Configuration!$F$17=\"D\",$R229,Table7[[#This Row],[Vo]]))","v":0}]
[23.8,"NMS-240-24",10,{"$f":"Table2[[#This Row],[Output Voltage]]*Table2[[#This Row],[Module rated current]]","v":238},"H",{"$f":"IF(1200/Table2[[#This Row],[Module rated power]]>6,6,ROUNDDOWN(1200/Table2[[#This Row],[Module rated power]],0))","v":5},{"$f":"Table2[[#This Row],[Module rated power]]*Table2[[#This Row],[Available No. of Slot]]","v":1190},{"$f":"ROUNDDOWN(Table2[[#This Row],[Max power per output]]/Table2[[#This Row],[Output Voltage]],2)","v":50},null,null,null,null,null,null,null,null,null,25.5,{"$f":"IF(S$1=0,0,IF(Configuration!$F$7=\"D\",$R230,Table7[[#This Row],[Vo]]))","v":0},{"$f":"IF(T$1=0,0,IF(Configuration!$F$8=\"D\",$R230,Table7[[#This Row],[Vo]]))","v":0},{"$f":"IF(U$1=0,0,IF(Configuration!$F$9=\"D\",$R230,Table7[[#This Row],[Vo]]))","v":0},{"$f":"IF(V$1=0,0,IF(Configuration!$F$10=\"D\",$R230,Table7[[#This Row],[Vo]]))","v":0},{"$f":"IF(W$1=0,0,IF(Configuration!$F$11=\"D\",$R230,Table7[[#This Row],[Vo]]))","v":0},{"$f":"IF(X$1=0,0,IF(Configuration!$F$12=\"D\",$R230,Table7[[#This Row],[Vo]]))","v":0},{"$f":"IF(Y$1=0,0,IF(Configuration!$F$13=\"D\",$R230,Table7[[#This Row],[Vo]]))","v":0},{"$f":"IF(Z$1=0,0,IF(Configuration!$F$14=\"D\",$R230,Table7[[#This Row],[Vo]]))","v":0},{"$f":"IF(AA$1=0,0,IF(Configuration!$F$15=\"D\",$R230,Table7[[#This Row],[Vo]]))","v":0},{"$f":"IF(AB$1=0,0,IF(Configuration!$F$16=\"D\",$R230,Table7[[#This Row],[Vo]]))","v":0},{"$f":"IF(AC$1=0,0,IF(Configuration!$F$17=\"D\",$R230,Table7[[#This Row],[Vo]]))","v":0}]
[23.9,"NMS-240-24",10,{"$f":"Table2[[#This Row],[Output Voltage]]*Table2[[#This Row],[Module rated current]]","v":239},"H",{"$f":"IF(1200/Table2[[#This Row],[Module rated power]]>6,6,ROUNDDOWN(1200/Table2[[#This Row],[Module rated power]],0))","v":5},{"$f":"Table2[[#This Row],[Module rated power]]*Table2[[#This Row],[Available No. of Slot]]","v":1195},{"$f":"ROUNDDOWN(Table2[[#This Row],[Max power per output]]/Table2[[#This Row],[Output Voltage]],2)","v":50},null,null,null,null,null,null,null,null,null,25.6,{"$f":"IF(S$1=0,0,IF(Configuration!$F$7=\"D\",$R231,Table7[[#This Row],[Vo]]))","v":0},{"$f":"IF(T$1=0,0,IF(Configuration!$F$8=\"D\",$R231,Table7[[#This Row],[Vo]]))","v":0},{"$f":"IF(U$1=0,0,IF(Configuration!$F$9=\"D\",$R231,Table7[[#This Row],[Vo]]))","v":0},{"$f":"IF(V$1=0,0,IF(Configuration!$F$10=\"D\",$R231,Table7[[#This Row],[Vo]]))","v":0},{"$f":"IF(W$1=0,0,IF(Configuration!$F$11=\"D\",$R231,Table7[[#This Row],[Vo]]))","v":0},{"$f":"IF(X$1=0,0,IF(Configuration!$F$12=\"D\",$R231,Table7[[#This Row],[Vo]]))","v":0},{"$f":"IF(Y$1=0,0,IF(Configuration!$F$13=\"D\",$R231,Table7[[#This Row],[Vo]]))","v":0},{"$f":"IF(Z$1=0,0,IF(Configuration!$F$14=\"D\",$R231,Table7[[#This Row],[Vo]]))","v":0},{"$f":"IF(AA$1=0,0,IF(Configuration!$F$15=\"D\",$R231,Table7[[#This Row],[Vo]]))","v":0},{"$f":"IF(AB$1=0,0,IF(Configuration!$F$16=\"D\",$R231,Table7[[#This Row],[Vo]]))","v":0},{"$f":"IF(AC$1=0,0,IF(Configuration!$F$17=\"D\",$R231,Table7[[#This Row],[Vo]]))","v":0}]
[24,"NMS-240-24",10,{"$f":"Table2[[#This Row],[Output Voltage]]*Table2[[#This Row],[Module rated current]]","v":240},"H",{"$f":"IF(1200/Table2[[#This Row],[Module rated power]]>6,6,ROUNDDOWN(1200/Table2[[#This Row],[Module rated power]],0))","v":5},{"$f":"Table2[[#This Row],[Module rated power]]*Table2[[#This Row],[Available No. of Slot]]","v":1200},{"$f":"ROUNDDOWN(Table2[[#This Row],[Max power per output]]/Table2[[#This Row],[Output Voltage]],2)","v":50},null,null,null,null,null,null,null,null,null,25.7,{"$f":"IF(S$1=0,0,IF(Configuration!$F$7=\"D\",$R232,Table7[[#This Row],[Vo]]))","v":0},{"$f":"IF(T$1=0,0,IF(Configuration!$F$8=\"D\",$R232,Table7[[#This Row],[Vo]]))","v":0},{"$f":"IF(U$1=0,0,IF(Configuration!$F$9=\"D\",$R232,Table7[[#This Row],[Vo]]))","v":0},{"$f":"IF(V$1=0,0,IF(Configuration!$F$10=\"D\",$R232,Table7[[#This Row],[Vo]]))","v":0},{"$f":"IF(W$1=0,0,IF(Configuration!$F$11=\"D\",$R232,Table7[[#This Row],[Vo]]))","v":0},{"$f":"IF(X$1=0,0,IF(Configuration!$F$12=\"D\",$R232,Table7[[#This Row],[Vo]]))","v":0},{"$f":"IF(Y$1=0,0,IF(Configuration!$F$13=\"D\",$R232,Table7[[#This Row],[Vo]]))","v":0},{"$f":"IF(Z$1=0,0,IF(Configuration!$F$14=\"D\",$R232,Table7[[#This Row],[Vo]]))","v":0},{"$f":"IF(AA$1=0,0,IF(Configuration!$F$15=\"D\",$R232,Table7[[#This Row],[Vo]]))","v":0},{"$f":"IF(AB$1=0,0,IF(Configuration!$F$16=\"D\",$R232,Table7[[#This Row],[Vo]]))","v":0},{"$f":"IF(AC$1=0,0,IF(Configuration!$F$17=\"D\",$R232,Table7[[#This Row],[Vo]]))","v":0}]
[24.1,"NMS-240-24",{"$f":"D232/A232","v":9.9585062240663902},240,"H",{"$f":"IF(1200/Table2[[#This Row],[Module rated power]]>6,6,ROUNDDOWN(1200/Table2[[#This Row],[Module rated power]],0))","v":5},{"$f":"Table2[[#This Row],[Module rated power]]*Table2[[#This Row],[Available No. of Slot]]","v":1200},{"$f":"ROUNDDOWN(Table2[[#This Row],[Max power per output]]/Table2[[#This Row],[Output Voltage]],2)","v":49.79},null,null,null,null,null,null,null,null,null,25.8,{"$f":"IF(S$1=0,0,IF(Configuration!$F$7=\"D\",$R233,Table7[[#This Row],[Vo]]))","v":0},{"$f":"IF(T$1=0,0,IF(Configuration!$F$8=\"D\",$R233,Table7[[#This Row],[Vo]]))","v":0},{"$f":"IF(U$1=0,0,IF(Configuration!$F$9=\"D\",$R233,Table7[[#This Row],[Vo]]))","v":0},{"$f":"IF(V$1=0,0,IF(Configuration!$F$10=\"D\",$R233,Table7[[#This Row],[Vo]]))","v":0},{"$f":"IF(W$1=0,0,IF(Configuration!$F$11=\"D\",$R233,Table7[[#This Row],[Vo]]))","v":0},{"$f":"IF(X$1=0,0,IF(Configuration!$F$12=\"D\",$R233,Table7[[#This Row],[Vo]]))","v":0},{"$f":"IF(Y$1=0,0,IF(Configuration!$F$13=\"D\",$R233,Table7[[#This Row],[Vo]]))","v":0},{"$f":"IF(Z$1=0,0,IF(Configuration!$F$14=\"D\",$R233,Table7[[#This Row],[Vo]]))","v":0},{"$f":"IF(AA$1=0,0,IF(Configuration!$F$15=\"D\",$R233,Table7[[#This Row],[Vo]]))","v":0},{"$f":"IF(AB$1=0,0,IF(Configuration!$F$16=\"D\",$R233,Table7[[#This Row],[Vo]]))","v":0},{"$f":"IF(AC$1=0,0,IF(Configuration!$F$17=\"D\",$R233,Table7[[#This Row],[Vo]]))","v":0}]
[24.2,"NMS-240-24",9.9173553719008272,240,"H",{"$f":"IF(1200/Table2[[#This Row],[Module rated power]]>6,6,ROUNDDOWN(1200/Table2[[#This Row],[Module rated power]],0))","v":5},{"$f":"Table2[[#This Row],[Module rated power]]*Table2[[#This Row],[Available No. of Slot]]","v":1200},{"$f":"ROUNDDOWN(Table2[[#This Row],[Max power per output]]/Table2[[#This Row],[Output Voltage]],2)","v":49.58},null,null,null,null,null,null,null,null,null,25.9,{"$f":"IF(S$1=0,0,IF(Configuration!$F$7=\"D\",$R234,Table7[[#This Row],[Vo]]))","v":0},{"$f":"IF(T$1=0,0,IF(Configuration!$F$8=\"D\",$R234,Table7[[#This Row],[Vo]]))","v":0},{"$f":"IF(U$1=0,0,IF(Configuration!$F$9=\"D\",$R234,Table7[[#This Row],[Vo]]))","v":0},{"$f":"IF(V$1=0,0,IF(Configuration!$F$10=\"D\",$R234,Table7[[#This Row],[Vo]]))","v":0},{"$f":"IF(W$1=0,0,IF(Configuration!$F$11=\"D\",$R234,Table7[[#This Row],[Vo]]))","v":0},{"$f":"IF(X$1=0,0,IF(Configuration!$F$12=\"D\",$R234,Table7[[#This Row],[Vo]]))","v":0},{"$f":"IF(Y$1=0,0,IF(Configuration!$F$13=\"D\",$R234,Table7[[#This Row],[Vo]]))","v":0},{"$f":"IF(Z$1=0,0,IF(Configuration!$F$14=\"D\",$R234,Table7[[#This Row],[Vo]]))","v":0},{"$f":"IF(AA$1=0,0,IF(Configuration!$F$15=\"D\",$R234,Table7[[#This Row],[Vo]]))","v":0},{"$f":"IF(AB$1=0,0,IF(Configuration!$F$16=\"D\",$R234,Table7[[#This Row],[Vo]]))","v":0},{"$f":"IF(AC$1=0,0,IF(Configuration!$F$17=\"D\",$R234,Table7[[#This Row],[Vo]]))","v":0}]
[24.3,"NMS-240-24",9.8765432098765427,240,"H",{"$f":"IF(1200/Table2[[#This Row],[Module rated power]]>6,6,ROUNDDOWN(1200/Table2[[#This Row],[Module rated power]],0))","v":5},{"$f":"Table2[[#This Row],[Module rated power]]*Table2[[#This Row],[Available No. of Slot]]","v":1200},{"$f":"ROUNDDOWN(Table2[[#This Row],[Max power per output]]/Table2[[#This Row],[Output Voltage]],2)","v":49.38},null,null,null,null,null,null,null,null,null,26,{"$f":"IF(S$1=0,0,IF(Configuration!$F$7=\"D\",$R235,Table7[[#This Row],[Vo]]))","v":0},{"$f":"IF(T$1=0,0,IF(Configuration!$F$8=\"D\",$R235,Table7[[#This Row],[Vo]]))","v":0},{"$f":"IF(U$1=0,0,IF(Configuration!$F$9=\"D\",$R235,Table7[[#This Row],[Vo]]))","v":0},{"$f":"IF(V$1=0,0,IF(Configuration!$F$10=\"D\",$R235,Table7[[#This Row],[Vo]]))","v":0},{"$f":"IF(W$1=0,0,IF(Configuration!$F$11=\"D\",$R235,Table7[[#This Row],[Vo]]))","v":0},{"$f":"IF(X$1=0,0,IF(Configuration!$F$12=\"D\",$R235,Table7[[#This Row],[Vo]]))","v":0},{"$f":"IF(Y$1=0,0,IF(Configuration!$F$13=\"D\",$R235,Table7[[#This Row],[Vo]]))","v":0},{"$f":"IF(Z$1=0,0,IF(Configuration!$F$14=\"D\",$R235,Table7[[#This Row],[Vo]]))","v":0},{"$f":"IF(AA$1=0,0,IF(Configuration!$F$15=\"D\",$R235,Table7[[#This Row],[Vo]]))","v":0},{"$f":"IF(AB$1=0,0,IF(Configuration!$F$16=\"D\",$R235,Table7[[#This Row],[Vo]]))","v":0},{"$f":"IF(AC$1=0,0,IF(Configuration!$F$17=\"D\",$R235,Table7[[#This Row],[Vo]]))","v":0}]
[24.4,"NMS-240-24",9.8360655737704921,240,"H",{"$f":"IF(1200/Table2[[#This Row],[Module rated power]]>6,6,ROUNDDOWN(1200/Table2[[#This Row],[Module rated power]],0))","v":5},{"$f":"Table2[[#This Row],[Module rated power]]*Table2[[#This Row],[Available No. of Slot]]","v":1200},{"$f":"ROUNDDOWN(Table2[[#This Row],[Max power per output]]/Table2[[#This Row],[Output Voltage]],2)","v":49.18},null,null,null,null,null,null,null,null,null,26.1,{"$f":"IF(S$1=0,0,IF(Configuration!$F$7=\"D\",$R236,Table7[[#This Row],[Vo]]))","v":0},{"$f":"IF(T$1=0,0,IF(Configuration!$F$8=\"D\",$R236,Table7[[#This Row],[Vo]]))","v":0},{"$f":"IF(U$1=0,0,IF(Configuration!$F$9=\"D\",$R236,Table7[[#This Row],[Vo]]))","v":0},{"$f":"IF(V$1=0,0,IF(Configuration!$F$10=\"D\",$R236,Table7[[#This Row],[Vo]]))","v":0},{"$f":"IF(W$1=0,0,IF(Configuration!$F$11=\"D\",$R236,Table7[[#This Row],[Vo]]))","v":0},{"$f":"IF(X$1=0,0,IF(Configuration!$F$12=\"D\",$R236,Table7[[#This Row],[Vo]]))","v":0},{"$f":"IF(Y$1=0,0,IF(Configuration!$F$13=\"D\",$R236,Table7[[#This Row],[Vo]]))","v":0},{"$f":"IF(Z$1=0,0,IF(Configuration!$F$14=\"D\",$R236,Table7[[#This Row],[Vo]]))","v":0},{"$f":"IF(AA$1=0,0,IF(Configuration!$F$15=\"D\",$R236,Table7[[#This Row],[Vo]]))","v":0},{"$f":"IF(AB$1=0,0,IF(Configuration!$F$16=\"D\",$R236,Table7[[#This Row],[Vo]]))","v":0},{"$f":"IF(AC$1=0,0,IF(Configuration!$F$17=\"D\",$R236,Table7[[#This Row],[Vo]]))","v":0}]
[24.5,"NMS-240-24",9.795918367346939,240,"H",{"$f":"IF(1200/Table2[[#This Row],[Module rated power]]>6,6,ROUNDDOWN(1200/Table2[[#This Row],[Module rated power]],0))","v":5},{"$f":"Table2[[#This Row],[Module rated power]]*Table2[[#This Row],[Available No. of Slot]]","v":1200},{"$f":"ROUNDDOWN(Table2[[#This Row],[Max power per output]]/Table2[[#This Row],[Output Voltage]],2)","v":48.97},null,null,null,null,null,null,null,null,null,26.2,{"$f":"IF(S$1=0,0,IF(Configuration!$F$7=\"D\",$R237,Table7[[#This Row],[Vo]]))","v":0},{"$f":"IF(T$1=0,0,IF(Configuration!$F$8=\"D\",$R237,Table7[[#This Row],[Vo]]))","v":0},{"$f":"IF(U$1=0,0,IF(Configuration!$F$9=\"D\",$R237,Table7[[#This Row],[Vo]]))","v":0},{"$f":"IF(V$1=0,0,IF(Configuration!$F$10=\"D\",$R237,Table7[[#This Row],[Vo]]))","v":0},{"$f":"IF(W$1=0,0,IF(Configuration!$F$11=\"D\",$R237,Table7[[#This Row],[Vo]]))","v":0},{"$f":"IF(X$1=0,0,IF(Configuration!$F$12=\"D\",$R237,Table7[[#This Row],[Vo]]))","v":0},{"$f":"IF(Y$1=0,0,IF(Configuration!$F$13=\"D\",$R237,Table7[[#This Row],[Vo]]))","v":0},{"$f":"IF(Z$1=0,0,IF(Configuration!$F$14=\"D\",$R237,Table7[[#This Row],[Vo]]))","v":0},{"$f":"IF(AA$1=0,0,IF(Configuration!$F$15=\"D\",$R237,Table7[[#This Row],[Vo]]))","v":0},{"$f":"IF(AB$1=0,0,IF(Configuration!$F$16=\"D\",$R237,Table7[[#This Row],[Vo]]))","v":0},{"$f":"IF(AC$1=0,0,IF(Configuration!$F$17=\"D\",$R237,Table7[[#This Row],[Vo]]))","v":0}]
[24.6,"NMS-240-24",9.7560975609756095,240,"H",{"$f":"IF(1200/Table2[[#This Row],[Module rated power]]>6,6,ROUNDDOWN(1200/Table2[[#This Row],[Module rated power]],0))","v":5},{"$f":"Table2[[#This Row],[Module rated power]]*Table2[[#This Row],[Available No. of Slot]]","v":1200},{"$f":"ROUNDDOWN(Table2[[#This Row],[Max power per output]]/Table2[[#This Row],[Output Voltage]],2)","v":48.78},null,null,null,null,null,null,null,null,null,26.3,{"$f":"IF(S$1=0,0,IF(Configuration!$F$7=\"D\",$R238,Table7[[#This Row],[Vo]]))","v":0},{"$f":"IF(T$1=0,0,IF(Configuration!$F$8=\"D\",$R238,Table7[[#This Row],[Vo]]))","v":0},{"$f":"IF(U$1=0,0,IF(Configuration!$F$9=\"D\",$R238,Table7[[#This Row],[Vo]]))","v":0},{"$f":"IF(V$1=0,0,IF(Configuration!$F$10=\"D\",$R238,Table7[[#This Row],[Vo]]))","v":0},{"$f":"IF(W$1=0,0,IF(Configuration!$F$11=\"D\",$R238,Table7[[#This Row],[Vo]]))","v":0},{"$f":"IF(X$1=0,0,IF(Configuration!$F$12=\"D\",$R238,Table7[[#This Row],[Vo]]))","v":0},{"$f":"IF(Y$1=0,0,IF(Configuration!$F$13=\"D\",$R238,Table7[[#This Row],[Vo]]))","v":0},{"$f":"IF(Z$1=0,0,IF(Configuration!$F$14=\"D\",$R238,Table7[[#This Row],[Vo]]))","v":0},{"$f":"IF(AA$1=0,0,IF(Configuration!$F$15=\"D\",$R238,Table7[[#This Row],[Vo]]))","v":0},{"$f":"IF(AB$1=0,0,IF(Configuration!$F$16=\"D\",$R238,Table7[[#This Row],[Vo]]))","v":0},{"$f":"IF(AC$1=0,0,IF(Configuration!$F$17=\"D\",$R238,Table7[[#This Row],[Vo]]))","v":0}]
[24.7,"NMS-240-24",9.7165991902834019,240,"H",{"$f":"IF(1200/Table2[[#This Row],[Module rated power]]>6,6,ROUNDDOWN(1200/Table2[[#This Row],[Module rated power]],0))","v":5},{"$f":"Table2[[#This Row],[Module rated power]]*Table2[[#This Row],[Available No. of Slot]]","v":1200},{"$f":"ROUNDDOWN(Table2[[#This Row],[Max power per output]]/Table2[[#This Row],[Output Voltage]],2)","v":48.58},null,null,null,null,null,null,null,null,null,26.4,{"$f":"IF(S$1=0,0,IF(Configuration!$F$7=\"D\",$R239,Table7[[#This Row],[Vo]]))","v":0},{"$f":"IF(T$1=0,0,IF(Configuration!$F$8=\"D\",$R239,Table7[[#This Row],[Vo]]))","v":0},{"$f":"IF(U$1=0,0,IF(Configuration!$F$9=\"D\",$R239,Table7[[#This Row],[Vo]]))","v":0},{"$f":"IF(V$1=0,0,IF(Configuration!$F$10=\"D\",$R239,Table7[[#This Row],[Vo]]))","v":0},{"$f":"IF(W$1=0,0,IF(Configuration!$F$11=\"D\",$R239,Table7[[#This Row],[Vo]]))","v":0},{"$f":"IF(X$1=0,0,IF(Configuration!$F$12=\"D\",$R239,Table7[[#This Row],[Vo]]))","v":0},{"$f":"IF(Y$1=0,0,IF(Configuration!$F$13=\"D\",$R239,Table7[[#This Row],[Vo]]))","v":0},{"$f":"IF(Z$1=0,0,IF(Configuration!$F$14=\"D\",$R239,Table7[[#This Row],[Vo]]))","v":0},{"$f":"IF(AA$1=0,0,IF(Configuration!$F$15=\"D\",$R239,Table7[[#This Row],[Vo]]))","v":0},{"$f":"IF(AB$1=0,0,IF(Configuration!$F$16=\"D\",$R239,Table7[[#This Row],[Vo]]))","v":0},{"$f":"IF(AC$1=0,0,IF(Configuration!$F$17=\"D\",$R239,Table7[[#This Row],[Vo]]))","v":0}]
[24.8,"NMS-240-24",9.67741935483871,240,"H",{"$f":"IF(1200/Table2[[#This Row],[Module rated power]]>6,6,ROUNDDOWN(1200/Table2[[#This Row],[Module rated power]],0))","v":5},{"$f":"Table2[[#This Row],[Module rated power]]*Table2[[#This Row],[Available No. of Slot]]","v":1200},{"$f":"ROUNDDOWN(Table2[[#This Row],[Max power per output]]/Table2[[#This Row],[Output Voltage]],2)","v":48.38},null,null,null,null,null,null,null,null,null,26.5,{"$f":"IF(S$1=0,0,IF(Configuration!$F$7=\"D\",$R240,Table7[[#This Row],[Vo]]))","v":0},{"$f":"IF(T$1=0,0,IF(Configuration!$F$8=\"D\",$R240,Table7[[#This Row],[Vo]]))","v":0},{"$f":"IF(U$1=0,0,IF(Configuration!$F$9=\"D\",$R240,Table7[[#This Row],[Vo]]))","v":0},{"$f":"IF(V$1=0,0,IF(Configuration!$F$10=\"D\",$R240,Table7[[#This Row],[Vo]]))","v":0},{"$f":"IF(W$1=0,0,IF(Configuration!$F$11=\"D\",$R240,Table7[[#This Row],[Vo]]))","v":0},{"$f":"IF(X$1=0,0,IF(Configuration!$F$12=\"D\",$R240,Table7[[#This Row],[Vo]]))","v":0},{"$f":"IF(Y$1=0,0,IF(Configuration!$F$13=\"D\",$R240,Table7[[#This Row],[Vo]]))","v":0},{"$f":"IF(Z$1=0,0,IF(Configuration!$F$14=\"D\",$R240,Table7[[#This Row],[Vo]]))","v":0},{"$f":"IF(AA$1=0,0,IF(Configuration!$F$15=\"D\",$R240,Table7[[#This Row],[Vo]]))","v":0},{"$f":"IF(AB$1=0,0,IF(Configuration!$F$16=\"D\",$R240,Table7[[#This Row],[Vo]]))","v":0},{"$f":"IF(AC$1=0,0,IF(Configuration!$F$17=\"D\",$R240,Table7[[#This Row],[Vo]]))","v":0}]
[24.9,"NMS-240-24",9.6385542168674707,240,"H",{"$f":"IF(1200/Table2[[#This Row],[Module rated power]]>6,6,ROUNDDOWN(1200/Table2[[#This Row],[Module rated power]],0))","v":5},{"$f":"Table2[[#This Row],[Module rated power]]*Table2[[#This Row],[Available No. of Slot]]","v":1200},{"$f":"ROUNDDOWN(Table2[[#This Row],[Max power per output]]/Table2[[#This Row],[Output Voltage]],2)","v":48.19},null,null,null,null,null,null,null,null,null,26.6,{"$f":"IF(S$1=0,0,IF(Configuration!$F$7=\"D\",$R241,Table7[[#This Row],[Vo]]))","v":0},{"$f":"IF(T$1=0,0,IF(Configuration!$F$8=\"D\",$R241,Table7[[#This Row],[Vo]]))","v":0},{"$f":"IF(U$1=0,0,IF(Configuration!$F$9=\"D\",$R241,Table7[[#This Row],[Vo]]))","v":0},{"$f":"IF(V$1=0,0,IF(Configuration!$F$10=\"D\",$R241,Table7[[#This Row],[Vo]]))","v":0},{"$f":"IF(W$1=0,0,IF(Configuration!$F$11=\"D\",$R241,Table7[[#This Row],[Vo]]))","v":0},{"$f":"IF(X$1=0,0,IF(Configuration!$F$12=\"D\",$R241,Table7[[#This Row],[Vo]]))","v":0},{"$f":"IF(Y$1=0,0,IF(Configuration!$F$13=\"D\",$R241,Table7[[#This Row],[Vo]]))","v":0},{"$f":"IF(Z$1=0,0,IF(Configuration!$F$14=\"D\",$R241,Table7[[#This Row],[Vo]]))","v":0},{"$f":"IF(AA$1=0,0,IF(Configuration!$F$15=\"D\",$R241,Table7[[#This Row],[Vo]]))","v":0},{"$f":"IF(AB$1=0,0,IF(Configuration!$F$16=\"D\",$R241,Table7[[#This Row],[Vo]]))","v":0},{"$f":"IF(AC$1=0,0,IF(Configuration!$F$17=\"D\",$R241,Table7[[#This Row],[Vo]]))","v":0}]
[25,"NMS-240-24",9.6,240,"H",{"$f":"IF(1200/Table2[[#This Row],[Module rated power]]>6,6,ROUNDDOWN(1200/Table2[[#This Row],[Module rated power]],0))","v":5},{"$f":"Table2[[#This Row],[Module rated power]]*Table2[[#This Row],[Available No. of Slot]]","v":1200},{"$f":"ROUNDDOWN(Table2[[#This Row],[Max power per output]]/Table2[[#This Row],[Output Voltage]],2)","v":48},null,null,null,null,null,null,null,null,null,26.7,{"$f":"IF(S$1=0,0,IF(Configuration!$F$7=\"D\",$R242,Table7[[#This Row],[Vo]]))","v":0},{"$f":"IF(T$1=0,0,IF(Configuration!$F$8=\"D\",$R242,Table7[[#This Row],[Vo]]))","v":0},{"$f":"IF(U$1=0,0,IF(Configuration!$F$9=\"D\",$R242,Table7[[#This Row],[Vo]]))","v":0},{"$f":"IF(V$1=0,0,IF(Configuration!$F$10=\"D\",$R242,Table7[[#This Row],[Vo]]))","v":0},{"$f":"IF(W$1=0,0,IF(Configuration!$F$11=\"D\",$R242,Table7[[#This Row],[Vo]]))","v":0},{"$f":"IF(X$1=0,0,IF(Configuration!$F$12=\"D\",$R242,Table7[[#This Row],[Vo]]))","v":0},{"$f":"IF(Y$1=0,0,IF(Configuration!$F$13=\"D\",$R242,Table7[[#This Row],[Vo]]))","v":0},{"$f":"IF(Z$1=0,0,IF(Configuration!$F$14=\"D\",$R242,Table7[[#This Row],[Vo]]))","v":0},{"$f":"IF(AA$1=0,0,IF(Configuration!$F$15=\"D\",$R242,Table7[[#This Row],[Vo]]))","v":0},{"$f":"IF(AB$1=0,0,IF(Configuration!$F$16=\"D\",$R242,Table7[[#This Row],[Vo]]))","v":0},{"$f":"IF(AC$1=0,0,IF(Configuration!$F$17=\"D\",$R242,Table7[[#This Row],[Vo]]))","v":0}]
[25.1,"NMS-240-24",9.5617529880478074,240,"H",{"$f":"IF(1200/Table2[[#This Row],[Module rated power]]>6,6,ROUNDDOWN(1200/Table2[[#This Row],[Module rated power]],0))","v":5},{"$f":"Table2[[#This Row],[Module rated power]]*Table2[[#This Row],[Available No. of Slot]]","v":1200},{"$f":"ROUNDDOWN(Table2[[#This Row],[Max power per output]]/Table2[[#This Row],[Output Voltage]],2)","v":47.8},null,null,null,null,null,null,null,null,null,26.8,{"$f":"IF(S$1=0,0,IF(Configuration!$F$7=\"D\",$R243,Table7[[#This Row],[Vo]]))","v":0},{"$f":"IF(T$1=0,0,IF(Configuration!$F$8=\"D\",$R243,Table7[[#This Row],[Vo]]))","v":0},{"$f":"IF(U$1=0,0,IF(Configuration!$F$9=\"D\",$R243,Table7[[#This Row],[Vo]]))","v":0},{"$f":"IF(V$1=0,0,IF(Configuration!$F$10=\"D\",$R243,Table7[[#This Row],[Vo]]))","v":0},{"$f":"IF(W$1=0,0,IF(Configuration!$F$11=\"D\",$R243,Table7[[#This Row],[Vo]]))","v":0},{"$f":"IF(X$1=0,0,IF(Configuration!$F$12=\"D\",$R243,Table7[[#This Row],[Vo]]))","v":0},{"$f":"IF(Y$1=0,0,IF(Configuration!$F$13=\"D\",$R243,Table7[[#This Row],[Vo]]))","v":0},{"$f":"IF(Z$1=0,0,IF(Configuration!$F$14=\"D\",$R243,Table7[[#This Row],[Vo]]))","v":0},{"$f":"IF(AA$1=0,0,IF(Configuration!$F$15=\"D\",$R243,Table7[[#This Row],[Vo]]))","v":0},{"$f":"IF(AB$1=0,0,IF(Configuration!$F$16=\"D\",$R243,Table7[[#This Row],[Vo]]))","v":0},{"$f":"IF(AC$1=0,0,IF(Configuration!$F$17=\"D\",$R243,Table7[[#This Row],[Vo]]))","v":0}]
[25.2,"NMS-240-24",9.5238095238095237,240,"H",{"$f":"IF(1200/Table2[[#This Row],[Module rated power]]>6,6,ROUNDDOWN(1200/Table2[[#This Row],[Module rated power]],0))","v":5},{"$f":"Table2[[#This Row],[Module rated power]]*Table2[[#This Row],[Available No. of Slot]]","v":1200},{"$f":"ROUNDDOWN(Table2[[#This Row],[Max power per output]]/Table2[[#This Row],[Output Voltage]],2)","v":47.61},null,null,null,null,null,null,null,null,null,26.9,{"$f":"IF(S$1=0,0,IF(Configuration!$F$7=\"D\",$R244,Table7[[#This Row],[Vo]]))","v":0},{"$f":"IF(T$1=0,0,IF(Configuration!$F$8=\"D\",$R244,Table7[[#This Row],[Vo]]))","v":0},{"$f":"IF(U$1=0,0,IF(Configuration!$F$9=\"D\",$R244,Table7[[#This Row],[Vo]]))","v":0},{"$f":"IF(V$1=0,0,IF(Configuration!$F$10=\"D\",$R244,Table7[[#This Row],[Vo]]))","v":0},{"$f":"IF(W$1=0,0,IF(Configuration!$F$11=\"D\",$R244,Table7[[#This Row],[Vo]]))","v":0},{"$f":"IF(X$1=0,0,IF(Configuration!$F$12=\"D\",$R244,Table7[[#This Row],[Vo]]))","v":0},{"$f":"IF(Y$1=0,0,IF(Configuration!$F$13=\"D\",$R244,Table7[[#This Row],[Vo]]))","v":0},{"$f":"IF(Z$1=0,0,IF(Configuration!$F$14=\"D\",$R244,Table7[[#This Row],[Vo]]))","v":0},{"$f":"IF(AA$1=0,0,IF(Configuration!$F$15=\"D\",$R244,Table7[[#This Row],[Vo]]))","v":0},{"$f":"IF(AB$1=0,0,IF(Configuration!$F$16=\"D\",$R244,Table7[[#This Row],[Vo]]))","v":0},{"$f":"IF(AC$1=0,0,IF(Configuration!$F$17=\"D\",$R244,Table7[[#This Row],[Vo]]))","v":0}]
[25.3,"NMS-240-24",9.4861660079051386,240,"H",{"$f":"IF(1200/Table2[[#This Row],[Module rated power]]>6,6,ROUNDDOWN(1200/Table2[[#This Row],[Module rated power]],0))","v":5},{"$f":"Table2[[#This Row],[Module rated power]]*Table2[[#This Row],[Available No. of Slot]]","v":1200},{"$f":"ROUNDDOWN(Table2[[#This Row],[Max power per output]]/Table2[[#This Row],[Output Voltage]],2)","v":47.43},null,null,null,null,null,null,null,null,null,27,{"$f":"IF(S$1=0,0,IF(Configuration!$F$7=\"D\",$R245,Table7[[#This Row],[Vo]]))","v":0},{"$f":"IF(T$1=0,0,IF(Configuration!$F$8=\"D\",$R245,Table7[[#This Row],[Vo]]))","v":0},{"$f":"IF(U$1=0,0,IF(Configuration!$F$9=\"D\",$R245,Table7[[#This Row],[Vo]]))","v":0},{"$f":"IF(V$1=0,0,IF(Configuration!$F$10=\"D\",$R245,Table7[[#This Row],[Vo]]))","v":0},{"$f":"IF(W$1=0,0,IF(Configuration!$F$11=\"D\",$R245,Table7[[#This Row],[Vo]]))","v":0},{"$f":"IF(X$1=0,0,IF(Configuration!$F$12=\"D\",$R245,Table7[[#This Row],[Vo]]))","v":0},{"$f":"IF(Y$1=0,0,IF(Configuration!$F$13=\"D\",$R245,Table7[[#This Row],[Vo]]))","v":0},{"$f":"IF(Z$1=0,0,IF(Configuration!$F$14=\"D\",$R245,Table7[[#This Row],[Vo]]))","v":0},{"$f":"IF(AA$1=0,0,IF(Configuration!$F$15=\"D\",$R245,Table7[[#This Row],[Vo]]))","v":0},{"$f":"IF(AB$1=0,0,IF(Configuration!$F$16=\"D\",$R245,Table7[[#This Row],[Vo]]))","v":0},{"$f":"IF(AC$1=0,0,IF(Configuration!$F$17=\"D\",$R245,Table7[[#This Row],[Vo]]))","v":0}]
[25.4,"NMS-240-24",9.4488188976377963,240,"H",{"$f":"IF(1200/Table2[[#This Row],[Module rated power]]>6,6,ROUNDDOWN(1200/Table2[[#This Row],[Module rated power]],0))","v":5},{"$f":"Table2[[#This Row],[Module rated power]]*Table2[[#This Row],[Available No. of Slot]]","v":1200},{"$f":"ROUNDDOWN(Table2[[#This Row],[Max power per output]]/Table2[[#This Row],[Output Voltage]],2)","v":47.24},null,null,null,null,null,null,null,null,null,27.1,{"$f":"IF(S$1=0,0,IF(Configuration!$F$7=\"D\",$R246,Table7[[#This Row],[Vo]]))","v":0},{"$f":"IF(T$1=0,0,IF(Configuration!$F$8=\"D\",$R246,Table7[[#This Row],[Vo]]))","v":0},{"$f":"IF(U$1=0,0,IF(Configuration!$F$9=\"D\",$R246,Table7[[#This Row],[Vo]]))","v":0},{"$f":"IF(V$1=0,0,IF(Configuration!$F$10=\"D\",$R246,Table7[[#This Row],[Vo]]))","v":0},{"$f":"IF(W$1=0,0,IF(Configuration!$F$11=\"D\",$R246,Table7[[#This Row],[Vo]]))","v":0},{"$f":"IF(X$1=0,0,IF(Configuration!$F$12=\"D\",$R246,Table7[[#This Row],[Vo]]))","v":0},{"$f":"IF(Y$1=0,0,IF(Configuration!$F$13=\"D\",$R246,Table7[[#This Row],[Vo]]))","v":0},{"$f":"IF(Z$1=0,0,IF(Configuration!$F$14=\"D\",$R246,Table7[[#This Row],[Vo]]))","v":0},{"$f":"IF(AA$1=0,0,IF(Configuration!$F$15=\"D\",$R246,Table7[[#This Row],[Vo]]))","v":0},{"$f":"IF(AB$1=0,0,IF(Configuration!$F$16=\"D\",$R246,Table7[[#This Row],[Vo]]))","v":0},{"$f":"IF(AC$1=0,0,IF(Configuration!$F$17=\"D\",$R246,Table7[[#This Row],[Vo]]))","v":0}]
[25.5,"NMS-240-24",9.4117647058823533,240,"H",{"$f":"IF(1200/Table2[[#This Row],[Module rated power]]>6,6,ROUNDDOWN(1200/Table2[[#This Row],[Module rated power]],0))","v":5},{"$f":"Table2[[#This Row],[Module rated power]]*Table2[[#This Row],[Available No. of Slot]]","v":1200},{"$f":"ROUNDDOWN(Table2[[#This Row],[Max power per output]]/Table2[[#This Row],[Output Voltage]],2)","v":47.05},null,null,null,null,null,null,null,null,null,27.2,{"$f":"IF(S$1=0,0,IF(Configuration!$F$7=\"D\",$R247,Table7[[#This Row],[Vo]]))","v":0},{"$f":"IF(T$1=0,0,IF(Configuration!$F$8=\"D\",$R247,Table7[[#This Row],[Vo]]))","v":0},{"$f":"IF(U$1=0,0,IF(Configuration!$F$9=\"D\",$R247,Table7[[#This Row],[Vo]]))","v":0},{"$f":"IF(V$1=0,0,IF(Configuration!$F$10=\"D\",$R247,Table7[[#This Row],[Vo]]))","v":0},{"$f":"IF(W$1=0,0,IF(Configuration!$F$11=\"D\",$R247,Table7[[#This Row],[Vo]]))","v":0},{"$f":"IF(X$1=0,0,IF(Configuration!$F$12=\"D\",$R247,Table7[[#This Row],[Vo]]))","v":0},{"$f":"IF(Y$1=0,0,IF(Configuration!$F$13=\"D\",$R247,Table7[[#This Row],[Vo]]))","v":0},{"$f":"IF(Z$1=0,0,IF(Configuration!$F$14=\"D\",$R247,Table7[[#This Row],[Vo]]))","v":0},{"$f":"IF(AA$1=0,0,IF(Configuration!$F$15=\"D\",$R247,Table7[[#This Row],[Vo]]))","v":0},{"$f":"IF(AB$1=0,0,IF(Configuration!$F$16=\"D\",$R247,Table7[[#This Row],[Vo]]))","v":0},{"$f":"IF(AC$1=0,0,IF(Configuration!$F$17=\"D\",$R247,Table7[[#This Row],[Vo]]))","v":0}]
[25.6,"NMS-240-24",9.375,240,"H",{"$f":"IF(1200/Table2[[#This Row],[Module rated power]]>6,6,ROUNDDOWN(1200/Table2[[#This Row],[Module rated power]],0))","v":5},{"$f":"Table2[[#This Row],[Module rated power]]*Table2[[#This Row],[Available No. of Slot]]","v":1200},{"$f":"ROUNDDOWN(Table2[[#This Row],[Max power per output]]/Table2[[#This Row],[Output Voltage]],2)","v":46.87},null,null,null,null,null,null,null,null,null,27.3,{"$f":"IF(S$1=0,0,IF(Configuration!$F$7=\"D\",$R248,Table7[[#This Row],[Vo]]))","v":0},{"$f":"IF(T$1=0,0,IF(Configuration!$F$8=\"D\",$R248,Table7[[#This Row],[Vo]]))","v":0},{"$f":"IF(U$1=0,0,IF(Configuration!$F$9=\"D\",$R248,Table7[[#This Row],[Vo]]))","v":0},{"$f":"IF(V$1=0,0,IF(Configuration!$F$10=\"D\",$R248,Table7[[#This Row],[Vo]]))","v":0},{"$f":"IF(W$1=0,0,IF(Configuration!$F$11=\"D\",$R248,Table7[[#This Row],[Vo]]))","v":0},{"$f":"IF(X$1=0,0,IF(Configuration!$F$12=\"D\",$R248,Table7[[#This Row],[Vo]]))","v":0},{"$f":"IF(Y$1=0,0,IF(Configuration!$F$13=\"D\",$R248,Table7[[#This Row],[Vo]]))","v":0},{"$f":"IF(Z$1=0,0,IF(Configuration!$F$14=\"D\",$R248,Table7[[#This Row],[Vo]]))","v":0},{"$f":"IF(AA$1=0,0,IF(Configuration!$F$15=\"D\",$R248,Table7[[#This Row],[Vo]]))","v":0},{"$f":"IF(AB$1=0,0,IF(Configuration!$F$16=\"D\",$R248,Table7[[#This Row],[Vo]]))","v":0},{"$f":"IF(AC$1=0,0,IF(Configuration!$F$17=\"D\",$R248,Table7[[#This Row],[Vo]]))","v":0}]
[25.7,"NMS-240-24",9.3385214007782107,240,"H",{"$f":"IF(1200/Table2[[#This Row],[Module rated power]]>6,6,ROUNDDOWN(1200/Table2[[#This Row],[Module rated power]],0))","v":5},{"$f":"Table2[[#This Row],[Module rated power]]*Table2[[#This Row],[Available No. of Slot]]","v":1200},{"$f":"ROUNDDOWN(Table2[[#This Row],[Max power per output]]/Table2[[#This Row],[Output Voltage]],2)","v":46.69},null,null,null,null,null,null,null,null,null,27.4,{"$f":"IF(S$1=0,0,IF(Configuration!$F$7=\"D\",$R249,Table7[[#This Row],[Vo]]))","v":0},{"$f":"IF(T$1=0,0,IF(Configuration!$F$8=\"D\",$R249,Table7[[#This Row],[Vo]]))","v":0},{"$f":"IF(U$1=0,0,IF(Configuration!$F$9=\"D\",$R249,Table7[[#This Row],[Vo]]))","v":0},{"$f":"IF(V$1=0,0,IF(Configuration!$F$10=\"D\",$R249,Table7[[#This Row],[Vo]]))","v":0},{"$f":"IF(W$1=0,0,IF(Configuration!$F$11=\"D\",$R249,Table7[[#This Row],[Vo]]))","v":0},{"$f":"IF(X$1=0,0,IF(Configuration!$F$12=\"D\",$R249,Table7[[#This Row],[Vo]]))","v":0},{"$f":"IF(Y$1=0,0,IF(Configuration!$F$13=\"D\",$R249,Table7[[#This Row],[Vo]]))","v":0},{"$f":"IF(Z$1=0,0,IF(Configuration!$F$14=\"D\",$R249,Table7[[#This Row],[Vo]]))","v":0},{"$f":"IF(AA$1=0,0,IF(Configuration!$F$15=\"D\",$R249,Table7[[#This Row],[Vo]]))","v":0},{"$f":"IF(AB$1=0,0,IF(Configuration!$F$16=\"D\",$R249,Table7[[#This Row],[Vo]]))","v":0},{"$f":"IF(AC$1=0,0,IF(Configuration!$F$17=\"D\",$R249,Table7[[#This Row],[Vo]]))","v":0}]
[25.8,"NMS-240-24",9.3023255813953494,240,"H",{"$f":"IF(1200/Table2[[#This Row],[Module rated power]]>6,6,ROUNDDOWN(1200/Table2[[#This Row],[Module rated power]],0))","v":5},{"$f":"Table2[[#This Row],[Module rated power]]*Table2[[#This Row],[Available No. of Slot]]","v":1200},{"$f":"ROUNDDOWN(Table2[[#This Row],[Max power per output]]/Table2[[#This Row],[Output Voltage]],2)","v":46.51},null,null,null,null,null,null,null,null,null,27.5,{"$f":"IF(S$1=0,0,IF(Configuration!$F$7=\"D\",$R250,Table7[[#This Row],[Vo]]))","v":0},{"$f":"IF(T$1=0,0,IF(Configuration!$F$8=\"D\",$R250,Table7[[#This Row],[Vo]]))","v":0},{"$f":"IF(U$1=0,0,IF(Configuration!$F$9=\"D\",$R250,Table7[[#This Row],[Vo]]))","v":0},{"$f":"IF(V$1=0,0,IF(Configuration!$F$10=\"D\",$R250,Table7[[#This Row],[Vo]]))","v":0},{"$f":"IF(W$1=0,0,IF(Configuration!$F$11=\"D\",$R250,Table7[[#This Row],[Vo]]))","v":0},{"$f":"IF(X$1=0,0,IF(Configuration!$F$12=\"D\",$R250,Table7[[#This Row],[Vo]]))","v":0},{"$f":"IF(Y$1=0,0,IF(Configuration!$F$13=\"D\",$R250,Table7[[#This Row],[Vo]]))","v":0},{"$f":"IF(Z$1=0,0,IF(Configuration!$F$14=\"D\",$R250,Table7[[#This Row],[Vo]]))","v":0},{"$f":"IF(AA$1=0,0,IF(Configuration!$F$15=\"D\",$R250,Table7[[#This Row],[Vo]]))","v":0},{"$f":"IF(AB$1=0,0,IF(Configuration!$F$16=\"D\",$R250,Table7[[#This Row],[Vo]]))","v":0},{"$f":"IF(AC$1=0,0,IF(Configuration!$F$17=\"D\",$R250,Table7[[#This Row],[Vo]]))","v":0}]
[25.9,"NMS-240-24",9.2664092664092674,240,"H",{"$f":"IF(1200/Table2[[#This Row],[Module rated power]]>6,6,ROUNDDOWN(1200/Table2[[#This Row],[Module rated power]],0))","v":5},{"$f":"Table2[[#This Row],[Module rated power]]*Table2[[#This Row],[Available No. of Slot]]","v":1200},{"$f":"ROUNDDOWN(Table2[[#This Row],[Max power per output]]/Table2[[#This Row],[Output Voltage]],2)","v":46.33},null,null,null,null,null,null,null,null,null,27.6,{"$f":"IF(S$1=0,0,IF(Configuration!$F$7=\"D\",$R251,Table7[[#This Row],[Vo]]))","v":0},{"$f":"IF(T$1=0,0,IF(Configuration!$F$8=\"D\",$R251,Table7[[#This Row],[Vo]]))","v":0},{"$f":"IF(U$1=0,0,IF(Configuration!$F$9=\"D\",$R251,Table7[[#This Row],[Vo]]))","v":0},{"$f":"IF(V$1=0,0,IF(Configuration!$F$10=\"D\",$R251,Table7[[#This Row],[Vo]]))","v":0},{"$f":"IF(W$1=0,0,IF(Configuration!$F$11=\"D\",$R251,Table7[[#This Row],[Vo]]))","v":0},{"$f":"IF(X$1=0,0,IF(Configuration!$F$12=\"D\",$R251,Table7[[#This Row],[Vo]]))","v":0},{"$f":"IF(Y$1=0,0,IF(Configuration!$F$13=\"D\",$R251,Table7[[#This Row],[Vo]]))","v":0},{"$f":"IF(Z$1=0,0,IF(Configuration!$F$14=\"D\",$R251,Table7[[#This Row],[Vo]]))","v":0},{"$f":"IF(AA$1=0,0,IF(Configuration!$F$15=\"D\",$R251,Table7[[#This Row],[Vo]]))","v":0},{"$f":"IF(AB$1=0,0,IF(Configuration!$F$16=\"D\",$R251,Table7[[#This Row],[Vo]]))","v":0},{"$f":"IF(AC$1=0,0,IF(Configuration!$F$17=\"D\",$R251,Table7[[#This Row],[Vo]]))","v":0}]
[26,"NMS-240-24",9.2307692307692299,240,"H",{"$f":"IF(1200/Table2[[#This Row],[Module rated power]]>6,6,ROUNDDOWN(1200/Table2[[#This Row],[Module rated power]],0))","v":5},{"$f":"Table2[[#This Row],[Module rated power]]*Table2[[#This Row],[Available No. of Slot]]","v":1200},{"$f":"ROUNDDOWN(Table2[[#This Row],[Max power per output]]/Table2[[#This Row],[Output Voltage]],2)","v":46.15},null,null,null,null,null,null,null,null,null,27.7,{"$f":"IF(S$1=0,0,IF(Configuration!$F$7=\"D\",$R252,Table7[[#This Row],[Vo]]))","v":0},{"$f":"IF(T$1=0,0,IF(Configuration!$F$8=\"D\",$R252,Table7[[#This Row],[Vo]]))","v":0},{"$f":"IF(U$1=0,0,IF(Configuration!$F$9=\"D\",$R252,Table7[[#This Row],[Vo]]))","v":0},{"$f":"IF(V$1=0,0,IF(Configuration!$F$10=\"D\",$R252,Table7[[#This Row],[Vo]]))","v":0},{"$f":"IF(W$1=0,0,IF(Configuration!$F$11=\"D\",$R252,Table7[[#This Row],[Vo]]))","v":0},{"$f":"IF(X$1=0,0,IF(Configuration!$F$12=\"D\",$R252,Table7[[#This Row],[Vo]]))","v":0},{"$f":"IF(Y$1=0,0,IF(Configuration!$F$13=\"D\",$R252,Table7[[#This Row],[Vo]]))","v":0},{"$f":"IF(Z$1=0,0,IF(Configuration!$F$14=\"D\",$R252,Table7[[#This Row],[Vo]]))","v":0},{"$f":"IF(AA$1=0,0,IF(Configuration!$F$15=\"D\",$R252,Table7[[#This Row],[Vo]]))","v":0},{"$f":"IF(AB$1=0,0,IF(Configuration!$F$16=\"D\",$R252,Table7[[#This Row],[Vo]]))","v":0},{"$f":"IF(AC$1=0,0,IF(Configuration!$F$17=\"D\",$R252,Table7[[#This Row],[Vo]]))","v":0}]
[26.1,"NMS-240-24",9.1954022988505741,240,"H",{"$f":"IF(1200/Table2[[#This Row],[Module rated power]]>6,6,ROUNDDOWN(1200/Table2[[#This Row],[Module rated power]],0))","v":5},{"$f":"Table2[[#This Row],[Module rated power]]*Table2[[#This Row],[Available No. of Slot]]","v":1200},{"$f":"ROUNDDOWN(Table2[[#This Row],[Max power per output]]/Table2[[#This Row],[Output Voltage]],2)","v":45.97},null,null,null,null,null,null,null,null,null,27.8,{"$f":"IF(S$1=0,0,IF(Configuration!$F$7=\"D\",$R253,Table7[[#This Row],[Vo]]))","v":0},{"$f":"IF(T$1=0,0,IF(Configuration!$F$8=\"D\",$R253,Table7[[#This Row],[Vo]]))","v":0},{"$f":"IF(U$1=0,0,IF(Configuration!$F$9=\"D\",$R253,Table7[[#This Row],[Vo]]))","v":0},{"$f":"IF(V$1=0,0,IF(Configuration!$F$10=\"D\",$R253,Table7[[#This Row],[Vo]]))","v":0},{"$f":"IF(W$1=0,0,IF(Configuration!$F$11=\"D\",$R253,Table7[[#This Row],[Vo]]))","v":0},{"$f":"IF(X$1=0,0,IF(Configuration!$F$12=\"D\",$R253,Table7[[#This Row],[Vo]]))","v":0},{"$f":"IF(Y$1=0,0,IF(Configuration!$F$13=\"D\",$R253,Table7[[#This Row],[Vo]]))","v":0},{"$f":"IF(Z$1=0,0,IF(Configuration!$F$14=\"D\",$R253,Table7[[#This Row],[Vo]]))","v":0},{"$f":"IF(AA$1=0,0,IF(Configuration!$F$15=\"D\",$R253,Table7[[#This Row],[Vo]]))","v":0},{"$f":"IF(AB$1=0,0,IF(Configuration!$F$16=\"D\",$R253,Table7[[#This Row],[Vo]]))","v":0},{"$f":"IF(AC$1=0,0,IF(Configuration!$F$17=\"D\",$R253,Table7[[#This Row],[Vo]]))","v":0}]
[26.2,"NMS-240-24",9.1603053435114514,240,"H",{"$f":"IF(1200/Table2[[#This Row],[Module rated power]]>6,6,ROUNDDOWN(1200/Table2[[#This Row],[Module rated power]],0))","v":5},{"$f":"Table2[[#This Row],[Module rated power]]*Table2[[#This Row],[Available No. of Slot]]","v":1200},{"$f":"ROUNDDOWN(Table2[[#This Row],[Max power per output]]/Table2[[#This Row],[Output Voltage]],2)","v":45.8},null,null,null,null,null,null,null,null,null,27.9,{"$f":"IF(S$1=0,0,IF(Configuration!$F$7=\"D\",$R254,Table7[[#This Row],[Vo]]))","v":0},{"$f":"IF(T$1=0,0,IF(Configuration!$F$8=\"D\",$R254,Table7[[#This Row],[Vo]]))","v":0},{"$f":"IF(U$1=0,0,IF(Configuration!$F$9=\"D\",$R254,Table7[[#This Row],[Vo]]))","v":0},{"$f":"IF(V$1=0,0,IF(Configuration!$F$10=\"D\",$R254,Table7[[#This Row],[Vo]]))","v":0},{"$f":"IF(W$1=0,0,IF(Configuration!$F$11=\"D\",$R254,Table7[[#This Row],[Vo]]))","v":0},{"$f":"IF(X$1=0,0,IF(Configuration!$F$12=\"D\",$R254,Table7[[#This Row],[Vo]]))","v":0},{"$f":"IF(Y$1=0,0,IF(Configuration!$F$13=\"D\",$R254,Table7[[#This Row],[Vo]]))","v":0},{"$f":"IF(Z$1=0,0,IF(Configuration!$F$14=\"D\",$R254,Table7[[#This Row],[Vo]]))","v":0},{"$f":"IF(AA$1=0,0,IF(Configuration!$F$15=\"D\",$R254,Table7[[#This Row],[Vo]]))","v":0},{"$f":"IF(AB$1=0,0,IF(Configuration!$F$16=\"D\",$R254,Table7[[#This Row],[Vo]]))","v":0},{"$f":"IF(AC$1=0,0,IF(Configuration!$F$17=\"D\",$R254,Table7[[#This Row],[Vo]]))","v":0}]
[26.3,"NMS-240-24",9.1254752851711025,240,"H",{"$f":"IF(1200/Table2[[#This Row],[Module rated power]]>6,6,ROUNDDOWN(1200/Table2[[#This Row],[Module rated power]],0))","v":5},{"$f":"Table2[[#This Row],[Module rated power]]*Table2[[#This Row],[Available No. of Slot]]","v":1200},{"$f":"ROUNDDOWN(Table2[[#This Row],[Max power per output]]/Table2[[#This Row],[Output Voltage]],2)","v":45.62},null,null,null,null,null,null,null,null,null,28,{"$f":"IF(S$1=0,0,IF(Configuration!$F$7=\"D\",$R255,Table7[[#This Row],[Vo]]))","v":0},{"$f":"IF(T$1=0,0,IF(Configuration!$F$8=\"D\",$R255,Table7[[#This Row],[Vo]]))","v":0},{"$f":"IF(U$1=0,0,IF(Configuration!$F$9=\"D\",$R255,Table7[[#This Row],[Vo]]))","v":0},{"$f":"IF(V$1=0,0,IF(Configuration!$F$10=\"D\",$R255,Table7[[#This Row],[Vo]]))","v":0},{"$f":"IF(W$1=0,0,IF(Configuration!$F$11=\"D\",$R255,Table7[[#This Row],[Vo]]))","v":0},{"$f":"IF(X$1=0,0,IF(Configuration!$F$12=\"D\",$R255,Table7[[#This Row],[Vo]]))","v":0},{"$f":"IF(Y$1=0,0,IF(Configuration!$F$13=\"D\",$R255,Table7[[#This Row],[Vo]]))","v":0},{"$f":"IF(Z$1=0,0,IF(Configuration!$F$14=\"D\",$R255,Table7[[#This Row],[Vo]]))","v":0},{"$f":"IF(AA$1=0,0,IF(Configuration!$F$15=\"D\",$R255,Table7[[#This Row],[Vo]]))","v":0},{"$f":"IF(AB$1=0,0,IF(Configuration!$F$16=\"D\",$R255,Table7[[#This Row],[Vo]]))","v":0},{"$f":"IF(AC$1=0,0,IF(Configuration!$F$17=\"D\",$R255,Table7[[#This Row],[Vo]]))","v":0}]
[26.4,"NMS-240-24",9.0909090909090917,240,"H",{"$f":"IF(1200/Table2[[#This Row],[Module rated power]]>6,6,ROUNDDOWN(1200/Table2[[#This Row],[Module rated power]],0))","v":5},{"$f":"Table2[[#This Row],[Module rated power]]*Table2[[#This Row],[Available No. of Slot]]","v":1200},{"$f":"ROUNDDOWN(Table2[[#This Row],[Max power per output]]/Table2[[#This Row],[Output Voltage]],2)","v":45.45},null,null,null,null,null,null,null,null,null,28.1,{"$f":"IF(S$1=0,0,IF(Configuration!$F$7=\"D\",$R256,Table7[[#This Row],[Vo]]))","v":0},{"$f":"IF(T$1=0,0,IF(Configuration!$F$8=\"D\",$R256,Table7[[#This Row],[Vo]]))","v":0},{"$f":"IF(U$1=0,0,IF(Configuration!$F$9=\"D\",$R256,Table7[[#This Row],[Vo]]))","v":0},{"$f":"IF(V$1=0,0,IF(Configuration!$F$10=\"D\",$R256,Table7[[#This Row],[Vo]]))","v":0},{"$f":"IF(W$1=0,0,IF(Configuration!$F$11=\"D\",$R256,Table7[[#This Row],[Vo]]))","v":0},{"$f":"IF(X$1=0,0,IF(Configuration!$F$12=\"D\",$R256,Table7[[#This Row],[Vo]]))","v":0},{"$f":"IF(Y$1=0,0,IF(Configuration!$F$13=\"D\",$R256,Table7[[#This Row],[Vo]]))","v":0},{"$f":"IF(Z$1=0,0,IF(Configuration!$F$14=\"D\",$R256,Table7[[#This Row],[Vo]]))","v":0},{"$f":"IF(AA$1=0,0,IF(Configuration!$F$15=\"D\",$R256,Table7[[#This Row],[Vo]]))","v":0},{"$f":"IF(AB$1=0,0,IF(Configuration!$F$16=\"D\",$R256,Table7[[#This Row],[Vo]]))","v":0},{"$f":"IF(AC$1=0,0,IF(Configuration!$F$17=\"D\",$R256,Table7[[#This Row],[Vo]]))","v":0}]
[26.5,"NMS-240-24",9.0566037735849054,240,"H",{"$f":"IF(1200/Table2[[#This Row],[Module rated power]]>6,6,ROUNDDOWN(1200/Table2[[#This Row],[Module rated power]],0))","v":5},{"$f":"Table2[[#This Row],[Module rated power]]*Table2[[#This Row],[Available No. of Slot]]","v":1200},{"$f":"ROUNDDOWN(Table2[[#This Row],[Max power per output]]/Table2[[#This Row],[Output Voltage]],2)","v":45.28},null,null,null,null,null,null,null,null,null,28.2,{"$f":"IF(S$1=0,0,IF(Configuration!$F$7=\"D\",$R257,Table7[[#This Row],[Vo]]))","v":0},{"$f":"IF(T$1=0,0,IF(Configuration!$F$8=\"D\",$R257,Table7[[#This Row],[Vo]]))","v":0},{"$f":"IF(U$1=0,0,IF(Configuration!$F$9=\"D\",$R257,Table7[[#This Row],[Vo]]))","v":0},{"$f":"IF(V$1=0,0,IF(Configuration!$F$10=\"D\",$R257,Table7[[#This Row],[Vo]]))","v":0},{"$f":"IF(W$1=0,0,IF(Configuration!$F$11=\"D\",$R257,Table7[[#This Row],[Vo]]))","v":0},{"$f":"IF(X$1=0,0,IF(Configuration!$F$12=\"D\",$R257,Table7[[#This Row],[Vo]]))","v":0},{"$f":"IF(Y$1=0,0,IF(Configuration!$F$13=\"D\",$R257,Table7[[#This Row],[Vo]]))","v":0},{"$f":"IF(Z$1=0,0,IF(Configuration!$F$14=\"D\",$R257,Table7[[#This Row],[Vo]]))","v":0},{"$f":"IF(AA$1=0,0,IF(Configuration!$F$15=\"D\",$R257,Table7[[#This Row],[Vo]]))","v":0},{"$f":"IF(AB$1=0,0,IF(Configuration!$F$16=\"D\",$R257,Table7[[#This Row],[Vo]]))","v":0},{"$f":"IF(AC$1=0,0,IF(Configuration!$F$17=\"D\",$R257,Table7[[#This Row],[Vo]]))","v":0}]
[26.6,"NMS-240-24",9.022556390977444,240,"H",{"$f":"IF(1200/Table2[[#This Row],[Module rated power]]>6,6,ROUNDDOWN(1200/Table2[[#This Row],[Module rated power]],0))","v":5},{"$f":"Table2[[#This Row],[Module rated power]]*Table2[[#This Row],[Available No. of Slot]]","v":1200},{"$f":"ROUNDDOWN(Table2[[#This Row],[Max power per output]]/Table2[[#This Row],[Output Voltage]],2)","v":45.11},null,null,null,null,null,null,null,null,null,28.3,{"$f":"IF(S$1=0,0,IF(Configuration!$F$7=\"D\",$R258,Table7[[#This Row],[Vo]]))","v":0},{"$f":"IF(T$1=0,0,IF(Configuration!$F$8=\"D\",$R258,Table7[[#This Row],[Vo]]))","v":0},{"$f":"IF(U$1=0,0,IF(Configuration!$F$9=\"D\",$R258,Table7[[#This Row],[Vo]]))","v":0},{"$f":"IF(V$1=0,0,IF(Configuration!$F$10=\"D\",$R258,Table7[[#This Row],[Vo]]))","v":0},{"$f":"IF(W$1=0,0,IF(Configuration!$F$11=\"D\",$R258,Table7[[#This Row],[Vo]]))","v":0},{"$f":"IF(X$1=0,0,IF(Configuration!$F$12=\"D\",$R258,Table7[[#This Row],[Vo]]))","v":0},{"$f":"IF(Y$1=0,0,IF(Configuration!$F$13=\"D\",$R258,Table7[[#This Row],[Vo]]))","v":0},{"$f":"IF(Z$1=0,0,IF(Configuration!$F$14=\"D\",$R258,Table7[[#This Row],[Vo]]))","v":0},{"$f":"IF(AA$1=0,0,IF(Configuration!$F$15=\"D\",$R258,Table7[[#This Row],[Vo]]))","v":0},{"$f":"IF(AB$1=0,0,IF(Configuration!$F$16=\"D\",$R258,Table7[[#This Row],[Vo]]))","v":0},{"$f":"IF(AC$1=0,0,IF(Configuration!$F$17=\"D\",$R258,Table7[[#This Row],[Vo]]))","v":0}]
[26.7,"NMS-240-24",8.9887640449438209,240,"H",{"$f":"IF(1200/Table2[[#This Row],[Module rated power]]>6,6,ROUNDDOWN(1200/Table2[[#This Row],[Module rated power]],0))","v":5},{"$f":"Table2[[#This Row],[Module rated power]]*Table2[[#This Row],[Available No. of Slot]]","v":1200},{"$f":"ROUNDDOWN(Table2[[#This Row],[Max power per output]]/Table2[[#This Row],[Output Voltage]],2)","v":44.94},null,null,null,null,null,null,null,null,null,28.4,{"$f":"IF(S$1=0,0,IF(Configuration!$F$7=\"D\",$R259,Table7[[#This Row],[Vo]]))","v":0},{"$f":"IF(T$1=0,0,IF(Configuration!$F$8=\"D\",$R259,Table7[[#This Row],[Vo]]))","v":0},{"$f":"IF(U$1=0,0,IF(Configuration!$F$9=\"D\",$R259,Table7[[#This Row],[Vo]]))","v":0},{"$f":"IF(V$1=0,0,IF(Configuration!$F$10=\"D\",$R259,Table7[[#This Row],[Vo]]))","v":0},{"$f":"IF(W$1=0,0,IF(Configuration!$F$11=\"D\",$R259,Table7[[#This Row],[Vo]]))","v":0},{"$f":"IF(X$1=0,0,IF(Configuration!$F$12=\"D\",$R259,Table7[[#This Row],[Vo]]))","v":0},{"$f":"IF(Y$1=0,0,IF(Configuration!$F$13=\"D\",$R259,Table7[[#This Row],[Vo]]))","v":0},{"$f":"IF(Z$1=0,0,IF(Configuration!$F$14=\"D\",$R259,Table7[[#This Row],[Vo]]))","v":0},{"$f":"IF(AA$1=0,0,IF(Configuration!$F$15=\"D\",$R259,Table7[[#This Row],[Vo]]))","v":0},{"$f":"IF(AB$1=0,0,IF(Configuration!$F$16=\"D\",$R259,Table7[[#This Row],[Vo]]))","v":0},{"$f":"IF(AC$1=0,0,IF(Configuration!$F$17=\"D\",$R259,Table7[[#This Row],[Vo]]))","v":0}]
[26.8,"NMS-240-24",8.9552238805970141,240,"H",{"$f":"IF(1200/Table2[[#This Row],[Module rated power]]>6,6,ROUNDDOWN(1200/Table2[[#This Row],[Module rated power]],0))","v":5},{"$f":"Table2[[#This Row],[Module rated power]]*Table2[[#This Row],[Available No. of Slot]]","v":1200},{"$f":"ROUNDDOWN(Table2[[#This Row],[Max power per output]]/Table2[[#This Row],[Output Voltage]],2)","v":44.77},null,null,null,null,null,null,null,null,null,28.5,{"$f":"IF(S$1=0,0,IF(Configuration!$F$7=\"D\",$R260,Table7[[#This Row],[Vo]]))","v":0},{"$f":"IF(T$1=0,0,IF(Configuration!$F$8=\"D\",$R260,Table7[[#This Row],[Vo]]))","v":0},{"$f":"IF(U$1=0,0,IF(Configuration!$F$9=\"D\",$R260,Table7[[#This Row],[Vo]]))","v":0},{"$f":"IF(V$1=0,0,IF(Configuration!$F$10=\"D\",$R260,Table7[[#This Row],[Vo]]))","v":0},{"$f":"IF(W$1=0,0,IF(Configuration!$F$11=\"D\",$R260,Table7[[#This Row],[Vo]]))","v":0},{"$f":"IF(X$1=0,0,IF(Configuration!$F$12=\"D\",$R260,Table7[[#This Row],[Vo]]))","v":0},{"$f":"IF(Y$1=0,0,IF(Configuration!$F$13=\"D\",$R260,Table7[[#This Row],[Vo]]))","v":0},{"$f":"IF(Z$1=0,0,IF(Configuration!$F$14=\"D\",$R260,Table7[[#This Row],[Vo]]))","v":0},{"$f":"IF(AA$1=0,0,IF(Configuration!$F$15=\"D\",$R260,Table7[[#This Row],[Vo]]))","v":0},{"$f":"IF(AB$1=0,0,IF(Configuration!$F$16=\"D\",$R260,Table7[[#This Row],[Vo]]))","v":0},{"$f":"IF(AC$1=0,0,IF(Configuration!$F$17=\"D\",$R260,Table7[[#This Row],[Vo]]))","v":0}]
[26.9,"NMS-240-24",8.921933085501859,240,"H",{"$f":"IF(1200/Table2[[#This Row],[Module rated power]]>6,6,ROUNDDOWN(1200/Table2[[#This Row],[Module rated power]],0))","v":5},{"$f":"Table2[[#This Row],[Module rated power]]*Table2[[#This Row],[Available No. of Slot]]","v":1200},{"$f":"ROUNDDOWN(Table2[[#This Row],[Max power per output]]/Table2[[#This Row],[Output Voltage]],2)","v":44.6},null,null,null,null,null,null,null,null,null,28.6,{"$f":"IF(S$1=0,0,IF(Configuration!$F$7=\"D\",$R261,Table7[[#This Row],[Vo]]))","v":0},{"$f":"IF(T$1=0,0,IF(Configuration!$F$8=\"D\",$R261,Table7[[#This Row],[Vo]]))","v":0},{"$f":"IF(U$1=0,0,IF(Configuration!$F$9=\"D\",$R261,Table7[[#This Row],[Vo]]))","v":0},{"$f":"IF(V$1=0,0,IF(Configuration!$F$10=\"D\",$R261,Table7[[#This Row],[Vo]]))","v":0},{"$f":"IF(W$1=0,0,IF(Configuration!$F$11=\"D\",$R261,Table7[[#This Row],[Vo]]))","v":0},{"$f":"IF(X$1=0,0,IF(Configuration!$F$12=\"D\",$R261,Table7[[#This Row],[Vo]]))","v":0},{"$f":"IF(Y$1=0,0,IF(Configuration!$F$13=\"D\",$R261,Table7[[#This Row],[Vo]]))","v":0},{"$f":"IF(Z$1=0,0,IF(Configuration!$F$14=\"D\",$R261,Table7[[#This Row],[Vo]]))","v":0},{"$f":"IF(AA$1=0,0,IF(Configuration!$F$15=\"D\",$R261,Table7[[#This Row],[Vo]]))","v":0},{"$f":"IF(AB$1=0,0,IF(Configuration!$F$16=\"D\",$R261,Table7[[#This Row],[Vo]]))","v":0},{"$f":"IF(AC$1=0,0,IF(Configuration!$F$17=\"D\",$R261,Table7[[#This Row],[Vo]]))","v":0}]
[27,"NMS-240-24",8.8888888888888893,240,"H",{"$f":"IF(1200/Table2[[#This Row],[Module rated power]]>6,6,ROUNDDOWN(1200/Table2[[#This Row],[Module rated power]],0))","v":5},{"$f":"Table2[[#This Row],[Module rated power]]*Table2[[#This Row],[Available No. of Slot]]","v":1200},{"$f":"ROUNDDOWN(Table2[[#This Row],[Max power per output]]/Table2[[#This Row],[Output Voltage]],2)","v":44.44},null,null,null,null,null,null,null,null,null,28.7,{"$f":"IF(S$1=0,0,IF(Configuration!$F$7=\"D\",$R262,Table7[[#This Row],[Vo]]))","v":0},{"$f":"IF(T$1=0,0,IF(Configuration!$F$8=\"D\",$R262,Table7[[#This Row],[Vo]]))","v":0},{"$f":"IF(U$1=0,0,IF(Configuration!$F$9=\"D\",$R262,Table7[[#This Row],[Vo]]))","v":0},{"$f":"IF(V$1=0,0,IF(Configuration!$F$10=\"D\",$R262,Table7[[#This Row],[Vo]]))","v":0},{"$f":"IF(W$1=0,0,IF(Configuration!$F$11=\"D\",$R262,Table7[[#This Row],[Vo]]))","v":0},{"$f":"IF(X$1=0,0,IF(Configuration!$F$12=\"D\",$R262,Table7[[#This Row],[Vo]]))","v":0},{"$f":"IF(Y$1=0,0,IF(Configuration!$F$13=\"D\",$R262,Table7[[#This Row],[Vo]]))","v":0},{"$f":"IF(Z$1=0,0,IF(Configuration!$F$14=\"D\",$R262,Table7[[#This Row],[Vo]]))","v":0},{"$f":"IF(AA$1=0,0,IF(Configuration!$F$15=\"D\",$R262,Table7[[#This Row],[Vo]]))","v":0},{"$f":"IF(AB$1=0,0,IF(Configuration!$F$16=\"D\",$R262,Table7[[#This Row],[Vo]]))","v":0},{"$f":"IF(AC$1=0,0,IF(Configuration!$F$17=\"D\",$R262,Table7[[#This Row],[Vo]]))","v":0}]
[27.1,"NMS-240-24",8.8560885608856079,240,"H",{"$f":"IF(1200/Table2[[#This Row],[Module rated power]]>6,6,ROUNDDOWN(1200/Table2[[#This Row],[Module rated power]],0))","v":5},{"$f":"Table2[[#This Row],[Module rated power]]*Table2[[#This Row],[Available No. of Slot]]","v":1200},{"$f":"ROUNDDOWN(Table2[[#This Row],[Max power per output]]/Table2[[#This Row],[Output Voltage]],2)","v":44.28},null,null,null,null,null,null,null,null,null,{"$f":"ROUNDUP(R261+0.1,1)","v":28.8},{"$f":"IF(S$1=0,0,IF(Configuration!$F$7=\"D\",$R263,Table7[[#This Row],[Vo]]))","v":0},{"$f":"IF(T$1=0,0,IF(Configuration!$F$8=\"D\",$R263,Table7[[#This Row],[Vo]]))","v":0},{"$f":"IF(U$1=0,0,IF(Configuration!$F$9=\"D\",$R263,Table7[[#This Row],[Vo]]))","v":0},{"$f":"IF(V$1=0,0,IF(Configuration!$F$10=\"D\",$R263,Table7[[#This Row],[Vo]]))","v":0},{"$f":"IF(W$1=0,0,IF(Configuration!$F$11=\"D\",$R263,Table7[[#This Row],[Vo]]))","v":0},{"$f":"IF(X$1=0,0,IF(Configuration!$F$12=\"D\",$R263,Table7[[#This Row],[Vo]]))","v":0},{"$f":"IF(Y$1=0,0,IF(Configuration!$F$13=\"D\",$R263,Table7[[#This Row],[Vo]]))","v":0},{"$f":"IF(Z$1=0,0,IF(Configuration!$F$14=\"D\",$R263,Table7[[#This Row],[Vo]]))","v":0},{"$f":"IF(AA$1=0,0,IF(Configuration!$F$15=\"D\",$R263,Table7[[#This Row],[Vo]]))","v":0},{"$f":"IF(AB$1=0,0,IF(Configuration!$F$16=\"D\",$R263,Table7[[#This Row],[Vo]]))","v":0},{"$f":"IF(AC$1=0,0,IF(Configuration!$F$17=\"D\",$R263,Table7[[#This Row],[Vo]]))","v":0}]
[27.2,"NMS-240-24",8.8235294117647065,240,"H",{"$f":"IF(1200/Table2[[#This Row],[Module rated power]]>6,6,ROUNDDOWN(1200/Table2[[#This Row],[Module rated power]],0))","v":5},{"$f":"Table2[[#This Row],[Module rated power]]*Table2[[#This Row],[Available No. of Slot]]","v":1200},{"$f":"ROUNDDOWN(Table2[[#This Row],[Max power per output]]/Table2[[#This Row],[Output Voltage]],2)","v":44.11},null,null,null,null,null,null,null,null,null,28.9,{"$f":"IF(S$1=0,0,IF(Configuration!$F$7=\"D\",$R264,Table7[[#This Row],[Vo]]))","v":0},{"$f":"IF(T$1=0,0,IF(Configuration!$F$8=\"D\",$R264,Table7[[#This Row],[Vo]]))","v":0},{"$f":"IF(U$1=0,0,IF(Configuration!$F$9=\"D\",$R264,Table7[[#This Row],[Vo]]))","v":0},{"$f":"IF(V$1=0,0,IF(Configuration!$F$10=\"D\",$R264,Table7[[#This Row],[Vo]]))","v":0},{"$f":"IF(W$1=0,0,IF(Configuration!$F$11=\"D\",$R264,Table7[[#This Row],[Vo]]))","v":0},{"$f":"IF(X$1=0,0,IF(Configuration!$F$12=\"D\",$R264,Table7[[#This Row],[Vo]]))","v":0},{"$f":"IF(Y$1=0,0,IF(Configuration!$F$13=\"D\",$R264,Table7[[#This Row],[Vo]]))","v":0},{"$f":"IF(Z$1=0,0,IF(Configuration!$F$14=\"D\",$R264,Table7[[#This Row],[Vo]]))","v":0},{"$f":"IF(AA$1=0,0,IF(Configuration!$F$15=\"D\",$R264,Table7[[#This Row],[Vo]]))","v":0},{"$f":"IF(AB$1=0,0,IF(Configuration!$F$16=\"D\",$R264,Table7[[#This Row],[Vo]]))","v":0},{"$f":"IF(AC$1=0,0,IF(Configuration!$F$17=\"D\",$R264,Table7[[#This Row],[Vo]]))","v":0}]
[27.3,"NMS-240-24",{"$f":"D264/A264","v":8.7912087912087902},240,"H",{"$f":"IF(1200/Table2[[#This Row],[Module rated power]]>6,6,ROUNDDOWN(1200/Table2[[#This Row],[Module rated power]],0))","v":5},{"$f":"Table2[[#This Row],[Module rated power]]*Table2[[#This Row],[Available No. of Slot]]","v":1200},{"$f":"ROUNDDOWN(Table2[[#This Row],[Max power per output]]/Table2[[#This Row],[Output Voltage]],2)","v":43.95},null,null,null,null,null,null,null,null,null,29,{"$f":"IF(S$1=0,0,IF(Configuration!$F$7=\"D\",$R265,Table7[[#This Row],[Vo]]))","v":0},{"$f":"IF(T$1=0,0,IF(Configuration!$F$8=\"D\",$R265,Table7[[#This Row],[Vo]]))","v":0},{"$f":"IF(U$1=0,0,IF(Configuration!$F$9=\"D\",$R265,Table7[[#This Row],[Vo]]))","v":0},{"$f":"IF(V$1=0,0,IF(Configuration!$F$10=\"D\",$R265,Table7[[#This Row],[Vo]]))","v":0},{"$f":"IF(W$1=0,0,IF(Configuration!$F$11=\"D\",$R265,Table7[[#This Row],[Vo]]))","v":0},{"$f":"IF(X$1=0,0,IF(Configuration!$F$12=\"D\",$R265,Table7[[#This Row],[Vo]]))","v":0},{"$f":"IF(Y$1=0,0,IF(Configuration!$F$13=\"D\",$R265,Table7[[#This Row],[Vo]]))","v":0},{"$f":"IF(Z$1=0,0,IF(Configuration!$F$14=\"D\",$R265,Table7[[#This Row],[Vo]]))","v":0},{"$f":"IF(AA$1=0,0,IF(Configuration!$F$15=\"D\",$R265,Table7[[#This Row],[Vo]]))","v":0},{"$f":"IF(AB$1=0,0,IF(Configuration!$F$16=\"D\",$R265,Table7[[#This Row],[Vo]]))","v":0},{"$f":"IF(AC$1=0,0,IF(Configuration!$F$17=\"D\",$R265,Table7[[#This Row],[Vo]]))","v":0}]
[27.4,"NMS-240-24",8.7591240875912408,240,"H",{"$f":"IF(1200/Table2[[#This Row],[Module rated power]]>6,6,ROUNDDOWN(1200/Table2[[#This Row],[Module rated power]],0))","v":5},{"$f":"Table2[[#This Row],[Module rated power]]*Table2[[#This Row],[Available No. of Slot]]","v":1200},{"$f":"ROUNDDOWN(Table2[[#This Row],[Max power per output]]/Table2[[#This Row],[Output Voltage]],2)","v":43.79},null,null,null,null,null,null,null,null,null,29.1,{"$f":"IF(S$1=0,0,IF(Configuration!$F$7=\"D\",$R266,Table7[[#This Row],[Vo]]))","v":0},{"$f":"IF(T$1=0,0,IF(Configuration!$F$8=\"D\",$R266,Table7[[#This Row],[Vo]]))","v":0},{"$f":"IF(U$1=0,0,IF(Configuration!$F$9=\"D\",$R266,Table7[[#This Row],[Vo]]))","v":0},{"$f":"IF(V$1=0,0,IF(Configuration!$F$10=\"D\",$R266,Table7[[#This Row],[Vo]]))","v":0},{"$f":"IF(W$1=0,0,IF(Configuration!$F$11=\"D\",$R266,Table7[[#This Row],[Vo]]))","v":0},{"$f":"IF(X$1=0,0,IF(Configuration!$F$12=\"D\",$R266,Table7[[#This Row],[Vo]]))","v":0},{"$f":"IF(Y$1=0,0,IF(Configuration!$F$13=\"D\",$R266,Table7[[#This Row],[Vo]]))","v":0},{"$f":"IF(Z$1=0,0,IF(Configuration!$F$14=\"D\",$R266,Table7[[#This Row],[Vo]]))","v":0},{"$f":"IF(AA$1=0,0,IF(Configuration!$F$15=\"D\",$R266,Table7[[#This Row],[Vo]]))","v":0},{"$f":"IF(AB$1=0,0,IF(Configuration!$F$16=\"D\",$R266,Table7[[#This Row],[Vo]]))","v":0},{"$f":"IF(AC$1=0,0,IF(Configuration!$F$17=\"D\",$R266,Table7[[#This Row],[Vo]]))","v":0}]
[27.5,"NMS-240-24",8.7272727272727266,240,"H",{"$f":"IF(1200/Table2[[#This Row],[Module rated power]]>6,6,ROUNDDOWN(1200/Table2[[#This Row],[Module rated power]],0))","v":5},{"$f":"Table2[[#This Row],[Module rated power]]*Table2[[#This Row],[Available No. of Slot]]","v":1200},{"$f":"ROUNDDOWN(Table2[[#This Row],[Max power per output]]/Table2[[#This Row],[Output Voltage]],2)","v":43.63},null,null,null,null,null,null,null,null,null,29.2,{"$f":"IF(S$1=0,0,IF(Configuration!$F$7=\"D\",$R267,Table7[[#This Row],[Vo]]))","v":0},{"$f":"IF(T$1=0,0,IF(Configuration!$F$8=\"D\",$R267,Table7[[#This Row],[Vo]]))","v":0},{"$f":"IF(U$1=0,0,IF(Configuration!$F$9=\"D\",$R267,Table7[[#This Row],[Vo]]))","v":0},{"$f":"IF(V$1=0,0,IF(Configuration!$F$10=\"D\",$R267,Table7[[#This Row],[Vo]]))","v":0},{"$f":"IF(W$1=0,0,IF(Configuration!$F$11=\"D\",$R267,Table7[[#This Row],[Vo]]))","v":0},{"$f":"IF(X$1=0,0,IF(Configuration!$F$12=\"D\",$R267,Table7[[#This Row],[Vo]]))","v":0},{"$f":"IF(Y$1=0,0,IF(Configuration!$F$13=\"D\",$R267,Table7[[#This Row],[Vo]]))","v":0},{"$f":"IF(Z$1=0,0,IF(Configuration!$F$14=\"D\",$R267,Table7[[#This Row],[Vo]]))","v":0},{"$f":"IF(AA$1=0,0,IF(Configuration!$F$15=\"D\",$R267,Table7[[#This Row],[Vo]]))","v":0},{"$f":"IF(AB$1=0,0,IF(Configuration!$F$16=\"D\",$R267,Table7[[#This Row],[Vo]]))","v":0},{"$f":"IF(AC$1=0,0,IF(Configuration!$F$17=\"D\",$R267,Table7[[#This Row],[Vo]]))","v":0}]
[27.6,"NMS-240-24",8.695652173913043,240,"H",{"$f":"IF(1200/Table2[[#This Row],[Module rated power]]>6,6,ROUNDDOWN(1200/Table2[[#This Row],[Module rated power]],0))","v":5},{"$f":"Table2[[#This Row],[Module rated power]]*Table2[[#This Row],[Available No. of Slot]]","v":1200},{"$f":"ROUNDDOWN(Table2[[#This Row],[Max power per output]]/Table2[[#This Row],[Output Voltage]],2)","v":43.47},null,null,null,null,null,null,null,null,null,29.3,{"$f":"IF(S$1=0,0,IF(Configuration!$F$7=\"D\",$R268,Table7[[#This Row],[Vo]]))","v":0},{"$f":"IF(T$1=0,0,IF(Configuration!$F$8=\"D\",$R268,Table7[[#This Row],[Vo]]))","v":0},{"$f":"IF(U$1=0,0,IF(Configuration!$F$9=\"D\",$R268,Table7[[#This Row],[Vo]]))","v":0},{"$f":"IF(V$1=0,0,IF(Configuration!$F$10=\"D\",$R268,Table7[[#This Row],[Vo]]))","v":0},{"$f":"IF(W$1=0,0,IF(Configuration!$F$11=\"D\",$R268,Table7[[#This Row],[Vo]]))","v":0},{"$f":"IF(X$1=0,0,IF(Configuration!$F$12=\"D\",$R268,Table7[[#This Row],[Vo]]))","v":0},{"$f":"IF(Y$1=0,0,IF(Configuration!$F$13=\"D\",$R268,Table7[[#This Row],[Vo]]))","v":0},{"$f":"IF(Z$1=0,0,IF(Configuration!$F$14=\"D\",$R268,Table7[[#This Row],[Vo]]))","v":0},{"$f":"IF(AA$1=0,0,IF(Configuration!$F$15=\"D\",$R268,Table7[[#This Row],[Vo]]))","v":0},{"$f":"IF(AB$1=0,0,IF(Configuration!$F$16=\"D\",$R268,Table7[[#This Row],[Vo]]))","v":0},{"$f":"IF(AC$1=0,0,IF(Configuration!$F$17=\"D\",$R268,Table7[[#This Row],[Vo]]))","v":0}]
[27.7,"NMS-240-24",8.6642599277978345,240,"H",{"$f":"IF(1200/Table2[[#This Row],[Module rated power]]>6,6,ROUNDDOWN(1200/Table2[[#This Row],[Module rated power]],0))","v":5},{"$f":"Table2[[#This Row],[Module rated power]]*Table2[[#This Row],[Available No. of Slot]]","v":1200},{"$f":"ROUNDDOWN(Table2[[#This Row],[Max power per output]]/Table2[[#This Row],[Output Voltage]],2)","v":43.32},null,null,null,null,null,null,null,null,null,29.4,{"$f":"IF(S$1=0,0,IF(Configuration!$F$7=\"D\",$R269,Table7[[#This Row],[Vo]]))","v":0},{"$f":"IF(T$1=0,0,IF(Configuration!$F$8=\"D\",$R269,Table7[[#This Row],[Vo]]))","v":0},{"$f":"IF(U$1=0,0,IF(Configuration!$F$9=\"D\",$R269,Table7[[#This Row],[Vo]]))","v":0},{"$f":"IF(V$1=0,0,IF(Configuration!$F$10=\"D\",$R269,Table7[[#This Row],[Vo]]))","v":0},{"$f":"IF(W$1=0,0,IF(Configuration!$F$11=\"D\",$R269,Table7[[#This Row],[Vo]]))","v":0},{"$f":"IF(X$1=0,0,IF(Configuration!$F$12=\"D\",$R269,Table7[[#This Row],[Vo]]))","v":0},{"$f":"IF(Y$1=0,0,IF(Configuration!$F$13=\"D\",$R269,Table7[[#This Row],[Vo]]))","v":0},{"$f":"IF(Z$1=0,0,IF(Configuration!$F$14=\"D\",$R269,Table7[[#This Row],[Vo]]))","v":0},{"$f":"IF(AA$1=0,0,IF(Configuration!$F$15=\"D\",$R269,Table7[[#This Row],[Vo]]))","v":0},{"$f":"IF(AB$1=0,0,IF(Configuration!$F$16=\"D\",$R269,Table7[[#This Row],[Vo]]))","v":0},{"$f":"IF(AC$1=0,0,IF(Configuration!$F$17=\"D\",$R269,Table7[[#This Row],[Vo]]))","v":0}]
[27.8,"NMS-240-24",8.6330935251798557,240,"H",{"$f":"IF(1200/Table2[[#This Row],[Module rated power]]>6,6,ROUNDDOWN(1200/Table2[[#This Row],[Module rated power]],0))","v":5},{"$f":"Table2[[#This Row],[Module rated power]]*Table2[[#This Row],[Available No. of Slot]]","v":1200},{"$f":"ROUNDDOWN(Table2[[#This Row],[Max power per output]]/Table2[[#This Row],[Output Voltage]],2)","v":43.16},null,null,null,null,null,null,null,null,null,29.5,{"$f":"IF(S$1=0,0,IF(Configuration!$F$7=\"D\",$R270,Table7[[#This Row],[Vo]]))","v":0},{"$f":"IF(T$1=0,0,IF(Configuration!$F$8=\"D\",$R270,Table7[[#This Row],[Vo]]))","v":0},{"$f":"IF(U$1=0,0,IF(Configuration!$F$9=\"D\",$R270,Table7[[#This Row],[Vo]]))","v":0},{"$f":"IF(V$1=0,0,IF(Configuration!$F$10=\"D\",$R270,Table7[[#This Row],[Vo]]))","v":0},{"$f":"IF(W$1=0,0,IF(Configuration!$F$11=\"D\",$R270,Table7[[#This Row],[Vo]]))","v":0},{"$f":"IF(X$1=0,0,IF(Configuration!$F$12=\"D\",$R270,Table7[[#This Row],[Vo]]))","v":0},{"$f":"IF(Y$1=0,0,IF(Configuration!$F$13=\"D\",$R270,Table7[[#This Row],[Vo]]))","v":0},{"$f":"IF(Z$1=0,0,IF(Configuration!$F$14=\"D\",$R270,Table7[[#This Row],[Vo]]))","v":0},{"$f":"IF(AA$1=0,0,IF(Configuration!$F$15=\"D\",$R270,Table7[[#This Row],[Vo]]))","v":0},{"$f":"IF(AB$1=0,0,IF(Configuration!$F$16=\"D\",$R270,Table7[[#This Row],[Vo]]))","v":0},{"$f":"IF(AC$1=0,0,IF(Configuration!$F$17=\"D\",$R270,Table7[[#This Row],[Vo]]))","v":0}]
[27.9,"NMS-240-24",8.6021505376344098,240,"H",{"$f":"IF(1200/Table2[[#This Row],[Module rated power]]>6,6,ROUNDDOWN(1200/Table2[[#This Row],[Module rated power]],0))","v":5},{"$f":"Table2[[#This Row],[Module rated power]]*Table2[[#This Row],[Available No. of Slot]]","v":1200},{"$f":"ROUNDDOWN(Table2[[#This Row],[Max power per output]]/Table2[[#This Row],[Output Voltage]],2)","v":43.01},null,null,null,null,null,null,null,null,null,29.6,{"$f":"IF(S$1=0,0,IF(Configuration!$F$7=\"D\",$R271,Table7[[#This Row],[Vo]]))","v":0},{"$f":"IF(T$1=0,0,IF(Configuration!$F$8=\"D\",$R271,Table7[[#This Row],[Vo]]))","v":0},{"$f":"IF(U$1=0,0,IF(Configuration!$F$9=\"D\",$R271,Table7[[#This Row],[Vo]]))","v":0},{"$f":"IF(V$1=0,0,IF(Configuration!$F$10=\"D\",$R271,Table7[[#This Row],[Vo]]))","v":0},{"$f":"IF(W$1=0,0,IF(Configuration!$F$11=\"D\",$R271,Table7[[#This Row],[Vo]]))","v":0},{"$f":"IF(X$1=0,0,IF(Configuration!$F$12=\"D\",$R271,Table7[[#This Row],[Vo]]))","v":0},{"$f":"IF(Y$1=0,0,IF(Configuration!$F$13=\"D\",$R271,Table7[[#This Row],[Vo]]))","v":0},{"$f":"IF(Z$1=0,0,IF(Configuration!$F$14=\"D\",$R271,Table7[[#This Row],[Vo]]))","v":0},{"$f":"IF(AA$1=0,0,IF(Configuration!$F$15=\"D\",$R271,Table7[[#This Row],[Vo]]))","v":0},{"$f":"IF(AB$1=0,0,IF(Configuration!$F$16=\"D\",$R271,Table7[[#This Row],[Vo]]))","v":0},{"$f":"IF(AC$1=0,0,IF(Configuration!$F$17=\"D\",$R271,Table7[[#This Row],[Vo]]))","v":0}]
[28,"NMS-240-24",8.5714285714285712,240,"H",{"$f":"IF(1200/Table2[[#This Row],[Module rated power]]>6,6,ROUNDDOWN(1200/Table2[[#This Row],[Module rated power]],0))","v":5},{"$f":"Table2[[#This Row],[Module rated power]]*Table2[[#This Row],[Available No. of Slot]]","v":1200},{"$f":"ROUNDDOWN(Table2[[#This Row],[Max power per output]]/Table2[[#This Row],[Output Voltage]],2)","v":42.85},null,null,null,null,null,null,null,null,null,29.7,{"$f":"IF(S$1=0,0,IF(Configuration!$F$7=\"D\",$R272,Table7[[#This Row],[Vo]]))","v":0},{"$f":"IF(T$1=0,0,IF(Configuration!$F$8=\"D\",$R272,Table7[[#This Row],[Vo]]))","v":0},{"$f":"IF(U$1=0,0,IF(Configuration!$F$9=\"D\",$R272,Table7[[#This Row],[Vo]]))","v":0},{"$f":"IF(V$1=0,0,IF(Configuration!$F$10=\"D\",$R272,Table7[[#This Row],[Vo]]))","v":0},{"$f":"IF(W$1=0,0,IF(Configuration!$F$11=\"D\",$R272,Table7[[#This Row],[Vo]]))","v":0},{"$f":"IF(X$1=0,0,IF(Configuration!$F$12=\"D\",$R272,Table7[[#This Row],[Vo]]))","v":0},{"$f":"IF(Y$1=0,0,IF(Configuration!$F$13=\"D\",$R272,Table7[[#This Row],[Vo]]))","v":0},{"$f":"IF(Z$1=0,0,IF(Configuration!$F$14=\"D\",$R272,Table7[[#This Row],[Vo]]))","v":0},{"$f":"IF(AA$1=0,0,IF(Configuration!$F$15=\"D\",$R272,Table7[[#This Row],[Vo]]))","v":0},{"$f":"IF(AB$1=0,0,IF(Configuration!$F$16=\"D\",$R272,Table7[[#This Row],[Vo]]))","v":0},{"$f":"IF(AC$1=0,0,IF(Configuration!$F$17=\"D\",$R272,Table7[[#This Row],[Vo]]))","v":0}]
[28.1,"NMS-240-24",8.5409252669039137,240,"H",{"$f":"IF(1200/Table2[[#This Row],[Module rated power]]>6,6,ROUNDDOWN(1200/Table2[[#This Row],[Module rated power]],0))","v":5},{"$f":"Table2[[#This Row],[Module rated power]]*Table2[[#This Row],[Available No. of Slot]]","v":1200},{"$f":"ROUNDDOWN(Table2[[#This Row],[Max power per output]]/Table2[[#This Row],[Output Voltage]],2)","v":42.7},null,null,null,null,null,null,null,null,null,29.8,{"$f":"IF(S$1=0,0,IF(Configuration!$F$7=\"D\",$R273,Table7[[#This Row],[Vo]]))","v":0},{"$f":"IF(T$1=0,0,IF(Configuration!$F$8=\"D\",$R273,Table7[[#This Row],[Vo]]))","v":0},{"$f":"IF(U$1=0,0,IF(Configuration!$F$9=\"D\",$R273,Table7[[#This Row],[Vo]]))","v":0},{"$f":"IF(V$1=0,0,IF(Configuration!$F$10=\"D\",$R273,Table7[[#This Row],[Vo]]))","v":0},{"$f":"IF(W$1=0,0,IF(Configuration!$F$11=\"D\",$R273,Table7[[#This Row],[Vo]]))","v":0},{"$f":"IF(X$1=0,0,IF(Configuration!$F$12=\"D\",$R273,Table7[[#This Row],[Vo]]))","v":0},{"$f":"IF(Y$1=0,0,IF(Configuration!$F$13=\"D\",$R273,Table7[[#This Row],[Vo]]))","v":0},{"$f":"IF(Z$1=0,0,IF(Configuration!$F$14=\"D\",$R273,Table7[[#This Row],[Vo]]))","v":0},{"$f":"IF(AA$1=0,0,IF(Configuration!$F$15=\"D\",$R273,Table7[[#This Row],[Vo]]))","v":0},{"$f":"IF(AB$1=0,0,IF(Configuration!$F$16=\"D\",$R273,Table7[[#This Row],[Vo]]))","v":0},{"$f":"IF(AC$1=0,0,IF(Configuration!$F$17=\"D\",$R273,Table7[[#This Row],[Vo]]))","v":0}]
[28.2,"NMS-240-24",8.5106382978723403,240,"H",{"$f":"IF(1200/Table2[[#This Row],[Module rated power]]>6,6,ROUNDDOWN(1200/Table2[[#This Row],[Module rated power]],0))","v":5},{"$f":"Table2[[#This Row],[Module rated power]]*Table2[[#This Row],[Available No. of Slot]]","v":1200},{"$f":"ROUNDDOWN(Table2[[#This Row],[Max power per output]]/Table2[[#This Row],[Output Voltage]],2)","v":42.55},null,null,null,null,null,null,null,null,null,29.9,{"$f":"IF(S$1=0,0,IF(Configuration!$F$7=\"D\",$R274,Table7[[#This Row],[Vo]]))","v":0},{"$f":"IF(T$1=0,0,IF(Configuration!$F$8=\"D\",$R274,Table7[[#This Row],[Vo]]))","v":0},{"$f":"IF(U$1=0,0,IF(Configuration!$F$9=\"D\",$R274,Table7[[#This Row],[Vo]]))","v":0},{"$f":"IF(V$1=0,0,IF(Configuration!$F$10=\"D\",$R274,Table7[[#This Row],[Vo]]))","v":0},{"$f":"IF(W$1=0,0,IF(Configuration!$F$11=\"D\",$R274,Table7[[#This Row],[Vo]]))","v":0},{"$f":"IF(X$1=0,0,IF(Configuration!$F$12=\"D\",$R274,Table7[[#This Row],[Vo]]))","v":0},{"$f":"IF(Y$1=0,0,IF(Configuration!$F$13=\"D\",$R274,Table7[[#This Row],[Vo]]))","v":0},{"$f":"IF(Z$1=0,0,IF(Configuration!$F$14=\"D\",$R274,Table7[[#This Row],[Vo]]))","v":0},{"$f":"IF(AA$1=0,0,IF(Configuration!$F$15=\"D\",$R274,Table7[[#This Row],[Vo]]))","v":0},{"$f":"IF(AB$1=0,0,IF(Configuration!$F$16=\"D\",$R274,Table7[[#This Row],[Vo]]))","v":0},{"$f":"IF(AC$1=0,0,IF(Configuration!$F$17=\"D\",$R274,Table7[[#This Row],[Vo]]))","v":0}]
[28.3,"NMS-240-24",8.4805653710247348,240,"H",{"$f":"IF(1200/Table2[[#This Row],[Module rated power]]>6,6,ROUNDDOWN(1200/Table2[[#This Row],[Module rated power]],0))","v":5},{"$f":"Table2[[#This Row],[Module rated power]]*Table2[[#This Row],[Available No. of Slot]]","v":1200},{"$f":"ROUNDDOWN(Table2[[#This Row],[Max power per output]]/Table2[[#This Row],[Output Voltage]],2)","v":42.4},null,null,null,null,null,null,null,null,null,30,{"$f":"IF(S$1=0,0,IF(Configuration!$F$7=\"D\",$R$274,Table7[[#This Row],[Vo]]))","v":0},{"$f":"IF(T$1=0,0,IF(Configuration!$F$8=\"D\",$R$274,Table7[[#This Row],[Vo]]))","v":0},{"$f":"IF(U$1=0,0,IF(Configuration!$F$9=\"D\",$R$274,Table7[[#This Row],[Vo]]))","v":0},{"$f":"IF(V$1=0,0,IF(Configuration!$F$10=\"D\",$R$274,Table7[[#This Row],[Vo]]))","v":0},{"$f":"IF(W$1=0,0,IF(Configuration!$F$11=\"D\",$R$274,Table7[[#This Row],[Vo]]))","v":0},{"$f":"IF(X$1=0,0,IF(Configuration!$F$12=\"D\",$R$274,Table7[[#This Row],[Vo]]))","v":0},{"$f":"IF(Y$1=0,0,IF(Configuration!$F$13=\"D\",$R$274,Table7[[#This Row],[Vo]]))","v":0},{"$f":"IF(Z$1=0,0,IF(Configuration!$F$14=\"D\",$R$274,Table7[[#This Row],[Vo]]))","v":0},{"$f":"IF(AA$1=0,0,IF(Configuration!$F$15=\"D\",$R$274,Table7[[#This Row],[Vo]]))","v":0},{"$f":"IF(AB$1=0,0,IF(Configuration!$F$16=\"D\",$R$274,Table7[[#This Row],[Vo]]))","v":0},{"$f":"IF(AC$1=0,0,IF(Configuration!$F$17=\"D\",$R$274,Table7[[#This Row],[Vo]]))","v":0}]
[28.4,"NMS-240-24",8.4507042253521139,240,"H",{"$f":"IF(1200/Table2[[#This Row],[Module rated power]]>6,6,ROUNDDOWN(1200/Table2[[#This Row],[Module rated power]],0))","v":5},{"$f":"Table2[[#This Row],[Module rated power]]*Table2[[#This Row],[Available No. of Slot]]","v":1200},{"$f":"ROUNDDOWN(Table2[[#This Row],[Max power per output]]/Table2[[#This Row],[Output Voltage]],2)","v":42.25},null,null,null,null,null,null,null,null,null,30.1,{"$f":"IF(S$1=0,0,IF(Configuration!$F$7=\"D\",$R$274,Table7[[#This Row],[Vo]]))","v":0},{"$f":"IF(T$1=0,0,IF(Configuration!$F$8=\"D\",$R$274,Table7[[#This Row],[Vo]]))","v":0},{"$f":"IF(U$1=0,0,IF(Configuration!$F$9=\"D\",$R$274,Table7[[#This Row],[Vo]]))","v":0},{"$f":"IF(V$1=0,0,IF(Configuration!$F$10=\"D\",$R$274,Table7[[#This Row],[Vo]]))","v":0},{"$f":"IF(W$1=0,0,IF(Configuration!$F$11=\"D\",$R$274,Table7[[#This Row],[Vo]]))","v":0},{"$f":"IF(X$1=0,0,IF(Configuration!$F$12=\"D\",$R$274,Table7[[#This Row],[Vo]]))","v":0},{"$f":"IF(Y$1=0,0,IF(Configuration!$F$13=\"D\",$R$274,Table7[[#This Row],[Vo]]))","v":0},{"$f":"IF(Z$1=0,0,IF(Configuration!$F$14=\"D\",$R$274,Table7[[#This Row],[Vo]]))","v":0},{"$f":"IF(AA$1=0,0,IF(Configuration!$F$15=\"D\",$R$274,Table7[[#This Row],[Vo]]))","v":0},{"$f":"IF(AB$1=0,0,IF(Configuration!$F$16=\"D\",$R$274,Table7[[#This Row],[Vo]]))","v":0},{"$f":"IF(AC$1=0,0,IF(Configuration!$F$17=\"D\",$R$274,Table7[[#This Row],[Vo]]))","v":0}]
[28.5,"NMS-240-24",8.4210526315789469,240,"H",{"$f":"IF(1200/Table2[[#This Row],[Module rated power]]>6,6,ROUNDDOWN(1200/Table2[[#This Row],[Module rated power]],0))","v":5},{"$f":"Table2[[#This Row],[Module rated power]]*Table2[[#This Row],[Available No. of Slot]]","v":1200},{"$f":"ROUNDDOWN(Table2[[#This Row],[Max power per output]]/Table2[[#This Row],[Output Voltage]],2)","v":42.1},null,null,null,null,null,null,null,null,null,30.2,{"$f":"IF(S$1=0,0,IF(Configuration!$F$7=\"D\",$R$274,Table7[[#This Row],[Vo]]))","v":0},{"$f":"IF(T$1=0,0,IF(Configuration!$F$8=\"D\",$R$274,Table7[[#This Row],[Vo]]))","v":0},{"$f":"IF(U$1=0,0,IF(Configuration!$F$9=\"D\",$R$274,Table7[[#This Row],[Vo]]))","v":0},{"$f":"IF(V$1=0,0,IF(Configuration!$F$10=\"D\",$R$274,Table7[[#This Row],[Vo]]))","v":0},{"$f":"IF(W$1=0,0,IF(Configuration!$F$11=\"D\",$R$274,Table7[[#This Row],[Vo]]))","v":0},{"$f":"IF(X$1=0,0,IF(Configuration!$F$12=\"D\",$R$274,Table7[[#This Row],[Vo]]))","v":0},{"$f":"IF(Y$1=0,0,IF(Configuration!$F$13=\"D\",$R$274,Table7[[#This Row],[Vo]]))","v":0},{"$f":"IF(Z$1=0,0,IF(Configuration!$F$14=\"D\",$R$274,Table7[[#This Row],[Vo]]))","v":0},{"$f":"IF(AA$1=0,0,IF(Configuration!$F$15=\"D\",$R$274,Table7[[#This Row],[Vo]]))","v":0},{"$f":"IF(AB$1=0,0,IF(Configuration!$F$16=\"D\",$R$274,Table7[[#This Row],[Vo]]))","v":0},{"$f":"IF(AC$1=0,0,IF(Configuration!$F$17=\"D\",$R$274,Table7[[#This Row],[Vo]]))","v":0}]
[28.6,"NMS-240-24",8.3916083916083917,240,"H",{"$f":"IF(1200/Table2[[#This Row],[Module rated power]]>6,6,ROUNDDOWN(1200/Table2[[#This Row],[Module rated power]],0))","v":5},{"$f":"Table2[[#This Row],[Module rated power]]*Table2[[#This Row],[Available No. of Slot]]","v":1200},{"$f":"ROUNDDOWN(Table2[[#This Row],[Max power per output]]/Table2[[#This Row],[Output Voltage]],2)","v":41.95},null,null,null,null,null,null,null,null,null,30.3,{"$f":"IF(S$1=0,0,IF(Configuration!$F$7=\"D\",$R$274,Table7[[#This Row],[Vo]]))","v":0},{"$f":"IF(T$1=0,0,IF(Configuration!$F$8=\"D\",$R$274,Table7[[#This Row],[Vo]]))","v":0},{"$f":"IF(U$1=0,0,IF(Configuration!$F$9=\"D\",$R$274,Table7[[#This Row],[Vo]]))","v":0},{"$f":"IF(V$1=0,0,IF(Configuration!$F$10=\"D\",$R$274,Table7[[#This Row],[Vo]]))","v":0},{"$f":"IF(W$1=0,0,IF(Configuration!$F$11=\"D\",$R$274,Table7[[#This Row],[Vo]]))","v":0},{"$f":"IF(X$1=0,0,IF(Configuration!$F$12=\"D\",$R$274,Table7[[#This Row],[Vo]]))","v":0},{"$f":"IF(Y$1=0,0,IF(Configuration!$F$13=\"D\",$R$274,Table7[[#This Row],[Vo]]))","v":0},{"$f":"IF(Z$1=0,0,IF(Configuration!$F$14=\"D\",$R$274,Table7[[#This Row],[Vo]]))","v":0},{"$f":"IF(AA$1=0,0,IF(Configuration!$F$15=\"D\",$R$274,Table7[[#This Row],[Vo]]))","v":0},{"$f":"IF(AB$1=0,0,IF(Configuration!$F$16=\"D\",$R$274,Table7[[#This Row],[Vo]]))","v":0},{"$f":"IF(AC$1=0,0,IF(Configuration!$F$17=\"D\",$R$274,Table7[[#This Row],[Vo]]))","v":0}]
[28.7,"NMS-240-24",8.3623693379790947,240,"H",{"$f":"IF(1200/Table2[[#This Row],[Module rated power]]>6,6,ROUNDDOWN(1200/Table2[[#This Row],[Module rated power]],0))","v":5},{"$f":"Table2[[#This Row],[Module rated power]]*Table2[[#This Row],[Available No. of Slot]]","v":1200},{"$f":"ROUNDDOWN(Table2[[#This Row],[Max power per output]]/Table2[[#This Row],[Output Voltage]],2)","v":41.81},null,null,null,null,null,null,null,null,null,30.4,{"$f":"IF(S$1=0,0,IF(Configuration!$F$7=\"D\",$R$274,Table7[[#This Row],[Vo]]))","v":0},{"$f":"IF(T$1=0,0,IF(Configuration!$F$8=\"D\",$R$274,Table7[[#This Row],[Vo]]))","v":0},{"$f":"IF(U$1=0,0,IF(Configuration!$F$9=\"D\",$R$274,Table7[[#This Row],[Vo]]))","v":0},{"$f":"IF(V$1=0,0,IF(Configuration!$F$10=\"D\",$R$274,Table7[[#This Row],[Vo]]))","v":0},{"$f":"IF(W$1=0,0,IF(Configuration!$F$11=\"D\",$R$274,Table7[[#This Row],[Vo]]))","v":0},{"$f":"IF(X$1=0,0,IF(Configuration!$F$12=\"D\",$R$274,Table7[[#This Row],[Vo]]))","v":0},{"$f":"IF(Y$1=0,0,IF(Configuration!$F$13=\"D\",$R$274,Table7[[#This Row],[Vo]]))","v":0},{"$f":"IF(Z$1=0,0,IF(Configuration!$F$14=\"D\",$R$274,Table7[[#This Row],[Vo]]))","v":0},{"$f":"IF(AA$1=0,0,IF(Configuration!$F$15=\"D\",$R$274,Table7[[#This Row],[Vo]]))","v":0},{"$f":"IF(AB$1=0,0,IF(Configuration!$F$16=\"D\",$R$274,Table7[[#This Row],[Vo]]))","v":0},{"$f":"IF(AC$1=0,0,IF(Configuration!$F$17=\"D\",$R$274,Table7[[#This Row],[Vo]]))","v":0}]
[{"$f":"ROUNDUP(A278+0.1,1)","v":28.8},"NMS-240-24",8.3333333333333339,240,"H",{"$f":"IF(1200/Table2[[#This Row],[Module rated power]]>6,6,ROUNDDOWN(1200/Table2[[#This Row],[Module rated power]],0))","v":5},{"$f":"Table2[[#This Row],[Module rated power]]*Table2[[#This Row],[Available No. of Slot]]","v":1200},{"$f":"ROUNDDOWN(Table2[[#This Row],[Max power per output]]/Table2[[#This Row],[Output Voltage]],2)","v":41.66},null,null,null,null,null,null,null,null,null,30.5,{"$f":"IF(S$1=0,0,IF(Configuration!$F$7=\"D\",$R$274,Table7[[#This Row],[Vo]]))","v":0},{"$f":"IF(T$1=0,0,IF(Configuration!$F$8=\"D\",$R$274,Table7[[#This Row],[Vo]]))","v":0},{"$f":"IF(U$1=0,0,IF(Configuration!$F$9=\"D\",$R$274,Table7[[#This Row],[Vo]]))","v":0},{"$f":"IF(V$1=0,0,IF(Configuration!$F$10=\"D\",$R$274,Table7[[#This Row],[Vo]]))","v":0},{"$f":"IF(W$1=0,0,IF(Configuration!$F$11=\"D\",$R$274,Table7[[#This Row],[Vo]]))","v":0},{"$f":"IF(X$1=0,0,IF(Configuration!$F$12=\"D\",$R$274,Table7[[#This Row],[Vo]]))","v":0},{"$f":"IF(Y$1=0,0,IF(Configuration!$F$13=\"D\",$R$274,Table7[[#This Row],[Vo]]))","v":0},{"$f":"IF(Z$1=0,0,IF(Configuration!$F$14=\"D\",$R$274,Table7[[#This Row],[Vo]]))","v":0},{"$f":"IF(AA$1=0,0,IF(Configuration!$F$15=\"D\",$R$274,Table7[[#This Row],[Vo]]))","v":0},{"$f":"IF(AB$1=0,0,IF(Configuration!$F$16=\"D\",$R$274,Table7[[#This Row],[Vo]]))","v":0},{"$f":"IF(AC$1=0,0,IF(Configuration!$F$17=\"D\",$R$274,Table7[[#This Row],[Vo]]))","v":0}]
[28.9,"NMS-240-24",8.3044982698961949,240,"H",{"$f":"IF(1200/Table2[[#This Row],[Module rated power]]>6,6,ROUNDDOWN(1200/Table2[[#This Row],[Module rated power]],0))","v":5},{"$f":"Table2[[#This Row],[Module rated power]]*Table2[[#This Row],[Available No. of Slot]]","v":1200},{"$f":"ROUNDDOWN(Table2[[#This Row],[Max power per output]]/Table2[[#This Row],[Output Voltage]],2)","v":41.52},null,null,null,null,null,null,null,null,null,30.6,{"$f":"IF(S$1=0,0,IF(Configuration!$F$7=\"D\",$R$274,Table7[[#This Row],[Vo]]))","v":0},{"$f":"IF(T$1=0,0,IF(Configuration!$F$8=\"D\",$R$274,Table7[[#This Row],[Vo]]))","v":0},{"$f":"IF(U$1=0,0,IF(Configuration!$F$9=\"D\",$R$274,Table7[[#This Row],[Vo]]))","v":0},{"$f":"IF(V$1=0,0,IF(Configuration!$F$10=\"D\",$R$274,Table7[[#This Row],[Vo]]))","v":0},{"$f":"IF(W$1=0,0,IF(Configuration!$F$11=\"D\",$R$274,Table7[[#This Row],[Vo]]))","v":0},{"$f":"IF(X$1=0,0,IF(Configuration!$F$12=\"D\",$R$274,Table7[[#This Row],[Vo]]))","v":0},{"$f":"IF(Y$1=0,0,IF(Configuration!$F$13=\"D\",$R$274,Table7[[#This Row],[Vo]]))","v":0},{"$f":"IF(Z$1=0,0,IF(Configuration!$F$14=\"D\",$R$274,Table7[[#This Row],[Vo]]))","v":0},{"$f":"IF(AA$1=0,0,IF(Configuration!$F$15=\"D\",$R$274,Table7[[#This Row],[Vo]]))","v":0},{"$f":"IF(AB$1=0,0,IF(Configuration!$F$16=\"D\",$R$274,Table7[[#This Row],[Vo]]))","v":0},{"$f":"IF(AC$1=0,0,IF(Configuration!$F$17=\"D\",$R$274,Table7[[#This Row],[Vo]]))","v":0}]
[29,"NMS-240-24",8.2758620689655178,240,"H",{"$f":"IF(1200/Table2[[#This Row],[Module rated power]]>6,6,ROUNDDOWN(1200/Table2[[#This Row],[Module rated power]],0))","v":5},{"$f":"Table2[[#This Row],[Module rated power]]*Table2[[#This Row],[Available No. of Slot]]","v":1200},{"$f":"ROUNDDOWN(Table2[[#This Row],[Max power per output]]/Table2[[#This Row],[Output Voltage]],2)","v":41.37},null,null,null,null,null,null,null,null,null,30.7,{"$f":"IF(S$1=0,0,IF(Configuration!$F$7=\"D\",$R$274,Table7[[#This Row],[Vo]]))","v":0},{"$f":"IF(T$1=0,0,IF(Configuration!$F$8=\"D\",$R$274,Table7[[#This Row],[Vo]]))","v":0},{"$f":"IF(U$1=0,0,IF(Configuration!$F$9=\"D\",$R$274,Table7[[#This Row],[Vo]]))","v":0},{"$f":"IF(V$1=0,0,IF(Configuration!$F$10=\"D\",$R$274,Table7[[#This Row],[Vo]]))","v":0},{"$f":"IF(W$1=0,0,IF(Configuration!$F$11=\"D\",$R$274,Table7[[#This Row],[Vo]]))","v":0},{"$f":"IF(X$1=0,0,IF(Configuration!$F$12=\"D\",$R$274,Table7[[#This Row],[Vo]]))","v":0},{"$f":"IF(Y$1=0,0,IF(Configuration!$F$13=\"D\",$R$274,Table7[[#This Row],[Vo]]))","v":0},{"$f":"IF(Z$1=0,0,IF(Configuration!$F$14=\"D\",$R$274,Table7[[#This Row],[Vo]]))","v":0},{"$f":"IF(AA$1=0,0,IF(Configuration!$F$15=\"D\",$R$274,Table7[[#This Row],[Vo]]))","v":0},{"$f":"IF(AB$1=0,0,IF(Configuration!$F$16=\"D\",$R$274,Table7[[#This Row],[Vo]]))","v":0},{"$f":"IF(AC$1=0,0,IF(Configuration!$F$17=\"D\",$R$274,Table7[[#This Row],[Vo]]))","v":0}]
[29.1,"NMS-240-24",8.2474226804123703,240,"H",{"$f":"IF(1200/Table2[[#This Row],[Module rated power]]>6,6,ROUNDDOWN(1200/Table2[[#This Row],[Module rated power]],0))","v":5},{"$f":"Table2[[#This Row],[Module rated power]]*Table2[[#This Row],[Available No. of Slot]]","v":1200},{"$f":"ROUNDDOWN(Table2[[#This Row],[Max power per output]]/Table2[[#This Row],[Output Voltage]],2)","v":41.23},null,null,null,null,null,null,null,null,null,30.8,{"$f":"IF(S$1=0,0,IF(Configuration!$F$7=\"D\",$R$274,Table7[[#This Row],[Vo]]))","v":0},{"$f":"IF(T$1=0,0,IF(Configuration!$F$8=\"D\",$R$274,Table7[[#This Row],[Vo]]))","v":0},{"$f":"IF(U$1=0,0,IF(Configuration!$F$9=\"D\",$R$274,Table7[[#This Row],[Vo]]))","v":0},{"$f":"IF(V$1=0,0,IF(Configuration!$F$10=\"D\",$R$274,Table7[[#This Row],[Vo]]))","v":0},{"$f":"IF(W$1=0,0,IF(Configuration!$F$11=\"D\",$R$274,Table7[[#This Row],[Vo]]))","v":0},{"$f":"IF(X$1=0,0,IF(Configuration!$F$12=\"D\",$R$274,Table7[[#This Row],[Vo]]))","v":0},{"$f":"IF(Y$1=0,0,IF(Configuration!$F$13=\"D\",$R$274,Table7[[#This Row],[Vo]]))","v":0},{"$f":"IF(Z$1=0,0,IF(Configuration!$F$14=\"D\",$R$274,Table7[[#This Row],[Vo]]))","v":0},{"$f":"IF(AA$1=0,0,IF(Configuration!$F$15=\"D\",$R$274,Table7[[#This Row],[Vo]]))","v":0},{"$f":"IF(AB$1=0,0,IF(Configuration!$F$16=\"D\",$R$274,Table7[[#This Row],[Vo]]))","v":0},{"$f":"IF(AC$1=0,0,IF(Configuration!$F$17=\"D\",$R$274,Table7[[#This Row],[Vo]]))","v":0}]
[29.2,"NMS-240-24",8.2191780821917817,240,"H",{"$f":"IF(1200/Table2[[#This Row],[Module rated power]]>6,6,ROUNDDOWN(1200/Table2[[#This Row],[Module rated power]],0))","v":5},{"$f":"Table2[[#This Row],[Module rated power]]*Table2[[#This Row],[Available No. of Slot]]","v":1200},{"$f":"ROUNDDOWN(Table2[[#This Row],[Max power per output]]/Table2[[#This Row],[Output Voltage]],2)","v":41.09},null,null,null,null,null,null,null,null,null,30.9,{"$f":"IF(S$1=0,0,IF(Configuration!$F$7=\"D\",$R$274,Table7[[#This Row],[Vo]]))","v":0},{"$f":"IF(T$1=0,0,IF(Configuration!$F$8=\"D\",$R$274,Table7[[#This Row],[Vo]]))","v":0},{"$f":"IF(U$1=0,0,IF(Configuration!$F$9=\"D\",$R$274,Table7[[#This Row],[Vo]]))","v":0},{"$f":"IF(V$1=0,0,IF(Configuration!$F$10=\"D\",$R$274,Table7[[#This Row],[Vo]]))","v":0},{"$f":"IF(W$1=0,0,IF(Configuration!$F$11=\"D\",$R$274,Table7[[#This Row],[Vo]]))","v":0},{"$f":"IF(X$1=0,0,IF(Configuration!$F$12=\"D\",$R$274,Table7[[#This Row],[Vo]]))","v":0},{"$f":"IF(Y$1=0,0,IF(Configuration!$F$13=\"D\",$R$274,Table7[[#This Row],[Vo]]))","v":0},{"$f":"IF(Z$1=0,0,IF(Configuration!$F$14=\"D\",$R$274,Table7[[#This Row],[Vo]]))","v":0},{"$f":"IF(AA$1=0,0,IF(Configuration!$F$15=\"D\",$R$274,Table7[[#This Row],[Vo]]))","v":0},{"$f":"IF(AB$1=0,0,IF(Configuration!$F$16=\"D\",$R$274,Table7[[#This Row],[Vo]]))","v":0},{"$f":"IF(AC$1=0,0,IF(Configuration!$F$17=\"D\",$R$274,Table7[[#This Row],[Vo]]))","v":0}]
[29.3,"NMS-240-24",8.1911262798634805,240,"H",{"$f":"IF(1200/Table2[[#This Row],[Module rated power]]>6,6,ROUNDDOWN(1200/Table2[[#This Row],[Module rated power]],0))","v":5},{"$f":"Table2[[#This Row],[Module rated power]]*Table2[[#This Row],[Available No. of Slot]]","v":1200},{"$f":"ROUNDDOWN(Table2[[#This Row],[Max power per output]]/Table2[[#This Row],[Output Voltage]],2)","v":40.950000000000003},null,null,null,null,null,null,null,null,null,31,{"$f":"IF(S$1=0,0,IF(Configuration!$F$7=\"D\",$R$274,Table7[[#This Row],[Vo]]))","v":0},{"$f":"IF(T$1=0,0,IF(Configuration!$F$8=\"D\",$R$274,Table7[[#This Row],[Vo]]))","v":0},{"$f":"IF(U$1=0,0,IF(Configuration!$F$9=\"D\",$R$274,Table7[[#This Row],[Vo]]))","v":0},{"$f":"IF(V$1=0,0,IF(Configuration!$F$10=\"D\",$R$274,Table7[[#This Row],[Vo]]))","v":0},{"$f":"IF(W$1=0,0,IF(Configuration!$F$11=\"D\",$R$274,Table7[[#This Row],[Vo]]))","v":0},{"$f":"IF(X$1=0,0,IF(Configuration!$F$12=\"D\",$R$274,Table7[[#This Row],[Vo]]))","v":0},{"$f":"IF(Y$1=0,0,IF(Configuration!$F$13=\"D\",$R$274,Table7[[#This Row],[Vo]]))","v":0},{"$f":"IF(Z$1=0,0,IF(Configuration!$F$14=\"D\",$R$274,Table7[[#This Row],[Vo]]))","v":0},{"$f":"IF(AA$1=0,0,IF(Configuration!$F$15=\"D\",$R$274,Table7[[#This Row],[Vo]]))","v":0},{"$f":"IF(AB$1=0,0,IF(Configuration!$F$16=\"D\",$R$274,Table7[[#This Row],[Vo]]))","v":0},{"$f":"IF(AC$1=0,0,IF(Configuration!$F$17=\"D\",$R$274,Table7[[#This Row],[Vo]]))","v":0}]
[29.4,"NMS-240-24",8.1632653061224492,240,"H",{"$f":"IF(1200/Table2[[#This Row],[Module rated power]]>6,6,ROUNDDOWN(1200/Table2[[#This Row],[Module rated power]],0))","v":5},{"$f":"Table2[[#This Row],[Module rated power]]*Table2[[#This Row],[Available No. of Slot]]","v":1200},{"$f":"ROUNDDOWN(Table2[[#This Row],[Max power per output]]/Table2[[#This Row],[Output Voltage]],2)","v":40.81},null,null,null,null,null,null,null,null,null,31.1,{"$f":"IF(S$1=0,0,IF(Configuration!$F$7=\"D\",$R$274,Table7[[#This Row],[Vo]]))","v":0},{"$f":"IF(T$1=0,0,IF(Configuration!$F$8=\"D\",$R$274,Table7[[#This Row],[Vo]]))","v":0},{"$f":"IF(U$1=0,0,IF(Configuration!$F$9=\"D\",$R$274,Table7[[#This Row],[Vo]]))","v":0},{"$f":"IF(V$1=0,0,IF(Configuration!$F$10=\"D\",$R$274,Table7[[#This Row],[Vo]]))","v":0},{"$f":"IF(W$1=0,0,IF(Configuration!$F$11=\"D\",$R$274,Table7[[#This Row],[Vo]]))","v":0},{"$f":"IF(X$1=0,0,IF(Configuration!$F$12=\"D\",$R$274,Table7[[#This Row],[Vo]]))","v":0},{"$f":"IF(Y$1=0,0,IF(Configuration!$F$13=\"D\",$R$274,Table7[[#This Row],[Vo]]))","v":0},{"$f":"IF(Z$1=0,0,IF(Configuration!$F$14=\"D\",$R$274,Table7[[#This Row],[Vo]]))","v":0},{"$f":"IF(AA$1=0,0,IF(Configuration!$F$15=\"D\",$R$274,Table7[[#This Row],[Vo]]))","v":0},{"$f":"IF(AB$1=0,0,IF(Configuration!$F$16=\"D\",$R$274,Table7[[#This Row],[Vo]]))","v":0},{"$f":"IF(AC$1=0,0,IF(Configuration!$F$17=\"D\",$R$274,Table7[[#This Row],[Vo]]))","v":0}]
[29.5,"NMS-240-24",8.1355932203389827,240,"H",{"$f":"IF(1200/Table2[[#This Row],[Module rated power]]>6,6,ROUNDDOWN(1200/Table2[[#This Row],[Module rated power]],0))","v":5},{"$f":"Table2[[#This Row],[Module rated power]]*Table2[[#This Row],[Available No. of Slot]]","v":1200},{"$f":"ROUNDDOWN(Table2[[#This Row],[Max power per output]]/Table2[[#This Row],[Output Voltage]],2)","v":40.67},null,null,null,null,null,null,null,null,null,31.2,{"$f":"IF(S$1=0,0,IF(Configuration!$F$7=\"D\",$R$274,Table7[[#This Row],[Vo]]))","v":0},{"$f":"IF(T$1=0,0,IF(Configuration!$F$8=\"D\",$R$274,Table7[[#This Row],[Vo]]))","v":0},{"$f":"IF(U$1=0,0,IF(Configuration!$F$9=\"D\",$R$274,Table7[[#This Row],[Vo]]))","v":0},{"$f":"IF(V$1=0,0,IF(Configuration!$F$10=\"D\",$R$274,Table7[[#This Row],[Vo]]))","v":0},{"$f":"IF(W$1=0,0,IF(Configuration!$F$11=\"D\",$R$274,Table7[[#This Row],[Vo]]))","v":0},{"$f":"IF(X$1=0,0,IF(Configuration!$F$12=\"D\",$R$274,Table7[[#This Row],[Vo]]))","v":0},{"$f":"IF(Y$1=0,0,IF(Configuration!$F$13=\"D\",$R$274,Table7[[#This Row],[Vo]]))","v":0},{"$f":"IF(Z$1=0,0,IF(Configuration!$F$14=\"D\",$R$274,Table7[[#This Row],[Vo]]))","v":0},{"$f":"IF(AA$1=0,0,IF(Configuration!$F$15=\"D\",$R$274,Table7[[#This Row],[Vo]]))","v":0},{"$f":"IF(AB$1=0,0,IF(Configuration!$F$16=\"D\",$R$274,Table7[[#This Row],[Vo]]))","v":0},{"$f":"IF(AC$1=0,0,IF(Configuration!$F$17=\"D\",$R$274,Table7[[#This Row],[Vo]]))","v":0}]
[29.6,"NMS-240-24",8.108108108108107,240,"H",{"$f":"IF(1200/Table2[[#This Row],[Module rated power]]>6,6,ROUNDDOWN(1200/Table2[[#This Row],[Module rated power]],0))","v":5},{"$f":"Table2[[#This Row],[Module rated power]]*Table2[[#This Row],[Available No. of Slot]]","v":1200},{"$f":"ROUNDDOWN(Table2[[#This Row],[Max power per output]]/Table2[[#This Row],[Output Voltage]],2)","v":40.54},null,null,null,null,null,null,null,null,null,31.3,{"$f":"IF(S$1=0,0,IF(Configuration!$F$7=\"D\",$R$274,Table7[[#This Row],[Vo]]))","v":0},{"$f":"IF(T$1=0,0,IF(Configuration!$F$8=\"D\",$R$274,Table7[[#This Row],[Vo]]))","v":0},{"$f":"IF(U$1=0,0,IF(Configuration!$F$9=\"D\",$R$274,Table7[[#This Row],[Vo]]))","v":0},{"$f":"IF(V$1=0,0,IF(Configuration!$F$10=\"D\",$R$274,Table7[[#This Row],[Vo]]))","v":0},{"$f":"IF(W$1=0,0,IF(Configuration!$F$11=\"D\",$R$274,Table7[[#This Row],[Vo]]))","v":0},{"$f":"IF(X$1=0,0,IF(Configuration!$F$12=\"D\",$R$274,Table7[[#This Row],[Vo]]))","v":0},{"$f":"IF(Y$1=0,0,IF(Configuration!$F$13=\"D\",$R$274,Table7[[#This Row],[Vo]]))","v":0},{"$f":"IF(Z$1=0,0,IF(Configuration!$F$14=\"D\",$R$274,Table7[[#This Row],[Vo]]))","v":0},{"$f":"IF(AA$1=0,0,IF(Configuration!$F$15=\"D\",$R$274,Table7[[#This Row],[Vo]]))","v":0},{"$f":"IF(AB$1=0,0,IF(Configuration!$F$16=\"D\",$R$274,Table7[[#This Row],[Vo]]))","v":0},{"$f":"IF(AC$1=0,0,IF(Configuration!$F$17=\"D\",$R$274,Table7[[#This Row],[Vo]]))","v":0}]
[29.7,"NMS-240-24",8.0808080808080813,240,"H",{"$f":"IF(1200/Table2[[#This Row],[Module rated power]]>6,6,ROUNDDOWN(1200/Table2[[#This Row],[Module rated power]],0))","v":5},{"$f":"Table2[[#This Row],[Module rated power]]*Table2[[#This Row],[Available No. of Slot]]","v":1200},{"$f":"ROUNDDOWN(Table2[[#This Row],[Max power per output]]/Table2[[#This Row],[Output Voltage]],2)","v":40.4},null,null,null,null,null,null,null,null,null,31.4,{"$f":"IF(S$1=0,0,IF(Configuration!$F$7=\"D\",$R$274,Table7[[#This Row],[Vo]]))","v":0},{"$f":"IF(T$1=0,0,IF(Configuration!$F$8=\"D\",$R$274,Table7[[#This Row],[Vo]]))","v":0},{"$f":"IF(U$1=0,0,IF(Configuration!$F$9=\"D\",$R$274,Table7[[#This Row],[Vo]]))","v":0},{"$f":"IF(V$1=0,0,IF(Configuration!$F$10=\"D\",$R$274,Table7[[#This Row],[Vo]]))","v":0},{"$f":"IF(W$1=0,0,IF(Configuration!$F$11=\"D\",$R$274,Table7[[#This Row],[Vo]]))","v":0},{"$f":"IF(X$1=0,0,IF(Configuration!$F$12=\"D\",$R$274,Table7[[#This Row],[Vo]]))","v":0},{"$f":"IF(Y$1=0,0,IF(Configuration!$F$13=\"D\",$R$274,Table7[[#This Row],[Vo]]))","v":0},{"$f":"IF(Z$1=0,0,IF(Configuration!$F$14=\"D\",$R$274,Table7[[#This Row],[Vo]]))","v":0},{"$f":"IF(AA$1=0,0,IF(Configuration!$F$15=\"D\",$R$274,Table7[[#This Row],[Vo]]))","v":0},{"$f":"IF(AB$1=0,0,IF(Configuration!$F$16=\"D\",$R$274,Table7[[#This Row],[Vo]]))","v":0},{"$f":"IF(AC$1=0,0,IF(Configuration!$F$17=\"D\",$R$274,Table7[[#This Row],[Vo]]))","v":0}]
[29.8,"NMS-240-24",8.0536912751677843,240,"H",{"$f":"IF(1200/Table2[[#This Row],[Module rated power]]>6,6,ROUNDDOWN(1200/Table2[[#This Row],[Module rated power]],0))","v":5},{"$f":"Table2[[#This Row],[Module rated power]]*Table2[[#This Row],[Available No. of Slot]]","v":1200},{"$f":"ROUNDDOWN(Table2[[#This Row],[Max power per output]]/Table2[[#This Row],[Output Voltage]],2)","v":40.26},null,null,null,null,null,null,null,null,null,31.5,{"$f":"IF(S$1=0,0,IF(Configuration!$F$7=\"D\",$R$274,Table7[[#This Row],[Vo]]))","v":0},{"$f":"IF(T$1=0,0,IF(Configuration!$F$8=\"D\",$R$274,Table7[[#This Row],[Vo]]))","v":0},{"$f":"IF(U$1=0,0,IF(Configuration!$F$9=\"D\",$R$274,Table7[[#This Row],[Vo]]))","v":0},{"$f":"IF(V$1=0,0,IF(Configuration!$F$10=\"D\",$R$274,Table7[[#This Row],[Vo]]))","v":0},{"$f":"IF(W$1=0,0,IF(Configuration!$F$11=\"D\",$R$274,Table7[[#This Row],[Vo]]))","v":0},{"$f":"IF(X$1=0,0,IF(Configuration!$F$12=\"D\",$R$274,Table7[[#This Row],[Vo]]))","v":0},{"$f":"IF(Y$1=0,0,IF(Configuration!$F$13=\"D\",$R$274,Table7[[#This Row],[Vo]]))","v":0},{"$f":"IF(Z$1=0,0,IF(Configuration!$F$14=\"D\",$R$274,Table7[[#This Row],[Vo]]))","v":0},{"$f":"IF(AA$1=0,0,IF(Configuration!$F$15=\"D\",$R$274,Table7[[#This Row],[Vo]]))","v":0},{"$f":"IF(AB$1=0,0,IF(Configuration!$F$16=\"D\",$R$274,Table7[[#This Row],[Vo]]))","v":0},{"$f":"IF(AC$1=0,0,IF(Configuration!$F$17=\"D\",$R$274,Table7[[#This Row],[Vo]]))","v":0}]
[29.9,"NMS-240-24",8.0267558528428093,240,"H",{"$f":"IF(1200/Table2[[#This Row],[Module rated power]]>6,6,ROUNDDOWN(1200/Table2[[#This Row],[Module rated power]],0))","v":5},{"$f":"Table2[[#This Row],[Module rated power]]*Table2[[#This Row],[Available No. of Slot]]","v":1200},{"$f":"ROUNDDOWN(Table2[[#This Row],[Max power per output]]/Table2[[#This Row],[Output Voltage]],2)","v":40.130000000000003},null,null,null,null,null,null,null,null,null,31.6,{"$f":"IF(S$1=0,0,IF(Configuration!$F$7=\"D\",$R$274,Table7[[#This Row],[Vo]]))","v":0},{"$f":"IF(T$1=0,0,IF(Configuration!$F$8=\"D\",$R$274,Table7[[#This Row],[Vo]]))","v":0},{"$f":"IF(U$1=0,0,IF(Configuration!$F$9=\"D\",$R$274,Table7[[#This Row],[Vo]]))","v":0},{"$f":"IF(V$1=0,0,IF(Configuration!$F$10=\"D\",$R$274,Table7[[#This Row],[Vo]]))","v":0},{"$f":"IF(W$1=0,0,IF(Configuration!$F$11=\"D\",$R$274,Table7[[#This Row],[Vo]]))","v":0},{"$f":"IF(X$1=0,0,IF(Configuration!$F$12=\"D\",$R$274,Table7[[#This Row],[Vo]]))","v":0},{"$f":"IF(Y$1=0,0,IF(Configuration!$F$13=\"D\",$R$274,Table7[[#This Row],[Vo]]))","v":0},{"$f":"IF(Z$1=0,0,IF(Configuration!$F$14=\"D\",$R$274,Table7[[#This Row],[Vo]]))","v":0},{"$f":"IF(AA$1=0,0,IF(Configuration!$F$15=\"D\",$R$274,Table7[[#This Row],[Vo]]))","v":0},{"$f":"IF(AB$1=0,0,IF(Configuration!$F$16=\"D\",$R$274,Table7[[#This Row],[Vo]]))","v":0},{"$f":"IF(AC$1=0,0,IF(Configuration!$F$17=\"D\",$R$274,Table7[[#This Row],[Vo]]))","v":0}]
[30,"NMS-240-24",8,240,"H",{"$f":"IF(1200/Table2[[#This Row],[Module rated power]]>6,6,ROUNDDOWN(1200/Table2[[#This Row],[Module rated power]],0))","v":5},{"$f":"Table2[[#This Row],[Module rated power]]*Table2[[#This Row],[Available No. of Slot]]","v":1200},{"$f":"ROUNDDOWN(Table2[[#This Row],[Max power per output]]/Table2[[#This Row],[Output Voltage]],2)","v":40},null,null,null,null,null,null,null,null,null,31.7,{"$f":"IF(S$1=0,0,IF(Configuration!$F$7=\"D\",$R$274,Table7[[#This Row],[Vo]]))","v":0},{"$f":"IF(T$1=0,0,IF(Configuration!$F$8=\"D\",$R$274,Table7[[#This Row],[Vo]]))","v":0},{"$f":"IF(U$1=0,0,IF(Configuration!$F$9=\"D\",$R$274,Table7[[#This Row],[Vo]]))","v":0},{"$f":"IF(V$1=0,0,IF(Configuration!$F$10=\"D\",$R$274,Table7[[#This Row],[Vo]]))","v":0},{"$f":"IF(W$1=0,0,IF(Configuration!$F$11=\"D\",$R$274,Table7[[#This Row],[Vo]]))","v":0},{"$f":"IF(X$1=0,0,IF(Configuration!$F$12=\"D\",$R$274,Table7[[#This Row],[Vo]]))","v":0},{"$f":"IF(Y$1=0,0,IF(Configuration!$F$13=\"D\",$R$274,Table7[[#This Row],[Vo]]))","v":0},{"$f":"IF(Z$1=0,0,IF(Configuration!$F$14=\"D\",$R$274,Table7[[#This Row],[Vo]]))","v":0},{"$f":"IF(AA$1=0,0,IF(Configuration!$F$15=\"D\",$R$274,Table7[[#This Row],[Vo]]))","v":0},{"$f":"IF(AB$1=0,0,IF(Configuration!$F$16=\"D\",$R$274,Table7[[#This Row],[Vo]]))","v":0},{"$f":"IF(AC$1=0,0,IF(Configuration!$F$17=\"D\",$R$274,Table7[[#This Row],[Vo]]))","v":0}]
[30.1,"NMS-240-48",5,{"$f":"Table2[[#This Row],[Output Voltage]]*Table2[[#This Row],[Module rated current]]","v":150.5},"K",{"$f":"IF(1200/Table2[[#This Row],[Module rated power]]>6,6,ROUNDDOWN(1200/Table2[[#This Row],[Module rated power]],0))","v":6},{"$f":"Table2[[#This Row],[Module rated power]]*Table2[[#This Row],[Available No. of Slot]]","v":903},{"$f":"ROUNDDOWN(Table2[[#This Row],[Max power per output]]/Table2[[#This Row],[Output Voltage]],2)","v":30},null,null,null,null,null,null,null,null,null,31.8,{"$f":"IF(S$1=0,0,IF(Configuration!$F$7=\"D\",$R$274,Table7[[#This Row],[Vo]]))","v":0},{"$f":"IF(T$1=0,0,IF(Configuration!$F$8=\"D\",$R$274,Table7[[#This Row],[Vo]]))","v":0},{"$f":"IF(U$1=0,0,IF(Configuration!$F$9=\"D\",$R$274,Table7[[#This Row],[Vo]]))","v":0},{"$f":"IF(V$1=0,0,IF(Configuration!$F$10=\"D\",$R$274,Table7[[#This Row],[Vo]]))","v":0},{"$f":"IF(W$1=0,0,IF(Configuration!$F$11=\"D\",$R$274,Table7[[#This Row],[Vo]]))","v":0},{"$f":"IF(X$1=0,0,IF(Configuration!$F$12=\"D\",$R$274,Table7[[#This Row],[Vo]]))","v":0},{"$f":"IF(Y$1=0,0,IF(Configuration!$F$13=\"D\",$R$274,Table7[[#This Row],[Vo]]))","v":0},{"$f":"IF(Z$1=0,0,IF(Configuration!$F$14=\"D\",$R$274,Table7[[#This Row],[Vo]]))","v":0},{"$f":"IF(AA$1=0,0,IF(Configuration!$F$15=\"D\",$R$274,Table7[[#This Row],[Vo]]))","v":0},{"$f":"IF(AB$1=0,0,IF(Configuration!$F$16=\"D\",$R$274,Table7[[#This Row],[Vo]]))","v":0},{"$f":"IF(AC$1=0,0,IF(Configuration!$F$17=\"D\",$R$274,Table7[[#This Row],[Vo]]))","v":0}]
[30.2,"NMS-240-48",5,{"$f":"Table2[[#This Row],[Output Voltage]]*Table2[[#This Row],[Module rated current]]","v":151},"K",{"$f":"IF(1200/Table2[[#This Row],[Module rated power]]>6,6,ROUNDDOWN(1200/Table2[[#This Row],[Module rated power]],0))","v":6},{"$f":"Table2[[#This Row],[Module rated power]]*Table2[[#This Row],[Available No. of Slot]]","v":906},{"$f":"ROUNDDOWN(Table2[[#This Row],[Max power per output]]/Table2[[#This Row],[Output Voltage]],2)","v":30},null,null,null,null,null,null,null,null,null,31.9,{"$f":"IF(S$1=0,0,IF(Configuration!$F$7=\"D\",$R$274,Table7[[#This Row],[Vo]]))","v":0},{"$f":"IF(T$1=0,0,IF(Configuration!$F$8=\"D\",$R$274,Table7[[#This Row],[Vo]]))","v":0},{"$f":"IF(U$1=0,0,IF(Configuration!$F$9=\"D\",$R$274,Table7[[#This Row],[Vo]]))","v":0},{"$f":"IF(V$1=0,0,IF(Configuration!$F$10=\"D\",$R$274,Table7[[#This Row],[Vo]]))","v":0},{"$f":"IF(W$1=0,0,IF(Configuration!$F$11=\"D\",$R$274,Table7[[#This Row],[Vo]]))","v":0},{"$f":"IF(X$1=0,0,IF(Configuration!$F$12=\"D\",$R$274,Table7[[#This Row],[Vo]]))","v":0},{"$f":"IF(Y$1=0,0,IF(Configuration!$F$13=\"D\",$R$274,Table7[[#This Row],[Vo]]))","v":0},{"$f":"IF(Z$1=0,0,IF(Configuration!$F$14=\"D\",$R$274,Table7[[#This Row],[Vo]]))","v":0},{"$f":"IF(AA$1=0,0,IF(Configuration!$F$15=\"D\",$R$274,Table7[[#This Row],[Vo]]))","v":0},{"$f":"IF(AB$1=0,0,IF(Configuration!$F$16=\"D\",$R$274,Table7[[#This Row],[Vo]]))","v":0},{"$f":"IF(AC$1=0,0,IF(Configuration!$F$17=\"D\",$R$274,Table7[[#This Row],[Vo]]))","v":0}]
[30.3,"NMS-240-48",5,{"$f":"Table2[[#This Row],[Output Voltage]]*Table2[[#This Row],[Module rated current]]","v":151.5},"K",{"$f":"IF(1200/Table2[[#This Row],[Module rated power]]>6,6,ROUNDDOWN(1200/Table2[[#This Row],[Module rated power]],0))","v":6},{"$f":"Table2[[#This Row],[Module rated power]]*Table2[[#This Row],[Available No. of Slot]]","v":909},{"$f":"ROUNDDOWN(Table2[[#This Row],[Max power per output]]/Table2[[#This Row],[Output Voltage]],2)","v":30},null,null,null,null,null,null,null,null,null,32,{"$f":"IF(S$1=0,0,IF(Configuration!$F$7=\"D\",$R$274,Table7[[#This Row],[Vo]]))","v":0},{"$f":"IF(T$1=0,0,IF(Configuration!$F$8=\"D\",$R$274,Table7[[#This Row],[Vo]]))","v":0},{"$f":"IF(U$1=0,0,IF(Configuration!$F$9=\"D\",$R$274,Table7[[#This Row],[Vo]]))","v":0},{"$f":"IF(V$1=0,0,IF(Configuration!$F$10=\"D\",$R$274,Table7[[#This Row],[Vo]]))","v":0},{"$f":"IF(W$1=0,0,IF(Configuration!$F$11=\"D\",$R$274,Table7[[#This Row],[Vo]]))","v":0},{"$f":"IF(X$1=0,0,IF(Configuration!$F$12=\"D\",$R$274,Table7[[#This Row],[Vo]]))","v":0},{"$f":"IF(Y$1=0,0,IF(Configuration!$F$13=\"D\",$R$274,Table7[[#This Row],[Vo]]))","v":0},{"$f":"IF(Z$1=0,0,IF(Configuration!$F$14=\"D\",$R$274,Table7[[#This Row],[Vo]]))","v":0},{"$f":"IF(AA$1=0,0,IF(Configuration!$F$15=\"D\",$R$274,Table7[[#This Row],[Vo]]))","v":0},{"$f":"IF(AB$1=0,0,IF(Configuration!$F$16=\"D\",$R$274,Table7[[#This Row],[Vo]]))","v":0},{"$f":"IF(AC$1=0,0,IF(Configuration!$F$17=\"D\",$R$274,Table7[[#This Row],[Vo]]))","v":0}]
[30.4,"NMS-240-48",5,{"$f":"Table2[[#This Row],[Output Voltage]]*Table2[[#This Row],[Module rated current]]","v":152},"K",{"$f":"IF(1200/Table2[[#This Row],[Module rated power]]>6,6,ROUNDDOWN(1200/Table2[[#This Row],[Module rated power]],0))","v":6},{"$f":"Table2[[#This Row],[Module rated power]]*Table2[[#This Row],[Available No. of Slot]]","v":912},{"$f":"ROUNDDOWN(Table2[[#This Row],[Max power per output]]/Table2[[#This Row],[Output Voltage]],2)","v":30},null,null,null,null,null,null,null,null,null,32.1,{"$f":"IF(S$1=0,0,IF(Configuration!$F$7=\"D\",$R$274,Table7[[#This Row],[Vo]]))","v":0},{"$f":"IF(T$1=0,0,IF(Configuration!$F$8=\"D\",$R$274,Table7[[#This Row],[Vo]]))","v":0},{"$f":"IF(U$1=0,0,IF(Configuration!$F$9=\"D\",$R$274,Table7[[#This Row],[Vo]]))","v":0},{"$f":"IF(V$1=0,0,IF(Configuration!$F$10=\"D\",$R$274,Table7[[#This Row],[Vo]]))","v":0},{"$f":"IF(W$1=0,0,IF(Configuration!$F$11=\"D\",$R$274,Table7[[#This Row],[Vo]]))","v":0},{"$f":"IF(X$1=0,0,IF(Configuration!$F$12=\"D\",$R$274,Table7[[#This Row],[Vo]]))","v":0},{"$f":"IF(Y$1=0,0,IF(Configuration!$F$13=\"D\",$R$274,Table7[[#This Row],[Vo]]))","v":0},{"$f":"IF(Z$1=0,0,IF(Configuration!$F$14=\"D\",$R$274,Table7[[#This Row],[Vo]]))","v":0},{"$f":"IF(AA$1=0,0,IF(Configuration!$F$15=\"D\",$R$274,Table7[[#This Row],[Vo]]))","v":0},{"$f":"IF(AB$1=0,0,IF(Configuration!$F$16=\"D\",$R$274,Table7[[#This Row],[Vo]]))","v":0},{"$f":"IF(AC$1=0,0,IF(Configuration!$F$17=\"D\",$R$274,Table7[[#This Row],[Vo]]))","v":0}]
[30.5,"NMS-240-48",5,{"$f":"Table2[[#This Row],[Output Voltage]]*Table2[[#This Row],[Module rated current]]","v":152.5},"K",{"$f":"IF(1200/Table2[[#This Row],[Module rated power]]>6,6,ROUNDDOWN(1200/Table2[[#This Row],[Module rated power]],0))","v":6},{"$f":"Table2[[#This Row],[Module rated power]]*Table2[[#This Row],[Available No. of Slot]]","v":915},{"$f":"ROUNDDOWN(Table2[[#This Row],[Max power per output]]/Table2[[#This Row],[Output Voltage]],2)","v":30},null,null,null,null,null,null,null,null,null,32.200000000000003,{"$f":"IF(S$1=0,0,IF(Configuration!$F$7=\"D\",$R$274,Table7[[#This Row],[Vo]]))","v":0},{"$f":"IF(T$1=0,0,IF(Configuration!$F$8=\"D\",$R$274,Table7[[#This Row],[Vo]]))","v":0},{"$f":"IF(U$1=0,0,IF(Configuration!$F$9=\"D\",$R$274,Table7[[#This Row],[Vo]]))","v":0},{"$f":"IF(V$1=0,0,IF(Configuration!$F$10=\"D\",$R$274,Table7[[#This Row],[Vo]]))","v":0},{"$f":"IF(W$1=0,0,IF(Configuration!$F$11=\"D\",$R$274,Table7[[#This Row],[Vo]]))","v":0},{"$f":"IF(X$1=0,0,IF(Configuration!$F$12=\"D\",$R$274,Table7[[#This Row],[Vo]]))","v":0},{"$f":"IF(Y$1=0,0,IF(Configuration!$F$13=\"D\",$R$274,Table7[[#This Row],[Vo]]))","v":0},{"$f":"IF(Z$1=0,0,IF(Configuration!$F$14=\"D\",$R$274,Table7[[#This Row],[Vo]]))","v":0},{"$f":"IF(AA$1=0,0,IF(Configuration!$F$15=\"D\",$R$274,Table7[[#This Row],[Vo]]))","v":0},{"$f":"IF(AB$1=0,0,IF(Configuration!$F$16=\"D\",$R$274,Table7[[#This Row],[Vo]]))","v":0},{"$f":"IF(AC$1=0,0,IF(Configuration!$F$17=\"D\",$R$274,Table7[[#This Row],[Vo]]))","v":0}]
[30.6,"NMS-240-48",5,{"$f":"Table2[[#This Row],[Output Voltage]]*Table2[[#This Row],[Module rated current]]","v":153},"K",{"$f":"IF(1200/Table2[[#This Row],[Module rated power]]>6,6,ROUNDDOWN(1200/Table2[[#This Row],[Module rated power]],0))","v":6},{"$f":"Table2[[#This Row],[Module rated power]]*Table2[[#This Row],[Available No. of Slot]]","v":918},{"$f":"ROUNDDOWN(Table2[[#This Row],[Max power per output]]/Table2[[#This Row],[Output Voltage]],2)","v":30},null,null,null,null,null,null,null,null,null,32.299999999999997,{"$f":"IF(S$1=0,0,IF(Configuration!$F$7=\"D\",$R$274,Table7[[#This Row],[Vo]]))","v":0},{"$f":"IF(T$1=0,0,IF(Configuration!$F$8=\"D\",$R$274,Table7[[#This Row],[Vo]]))","v":0},{"$f":"IF(U$1=0,0,IF(Configuration!$F$9=\"D\",$R$274,Table7[[#This Row],[Vo]]))","v":0},{"$f":"IF(V$1=0,0,IF(Configuration!$F$10=\"D\",$R$274,Table7[[#This Row],[Vo]]))","v":0},{"$f":"IF(W$1=0,0,IF(Configuration!$F$11=\"D\",$R$274,Table7[[#This Row],[Vo]]))","v":0},{"$f":"IF(X$1=0,0,IF(Configuration!$F$12=\"D\",$R$274,Table7[[#This Row],[Vo]]))","v":0},{"$f":"IF(Y$1=0,0,IF(Configuration!$F$13=\"D\",$R$274,Table7[[#This Row],[Vo]]))","v":0},{"$f":"IF(Z$1=0,0,IF(Configuration!$F$14=\"D\",$R$274,Table7[[#This Row],[Vo]]))","v":0},{"$f":"IF(AA$1=0,0,IF(Configuration!$F$15=\"D\",$R$274,Table7[[#This Row],[Vo]]))","v":0},{"$f":"IF(AB$1=0,0,IF(Configuration!$F$16=\"D\",$R$274,Table7[[#This Row],[Vo]]))","v":0},{"$f":"IF(AC$1=0,0,IF(Configuration!$F$17=\"D\",$R$274,Table7[[#This Row],[Vo]]))","v":0}]
[30.7,"NMS-240-48",5,{"$f":"Table2[[#This Row],[Output Voltage]]*Table2[[#This Row],[Module rated current]]","v":153.5},"K",{"$f":"IF(1200/Table2[[#This Row],[Module rated power]]>6,6,ROUNDDOWN(1200/Table2[[#This Row],[Module rated power]],0))","v":6},{"$f":"Table2[[#This Row],[Module rated power]]*Table2[[#This Row],[Available No. of Slot]]","v":921},{"$f":"ROUNDDOWN(Table2[[#This Row],[Max power per output]]/Table2[[#This Row],[Output Voltage]],2)","v":30},null,null,null,null,null,null,null,null,null,32.4,{"$f":"IF(S$1=0,0,IF(Configuration!$F$7=\"D\",$R$274,Table7[[#This Row],[Vo]]))","v":0},{"$f":"IF(T$1=0,0,IF(Configuration!$F$8=\"D\",$R$274,Table7[[#This Row],[Vo]]))","v":0},{"$f":"IF(U$1=0,0,IF(Configuration!$F$9=\"D\",$R$274,Table7[[#This Row],[Vo]]))","v":0},{"$f":"IF(V$1=0,0,IF(Configuration!$F$10=\"D\",$R$274,Table7[[#This Row],[Vo]]))","v":0},{"$f":"IF(W$1=0,0,IF(Configuration!$F$11=\"D\",$R$274,Table7[[#This Row],[Vo]]))","v":0},{"$f":"IF(X$1=0,0,IF(Configuration!$F$12=\"D\",$R$274,Table7[[#This Row],[Vo]]))","v":0},{"$f":"IF(Y$1=0,0,IF(Configuration!$F$13=\"D\",$R$274,Table7[[#This Row],[Vo]]))","v":0},{"$f":"IF(Z$1=0,0,IF(Configuration!$F$14=\"D\",$R$274,Table7[[#This Row],[Vo]]))","v":0},{"$f":"IF(AA$1=0,0,IF(Configuration!$F$15=\"D\",$R$274,Table7[[#This Row],[Vo]]))","v":0},{"$f":"IF(AB$1=0,0,IF(Configuration!$F$16=\"D\",$R$274,Table7[[#This Row],[Vo]]))","v":0},{"$f":"IF(AC$1=0,0,IF(Configuration!$F$17=\"D\",$R$274,Table7[[#This Row],[Vo]]))","v":0}]
[30.8,"NMS-240-48",5,{"$f":"Table2[[#This Row],[Output Voltage]]*Table2[[#This Row],[Module rated current]]","v":154},"K",{"$f":"IF(1200/Table2[[#This Row],[Module rated power]]>6,6,ROUNDDOWN(1200/Table2[[#This Row],[Module rated power]],0))","v":6},{"$f":"Table2[[#This Row],[Module rated power]]*Table2[[#This Row],[Available No. of Slot]]","v":924},{"$f":"ROUNDDOWN(Table2[[#This Row],[Max power per output]]/Table2[[#This Row],[Output Voltage]],2)","v":30},null,null,null,null,null,null,null,null,null,32.5,{"$f":"IF(S$1=0,0,IF(Configuration!$F$7=\"D\",$R$274,Table7[[#This Row],[Vo]]))","v":0},{"$f":"IF(T$1=0,0,IF(Configuration!$F$8=\"D\",$R$274,Table7[[#This Row],[Vo]]))","v":0},{"$f":"IF(U$1=0,0,IF(Configuration!$F$9=\"D\",$R$274,Table7[[#This Row],[Vo]]))","v":0},{"$f":"IF(V$1=0,0,IF(Configuration!$F$10=\"D\",$R$274,Table7[[#This Row],[Vo]]))","v":0},{"$f":"IF(W$1=0,0,IF(Configuration!$F$11=\"D\",$R$274,Table7[[#This Row],[Vo]]))","v":0},{"$f":"IF(X$1=0,0,IF(Configuration!$F$12=\"D\",$R$274,Table7[[#This Row],[Vo]]))","v":0},{"$f":"IF(Y$1=0,0,IF(Configuration!$F$13=\"D\",$R$274,Table7[[#This Row],[Vo]]))","v":0},{"$f":"IF(Z$1=0,0,IF(Configuration!$F$14=\"D\",$R$274,Table7[[#This Row],[Vo]]))","v":0},{"$f":"IF(AA$1=0,0,IF(Configuration!$F$15=\"D\",$R$274,Table7[[#This Row],[Vo]]))","v":0},{"$f":"IF(AB$1=0,0,IF(Configuration!$F$16=\"D\",$R$274,Table7[[#This Row],[Vo]]))","v":0},{"$f":"IF(AC$1=0,0,IF(Configuration!$F$17=\"D\",$R$274,Table7[[#This Row],[Vo]]))","v":0}]
[30.9,"NMS-240-48",5,{"$f":"Table2[[#This Row],[Output Voltage]]*Table2[[#This Row],[Module rated current]]","v":154.5},"K",{"$f":"IF(1200/Table2[[#This Row],[Module rated power]]>6,6,ROUNDDOWN(1200/Table2[[#This Row],[Module rated power]],0))","v":6},{"$f":"Table2[[#This Row],[Module rated power]]*Table2[[#This Row],[Available No. of Slot]]","v":927},{"$f":"ROUNDDOWN(Table2[[#This Row],[Max power per output]]/Table2[[#This Row],[Output Voltage]],2)","v":30},null,null,null,null,null,null,null,null,null,32.6,{"$f":"IF(S$1=0,0,IF(Configuration!$F$7=\"D\",$R$274,Table7[[#This Row],[Vo]]))","v":0},{"$f":"IF(T$1=0,0,IF(Configuration!$F$8=\"D\",$R$274,Table7[[#This Row],[Vo]]))","v":0},{"$f":"IF(U$1=0,0,IF(Configuration!$F$9=\"D\",$R$274,Table7[[#This Row],[Vo]]))","v":0},{"$f":"IF(V$1=0,0,IF(Configuration!$F$10=\"D\",$R$274,Table7[[#This Row],[Vo]]))","v":0},{"$f":"IF(W$1=0,0,IF(Configuration!$F$11=\"D\",$R$274,Table7[[#This Row],[Vo]]))","v":0},{"$f":"IF(X$1=0,0,IF(Configuration!$F$12=\"D\",$R$274,Table7[[#This Row],[Vo]]))","v":0},{"$f":"IF(Y$1=0,0,IF(Configuration!$F$13=\"D\",$R$274,Table7[[#This Row],[Vo]]))","v":0},{"$f":"IF(Z$1=0,0,IF(Configuration!$F$14=\"D\",$R$274,Table7[[#This Row],[Vo]]))","v":0},{"$f":"IF(AA$1=0,0,IF(Configuration!$F$15=\"D\",$R$274,Table7[[#This Row],[Vo]]))","v":0},{"$f":"IF(AB$1=0,0,IF(Configuration!$F$16=\"D\",$R$274,Table7[[#This Row],[Vo]]))","v":0},{"$f":"IF(AC$1=0,0,IF(Configuration!$F$17=\"D\",$R$274,Table7[[#This Row],[Vo]]))","v":0}]
[31,"NMS-240-48",5,{"$f":"Table2[[#This Row],[Output Voltage]]*Table2[[#This Row],[Module rated current]]","v":155},"K",{"$f":"IF(1200/Table2[[#This Row],[Module rated power]]>6,6,ROUNDDOWN(1200/Table2[[#This Row],[Module rated power]],0))","v":6},{"$f":"Table2[[#This Row],[Module rated power]]*Table2[[#This Row],[Available No. of Slot]]","v":930},{"$f":"ROUNDDOWN(Table2[[#This Row],[Max power per output]]/Table2[[#This Row],[Output Voltage]],2)","v":30},null,null,null,null,null,null,null,null,null,32.700000000000003,{"$f":"IF(S$1=0,0,IF(Configuration!$F$7=\"D\",$R$274,Table7[[#This Row],[Vo]]))","v":0},{"$f":"IF(T$1=0,0,IF(Configuration!$F$8=\"D\",$R$274,Table7[[#This Row],[Vo]]))","v":0},{"$f":"IF(U$1=0,0,IF(Configuration!$F$9=\"D\",$R$274,Table7[[#This Row],[Vo]]))","v":0},{"$f":"IF(V$1=0,0,IF(Configuration!$F$10=\"D\",$R$274,Table7[[#This Row],[Vo]]))","v":0},{"$f":"IF(W$1=0,0,IF(Configuration!$F$11=\"D\",$R$274,Table7[[#This Row],[Vo]]))","v":0},{"$f":"IF(X$1=0,0,IF(Configuration!$F$12=\"D\",$R$274,Table7[[#This Row],[Vo]]))","v":0},{"$f":"IF(Y$1=0,0,IF(Configuration!$F$13=\"D\",$R$274,Table7[[#This Row],[Vo]]))","v":0},{"$f":"IF(Z$1=0,0,IF(Configuration!$F$14=\"D\",$R$274,Table7[[#This Row],[Vo]]))","v":0},{"$f":"IF(AA$1=0,0,IF(Configuration!$F$15=\"D\",$R$274,Table7[[#This Row],[Vo]]))","v":0},{"$f":"IF(AB$1=0,0,IF(Configuration!$F$16=\"D\",$R$274,Table7[[#This Row],[Vo]]))","v":0},{"$f":"IF(AC$1=0,0,IF(Configuration!$F$17=\"D\",$R$274,Table7[[#This Row],[Vo]]))","v":0}]
[31.1,"NMS-240-48",5,{"$f":"Table2[[#This Row],[Output Voltage]]*Table2[[#This Row],[Module rated current]]","v":155.5},"K",{"$f":"IF(1200/Table2[[#This Row],[Module rated power]]>6,6,ROUNDDOWN(1200/Table2[[#This Row],[Module rated power]],0))","v":6},{"$f":"Table2[[#This Row],[Module rated power]]*Table2[[#This Row],[Available No. of Slot]]","v":933},{"$f":"ROUNDDOWN(Table2[[#This Row],[Max power per output]]/Table2[[#This Row],[Output Voltage]],2)","v":30},null,null,null,null,null,null,null,null,null,32.799999999999997,{"$f":"IF(S$1=0,0,IF(Configuration!$F$7=\"D\",$R$274,Table7[[#This Row],[Vo]]))","v":0},{"$f":"IF(T$1=0,0,IF(Configuration!$F$8=\"D\",$R$274,Table7[[#This Row],[Vo]]))","v":0},{"$f":"IF(U$1=0,0,IF(Configuration!$F$9=\"D\",$R$274,Table7[[#This Row],[Vo]]))","v":0},{"$f":"IF(V$1=0,0,IF(Configuration!$F$10=\"D\",$R$274,Table7[[#This Row],[Vo]]))","v":0},{"$f":"IF(W$1=0,0,IF(Configuration!$F$11=\"D\",$R$274,Table7[[#This Row],[Vo]]))","v":0},{"$f":"IF(X$1=0,0,IF(Configuration!$F$12=\"D\",$R$274,Table7[[#This Row],[Vo]]))","v":0},{"$f":"IF(Y$1=0,0,IF(Configuration!$F$13=\"D\",$R$274,Table7[[#This Row],[Vo]]))","v":0},{"$f":"IF(Z$1=0,0,IF(Configuration!$F$14=\"D\",$R$274,Table7[[#This Row],[Vo]]))","v":0},{"$f":"IF(AA$1=0,0,IF(Configuration!$F$15=\"D\",$R$274,Table7[[#This Row],[Vo]]))","v":0},{"$f":"IF(AB$1=0,0,IF(Configuration!$F$16=\"D\",$R$274,Table7[[#This Row],[Vo]]))","v":0},{"$f":"IF(AC$1=0,0,IF(Configuration!$F$17=\"D\",$R$274,Table7[[#This Row],[Vo]]))","v":0}]
[31.2,"NMS-240-48",5,{"$f":"Table2[[#This Row],[Output Voltage]]*Table2[[#This Row],[Module rated current]]","v":156},"K",{"$f":"IF(1200/Table2[[#This Row],[Module rated power]]>6,6,ROUNDDOWN(1200/Table2[[#This Row],[Module rated power]],0))","v":6},{"$f":"Table2[[#This Row],[Module rated power]]*Table2[[#This Row],[Available No. of Slot]]","v":936},{"$f":"ROUNDDOWN(Table2[[#This Row],[Max power per output]]/Table2[[#This Row],[Output Voltage]],2)","v":30},null,null,null,null,null,null,null,null,null,32.9,{"$f":"IF(S$1=0,0,IF(Configuration!$F$7=\"D\",$R$274,Table7[[#This Row],[Vo]]))","v":0},{"$f":"IF(T$1=0,0,IF(Configuration!$F$8=\"D\",$R$274,Table7[[#This Row],[Vo]]))","v":0},{"$f":"IF(U$1=0,0,IF(Configuration!$F$9=\"D\",$R$274,Table7[[#This Row],[Vo]]))","v":0},{"$f":"IF(V$1=0,0,IF(Configuration!$F$10=\"D\",$R$274,Table7[[#This Row],[Vo]]))","v":0},{"$f":"IF(W$1=0,0,IF(Configuration!$F$11=\"D\",$R$274,Table7[[#This Row],[Vo]]))","v":0},{"$f":"IF(X$1=0,0,IF(Configuration!$F$12=\"D\",$R$274,Table7[[#This Row],[Vo]]))","v":0},{"$f":"IF(Y$1=0,0,IF(Configuration!$F$13=\"D\",$R$274,Table7[[#This Row],[Vo]]))","v":0},{"$f":"IF(Z$1=0,0,IF(Configuration!$F$14=\"D\",$R$274,Table7[[#This Row],[Vo]]))","v":0},{"$f":"IF(AA$1=0,0,IF(Configuration!$F$15=\"D\",$R$274,Table7[[#This Row],[Vo]]))","v":0},{"$f":"IF(AB$1=0,0,IF(Configuration!$F$16=\"D\",$R$274,Table7[[#This Row],[Vo]]))","v":0},{"$f":"IF(AC$1=0,0,IF(Configuration!$F$17=\"D\",$R$274,Table7[[#This Row],[Vo]]))","v":0}]
[31.3,"NMS-240-48",5,{"$f":"Table2[[#This Row],[Output Voltage]]*Table2[[#This Row],[Module rated current]]","v":156.5},"K",{"$f":"IF(1200/Table2[[#This Row],[Module rated power]]>6,6,ROUNDDOWN(1200/Table2[[#This Row],[Module rated power]],0))","v":6},{"$f":"Table2[[#This Row],[Module rated power]]*Table2[[#This Row],[Available No. of Slot]]","v":939},{"$f":"ROUNDDOWN(Table2[[#This Row],[Max power per output]]/Table2[[#This Row],[Output Voltage]],2)","v":30},null,null,null,null,null,null,null,null,null,33,{"$f":"IF(S$1=0,0,IF(Configuration!$F$7=\"D\",$R$274,Table7[[#This Row],[Vo]]))","v":0},{"$f":"IF(T$1=0,0,IF(Configuration!$F$8=\"D\",$R$274,Table7[[#This Row],[Vo]]))","v":0},{"$f":"IF(U$1=0,0,IF(Configuration!$F$9=\"D\",$R$274,Table7[[#This Row],[Vo]]))","v":0},{"$f":"IF(V$1=0,0,IF(Configuration!$F$10=\"D\",$R$274,Table7[[#This Row],[Vo]]))","v":0},{"$f":"IF(W$1=0,0,IF(Configuration!$F$11=\"D\",$R$274,Table7[[#This Row],[Vo]]))","v":0},{"$f":"IF(X$1=0,0,IF(Configuration!$F$12=\"D\",$R$274,Table7[[#This Row],[Vo]]))","v":0},{"$f":"IF(Y$1=0,0,IF(Configuration!$F$13=\"D\",$R$274,Table7[[#This Row],[Vo]]))","v":0},{"$f":"IF(Z$1=0,0,IF(Configuration!$F$14=\"D\",$R$274,Table7[[#This Row],[Vo]]))","v":0},{"$f":"IF(AA$1=0,0,IF(Configuration!$F$15=\"D\",$R$274,Table7[[#This Row],[Vo]]))","v":0},{"$f":"IF(AB$1=0,0,IF(Configuration!$F$16=\"D\",$R$274,Table7[[#This Row],[Vo]]))","v":0},{"$f":"IF(AC$1=0,0,IF(Configuration!$F$17=\"D\",$R$274,Table7[[#This Row],[Vo]]))","v":0}]
[31.4,"NMS-240-48",5,{"$f":"Table2[[#This Row],[Output Voltage]]*Table2[[#This Row],[Module rated current]]","v":157},"K",{"$f":"IF(1200/Table2[[#This Row],[Module rated power]]>6,6,ROUNDDOWN(1200/Table2[[#This Row],[Module rated power]],0))","v":6},{"$f":"Table2[[#This Row],[Module rated power]]*Table2[[#This Row],[Available No. of Slot]]","v":942},{"$f":"ROUNDDOWN(Table2[[#This Row],[Max power per output]]/Table2[[#This Row],[Output Voltage]],2)","v":30},null,null,null,null,null,null,null,null,null,33.1,{"$f":"IF(S$1=0,0,IF(Configuration!$F$7=\"D\",$R$274,Table7[[#This Row],[Vo]]))","v":0},{"$f":"IF(T$1=0,0,IF(Configuration!$F$8=\"D\",$R$274,Table7[[#This Row],[Vo]]))","v":0},{"$f":"IF(U$1=0,0,IF(Configuration!$F$9=\"D\",$R$274,Table7[[#This Row],[Vo]]))","v":0},{"$f":"IF(V$1=0,0,IF(Configuration!$F$10=\"D\",$R$274,Table7[[#This Row],[Vo]]))","v":0},{"$f":"IF(W$1=0,0,IF(Configuration!$F$11=\"D\",$R$274,Table7[[#This Row],[Vo]]))","v":0},{"$f":"IF(X$1=0,0,IF(Configuration!$F$12=\"D\",$R$274,Table7[[#This Row],[Vo]]))","v":0},{"$f":"IF(Y$1=0,0,IF(Configuration!$F$13=\"D\",$R$274,Table7[[#This Row],[Vo]]))","v":0},{"$f":"IF(Z$1=0,0,IF(Configuration!$F$14=\"D\",$R$274,Table7[[#This Row],[Vo]]))","v":0},{"$f":"IF(AA$1=0,0,IF(Configuration!$F$15=\"D\",$R$274,Table7[[#This Row],[Vo]]))","v":0},{"$f":"IF(AB$1=0,0,IF(Configuration!$F$16=\"D\",$R$274,Table7[[#This Row],[Vo]]))","v":0},{"$f":"IF(AC$1=0,0,IF(Configuration!$F$17=\"D\",$R$274,Table7[[#This Row],[Vo]]))","v":0}]
[31.5,"NMS-240-48",5,{"$f":"Table2[[#This Row],[Output Voltage]]*Table2[[#This Row],[Module rated current]]","v":157.5},"K",{"$f":"IF(1200/Table2[[#This Row],[Module rated power]]>6,6,ROUNDDOWN(1200/Table2[[#This Row],[Module rated power]],0))","v":6},{"$f":"Table2[[#This Row],[Module rated power]]*Table2[[#This Row],[Available No. of Slot]]","v":945},{"$f":"ROUNDDOWN(Table2[[#This Row],[Max power per output]]/Table2[[#This Row],[Output Voltage]],2)","v":30},null,null,null,null,null,null,null,null,null,33.200000000000003,{"$f":"IF(S$1=0,0,IF(Configuration!$F$7=\"D\",$R$274,Table7[[#This Row],[Vo]]))","v":0},{"$f":"IF(T$1=0,0,IF(Configuration!$F$8=\"D\",$R$274,Table7[[#This Row],[Vo]]))","v":0},{"$f":"IF(U$1=0,0,IF(Configuration!$F$9=\"D\",$R$274,Table7[[#This Row],[Vo]]))","v":0},{"$f":"IF(V$1=0,0,IF(Configuration!$F$10=\"D\",$R$274,Table7[[#This Row],[Vo]]))","v":0},{"$f":"IF(W$1=0,0,IF(Configuration!$F$11=\"D\",$R$274,Table7[[#This Row],[Vo]]))","v":0},{"$f":"IF(X$1=0,0,IF(Configuration!$F$12=\"D\",$R$274,Table7[[#This Row],[Vo]]))","v":0},{"$f":"IF(Y$1=0,0,IF(Configuration!$F$13=\"D\",$R$274,Table7[[#This Row],[Vo]]))","v":0},{"$f":"IF(Z$1=0,0,IF(Configuration!$F$14=\"D\",$R$274,Table7[[#This Row],[Vo]]))","v":0},{"$f":"IF(AA$1=0,0,IF(Configuration!$F$15=\"D\",$R$274,Table7[[#This Row],[Vo]]))","v":0},{"$f":"IF(AB$1=0,0,IF(Configuration!$F$16=\"D\",$R$274,Table7[[#This Row],[Vo]]))","v":0},{"$f":"IF(AC$1=0,0,IF(Configuration!$F$17=\"D\",$R$274,Table7[[#This Row],[Vo]]))","v":0}]
[31.6,"NMS-240-48",5,{"$f":"Table2[[#This Row],[Output Voltage]]*Table2[[#This Row],[Module rated current]]","v":158},"K",{"$f":"IF(1200/Table2[[#This Row],[Module rated power]]>6,6,ROUNDDOWN(1200/Table2[[#This Row],[Module rated power]],0))","v":6},{"$f":"Table2[[#This Row],[Module rated power]]*Table2[[#This Row],[Available No. of Slot]]","v":948},{"$f":"ROUNDDOWN(Table2[[#This Row],[Max power per output]]/Table2[[#This Row],[Output Voltage]],2)","v":30},null,null,null,null,null,null,null,null,null,33.299999999999997,{"$f":"IF(S$1=0,0,IF(Configuration!$F$7=\"D\",$R$274,Table7[[#This Row],[Vo]]))","v":0},{"$f":"IF(T$1=0,0,IF(Configuration!$F$8=\"D\",$R$274,Table7[[#This Row],[Vo]]))","v":0},{"$f":"IF(U$1=0,0,IF(Configuration!$F$9=\"D\",$R$274,Table7[[#This Row],[Vo]]))","v":0},{"$f":"IF(V$1=0,0,IF(Configuration!$F$10=\"D\",$R$274,Table7[[#This Row],[Vo]]))","v":0},{"$f":"IF(W$1=0,0,IF(Configuration!$F$11=\"D\",$R$274,Table7[[#This Row],[Vo]]))","v":0},{"$f":"IF(X$1=0,0,IF(Configuration!$F$12=\"D\",$R$274,Table7[[#This Row],[Vo]]))","v":0},{"$f":"IF(Y$1=0,0,IF(Configuration!$F$13=\"D\",$R$274,Table7[[#This Row],[Vo]]))","v":0},{"$f":"IF(Z$1=0,0,IF(Configuration!$F$14=\"D\",$R$274,Table7[[#This Row],[Vo]]))","v":0},{"$f":"IF(AA$1=0,0,IF(Configuration!$F$15=\"D\",$R$274,Table7[[#This Row],[Vo]]))","v":0},{"$f":"IF(AB$1=0,0,IF(Configuration!$F$16=\"D\",$R$274,Table7[[#This Row],[Vo]]))","v":0},{"$f":"IF(AC$1=0,0,IF(Configuration!$F$17=\"D\",$R$274,Table7[[#This Row],[Vo]]))","v":0}]
[31.7,"NMS-240-48",5,{"$f":"Table2[[#This Row],[Output Voltage]]*Table2[[#This Row],[Module rated current]]","v":158.5},"K",{"$f":"IF(1200/Table2[[#This Row],[Module rated power]]>6,6,ROUNDDOWN(1200/Table2[[#This Row],[Module rated power]],0))","v":6},{"$f":"Table2[[#This Row],[Module rated power]]*Table2[[#This Row],[Available No. of Slot]]","v":951},{"$f":"ROUNDDOWN(Table2[[#This Row],[Max power per output]]/Table2[[#This Row],[Output Voltage]],2)","v":30},null,null,null,null,null,null,null,null,null,33.4,{"$f":"IF(S$1=0,0,IF(Configuration!$F$7=\"D\",$R$274,Table7[[#This Row],[Vo]]))","v":0},{"$f":"IF(T$1=0,0,IF(Configuration!$F$8=\"D\",$R$274,Table7[[#This Row],[Vo]]))","v":0},{"$f":"IF(U$1=0,0,IF(Configuration!$F$9=\"D\",$R$274,Table7[[#This Row],[Vo]]))","v":0},{"$f":"IF(V$1=0,0,IF(Configuration!$F$10=\"D\",$R$274,Table7[[#This Row],[Vo]]))","v":0},{"$f":"IF(W$1=0,0,IF(Configuration!$F$11=\"D\",$R$274,Table7[[#This Row],[Vo]]))","v":0},{"$f":"IF(X$1=0,0,IF(Configuration!$F$12=\"D\",$R$274,Table7[[#This Row],[Vo]]))","v":0},{"$f":"IF(Y$1=0,0,IF(Configuration!$F$13=\"D\",$R$274,Table7[[#This Row],[Vo]]))","v":0},{"$f":"IF(Z$1=0,0,IF(Configuration!$F$14=\"D\",$R$274,Table7[[#This Row],[Vo]]))","v":0},{"$f":"IF(AA$1=0,0,IF(Configuration!$F$15=\"D\",$R$274,Table7[[#This Row],[Vo]]))","v":0},{"$f":"IF(AB$1=0,0,IF(Configuration!$F$16=\"D\",$R$274,Table7[[#This Row],[Vo]]))","v":0},{"$f":"IF(AC$1=0,0,IF(Configuration!$F$17=\"D\",$R$274,Table7[[#This Row],[Vo]]))","v":0}]
[31.8,"NMS-240-48",5,{"$f":"Table2[[#This Row],[Output Voltage]]*Table2[[#This Row],[Module rated current]]","v":159},"K",{"$f":"IF(1200/Table2[[#This Row],[Module rated power]]>6,6,ROUNDDOWN(1200/Table2[[#This Row],[Module rated power]],0))","v":6},{"$f":"Table2[[#This Row],[Module rated power]]*Table2[[#This Row],[Available No. of Slot]]","v":954},{"$f":"ROUNDDOWN(Table2[[#This Row],[Max power per output]]/Table2[[#This Row],[Output Voltage]],2)","v":30},null,null,null,null,null,null,null,null,null,33.5,{"$f":"IF(S$1=0,0,IF(Configuration!$F$7=\"D\",$R$274,Table7[[#This Row],[Vo]]))","v":0},{"$f":"IF(T$1=0,0,IF(Configuration!$F$8=\"D\",$R$274,Table7[[#This Row],[Vo]]))","v":0},{"$f":"IF(U$1=0,0,IF(Configuration!$F$9=\"D\",$R$274,Table7[[#This Row],[Vo]]))","v":0},{"$f":"IF(V$1=0,0,IF(Configuration!$F$10=\"D\",$R$274,Table7[[#This Row],[Vo]]))","v":0},{"$f":"IF(W$1=0,0,IF(Configuration!$F$11=\"D\",$R$274,Table7[[#This Row],[Vo]]))","v":0},{"$f":"IF(X$1=0,0,IF(Configuration!$F$12=\"D\",$R$274,Table7[[#This Row],[Vo]]))","v":0},{"$f":"IF(Y$1=0,0,IF(Configuration!$F$13=\"D\",$R$274,Table7[[#This Row],[Vo]]))","v":0},{"$f":"IF(Z$1=0,0,IF(Configuration!$F$14=\"D\",$R$274,Table7[[#This Row],[Vo]]))","v":0},{"$f":"IF(AA$1=0,0,IF(Configuration!$F$15=\"D\",$R$274,Table7[[#This Row],[Vo]]))","v":0},{"$f":"IF(AB$1=0,0,IF(Configuration!$F$16=\"D\",$R$274,Table7[[#This Row],[Vo]]))","v":0},{"$f":"IF(AC$1=0,0,IF(Configuration!$F$17=\"D\",$R$274,Table7[[#This Row],[Vo]]))","v":0}]
[31.9,"NMS-240-48",5,{"$f":"Table2[[#This Row],[Output Voltage]]*Table2[[#This Row],[Module rated current]]","v":159.5},"K",{"$f":"IF(1200/Table2[[#This Row],[Module rated power]]>6,6,ROUNDDOWN(1200/Table2[[#This Row],[Module rated power]],0))","v":6},{"$f":"Table2[[#This Row],[Module rated power]]*Table2[[#This Row],[Available No. of Slot]]","v":957},{"$f":"ROUNDDOWN(Table2[[#This Row],[Max power per output]]/Table2[[#This Row],[Output Voltage]],2)","v":30},null,null,null,null,null,null,null,null,null,33.6,{"$f":"IF(S$1=0,0,IF(Configuration!$F$7=\"D\",$R$274,Table7[[#This Row],[Vo]]))","v":0},{"$f":"IF(T$1=0,0,IF(Configuration!$F$8=\"D\",$R$274,Table7[[#This Row],[Vo]]))","v":0},{"$f":"IF(U$1=0,0,IF(Configuration!$F$9=\"D\",$R$274,Table7[[#This Row],[Vo]]))","v":0},{"$f":"IF(V$1=0,0,IF(Configuration!$F$10=\"D\",$R$274,Table7[[#This Row],[Vo]]))","v":0},{"$f":"IF(W$1=0,0,IF(Configuration!$F$11=\"D\",$R$274,Table7[[#This Row],[Vo]]))","v":0},{"$f":"IF(X$1=0,0,IF(Configuration!$F$12=\"D\",$R$274,Table7[[#This Row],[Vo]]))","v":0},{"$f":"IF(Y$1=0,0,IF(Configuration!$F$13=\"D\",$R$274,Table7[[#This Row],[Vo]]))","v":0},{"$f":"IF(Z$1=0,0,IF(Configuration!$F$14=\"D\",$R$274,Table7[[#This Row],[Vo]]))","v":0},{"$f":"IF(AA$1=0,0,IF(Configuration!$F$15=\"D\",$R$274,Table7[[#This Row],[Vo]]))","v":0},{"$f":"IF(AB$1=0,0,IF(Configuration!$F$16=\"D\",$R$274,Table7[[#This Row],[Vo]]))","v":0},{"$f":"IF(AC$1=0,0,IF(Configuration!$F$17=\"D\",$R$274,Table7[[#This Row],[Vo]]))","v":0}]
[32,"NMS-240-48",5,{"$f":"Table2[[#This Row],[Output Voltage]]*Table2[[#This Row],[Module rated current]]","v":160},"K",{"$f":"IF(1200/Table2[[#This Row],[Module rated power]]>6,6,ROUNDDOWN(1200/Table2[[#This Row],[Module rated power]],0))","v":6},{"$f":"Table2[[#This Row],[Module rated power]]*Table2[[#This Row],[Available No. of Slot]]","v":960},{"$f":"ROUNDDOWN(Table2[[#This Row],[Max power per output]]/Table2[[#This Row],[Output Voltage]],2)","v":30},null,null,null,null,null,null,null,null,null,33.700000000000003,{"$f":"IF(S$1=0,0,IF(Configuration!$F$7=\"D\",$R$274,Table7[[#This Row],[Vo]]))","v":0},{"$f":"IF(T$1=0,0,IF(Configuration!$F$8=\"D\",$R$274,Table7[[#This Row],[Vo]]))","v":0},{"$f":"IF(U$1=0,0,IF(Configuration!$F$9=\"D\",$R$274,Table7[[#This Row],[Vo]]))","v":0},{"$f":"IF(V$1=0,0,IF(Configuration!$F$10=\"D\",$R$274,Table7[[#This Row],[Vo]]))","v":0},{"$f":"IF(W$1=0,0,IF(Configuration!$F$11=\"D\",$R$274,Table7[[#This Row],[Vo]]))","v":0},{"$f":"IF(X$1=0,0,IF(Configuration!$F$12=\"D\",$R$274,Table7[[#This Row],[Vo]]))","v":0},{"$f":"IF(Y$1=0,0,IF(Configuration!$F$13=\"D\",$R$274,Table7[[#This Row],[Vo]]))","v":0},{"$f":"IF(Z$1=0,0,IF(Configuration!$F$14=\"D\",$R$274,Table7[[#This Row],[Vo]]))","v":0},{"$f":"IF(AA$1=0,0,IF(Configuration!$F$15=\"D\",$R$274,Table7[[#This Row],[Vo]]))","v":0},{"$f":"IF(AB$1=0,0,IF(Configuration!$F$16=\"D\",$R$274,Table7[[#This Row],[Vo]]))","v":0},{"$f":"IF(AC$1=0,0,IF(Configuration!$F$17=\"D\",$R$274,Table7[[#This Row],[Vo]]))","v":0}]
[32.1,"NMS-240-48",5,{"$f":"Table2[[#This Row],[Output Voltage]]*Table2[[#This Row],[Module rated current]]","v":160.5},"K",{"$f":"IF(1200/Table2[[#This Row],[Module rated power]]>6,6,ROUNDDOWN(1200/Table2[[#This Row],[Module rated power]],0))","v":6},{"$f":"Table2[[#This Row],[Module rated power]]*Table2[[#This Row],[Available No. of Slot]]","v":963},{"$f":"ROUNDDOWN(Table2[[#This Row],[Max power per output]]/Table2[[#This Row],[Output Voltage]],2)","v":30},null,null,null,null,null,null,null,null,null,33.799999999999997,{"$f":"IF(S$1=0,0,IF(Configuration!$F$7=\"D\",$R$274,Table7[[#This Row],[Vo]]))","v":0},{"$f":"IF(T$1=0,0,IF(Configuration!$F$8=\"D\",$R$274,Table7[[#This Row],[Vo]]))","v":0},{"$f":"IF(U$1=0,0,IF(Configuration!$F$9=\"D\",$R$274,Table7[[#This Row],[Vo]]))","v":0},{"$f":"IF(V$1=0,0,IF(Configuration!$F$10=\"D\",$R$274,Table7[[#This Row],[Vo]]))","v":0},{"$f":"IF(W$1=0,0,IF(Configuration!$F$11=\"D\",$R$274,Table7[[#This Row],[Vo]]))","v":0},{"$f":"IF(X$1=0,0,IF(Configuration!$F$12=\"D\",$R$274,Table7[[#This Row],[Vo]]))","v":0},{"$f":"IF(Y$1=0,0,IF(Configuration!$F$13=\"D\",$R$274,Table7[[#This Row],[Vo]]))","v":0},{"$f":"IF(Z$1=0,0,IF(Configuration!$F$14=\"D\",$R$274,Table7[[#This Row],[Vo]]))","v":0},{"$f":"IF(AA$1=0,0,IF(Configuration!$F$15=\"D\",$R$274,Table7[[#This Row],[Vo]]))","v":0},{"$f":"IF(AB$1=0,0,IF(Configuration!$F$16=\"D\",$R$274,Table7[[#This Row],[Vo]]))","v":0},{"$f":"IF(AC$1=0,0,IF(Configuration!$F$17=\"D\",$R$274,Table7[[#This Row],[Vo]]))","v":0}]
[32.200000000000003,"NMS-240-48",5,{"$f":"Table2[[#This Row],[Output Voltage]]*Table2[[#This Row],[Module rated current]]","v":161},"K",{"$f":"IF(1200/Table2[[#This Row],[Module rated power]]>6,6,ROUNDDOWN(1200/Table2[[#This Row],[Module rated power]],0))","v":6},{"$f":"Table2[[#This Row],[Module rated power]]*Table2[[#This Row],[Available No. of Slot]]","v":966},{"$f":"ROUNDDOWN(Table2[[#This Row],[Max power per output]]/Table2[[#This Row],[Output Voltage]],2)","v":30},null,null,null,null,null,null,null,null,null,33.9,{"$f":"IF(S$1=0,0,IF(Configuration!$F$7=\"D\",$R$274,Table7[[#This Row],[Vo]]))","v":0},{"$f":"IF(T$1=0,0,IF(Configuration!$F$8=\"D\",$R$274,Table7[[#This Row],[Vo]]))","v":0},{"$f":"IF(U$1=0,0,IF(Configuration!$F$9=\"D\",$R$274,Table7[[#This Row],[Vo]]))","v":0},{"$f":"IF(V$1=0,0,IF(Configuration!$F$10=\"D\",$R$274,Table7[[#This Row],[Vo]]))","v":0},{"$f":"IF(W$1=0,0,IF(Configuration!$F$11=\"D\",$R$274,Table7[[#This Row],[Vo]]))","v":0},{"$f":"IF(X$1=0,0,IF(Configuration!$F$12=\"D\",$R$274,Table7[[#This Row],[Vo]]))","v":0},{"$f":"IF(Y$1=0,0,IF(Configuration!$F$13=\"D\",$R$274,Table7[[#This Row],[Vo]]))","v":0},{"$f":"IF(Z$1=0,0,IF(Configuration!$F$14=\"D\",$R$274,Table7[[#This Row],[Vo]]))","v":0},{"$f":"IF(AA$1=0,0,IF(Configuration!$F$15=\"D\",$R$274,Table7[[#This Row],[Vo]]))","v":0},{"$f":"IF(AB$1=0,0,IF(Configuration!$F$16=\"D\",$R$274,Table7[[#This Row],[Vo]]))","v":0},{"$f":"IF(AC$1=0,0,IF(Configuration!$F$17=\"D\",$R$274,Table7[[#This Row],[Vo]]))","v":0}]
[32.299999999999997,"NMS-240-48",5,{"$f":"Table2[[#This Row],[Output Voltage]]*Table2[[#This Row],[Module rated current]]","v":161.5},"K",{"$f":"IF(1200/Table2[[#This Row],[Module rated power]]>6,6,ROUNDDOWN(1200/Table2[[#This Row],[Module rated power]],0))","v":6},{"$f":"Table2[[#This Row],[Module rated power]]*Table2[[#This Row],[Available No. of Slot]]","v":969},{"$f":"ROUNDDOWN(Table2[[#This Row],[Max power per output]]/Table2[[#This Row],[Output Voltage]],2)","v":30},null,null,null,null,null,null,null,null,null,34,{"$f":"IF(S$1=0,0,IF(Configuration!$F$7=\"D\",$R$274,Table7[[#This Row],[Vo]]))","v":0},{"$f":"IF(T$1=0,0,IF(Configuration!$F$8=\"D\",$R$274,Table7[[#This Row],[Vo]]))","v":0},{"$f":"IF(U$1=0,0,IF(Configuration!$F$9=\"D\",$R$274,Table7[[#This Row],[Vo]]))","v":0},{"$f":"IF(V$1=0,0,IF(Configuration!$F$10=\"D\",$R$274,Table7[[#This Row],[Vo]]))","v":0},{"$f":"IF(W$1=0,0,IF(Configuration!$F$11=\"D\",$R$274,Table7[[#This Row],[Vo]]))","v":0},{"$f":"IF(X$1=0,0,IF(Configuration!$F$12=\"D\",$R$274,Table7[[#This Row],[Vo]]))","v":0},{"$f":"IF(Y$1=0,0,IF(Configuration!$F$13=\"D\",$R$274,Table7[[#This Row],[Vo]]))","v":0},{"$f":"IF(Z$1=0,0,IF(Configuration!$F$14=\"D\",$R$274,Table7[[#This Row],[Vo]]))","v":0},{"$f":"IF(AA$1=0,0,IF(Configuration!$F$15=\"D\",$R$274,Table7[[#This Row],[Vo]]))","v":0},{"$f":"IF(AB$1=0,0,IF(Configuration!$F$16=\"D\",$R$274,Table7[[#This Row],[Vo]]))","v":0},{"$f":"IF(AC$1=0,0,IF(Configuration!$F$17=\"D\",$R$274,Table7[[#This Row],[Vo]]))","v":0}]
[32.4,"NMS-240-48",5,{"$f":"Table2[[#This Row],[Output Voltage]]*Table2[[#This Row],[Module rated current]]","v":162},"K",{"$f":"IF(1200/Table2[[#This Row],[Module rated power]]>6,6,ROUNDDOWN(1200/Table2[[#This Row],[Module rated power]],0))","v":6},{"$f":"Table2[[#This Row],[Module rated power]]*Table2[[#This Row],[Available No. of Slot]]","v":972},{"$f":"ROUNDDOWN(Table2[[#This Row],[Max power per output]]/Table2[[#This Row],[Output Voltage]],2)","v":30},null,null,null,null,null,null,null,null,null,34.1,{"$f":"IF(S$1=0,0,IF(Configuration!$F$7=\"D\",$R$274,Table7[[#This Row],[Vo]]))","v":0},{"$f":"IF(T$1=0,0,IF(Configuration!$F$8=\"D\",$R$274,Table7[[#This Row],[Vo]]))","v":0},{"$f":"IF(U$1=0,0,IF(Configuration!$F$9=\"D\",$R$274,Table7[[#This Row],[Vo]]))","v":0},{"$f":"IF(V$1=0,0,IF(Configuration!$F$10=\"D\",$R$274,Table7[[#This Row],[Vo]]))","v":0},{"$f":"IF(W$1=0,0,IF(Configuration!$F$11=\"D\",$R$274,Table7[[#This Row],[Vo]]))","v":0},{"$f":"IF(X$1=0,0,IF(Configuration!$F$12=\"D\",$R$274,Table7[[#This Row],[Vo]]))","v":0},{"$f":"IF(Y$1=0,0,IF(Configuration!$F$13=\"D\",$R$274,Table7[[#This Row],[Vo]]))","v":0},{"$f":"IF(Z$1=0,0,IF(Configuration!$F$14=\"D\",$R$274,Table7[[#This Row],[Vo]]))","v":0},{"$f":"IF(AA$1=0,0,IF(Configuration!$F$15=\"D\",$R$274,Table7[[#This Row],[Vo]]))","v":0},{"$f":"IF(AB$1=0,0,IF(Configuration!$F$16=\"D\",$R$274,Table7[[#This Row],[Vo]]))","v":0},{"$f":"IF(AC$1=0,0,IF(Configuration!$F$17=\"D\",$R$274,Table7[[#This Row],[Vo]]))","v":0}]
[32.5,"NMS-240-48",5,{"$f":"Table2[[#This Row],[Output Voltage]]*Table2[[#This Row],[Module rated current]]","v":162.5},"K",{"$f":"IF(1200/Table2[[#This Row],[Module rated power]]>6,6,ROUNDDOWN(1200/Table2[[#This Row],[Module rated power]],0))","v":6},{"$f":"Table2[[#This Row],[Module rated power]]*Table2[[#This Row],[Available No. of Slot]]","v":975},{"$f":"ROUNDDOWN(Table2[[#This Row],[Max power per output]]/Table2[[#This Row],[Output Voltage]],2)","v":30},null,null,null,null,null,null,null,null,null,34.200000000000003,{"$f":"IF(S$1=0,0,IF(Configuration!$F$7=\"D\",$R$274,Table7[[#This Row],[Vo]]))","v":0},{"$f":"IF(T$1=0,0,IF(Configuration!$F$8=\"D\",$R$274,Table7[[#This Row],[Vo]]))","v":0},{"$f":"IF(U$1=0,0,IF(Configuration!$F$9=\"D\",$R$274,Table7[[#This Row],[Vo]]))","v":0},{"$f":"IF(V$1=0,0,IF(Configuration!$F$10=\"D\",$R$274,Table7[[#This Row],[Vo]]))","v":0},{"$f":"IF(W$1=0,0,IF(Configuration!$F$11=\"D\",$R$274,Table7[[#This Row],[Vo]]))","v":0},{"$f":"IF(X$1=0,0,IF(Configuration!$F$12=\"D\",$R$274,Table7[[#This Row],[Vo]]))","v":0},{"$f":"IF(Y$1=0,0,IF(Configuration!$F$13=\"D\",$R$274,Table7[[#This Row],[Vo]]))","v":0},{"$f":"IF(Z$1=0,0,IF(Configuration!$F$14=\"D\",$R$274,Table7[[#This Row],[Vo]]))","v":0},{"$f":"IF(AA$1=0,0,IF(Configuration!$F$15=\"D\",$R$274,Table7[[#This Row],[Vo]]))","v":0},{"$f":"IF(AB$1=0,0,IF(Configuration!$F$16=\"D\",$R$274,Table7[[#This Row],[Vo]]))","v":0},{"$f":"IF(AC$1=0,0,IF(Configuration!$F$17=\"D\",$R$274,Table7[[#This Row],[Vo]]))","v":0}]
[32.6,"NMS-240-48",5,{"$f":"Table2[[#This Row],[Output Voltage]]*Table2[[#This Row],[Module rated current]]","v":163},"K",{"$f":"IF(1200/Table2[[#This Row],[Module rated power]]>6,6,ROUNDDOWN(1200/Table2[[#This Row],[Module rated power]],0))","v":6},{"$f":"Table2[[#This Row],[Module rated power]]*Table2[[#This Row],[Available No. of Slot]]","v":978},{"$f":"ROUNDDOWN(Table2[[#This Row],[Max power per output]]/Table2[[#This Row],[Output Voltage]],2)","v":30},null,null,null,null,null,null,null,null,null,34.299999999999997,{"$f":"IF(S$1=0,0,IF(Configuration!$F$7=\"D\",$R$274,Table7[[#This Row],[Vo]]))","v":0},{"$f":"IF(T$1=0,0,IF(Configuration!$F$8=\"D\",$R$274,Table7[[#This Row],[Vo]]))","v":0},{"$f":"IF(U$1=0,0,IF(Configuration!$F$9=\"D\",$R$274,Table7[[#This Row],[Vo]]))","v":0},{"$f":"IF(V$1=0,0,IF(Configuration!$F$10=\"D\",$R$274,Table7[[#This Row],[Vo]]))","v":0},{"$f":"IF(W$1=0,0,IF(Configuration!$F$11=\"D\",$R$274,Table7[[#This Row],[Vo]]))","v":0},{"$f":"IF(X$1=0,0,IF(Configuration!$F$12=\"D\",$R$274,Table7[[#This Row],[Vo]]))","v":0},{"$f":"IF(Y$1=0,0,IF(Configuration!$F$13=\"D\",$R$274,Table7[[#This Row],[Vo]]))","v":0},{"$f":"IF(Z$1=0,0,IF(Configuration!$F$14=\"D\",$R$274,Table7[[#This Row],[Vo]]))","v":0},{"$f":"IF(AA$1=0,0,IF(Configuration!$F$15=\"D\",$R$274,Table7[[#This Row],[Vo]]))","v":0},{"$f":"IF(AB$1=0,0,IF(Configuration!$F$16=\"D\",$R$274,Table7[[#This Row],[Vo]]))","v":0},{"$f":"IF(AC$1=0,0,IF(Configuration!$F$17=\"D\",$R$274,Table7[[#This Row],[Vo]]))","v":0}]
[32.700000000000003,"NMS-240-48",5,{"$f":"Table2[[#This Row],[Output Voltage]]*Table2[[#This Row],[Module rated current]]","v":163.5},"K",{"$f":"IF(1200/Table2[[#This Row],[Module rated power]]>6,6,ROUNDDOWN(1200/Table2[[#This Row],[Module rated power]],0))","v":6},{"$f":"Table2[[#This Row],[Module rated power]]*Table2[[#This Row],[Available No. of Slot]]","v":981},{"$f":"ROUNDDOWN(Table2[[#This Row],[Max power per output]]/Table2[[#This Row],[Output Voltage]],2)","v":30},null,null,null,null,null,null,null,null,null,34.4,{"$f":"IF(S$1=0,0,IF(Configuration!$F$7=\"D\",$R$274,Table7[[#This Row],[Vo]]))","v":0},{"$f":"IF(T$1=0,0,IF(Configuration!$F$8=\"D\",$R$274,Table7[[#This Row],[Vo]]))","v":0},{"$f":"IF(U$1=0,0,IF(Configuration!$F$9=\"D\",$R$274,Table7[[#This Row],[Vo]]))","v":0},{"$f":"IF(V$1=0,0,IF(Configuration!$F$10=\"D\",$R$274,Table7[[#This Row],[Vo]]))","v":0},{"$f":"IF(W$1=0,0,IF(Configuration!$F$11=\"D\",$R$274,Table7[[#This Row],[Vo]]))","v":0},{"$f":"IF(X$1=0,0,IF(Configuration!$F$12=\"D\",$R$274,Table7[[#This Row],[Vo]]))","v":0},{"$f":"IF(Y$1=0,0,IF(Configuration!$F$13=\"D\",$R$274,Table7[[#This Row],[Vo]]))","v":0},{"$f":"IF(Z$1=0,0,IF(Configuration!$F$14=\"D\",$R$274,Table7[[#This Row],[Vo]]))","v":0},{"$f":"IF(AA$1=0,0,IF(Configuration!$F$15=\"D\",$R$274,Table7[[#This Row],[Vo]]))","v":0},{"$f":"IF(AB$1=0,0,IF(Configuration!$F$16=\"D\",$R$274,Table7[[#This Row],[Vo]]))","v":0},{"$f":"IF(AC$1=0,0,IF(Configuration!$F$17=\"D\",$R$274,Table7[[#This Row],[Vo]]))","v":0}]
[32.799999999999997,"NMS-240-48",5,{"$f":"Table2[[#This Row],[Output Voltage]]*Table2[[#This Row],[Module rated current]]","v":164},"K",{"$f":"IF(1200/Table2[[#This Row],[Module rated power]]>6,6,ROUNDDOWN(1200/Table2[[#This Row],[Module rated power]],0))","v":6},{"$f":"Table2[[#This Row],[Module rated power]]*Table2[[#This Row],[Available No. of Slot]]","v":984},{"$f":"ROUNDDOWN(Table2[[#This Row],[Max power per output]]/Table2[[#This Row],[Output Voltage]],2)","v":30},null,null,null,null,null,null,null,null,null,34.5,{"$f":"IF(S$1=0,0,IF(Configuration!$F$7=\"D\",$R$274,Table7[[#This Row],[Vo]]))","v":0},{"$f":"IF(T$1=0,0,IF(Configuration!$F$8=\"D\",$R$274,Table7[[#This Row],[Vo]]))","v":0},{"$f":"IF(U$1=0,0,IF(Configuration!$F$9=\"D\",$R$274,Table7[[#This Row],[Vo]]))","v":0},{"$f":"IF(V$1=0,0,IF(Configuration!$F$10=\"D\",$R$274,Table7[[#This Row],[Vo]]))","v":0},{"$f":"IF(W$1=0,0,IF(Configuration!$F$11=\"D\",$R$274,Table7[[#This Row],[Vo]]))","v":0},{"$f":"IF(X$1=0,0,IF(Configuration!$F$12=\"D\",$R$274,Table7[[#This Row],[Vo]]))","v":0},{"$f":"IF(Y$1=0,0,IF(Configuration!$F$13=\"D\",$R$274,Table7[[#This Row],[Vo]]))","v":0},{"$f":"IF(Z$1=0,0,IF(Configuration!$F$14=\"D\",$R$274,Table7[[#This Row],[Vo]]))","v":0},{"$f":"IF(AA$1=0,0,IF(Configuration!$F$15=\"D\",$R$274,Table7[[#This Row],[Vo]]))","v":0},{"$f":"IF(AB$1=0,0,IF(Configuration!$F$16=\"D\",$R$274,Table7[[#This Row],[Vo]]))","v":0},{"$f":"IF(AC$1=0,0,IF(Configuration!$F$17=\"D\",$R$274,Table7[[#This Row],[Vo]]))","v":0}]
[32.9,"NMS-240-48",5,{"$f":"Table2[[#This Row],[Output Voltage]]*Table2[[#This Row],[Module rated current]]","v":164.5},"K",{"$f":"IF(1200/Table2[[#This Row],[Module rated power]]>6,6,ROUNDDOWN(1200/Table2[[#This Row],[Module rated power]],0))","v":6},{"$f":"Table2[[#This Row],[Module rated power]]*Table2[[#This Row],[Available No. of Slot]]","v":987},{"$f":"ROUNDDOWN(Table2[[#This Row],[Max power per output]]/Table2[[#This Row],[Output Voltage]],2)","v":30},null,null,null,null,null,null,null,null,null,34.6,{"$f":"IF(S$1=0,0,IF(Configuration!$F$7=\"D\",$R$274,Table7[[#This Row],[Vo]]))","v":0},{"$f":"IF(T$1=0,0,IF(Configuration!$F$8=\"D\",$R$274,Table7[[#This Row],[Vo]]))","v":0},{"$f":"IF(U$1=0,0,IF(Configuration!$F$9=\"D\",$R$274,Table7[[#This Row],[Vo]]))","v":0},{"$f":"IF(V$1=0,0,IF(Configuration!$F$10=\"D\",$R$274,Table7[[#This Row],[Vo]]))","v":0},{"$f":"IF(W$1=0,0,IF(Configuration!$F$11=\"D\",$R$274,Table7[[#This Row],[Vo]]))","v":0},{"$f":"IF(X$1=0,0,IF(Configuration!$F$12=\"D\",$R$274,Table7[[#This Row],[Vo]]))","v":0},{"$f":"IF(Y$1=0,0,IF(Configuration!$F$13=\"D\",$R$274,Table7[[#This Row],[Vo]]))","v":0},{"$f":"IF(Z$1=0,0,IF(Configuration!$F$14=\"D\",$R$274,Table7[[#This Row],[Vo]]))","v":0},{"$f":"IF(AA$1=0,0,IF(Configuration!$F$15=\"D\",$R$274,Table7[[#This Row],[Vo]]))","v":0},{"$f":"IF(AB$1=0,0,IF(Configuration!$F$16=\"D\",$R$274,Table7[[#This Row],[Vo]]))","v":0},{"$f":"IF(AC$1=0,0,IF(Configuration!$F$17=\"D\",$R$274,Table7[[#This Row],[Vo]]))","v":0}]
[33,"NMS-240-48",5,{"$f":"Table2[[#This Row],[Output Voltage]]*Table2[[#This Row],[Module rated current]]","v":165},"K",{"$f":"IF(1200/Table2[[#This Row],[Module rated power]]>6,6,ROUNDDOWN(1200/Table2[[#This Row],[Module rated power]],0))","v":6},{"$f":"Table2[[#This Row],[Module rated power]]*Table2[[#This Row],[Available No. of Slot]]","v":990},{"$f":"ROUNDDOWN(Table2[[#This Row],[Max power per output]]/Table2[[#This Row],[Output Voltage]],2)","v":30},null,null,null,null,null,null,null,null,null,34.700000000000003,{"$f":"IF(S$1=0,0,IF(Configuration!$F$7=\"D\",$R$274,Table7[[#This Row],[Vo]]))","v":0},{"$f":"IF(T$1=0,0,IF(Configuration!$F$8=\"D\",$R$274,Table7[[#This Row],[Vo]]))","v":0},{"$f":"IF(U$1=0,0,IF(Configuration!$F$9=\"D\",$R$274,Table7[[#This Row],[Vo]]))","v":0},{"$f":"IF(V$1=0,0,IF(Configuration!$F$10=\"D\",$R$274,Table7[[#This Row],[Vo]]))","v":0},{"$f":"IF(W$1=0,0,IF(Configuration!$F$11=\"D\",$R$274,Table7[[#This Row],[Vo]]))","v":0},{"$f":"IF(X$1=0,0,IF(Configuration!$F$12=\"D\",$R$274,Table7[[#This Row],[Vo]]))","v":0},{"$f":"IF(Y$1=0,0,IF(Configuration!$F$13=\"D\",$R$274,Table7[[#This Row],[Vo]]))","v":0},{"$f":"IF(Z$1=0,0,IF(Configuration!$F$14=\"D\",$R$274,Table7[[#This Row],[Vo]]))","v":0},{"$f":"IF(AA$1=0,0,IF(Configuration!$F$15=\"D\",$R$274,Table7[[#This Row],[Vo]]))","v":0},{"$f":"IF(AB$1=0,0,IF(Configuration!$F$16=\"D\",$R$274,Table7[[#This Row],[Vo]]))","v":0},{"$f":"IF(AC$1=0,0,IF(Configuration!$F$17=\"D\",$R$274,Table7[[#This Row],[Vo]]))","v":0}]
[33.1,"NMS-240-48",5,{"$f":"Table2[[#This Row],[Output Voltage]]*Table2[[#This Row],[Module rated current]]","v":165.5},"K",{"$f":"IF(1200/Table2[[#This Row],[Module rated power]]>6,6,ROUNDDOWN(1200/Table2[[#This Row],[Module rated power]],0))","v":6},{"$f":"Table2[[#This Row],[Module rated power]]*Table2[[#This Row],[Available No. of Slot]]","v":993},{"$f":"ROUNDDOWN(Table2[[#This Row],[Max power per output]]/Table2[[#This Row],[Output Voltage]],2)","v":30},null,null,null,null,null,null,null,null,null,34.799999999999997,{"$f":"IF(S$1=0,0,IF(Configuration!$F$7=\"D\",$R$274,Table7[[#This Row],[Vo]]))","v":0},{"$f":"IF(T$1=0,0,IF(Configuration!$F$8=\"D\",$R$274,Table7[[#This Row],[Vo]]))","v":0},{"$f":"IF(U$1=0,0,IF(Configuration!$F$9=\"D\",$R$274,Table7[[#This Row],[Vo]]))","v":0},{"$f":"IF(V$1=0,0,IF(Configuration!$F$10=\"D\",$R$274,Table7[[#This Row],[Vo]]))","v":0},{"$f":"IF(W$1=0,0,IF(Configuration!$F$11=\"D\",$R$274,Table7[[#This Row],[Vo]]))","v":0},{"$f":"IF(X$1=0,0,IF(Configuration!$F$12=\"D\",$R$274,Table7[[#This Row],[Vo]]))","v":0},{"$f":"IF(Y$1=0,0,IF(Configuration!$F$13=\"D\",$R$274,Table7[[#This Row],[Vo]]))","v":0},{"$f":"IF(Z$1=0,0,IF(Configuration!$F$14=\"D\",$R$274,Table7[[#This Row],[Vo]]))","v":0},{"$f":"IF(AA$1=0,0,IF(Configuration!$F$15=\"D\",$R$274,Table7[[#This Row],[Vo]]))","v":0},{"$f":"IF(AB$1=0,0,IF(Configuration!$F$16=\"D\",$R$274,Table7[[#This Row],[Vo]]))","v":0},{"$f":"IF(AC$1=0,0,IF(Configuration!$F$17=\"D\",$R$274,Table7[[#This Row],[Vo]]))","v":0}]
[33.200000000000003,"NMS-240-48",5,{"$f":"Table2[[#This Row],[Output Voltage]]*Table2[[#This Row],[Module rated current]]","v":166},"K",{"$f":"IF(1200/Table2[[#This Row],[Module rated power]]>6,6,ROUNDDOWN(1200/Table2[[#This Row],[Module rated power]],0))","v":6},{"$f":"Table2[[#This Row],[Module rated power]]*Table2[[#This Row],[Available No. of Slot]]","v":996},{"$f":"ROUNDDOWN(Table2[[#This Row],[Max power per output]]/Table2[[#This Row],[Output Voltage]],2)","v":30},null,null,null,null,null,null,null,null,null,34.9,{"$f":"IF(S$1=0,0,IF(Configuration!$F$7=\"D\",$R$274,Table7[[#This Row],[Vo]]))","v":0},{"$f":"IF(T$1=0,0,IF(Configuration!$F$8=\"D\",$R$274,Table7[[#This Row],[Vo]]))","v":0},{"$f":"IF(U$1=0,0,IF(Configuration!$F$9=\"D\",$R$274,Table7[[#This Row],[Vo]]))","v":0},{"$f":"IF(V$1=0,0,IF(Configuration!$F$10=\"D\",$R$274,Table7[[#This Row],[Vo]]))","v":0},{"$f":"IF(W$1=0,0,IF(Configuration!$F$11=\"D\",$R$274,Table7[[#This Row],[Vo]]))","v":0},{"$f":"IF(X$1=0,0,IF(Configuration!$F$12=\"D\",$R$274,Table7[[#This Row],[Vo]]))","v":0},{"$f":"IF(Y$1=0,0,IF(Configuration!$F$13=\"D\",$R$274,Table7[[#This Row],[Vo]]))","v":0},{"$f":"IF(Z$1=0,0,IF(Configuration!$F$14=\"D\",$R$274,Table7[[#This Row],[Vo]]))","v":0},{"$f":"IF(AA$1=0,0,IF(Configuration!$F$15=\"D\",$R$274,Table7[[#This Row],[Vo]]))","v":0},{"$f":"IF(AB$1=0,0,IF(Configuration!$F$16=\"D\",$R$274,Table7[[#This Row],[Vo]]))","v":0},{"$f":"IF(AC$1=0,0,IF(Configuration!$F$17=\"D\",$R$274,Table7[[#This Row],[Vo]]))","v":0}]
[33.299999999999997,"NMS-240-48",5,{"$f":"Table2[[#This Row],[Output Voltage]]*Table2[[#This Row],[Module rated current]]","v":166.5},"K",{"$f":"IF(1200/Table2[[#This Row],[Module rated power]]>6,6,ROUNDDOWN(1200/Table2[[#This Row],[Module rated power]],0))","v":6},{"$f":"Table2[[#This Row],[Module rated power]]*Table2[[#This Row],[Available No. of Slot]]","v":999},{"$f":"ROUNDDOWN(Table2[[#This Row],[Max power per output]]/Table2[[#This Row],[Output Voltage]],2)","v":30},null,null,null,null,null,null,null,null,null,35,{"$f":"IF(S$1=0,0,IF(Configuration!$F$7=\"D\",$R$274,Table7[[#This Row],[Vo]]))","v":0},{"$f":"IF(T$1=0,0,IF(Configuration!$F$8=\"D\",$R$274,Table7[[#This Row],[Vo]]))","v":0},{"$f":"IF(U$1=0,0,IF(Configuration!$F$9=\"D\",$R$274,Table7[[#This Row],[Vo]]))","v":0},{"$f":"IF(V$1=0,0,IF(Configuration!$F$10=\"D\",$R$274,Table7[[#This Row],[Vo]]))","v":0},{"$f":"IF(W$1=0,0,IF(Configuration!$F$11=\"D\",$R$274,Table7[[#This Row],[Vo]]))","v":0},{"$f":"IF(X$1=0,0,IF(Configuration!$F$12=\"D\",$R$274,Table7[[#This Row],[Vo]]))","v":0},{"$f":"IF(Y$1=0,0,IF(Configuration!$F$13=\"D\",$R$274,Table7[[#This Row],[Vo]]))","v":0},{"$f":"IF(Z$1=0,0,IF(Configuration!$F$14=\"D\",$R$274,Table7[[#This Row],[Vo]]))","v":0},{"$f":"IF(AA$1=0,0,IF(Configuration!$F$15=\"D\",$R$274,Table7[[#This Row],[Vo]]))","v":0},{"$f":"IF(AB$1=0,0,IF(Configuration!$F$16=\"D\",$R$274,Table7[[#This Row],[Vo]]))","v":0},{"$f":"IF(AC$1=0,0,IF(Configuration!$F$17=\"D\",$R$274,Table7[[#This Row],[Vo]]))","v":0}]
[33.4,"NMS-240-48",5,{"$f":"Table2[[#This Row],[Output Voltage]]*Table2[[#This Row],[Module rated current]]","v":167},"K",{"$f":"IF(1200/Table2[[#This Row],[Module rated power]]>6,6,ROUNDDOWN(1200/Table2[[#This Row],[Module rated power]],0))","v":6},{"$f":"Table2[[#This Row],[Module rated power]]*Table2[[#This Row],[Available No. of Slot]]","v":1002},{"$f":"ROUNDDOWN(Table2[[#This Row],[Max power per output]]/Table2[[#This Row],[Output Voltage]],2)","v":30},null,null,null,null,null,null,null,null,null,35.1,{"$f":"IF(S$1=0,0,IF(Configuration!$F$7=\"D\",$R$274,Table7[[#This Row],[Vo]]))","v":0},{"$f":"IF(T$1=0,0,IF(Configuration!$F$8=\"D\",$R$274,Table7[[#This Row],[Vo]]))","v":0},{"$f":"IF(U$1=0,0,IF(Configuration!$F$9=\"D\",$R$274,Table7[[#This Row],[Vo]]))","v":0},{"$f":"IF(V$1=0,0,IF(Configuration!$F$10=\"D\",$R$274,Table7[[#This Row],[Vo]]))","v":0},{"$f":"IF(W$1=0,0,IF(Configuration!$F$11=\"D\",$R$274,Table7[[#This Row],[Vo]]))","v":0},{"$f":"IF(X$1=0,0,IF(Configuration!$F$12=\"D\",$R$274,Table7[[#This Row],[Vo]]))","v":0},{"$f":"IF(Y$1=0,0,IF(Configuration!$F$13=\"D\",$R$274,Table7[[#This Row],[Vo]]))","v":0},{"$f":"IF(Z$1=0,0,IF(Configuration!$F$14=\"D\",$R$274,Table7[[#This Row],[Vo]]))","v":0},{"$f":"IF(AA$1=0,0,IF(Configuration!$F$15=\"D\",$R$274,Table7[[#This Row],[Vo]]))","v":0},{"$f":"IF(AB$1=0,0,IF(Configuration!$F$16=\"D\",$R$274,Table7[[#This Row],[Vo]]))","v":0},{"$f":"IF(AC$1=0,0,IF(Configuration!$F$17=\"D\",$R$274,Table7[[#This Row],[Vo]]))","v":0}]
[33.5,"NMS-240-48",5,{"$f":"Table2[[#This Row],[Output Voltage]]*Table2[[#This Row],[Module rated current]]","v":167.5},"K",{"$f":"IF(1200/Table2[[#This Row],[Module rated power]]>6,6,ROUNDDOWN(1200/Table2[[#This Row],[Module rated power]],0))","v":6},{"$f":"Table2[[#This Row],[Module rated power]]*Table2[[#This Row],[Available No. of Slot]]","v":1005},{"$f":"ROUNDDOWN(Table2[[#This Row],[Max power per output]]/Table2[[#This Row],[Output Voltage]],2)","v":30},null,null,null,null,null,null,null,null,null,{"$f":"ROUNDUP(R325+0.1,1)","v":35.200000000000003},{"$f":"IF(S$1=0,0,IF(Configuration!$F$7=\"D\",$R$274,Table7[[#This Row],[Vo]]))","v":0},{"$f":"IF(T$1=0,0,IF(Configuration!$F$8=\"D\",$R$274,Table7[[#This Row],[Vo]]))","v":0},{"$f":"IF(U$1=0,0,IF(Configuration!$F$9=\"D\",$R$274,Table7[[#This Row],[Vo]]))","v":0},{"$f":"IF(V$1=0,0,IF(Configuration!$F$10=\"D\",$R$274,Table7[[#This Row],[Vo]]))","v":0},{"$f":"IF(W$1=0,0,IF(Configuration!$F$11=\"D\",$R$274,Table7[[#This Row],[Vo]]))","v":0},{"$f":"IF(X$1=0,0,IF(Configuration!$F$12=\"D\",$R$274,Table7[[#This Row],[Vo]]))","v":0},{"$f":"IF(Y$1=0,0,IF(Configuration!$F$13=\"D\",$R$274,Table7[[#This Row],[Vo]]))","v":0},{"$f":"IF(Z$1=0,0,IF(Configuration!$F$14=\"D\",$R$274,Table7[[#This Row],[Vo]]))","v":0},{"$f":"IF(AA$1=0,0,IF(Configuration!$F$15=\"D\",$R$274,Table7[[#This Row],[Vo]]))","v":0},{"$f":"IF(AB$1=0,0,IF(Configuration!$F$16=\"D\",$R$274,Table7[[#This Row],[Vo]]))","v":0},{"$f":"IF(AC$1=0,0,IF(Configuration!$F$17=\"D\",$R$274,Table7[[#This Row],[Vo]]))","v":0}]
[33.6,"NMS-240-48",5,{"$f":"Table2[[#This Row],[Output Voltage]]*Table2[[#This Row],[Module rated current]]","v":168},"K",{"$f":"IF(1200/Table2[[#This Row],[Module rated power]]>6,6,ROUNDDOWN(1200/Table2[[#This Row],[Module rated power]],0))","v":6},{"$f":"Table2[[#This Row],[Module rated power]]*Table2[[#This Row],[Available No. of Slot]]","v":1008},{"$f":"ROUNDDOWN(Table2[[#This Row],[Max power per output]]/Table2[[#This Row],[Output Voltage]],2)","v":30},null,null,null,null,null,null,null,null,null,35.299999999999997,{"$f":"IF(S$1=0,0,IF(Configuration!$F$7=\"D\",$R$274,Table7[[#This Row],[Vo]]))","v":0},{"$f":"IF(T$1=0,0,IF(Configuration!$F$8=\"D\",$R$274,Table7[[#This Row],[Vo]]))","v":0},{"$f":"IF(U$1=0,0,IF(Configuration!$F$9=\"D\",$R$274,Table7[[#This Row],[Vo]]))","v":0},{"$f":"IF(V$1=0,0,IF(Configuration!$F$10=\"D\",$R$274,Table7[[#This Row],[Vo]]))","v":0},{"$f":"IF(W$1=0,0,IF(Configuration!$F$11=\"D\",$R$274,Table7[[#This Row],[Vo]]))","v":0},{"$f":"IF(X$1=0,0,IF(Configuration!$F$12=\"D\",$R$274,Table7[[#This Row],[Vo]]))","v":0},{"$f":"IF(Y$1=0,0,IF(Configuration!$F$13=\"D\",$R$274,Table7[[#This Row],[Vo]]))","v":0},{"$f":"IF(Z$1=0,0,IF(Configuration!$F$14=\"D\",$R$274,Table7[[#This Row],[Vo]]))","v":0},{"$f":"IF(AA$1=0,0,IF(Configuration!$F$15=\"D\",$R$274,Table7[[#This Row],[Vo]]))","v":0},{"$f":"IF(AB$1=0,0,IF(Configuration!$F$16=\"D\",$R$274,Table7[[#This Row],[Vo]]))","v":0},{"$f":"IF(AC$1=0,0,IF(Configuration!$F$17=\"D\",$R$274,Table7[[#This Row],[Vo]]))","v":0}]
[33.700000000000003,"NMS-240-48",5,{"$f":"Table2[[#This Row],[Output Voltage]]*Table2[[#This Row],[Module rated current]]","v":168.5},"K",{"$f":"IF(1200/Table2[[#This Row],[Module rated power]]>6,6,ROUNDDOWN(1200/Table2[[#This Row],[Module rated power]],0))","v":6},{"$f":"Table2[[#This Row],[Module rated power]]*Table2[[#This Row],[Available No. of Slot]]","v":1011},{"$f":"ROUNDDOWN(Table2[[#This Row],[Max power per output]]/Table2[[#This Row],[Output Voltage]],2)","v":30},null,null,null,null,null,null,null,null,null,35.4,{"$f":"IF(S$1=0,0,IF(Configuration!$F$7=\"D\",$R$274,Table7[[#This Row],[Vo]]))","v":0},{"$f":"IF(T$1=0,0,IF(Configuration!$F$8=\"D\",$R$274,Table7[[#This Row],[Vo]]))","v":0},{"$f":"IF(U$1=0,0,IF(Configuration!$F$9=\"D\",$R$274,Table7[[#This Row],[Vo]]))","v":0},{"$f":"IF(V$1=0,0,IF(Configuration!$F$10=\"D\",$R$274,Table7[[#This Row],[Vo]]))","v":0},{"$f":"IF(W$1=0,0,IF(Configuration!$F$11=\"D\",$R$274,Table7[[#This Row],[Vo]]))","v":0},{"$f":"IF(X$1=0,0,IF(Configuration!$F$12=\"D\",$R$274,Table7[[#This Row],[Vo]]))","v":0},{"$f":"IF(Y$1=0,0,IF(Configuration!$F$13=\"D\",$R$274,Table7[[#This Row],[Vo]]))","v":0},{"$f":"IF(Z$1=0,0,IF(Configuration!$F$14=\"D\",$R$274,Table7[[#This Row],[Vo]]))","v":0},{"$f":"IF(AA$1=0,0,IF(Configuration!$F$15=\"D\",$R$274,Table7[[#This Row],[Vo]]))","v":0},{"$f":"IF(AB$1=0,0,IF(Configuration!$F$16=\"D\",$R$274,Table7[[#This Row],[Vo]]))","v":0},{"$f":"IF(AC$1=0,0,IF(Configuration!$F$17=\"D\",$R$274,Table7[[#This Row],[Vo]]))","v":0}]
[33.799999999999997,"NMS-240-48",5,{"$f":"Table2[[#This Row],[Output Voltage]]*Table2[[#This Row],[Module rated current]]","v":169},"K",{"$f":"IF(1200/Table2[[#This Row],[Module rated power]]>6,6,ROUNDDOWN(1200/Table2[[#This Row],[Module rated power]],0))","v":6},{"$f":"Table2[[#This Row],[Module rated power]]*Table2[[#This Row],[Available No. of Slot]]","v":1014},{"$f":"ROUNDDOWN(Table2[[#This Row],[Max power per output]]/Table2[[#This Row],[Output Voltage]],2)","v":30},null,null,null,null,null,null,null,null,null,35.5,{"$f":"IF(S$1=0,0,IF(Configuration!$F$7=\"D\",$R$274,Table7[[#This Row],[Vo]]))","v":0},{"$f":"IF(T$1=0,0,IF(Configuration!$F$8=\"D\",$R$274,Table7[[#This Row],[Vo]]))","v":0},{"$f":"IF(U$1=0,0,IF(Configuration!$F$9=\"D\",$R$274,Table7[[#This Row],[Vo]]))","v":0},{"$f":"IF(V$1=0,0,IF(Configuration!$F$10=\"D\",$R$274,Table7[[#This Row],[Vo]]))","v":0},{"$f":"IF(W$1=0,0,IF(Configuration!$F$11=\"D\",$R$274,Table7[[#This Row],[Vo]]))","v":0},{"$f":"IF(X$1=0,0,IF(Configuration!$F$12=\"D\",$R$274,Table7[[#This Row],[Vo]]))","v":0},{"$f":"IF(Y$1=0,0,IF(Configuration!$F$13=\"D\",$R$274,Table7[[#This Row],[Vo]]))","v":0},{"$f":"IF(Z$1=0,0,IF(Configuration!$F$14=\"D\",$R$274,Table7[[#This Row],[Vo]]))","v":0},{"$f":"IF(AA$1=0,0,IF(Configuration!$F$15=\"D\",$R$274,Table7[[#This Row],[Vo]]))","v":0},{"$f":"IF(AB$1=0,0,IF(Configuration!$F$16=\"D\",$R$274,Table7[[#This Row],[Vo]]))","v":0},{"$f":"IF(AC$1=0,0,IF(Configuration!$F$17=\"D\",$R$274,Table7[[#This Row],[Vo]]))","v":0}]
[33.9,"NMS-240-48",5,{"$f":"Table2[[#This Row],[Output Voltage]]*Table2[[#This Row],[Module rated current]]","v":169.5},"K",{"$f":"IF(1200/Table2[[#This Row],[Module rated power]]>6,6,ROUNDDOWN(1200/Table2[[#This Row],[Module rated power]],0))","v":6},{"$f":"Table2[[#This Row],[Module rated power]]*Table2[[#This Row],[Available No. of Slot]]","v":1017},{"$f":"ROUNDDOWN(Table2[[#This Row],[Max power per output]]/Table2[[#This Row],[Output Voltage]],2)","v":30},null,null,null,null,null,null,null,null,null,35.6,{"$f":"IF(S$1=0,0,IF(Configuration!$F$7=\"D\",$R$274,Table7[[#This Row],[Vo]]))","v":0},{"$f":"IF(T$1=0,0,IF(Configuration!$F$8=\"D\",$R$274,Table7[[#This Row],[Vo]]))","v":0},{"$f":"IF(U$1=0,0,IF(Configuration!$F$9=\"D\",$R$274,Table7[[#This Row],[Vo]]))","v":0},{"$f":"IF(V$1=0,0,IF(Configuration!$F$10=\"D\",$R$274,Table7[[#This Row],[Vo]]))","v":0},{"$f":"IF(W$1=0,0,IF(Configuration!$F$11=\"D\",$R$274,Table7[[#This Row],[Vo]]))","v":0},{"$f":"IF(X$1=0,0,IF(Configuration!$F$12=\"D\",$R$274,Table7[[#This Row],[Vo]]))","v":0},{"$f":"IF(Y$1=0,0,IF(Configuration!$F$13=\"D\",$R$274,Table7[[#This Row],[Vo]]))","v":0},{"$f":"IF(Z$1=0,0,IF(Configuration!$F$14=\"D\",$R$274,Table7[[#This Row],[Vo]]))","v":0},{"$f":"IF(AA$1=0,0,IF(Configuration!$F$15=\"D\",$R$274,Table7[[#This Row],[Vo]]))","v":0},{"$f":"IF(AB$1=0,0,IF(Configuration!$F$16=\"D\",$R$274,Table7[[#This Row],[Vo]]))","v":0},{"$f":"IF(AC$1=0,0,IF(Configuration!$F$17=\"D\",$R$274,Table7[[#This Row],[Vo]]))","v":0}]
[34,"NMS-240-48",5,{"$f":"Table2[[#This Row],[Output Voltage]]*Table2[[#This Row],[Module rated current]]","v":170},"K",{"$f":"IF(1200/Table2[[#This Row],[Module rated power]]>6,6,ROUNDDOWN(1200/Table2[[#This Row],[Module rated power]],0))","v":6},{"$f":"Table2[[#This Row],[Module rated power]]*Table2[[#This Row],[Available No. of Slot]]","v":1020},{"$f":"ROUNDDOWN(Table2[[#This Row],[Max power per output]]/Table2[[#This Row],[Output Voltage]],2)","v":30},null,null,null,null,null,null,null,null,null,35.700000000000003,{"$f":"IF(S$1=0,0,IF(Configuration!$F$7=\"D\",$R$274,Table7[[#This Row],[Vo]]))","v":0},{"$f":"IF(T$1=0,0,IF(Configuration!$F$8=\"D\",$R$274,Table7[[#This Row],[Vo]]))","v":0},{"$f":"IF(U$1=0,0,IF(Configuration!$F$9=\"D\",$R$274,Table7[[#This Row],[Vo]]))","v":0},{"$f":"IF(V$1=0,0,IF(Configuration!$F$10=\"D\",$R$274,Table7[[#This Row],[Vo]]))","v":0},{"$f":"IF(W$1=0,0,IF(Configuration!$F$11=\"D\",$R$274,Table7[[#This Row],[Vo]]))","v":0},{"$f":"IF(X$1=0,0,IF(Configuration!$F$12=\"D\",$R$274,Table7[[#This Row],[Vo]]))","v":0},{"$f":"IF(Y$1=0,0,IF(Configuration!$F$13=\"D\",$R$274,Table7[[#This Row],[Vo]]))","v":0},{"$f":"IF(Z$1=0,0,IF(Configuration!$F$14=\"D\",$R$274,Table7[[#This Row],[Vo]]))","v":0},{"$f":"IF(AA$1=0,0,IF(Configuration!$F$15=\"D\",$R$274,Table7[[#This Row],[Vo]]))","v":0},{"$f":"IF(AB$1=0,0,IF(Configuration!$F$16=\"D\",$R$274,Table7[[#This Row],[Vo]]))","v":0},{"$f":"IF(AC$1=0,0,IF(Configuration!$F$17=\"D\",$R$274,Table7[[#This Row],[Vo]]))","v":0}]
[34.1,"NMS-240-48",5,{"$f":"Table2[[#This Row],[Output Voltage]]*Table2[[#This Row],[Module rated current]]","v":170.5},"K",{"$f":"IF(1200/Table2[[#This Row],[Module rated power]]>6,6,ROUNDDOWN(1200/Table2[[#This Row],[Module rated power]],0))","v":6},{"$f":"Table2[[#This Row],[Module rated power]]*Table2[[#This Row],[Available No. of Slot]]","v":1023},{"$f":"ROUNDDOWN(Table2[[#This Row],[Max power per output]]/Table2[[#This Row],[Output Voltage]],2)","v":30},null,null,null,null,null,null,null,null,null,35.799999999999997,{"$f":"IF(S$1=0,0,IF(Configuration!$F$7=\"D\",$R$274,Table7[[#This Row],[Vo]]))","v":0},{"$f":"IF(T$1=0,0,IF(Configuration!$F$8=\"D\",$R$274,Table7[[#This Row],[Vo]]))","v":0},{"$f":"IF(U$1=0,0,IF(Configuration!$F$9=\"D\",$R$274,Table7[[#This Row],[Vo]]))","v":0},{"$f":"IF(V$1=0,0,IF(Configuration!$F$10=\"D\",$R$274,Table7[[#This Row],[Vo]]))","v":0},{"$f":"IF(W$1=0,0,IF(Configuration!$F$11=\"D\",$R$274,Table7[[#This Row],[Vo]]))","v":0},{"$f":"IF(X$1=0,0,IF(Configuration!$F$12=\"D\",$R$274,Table7[[#This Row],[Vo]]))","v":0},{"$f":"IF(Y$1=0,0,IF(Configuration!$F$13=\"D\",$R$274,Table7[[#This Row],[Vo]]))","v":0},{"$f":"IF(Z$1=0,0,IF(Configuration!$F$14=\"D\",$R$274,Table7[[#This Row],[Vo]]))","v":0},{"$f":"IF(AA$1=0,0,IF(Configuration!$F$15=\"D\",$R$274,Table7[[#This Row],[Vo]]))","v":0},{"$f":"IF(AB$1=0,0,IF(Configuration!$F$16=\"D\",$R$274,Table7[[#This Row],[Vo]]))","v":0},{"$f":"IF(AC$1=0,0,IF(Configuration!$F$17=\"D\",$R$274,Table7[[#This Row],[Vo]]))","v":0}]
[34.200000000000003,"NMS-240-48",5,{"$f":"Table2[[#This Row],[Output Voltage]]*Table2[[#This Row],[Module rated current]]","v":171},"K",{"$f":"IF(1200/Table2[[#This Row],[Module rated power]]>6,6,ROUNDDOWN(1200/Table2[[#This Row],[Module rated power]],0))","v":6},{"$f":"Table2[[#This Row],[Module rated power]]*Table2[[#This Row],[Available No. of Slot]]","v":1026},{"$f":"ROUNDDOWN(Table2[[#This Row],[Max power per output]]/Table2[[#This Row],[Output Voltage]],2)","v":30},null,null,null,null,null,null,null,null,null,35.9,{"$f":"IF(S$1=0,0,IF(Configuration!$F$7=\"D\",$R$274,Table7[[#This Row],[Vo]]))","v":0},{"$f":"IF(T$1=0,0,IF(Configuration!$F$8=\"D\",$R$274,Table7[[#This Row],[Vo]]))","v":0},{"$f":"IF(U$1=0,0,IF(Configuration!$F$9=\"D\",$R$274,Table7[[#This Row],[Vo]]))","v":0},{"$f":"IF(V$1=0,0,IF(Configuration!$F$10=\"D\",$R$274,Table7[[#This Row],[Vo]]))","v":0},{"$f":"IF(W$1=0,0,IF(Configuration!$F$11=\"D\",$R$274,Table7[[#This Row],[Vo]]))","v":0},{"$f":"IF(X$1=0,0,IF(Configuration!$F$12=\"D\",$R$274,Table7[[#This Row],[Vo]]))","v":0},{"$f":"IF(Y$1=0,0,IF(Configuration!$F$13=\"D\",$R$274,Table7[[#This Row],[Vo]]))","v":0},{"$f":"IF(Z$1=0,0,IF(Configuration!$F$14=\"D\",$R$274,Table7[[#This Row],[Vo]]))","v":0},{"$f":"IF(AA$1=0,0,IF(Configuration!$F$15=\"D\",$R$274,Table7[[#This Row],[Vo]]))","v":0},{"$f":"IF(AB$1=0,0,IF(Configuration!$F$16=\"D\",$R$274,Table7[[#This Row],[Vo]]))","v":0},{"$f":"IF(AC$1=0,0,IF(Configuration!$F$17=\"D\",$R$274,Table7[[#This Row],[Vo]]))","v":0}]
[34.299999999999997,"NMS-240-48",5,{"$f":"Table2[[#This Row],[Output Voltage]]*Table2[[#This Row],[Module rated current]]","v":171.5},"K",{"$f":"IF(1200/Table2[[#This Row],[Module rated power]]>6,6,ROUNDDOWN(1200/Table2[[#This Row],[Module rated power]],0))","v":6},{"$f":"Table2[[#This Row],[Module rated power]]*Table2[[#This Row],[Available No. of Slot]]","v":1029},{"$f":"ROUNDDOWN(Table2[[#This Row],[Max power per output]]/Table2[[#This Row],[Output Voltage]],2)","v":30},null,null,null,null,null,null,null,null,null,36,{"$f":"IF(S$1=0,0,IF(Configuration!$F$7=\"D\",$R$274,Table7[[#This Row],[Vo]]))","v":0},{"$f":"IF(T$1=0,0,IF(Configuration!$F$8=\"D\",$R$274,Table7[[#This Row],[Vo]]))","v":0},{"$f":"IF(U$1=0,0,IF(Configuration!$F$9=\"D\",$R$274,Table7[[#This Row],[Vo]]))","v":0},{"$f":"IF(V$1=0,0,IF(Configuration!$F$10=\"D\",$R$274,Table7[[#This Row],[Vo]]))","v":0},{"$f":"IF(W$1=0,0,IF(Configuration!$F$11=\"D\",$R$274,Table7[[#This Row],[Vo]]))","v":0},{"$f":"IF(X$1=0,0,IF(Configuration!$F$12=\"D\",$R$274,Table7[[#This Row],[Vo]]))","v":0},{"$f":"IF(Y$1=0,0,IF(Configuration!$F$13=\"D\",$R$274,Table7[[#This Row],[Vo]]))","v":0},{"$f":"IF(Z$1=0,0,IF(Configuration!$F$14=\"D\",$R$274,Table7[[#This Row],[Vo]]))","v":0},{"$f":"IF(AA$1=0,0,IF(Configuration!$F$15=\"D\",$R$274,Table7[[#This Row],[Vo]]))","v":0},{"$f":"IF(AB$1=0,0,IF(Configuration!$F$16=\"D\",$R$274,Table7[[#This Row],[Vo]]))","v":0},{"$f":"IF(AC$1=0,0,IF(Configuration!$F$17=\"D\",$R$274,Table7[[#This Row],[Vo]]))","v":0}]
[34.4,"NMS-240-48",5,{"$f":"Table2[[#This Row],[Output Voltage]]*Table2[[#This Row],[Module rated current]]","v":172},"K",{"$f":"IF(1200/Table2[[#This Row],[Module rated power]]>6,6,ROUNDDOWN(1200/Table2[[#This Row],[Module rated power]],0))","v":6},{"$f":"Table2[[#This Row],[Module rated power]]*Table2[[#This Row],[Available No. of Slot]]","v":1032},{"$f":"ROUNDDOWN(Table2[[#This Row],[Max power per output]]/Table2[[#This Row],[Output Voltage]],2)","v":30},null,null,null,null,null,null,null,null,null,36.1,{"$f":"IF(S$1=0,0,IF(Configuration!$F$7=\"D\",$R$274,Table7[[#This Row],[Vo]]))","v":0},{"$f":"IF(T$1=0,0,IF(Configuration!$F$8=\"D\",$R$274,Table7[[#This Row],[Vo]]))","v":0},{"$f":"IF(U$1=0,0,IF(Configuration!$F$9=\"D\",$R$274,Table7[[#This Row],[Vo]]))","v":0},{"$f":"IF(V$1=0,0,IF(Configuration!$F$10=\"D\",$R$274,Table7[[#This Row],[Vo]]))","v":0},{"$f":"IF(W$1=0,0,IF(Configuration!$F$11=\"D\",$R$274,Table7[[#This Row],[Vo]]))","v":0},{"$f":"IF(X$1=0,0,IF(Configuration!$F$12=\"D\",$R$274,Table7[[#This Row],[Vo]]))","v":0},{"$f":"IF(Y$1=0,0,IF(Configuration!$F$13=\"D\",$R$274,Table7[[#This Row],[Vo]]))","v":0},{"$f":"IF(Z$1=0,0,IF(Configuration!$F$14=\"D\",$R$274,Table7[[#This Row],[Vo]]))","v":0},{"$f":"IF(AA$1=0,0,IF(Configuration!$F$15=\"D\",$R$274,Table7[[#This Row],[Vo]]))","v":0},{"$f":"IF(AB$1=0,0,IF(Configuration!$F$16=\"D\",$R$274,Table7[[#This Row],[Vo]]))","v":0},{"$f":"IF(AC$1=0,0,IF(Configuration!$F$17=\"D\",$R$274,Table7[[#This Row],[Vo]]))","v":0}]
[34.5,"NMS-240-48",5,{"$f":"Table2[[#This Row],[Output Voltage]]*Table2[[#This Row],[Module rated current]]","v":172.5},"K",{"$f":"IF(1200/Table2[[#This Row],[Module rated power]]>6,6,ROUNDDOWN(1200/Table2[[#This Row],[Module rated power]],0))","v":6},{"$f":"Table2[[#This Row],[Module rated power]]*Table2[[#This Row],[Available No. of Slot]]","v":1035},{"$f":"ROUNDDOWN(Table2[[#This Row],[Max power per output]]/Table2[[#This Row],[Output Voltage]],2)","v":30},null,null,null,null,null,null,null,null,null,36.200000000000003,{"$f":"IF(S$1=0,0,IF(Configuration!$F$7=\"D\",$R$274,Table7[[#This Row],[Vo]]))","v":0},{"$f":"IF(T$1=0,0,IF(Configuration!$F$8=\"D\",$R$274,Table7[[#This Row],[Vo]]))","v":0},{"$f":"IF(U$1=0,0,IF(Configuration!$F$9=\"D\",$R$274,Table7[[#This Row],[Vo]]))","v":0},{"$f":"IF(V$1=0,0,IF(Configuration!$F$10=\"D\",$R$274,Table7[[#This Row],[Vo]]))","v":0},{"$f":"IF(W$1=0,0,IF(Configuration!$F$11=\"D\",$R$274,Table7[[#This Row],[Vo]]))","v":0},{"$f":"IF(X$1=0,0,IF(Configuration!$F$12=\"D\",$R$274,Table7[[#This Row],[Vo]]))","v":0},{"$f":"IF(Y$1=0,0,IF(Configuration!$F$13=\"D\",$R$274,Table7[[#This Row],[Vo]]))","v":0},{"$f":"IF(Z$1=0,0,IF(Configuration!$F$14=\"D\",$R$274,Table7[[#This Row],[Vo]]))","v":0},{"$f":"IF(AA$1=0,0,IF(Configuration!$F$15=\"D\",$R$274,Table7[[#This Row],[Vo]]))","v":0},{"$f":"IF(AB$1=0,0,IF(Configuration!$F$16=\"D\",$R$274,Table7[[#This Row],[Vo]]))","v":0},{"$f":"IF(AC$1=0,0,IF(Configuration!$F$17=\"D\",$R$274,Table7[[#This Row],[Vo]]))","v":0}]
[34.6,"NMS-240-48",5,{"$f":"Table2[[#This Row],[Output Voltage]]*Table2[[#This Row],[Module rated current]]","v":173},"K",{"$f":"IF(1200/Table2[[#This Row],[Module rated power]]>6,6,ROUNDDOWN(1200/Table2[[#This Row],[Module rated power]],0))","v":6},{"$f":"Table2[[#This Row],[Module rated power]]*Table2[[#This Row],[Available No. of Slot]]","v":1038},{"$f":"ROUNDDOWN(Table2[[#This Row],[Max power per output]]/Table2[[#This Row],[Output Voltage]],2)","v":30},null,null,null,null,null,null,null,null,null,36.299999999999997,{"$f":"IF(S$1=0,0,IF(Configuration!$F$7=\"D\",$R$274,Table7[[#This Row],[Vo]]))","v":0},{"$f":"IF(T$1=0,0,IF(Configuration!$F$8=\"D\",$R$274,Table7[[#This Row],[Vo]]))","v":0},{"$f":"IF(U$1=0,0,IF(Configuration!$F$9=\"D\",$R$274,Table7[[#This Row],[Vo]]))","v":0},{"$f":"IF(V$1=0,0,IF(Configuration!$F$10=\"D\",$R$274,Table7[[#This Row],[Vo]]))","v":0},{"$f":"IF(W$1=0,0,IF(Configuration!$F$11=\"D\",$R$274,Table7[[#This Row],[Vo]]))","v":0},{"$f":"IF(X$1=0,0,IF(Configuration!$F$12=\"D\",$R$274,Table7[[#This Row],[Vo]]))","v":0},{"$f":"IF(Y$1=0,0,IF(Configuration!$F$13=\"D\",$R$274,Table7[[#This Row],[Vo]]))","v":0},{"$f":"IF(Z$1=0,0,IF(Configuration!$F$14=\"D\",$R$274,Table7[[#This Row],[Vo]]))","v":0},{"$f":"IF(AA$1=0,0,IF(Configuration!$F$15=\"D\",$R$274,Table7[[#This Row],[Vo]]))","v":0},{"$f":"IF(AB$1=0,0,IF(Configuration!$F$16=\"D\",$R$274,Table7[[#This Row],[Vo]]))","v":0},{"$f":"IF(AC$1=0,0,IF(Configuration!$F$17=\"D\",$R$274,Table7[[#This Row],[Vo]]))","v":0}]
[34.700000000000003,"NMS-240-48",5,{"$f":"Table2[[#This Row],[Output Voltage]]*Table2[[#This Row],[Module rated current]]","v":173.5},"K",{"$f":"IF(1200/Table2[[#This Row],[Module rated power]]>6,6,ROUNDDOWN(1200/Table2[[#This Row],[Module rated power]],0))","v":6},{"$f":"Table2[[#This Row],[Module rated power]]*Table2[[#This Row],[Available No. of Slot]]","v":1041},{"$f":"ROUNDDOWN(Table2[[#This Row],[Max power per output]]/Table2[[#This Row],[Output Voltage]],2)","v":30},null,null,null,null,null,null,null,null,null,36.4,{"$f":"IF(S$1=0,0,IF(Configuration!$F$7=\"D\",$R$274,Table7[[#This Row],[Vo]]))","v":0},{"$f":"IF(T$1=0,0,IF(Configuration!$F$8=\"D\",$R$274,Table7[[#This Row],[Vo]]))","v":0},{"$f":"IF(U$1=0,0,IF(Configuration!$F$9=\"D\",$R$274,Table7[[#This Row],[Vo]]))","v":0},{"$f":"IF(V$1=0,0,IF(Configuration!$F$10=\"D\",$R$274,Table7[[#This Row],[Vo]]))","v":0},{"$f":"IF(W$1=0,0,IF(Configuration!$F$11=\"D\",$R$274,Table7[[#This Row],[Vo]]))","v":0},{"$f":"IF(X$1=0,0,IF(Configuration!$F$12=\"D\",$R$274,Table7[[#This Row],[Vo]]))","v":0},{"$f":"IF(Y$1=0,0,IF(Configuration!$F$13=\"D\",$R$274,Table7[[#This Row],[Vo]]))","v":0},{"$f":"IF(Z$1=0,0,IF(Configuration!$F$14=\"D\",$R$274,Table7[[#This Row],[Vo]]))","v":0},{"$f":"IF(AA$1=0,0,IF(Configuration!$F$15=\"D\",$R$274,Table7[[#This Row],[Vo]]))","v":0},{"$f":"IF(AB$1=0,0,IF(Configuration!$F$16=\"D\",$R$274,Table7[[#This Row],[Vo]]))","v":0},{"$f":"IF(AC$1=0,0,IF(Configuration!$F$17=\"D\",$R$274,Table7[[#This Row],[Vo]]))","v":0}]
[34.799999999999997,"NMS-240-48",5,{"$f":"Table2[[#This Row],[Output Voltage]]*Table2[[#This Row],[Module rated current]]","v":174},"K",{"$f":"IF(1200/Table2[[#This Row],[Module rated power]]>6,6,ROUNDDOWN(1200/Table2[[#This Row],[Module rated power]],0))","v":6},{"$f":"Table2[[#This Row],[Module rated power]]*Table2[[#This Row],[Available No. of Slot]]","v":1044},{"$f":"ROUNDDOWN(Table2[[#This Row],[Max power per output]]/Table2[[#This Row],[Output Voltage]],2)","v":30},null,null,null,null,null,null,null,null,null,36.5,{"$f":"IF(S$1=0,0,IF(Configuration!$F$7=\"D\",$R$274,Table7[[#This Row],[Vo]]))","v":0},{"$f":"IF(T$1=0,0,IF(Configuration!$F$8=\"D\",$R$274,Table7[[#This Row],[Vo]]))","v":0},{"$f":"IF(U$1=0,0,IF(Configuration!$F$9=\"D\",$R$274,Table7[[#This Row],[Vo]]))","v":0},{"$f":"IF(V$1=0,0,IF(Configuration!$F$10=\"D\",$R$274,Table7[[#This Row],[Vo]]))","v":0},{"$f":"IF(W$1=0,0,IF(Configuration!$F$11=\"D\",$R$274,Table7[[#This Row],[Vo]]))","v":0},{"$f":"IF(X$1=0,0,IF(Configuration!$F$12=\"D\",$R$274,Table7[[#This Row],[Vo]]))","v":0},{"$f":"IF(Y$1=0,0,IF(Configuration!$F$13=\"D\",$R$274,Table7[[#This Row],[Vo]]))","v":0},{"$f":"IF(Z$1=0,0,IF(Configuration!$F$14=\"D\",$R$274,Table7[[#This Row],[Vo]]))","v":0},{"$f":"IF(AA$1=0,0,IF(Configuration!$F$15=\"D\",$R$274,Table7[[#This Row],[Vo]]))","v":0},{"$f":"IF(AB$1=0,0,IF(Configuration!$F$16=\"D\",$R$274,Table7[[#This Row],[Vo]]))","v":0},{"$f":"IF(AC$1=0,0,IF(Configuration!$F$17=\"D\",$R$274,Table7[[#This Row],[Vo]]))","v":0}]
[34.9,"NMS-240-48",5,{"$f":"Table2[[#This Row],[Output Voltage]]*Table2[[#This Row],[Module rated current]]","v":174.5},"K",{"$f":"IF(1200/Table2[[#This Row],[Module rated power]]>6,6,ROUNDDOWN(1200/Table2[[#This Row],[Module rated power]],0))","v":6},{"$f":"Table2[[#This Row],[Module rated power]]*Table2[[#This Row],[Available No. of Slot]]","v":1047},{"$f":"ROUNDDOWN(Table2[[#This Row],[Max power per output]]/Table2[[#This Row],[Output Voltage]],2)","v":30},null,null,null,null,null,null,null,null,null,36.6,{"$f":"IF(S$1=0,0,IF(Configuration!$F$7=\"D\",$R$274,Table7[[#This Row],[Vo]]))","v":0},{"$f":"IF(T$1=0,0,IF(Configuration!$F$8=\"D\",$R$274,Table7[[#This Row],[Vo]]))","v":0},{"$f":"IF(U$1=0,0,IF(Configuration!$F$9=\"D\",$R$274,Table7[[#This Row],[Vo]]))","v":0},{"$f":"IF(V$1=0,0,IF(Configuration!$F$10=\"D\",$R$274,Table7[[#This Row],[Vo]]))","v":0},{"$f":"IF(W$1=0,0,IF(Configuration!$F$11=\"D\",$R$274,Table7[[#This Row],[Vo]]))","v":0},{"$f":"IF(X$1=0,0,IF(Configuration!$F$12=\"D\",$R$274,Table7[[#This Row],[Vo]]))","v":0},{"$f":"IF(Y$1=0,0,IF(Configuration!$F$13=\"D\",$R$274,Table7[[#This Row],[Vo]]))","v":0},{"$f":"IF(Z$1=0,0,IF(Configuration!$F$14=\"D\",$R$274,Table7[[#This Row],[Vo]]))","v":0},{"$f":"IF(AA$1=0,0,IF(Configuration!$F$15=\"D\",$R$274,Table7[[#This Row],[Vo]]))","v":0},{"$f":"IF(AB$1=0,0,IF(Configuration!$F$16=\"D\",$R$274,Table7[[#This Row],[Vo]]))","v":0},{"$f":"IF(AC$1=0,0,IF(Configuration!$F$17=\"D\",$R$274,Table7[[#This Row],[Vo]]))","v":0}]
[35,"NMS-240-48",5,{"$f":"Table2[[#This Row],[Output Voltage]]*Table2[[#This Row],[Module rated current]]","v":175},"K",{"$f":"IF(1200/Table2[[#This Row],[Module rated power]]>6,6,ROUNDDOWN(1200/Table2[[#This Row],[Module rated power]],0))","v":6},{"$f":"Table2[[#This Row],[Module rated power]]*Table2[[#This Row],[Available No. of Slot]]","v":1050},{"$f":"ROUNDDOWN(Table2[[#This Row],[Max power per output]]/Table2[[#This Row],[Output Voltage]],2)","v":30},null,null,null,null,null,null,null,null,null,36.700000000000003,{"$f":"IF(S$1=0,0,IF(Configuration!$F$7=\"D\",$R$274,Table7[[#This Row],[Vo]]))","v":0},{"$f":"IF(T$1=0,0,IF(Configuration!$F$8=\"D\",$R$274,Table7[[#This Row],[Vo]]))","v":0},{"$f":"IF(U$1=0,0,IF(Configuration!$F$9=\"D\",$R$274,Table7[[#This Row],[Vo]]))","v":0},{"$f":"IF(V$1=0,0,IF(Configuration!$F$10=\"D\",$R$274,Table7[[#This Row],[Vo]]))","v":0},{"$f":"IF(W$1=0,0,IF(Configuration!$F$11=\"D\",$R$274,Table7[[#This Row],[Vo]]))","v":0},{"$f":"IF(X$1=0,0,IF(Configuration!$F$12=\"D\",$R$274,Table7[[#This Row],[Vo]]))","v":0},{"$f":"IF(Y$1=0,0,IF(Configuration!$F$13=\"D\",$R$274,Table7[[#This Row],[Vo]]))","v":0},{"$f":"IF(Z$1=0,0,IF(Configuration!$F$14=\"D\",$R$274,Table7[[#This Row],[Vo]]))","v":0},{"$f":"IF(AA$1=0,0,IF(Configuration!$F$15=\"D\",$R$274,Table7[[#This Row],[Vo]]))","v":0},{"$f":"IF(AB$1=0,0,IF(Configuration!$F$16=\"D\",$R$274,Table7[[#This Row],[Vo]]))","v":0},{"$f":"IF(AC$1=0,0,IF(Configuration!$F$17=\"D\",$R$274,Table7[[#This Row],[Vo]]))","v":0}]
[35.1,"NMS-240-48",5,{"$f":"Table2[[#This Row],[Output Voltage]]*Table2[[#This Row],[Module rated current]]","v":175.5},"K",{"$f":"IF(1200/Table2[[#This Row],[Module rated power]]>6,6,ROUNDDOWN(1200/Table2[[#This Row],[Module rated power]],0))","v":6},{"$f":"Table2[[#This Row],[Module rated power]]*Table2[[#This Row],[Available No. of Slot]]","v":1053},{"$f":"ROUNDDOWN(Table2[[#This Row],[Max power per output]]/Table2[[#This Row],[Output Voltage]],2)","v":30},null,null,null,null,null,null,null,null,null,36.799999999999997,{"$f":"IF(S$1=0,0,IF(Configuration!$F$7=\"D\",$R$274,Table7[[#This Row],[Vo]]))","v":0},{"$f":"IF(T$1=0,0,IF(Configuration!$F$8=\"D\",$R$274,Table7[[#This Row],[Vo]]))","v":0},{"$f":"IF(U$1=0,0,IF(Configuration!$F$9=\"D\",$R$274,Table7[[#This Row],[Vo]]))","v":0},{"$f":"IF(V$1=0,0,IF(Configuration!$F$10=\"D\",$R$274,Table7[[#This Row],[Vo]]))","v":0},{"$f":"IF(W$1=0,0,IF(Configuration!$F$11=\"D\",$R$274,Table7[[#This Row],[Vo]]))","v":0},{"$f":"IF(X$1=0,0,IF(Configuration!$F$12=\"D\",$R$274,Table7[[#This Row],[Vo]]))","v":0},{"$f":"IF(Y$1=0,0,IF(Configuration!$F$13=\"D\",$R$274,Table7[[#This Row],[Vo]]))","v":0},{"$f":"IF(Z$1=0,0,IF(Configuration!$F$14=\"D\",$R$274,Table7[[#This Row],[Vo]]))","v":0},{"$f":"IF(AA$1=0,0,IF(Configuration!$F$15=\"D\",$R$274,Table7[[#This Row],[Vo]]))","v":0},{"$f":"IF(AB$1=0,0,IF(Configuration!$F$16=\"D\",$R$274,Table7[[#This Row],[Vo]]))","v":0},{"$f":"IF(AC$1=0,0,IF(Configuration!$F$17=\"D\",$R$274,Table7[[#This Row],[Vo]]))","v":0}]
[{"$f":"ROUNDUP(A342+0.1,1)","v":35.200000000000003},"NMS-240-48",5,{"$f":"Table2[[#This Row],[Output Voltage]]*Table2[[#This Row],[Module rated current]]","v":176},"K",{"$f":"IF(1200/Table2[[#This Row],[Module rated power]]>6,6,ROUNDDOWN(1200/Table2[[#This Row],[Module rated power]],0))","v":6},{"$f":"Table2[[#This Row],[Module rated power]]*Table2[[#This Row],[Available No. of Slot]]","v":1056},{"$f":"ROUNDDOWN(Table2[[#This Row],[Max power per output]]/Table2[[#This Row],[Output Voltage]],2)","v":30},null,null,null,null,null,null,null,null,null,36.9,{"$f":"IF(S$1=0,0,IF(Configuration!$F$7=\"D\",$R$274,Table7[[#This Row],[Vo]]))","v":0},{"$f":"IF(T$1=0,0,IF(Configuration!$F$8=\"D\",$R$274,Table7[[#This Row],[Vo]]))","v":0},{"$f":"IF(U$1=0,0,IF(Configuration!$F$9=\"D\",$R$274,Table7[[#This Row],[Vo]]))","v":0},{"$f":"IF(V$1=0,0,IF(Configuration!$F$10=\"D\",$R$274,Table7[[#This Row],[Vo]]))","v":0},{"$f":"IF(W$1=0,0,IF(Configuration!$F$11=\"D\",$R$274,Table7[[#This Row],[Vo]]))","v":0},{"$f":"IF(X$1=0,0,IF(Configuration!$F$12=\"D\",$R$274,Table7[[#This Row],[Vo]]))","v":0},{"$f":"IF(Y$1=0,0,IF(Configuration!$F$13=\"D\",$R$274,Table7[[#This Row],[Vo]]))","v":0},{"$f":"IF(Z$1=0,0,IF(Configuration!$F$14=\"D\",$R$274,Table7[[#This Row],[Vo]]))","v":0},{"$f":"IF(AA$1=0,0,IF(Configuration!$F$15=\"D\",$R$274,Table7[[#This Row],[Vo]]))","v":0},{"$f":"IF(AB$1=0,0,IF(Configuration!$F$16=\"D\",$R$274,Table7[[#This Row],[Vo]]))","v":0},{"$f":"IF(AC$1=0,0,IF(Configuration!$F$17=\"D\",$R$274,Table7[[#This Row],[Vo]]))","v":0}]
[35.299999999999997,"NMS-240-48",5,{"$f":"Table2[[#This Row],[Output Voltage]]*Table2[[#This Row],[Module rated current]]","v":176.5},"K",{"$f":"IF(1200/Table2[[#This Row],[Module rated power]]>6,6,ROUNDDOWN(1200/Table2[[#This Row],[Module rated power]],0))","v":6},{"$f":"Table2[[#This Row],[Module rated power]]*Table2[[#This Row],[Available No. of Slot]]","v":1059},{"$f":"ROUNDDOWN(Table2[[#This Row],[Max power per output]]/Table2[[#This Row],[Output Voltage]],2)","v":30},null,null,null,null,null,null,null,null,null,37,{"$f":"IF(S$1=0,0,IF(Configuration!$F$7=\"D\",$R$274,Table7[[#This Row],[Vo]]))","v":0},{"$f":"IF(T$1=0,0,IF(Configuration!$F$8=\"D\",$R$274,Table7[[#This Row],[Vo]]))","v":0},{"$f":"IF(U$1=0,0,IF(Configuration!$F$9=\"D\",$R$274,Table7[[#This Row],[Vo]]))","v":0},{"$f":"IF(V$1=0,0,IF(Configuration!$F$10=\"D\",$R$274,Table7[[#This Row],[Vo]]))","v":0},{"$f":"IF(W$1=0,0,IF(Configuration!$F$11=\"D\",$R$274,Table7[[#This Row],[Vo]]))","v":0},{"$f":"IF(X$1=0,0,IF(Configuration!$F$12=\"D\",$R$274,Table7[[#This Row],[Vo]]))","v":0},{"$f":"IF(Y$1=0,0,IF(Configuration!$F$13=\"D\",$R$274,Table7[[#This Row],[Vo]]))","v":0},{"$f":"IF(Z$1=0,0,IF(Configuration!$F$14=\"D\",$R$274,Table7[[#This Row],[Vo]]))","v":0},{"$f":"IF(AA$1=0,0,IF(Configuration!$F$15=\"D\",$R$274,Table7[[#This Row],[Vo]]))","v":0},{"$f":"IF(AB$1=0,0,IF(Configuration!$F$16=\"D\",$R$274,Table7[[#This Row],[Vo]]))","v":0},{"$f":"IF(AC$1=0,0,IF(Configuration!$F$17=\"D\",$R$274,Table7[[#This Row],[Vo]]))","v":0}]
[35.4,"NMS-240-48",5,{"$f":"Table2[[#This Row],[Output Voltage]]*Table2[[#This Row],[Module rated current]]","v":177},"K",{"$f":"IF(1200/Table2[[#This Row],[Module rated power]]>6,6,ROUNDDOWN(1200/Table2[[#This Row],[Module rated power]],0))","v":6},{"$f":"Table2[[#This Row],[Module rated power]]*Table2[[#This Row],[Available No. of Slot]]","v":1062},{"$f":"ROUNDDOWN(Table2[[#This Row],[Max power per output]]/Table2[[#This Row],[Output Voltage]],2)","v":30},null,null,null,null,null,null,null,null,null,37.1,{"$f":"IF(S$1=0,0,IF(Configuration!$F$7=\"D\",$R$274,Table7[[#This Row],[Vo]]))","v":0},{"$f":"IF(T$1=0,0,IF(Configuration!$F$8=\"D\",$R$274,Table7[[#This Row],[Vo]]))","v":0},{"$f":"IF(U$1=0,0,IF(Configuration!$F$9=\"D\",$R$274,Table7[[#This Row],[Vo]]))","v":0},{"$f":"IF(V$1=0,0,IF(Configuration!$F$10=\"D\",$R$274,Table7[[#This Row],[Vo]]))","v":0},{"$f":"IF(W$1=0,0,IF(Configuration!$F$11=\"D\",$R$274,Table7[[#This Row],[Vo]]))","v":0},{"$f":"IF(X$1=0,0,IF(Configuration!$F$12=\"D\",$R$274,Table7[[#This Row],[Vo]]))","v":0},{"$f":"IF(Y$1=0,0,IF(Configuration!$F$13=\"D\",$R$274,Table7[[#This Row],[Vo]]))","v":0},{"$f":"IF(Z$1=0,0,IF(Configuration!$F$14=\"D\",$R$274,Table7[[#This Row],[Vo]]))","v":0},{"$f":"IF(AA$1=0,0,IF(Configuration!$F$15=\"D\",$R$274,Table7[[#This Row],[Vo]]))","v":0},{"$f":"IF(AB$1=0,0,IF(Configuration!$F$16=\"D\",$R$274,Table7[[#This Row],[Vo]]))","v":0},{"$f":"IF(AC$1=0,0,IF(Configuration!$F$17=\"D\",$R$274,Table7[[#This Row],[Vo]]))","v":0}]
[35.5,"NMS-240-48",5,{"$f":"Table2[[#This Row],[Output Voltage]]*Table2[[#This Row],[Module rated current]]","v":177.5},"K",{"$f":"IF(1200/Table2[[#This Row],[Module rated power]]>6,6,ROUNDDOWN(1200/Table2[[#This Row],[Module rated power]],0))","v":6},{"$f":"Table2[[#This Row],[Module rated power]]*Table2[[#This Row],[Available No. of Slot]]","v":1065},{"$f":"ROUNDDOWN(Table2[[#This Row],[Max power per output]]/Table2[[#This Row],[Output Voltage]],2)","v":30},null,null,null,null,null,null,null,null,null,37.200000000000003,{"$f":"IF(S$1=0,0,IF(Configuration!$F$7=\"D\",$R$274,Table7[[#This Row],[Vo]]))","v":0},{"$f":"IF(T$1=0,0,IF(Configuration!$F$8=\"D\",$R$274,Table7[[#This Row],[Vo]]))","v":0},{"$f":"IF(U$1=0,0,IF(Configuration!$F$9=\"D\",$R$274,Table7[[#This Row],[Vo]]))","v":0},{"$f":"IF(V$1=0,0,IF(Configuration!$F$10=\"D\",$R$274,Table7[[#This Row],[Vo]]))","v":0},{"$f":"IF(W$1=0,0,IF(Configuration!$F$11=\"D\",$R$274,Table7[[#This Row],[Vo]]))","v":0},{"$f":"IF(X$1=0,0,IF(Configuration!$F$12=\"D\",$R$274,Table7[[#This Row],[Vo]]))","v":0},{"$f":"IF(Y$1=0,0,IF(Configuration!$F$13=\"D\",$R$274,Table7[[#This Row],[Vo]]))","v":0},{"$f":"IF(Z$1=0,0,IF(Configuration!$F$14=\"D\",$R$274,Table7[[#This Row],[Vo]]))","v":0},{"$f":"IF(AA$1=0,0,IF(Configuration!$F$15=\"D\",$R$274,Table7[[#This Row],[Vo]]))","v":0},{"$f":"IF(AB$1=0,0,IF(Configuration!$F$16=\"D\",$R$274,Table7[[#This Row],[Vo]]))","v":0},{"$f":"IF(AC$1=0,0,IF(Configuration!$F$17=\"D\",$R$274,Table7[[#This Row],[Vo]]))","v":0}]
[35.6,"NMS-240-48",5,{"$f":"Table2[[#This Row],[Output Voltage]]*Table2[[#This Row],[Module rated current]]","v":178},"K",{"$f":"IF(1200/Table2[[#This Row],[Module rated power]]>6,6,ROUNDDOWN(1200/Table2[[#This Row],[Module rated power]],0))","v":6},{"$f":"Table2[[#This Row],[Module rated power]]*Table2[[#This Row],[Available No. of Slot]]","v":1068},{"$f":"ROUNDDOWN(Table2[[#This Row],[Max power per output]]/Table2[[#This Row],[Output Voltage]],2)","v":30},null,null,null,null,null,null,null,null,null,37.299999999999997,{"$f":"IF(S$1=0,0,IF(Configuration!$F$7=\"D\",$R$274,Table7[[#This Row],[Vo]]))","v":0},{"$f":"IF(T$1=0,0,IF(Configuration!$F$8=\"D\",$R$274,Table7[[#This Row],[Vo]]))","v":0},{"$f":"IF(U$1=0,0,IF(Configuration!$F$9=\"D\",$R$274,Table7[[#This Row],[Vo]]))","v":0},{"$f":"IF(V$1=0,0,IF(Configuration!$F$10=\"D\",$R$274,Table7[[#This Row],[Vo]]))","v":0},{"$f":"IF(W$1=0,0,IF(Configuration!$F$11=\"D\",$R$274,Table7[[#This Row],[Vo]]))","v":0},{"$f":"IF(X$1=0,0,IF(Configuration!$F$12=\"D\",$R$274,Table7[[#This Row],[Vo]]))","v":0},{"$f":"IF(Y$1=0,0,IF(Configuration!$F$13=\"D\",$R$274,Table7[[#This Row],[Vo]]))","v":0},{"$f":"IF(Z$1=0,0,IF(Configuration!$F$14=\"D\",$R$274,Table7[[#This Row],[Vo]]))","v":0},{"$f":"IF(AA$1=0,0,IF(Configuration!$F$15=\"D\",$R$274,Table7[[#This Row],[Vo]]))","v":0},{"$f":"IF(AB$1=0,0,IF(Configuration!$F$16=\"D\",$R$274,Table7[[#This Row],[Vo]]))","v":0},{"$f":"IF(AC$1=0,0,IF(Configuration!$F$17=\"D\",$R$274,Table7[[#This Row],[Vo]]))","v":0}]
[35.700000000000003,"NMS-240-48",5,{"$f":"Table2[[#This Row],[Output Voltage]]*Table2[[#This Row],[Module rated current]]","v":178.5},"K",{"$f":"IF(1200/Table2[[#This Row],[Module rated power]]>6,6,ROUNDDOWN(1200/Table2[[#This Row],[Module rated power]],0))","v":6},{"$f":"Table2[[#This Row],[Module rated power]]*Table2[[#This Row],[Available No. of Slot]]","v":1071},{"$f":"ROUNDDOWN(Table2[[#This Row],[Max power per output]]/Table2[[#This Row],[Output Voltage]],2)","v":30},null,null,null,null,null,null,null,null,null,37.4,{"$f":"IF(S$1=0,0,IF(Configuration!$F$7=\"D\",$R$274,Table7[[#This Row],[Vo]]))","v":0},{"$f":"IF(T$1=0,0,IF(Configuration!$F$8=\"D\",$R$274,Table7[[#This Row],[Vo]]))","v":0},{"$f":"IF(U$1=0,0,IF(Configuration!$F$9=\"D\",$R$274,Table7[[#This Row],[Vo]]))","v":0},{"$f":"IF(V$1=0,0,IF(Configuration!$F$10=\"D\",$R$274,Table7[[#This Row],[Vo]]))","v":0},{"$f":"IF(W$1=0,0,IF(Configuration!$F$11=\"D\",$R$274,Table7[[#This Row],[Vo]]))","v":0},{"$f":"IF(X$1=0,0,IF(Configuration!$F$12=\"D\",$R$274,Table7[[#This Row],[Vo]]))","v":0},{"$f":"IF(Y$1=0,0,IF(Configuration!$F$13=\"D\",$R$274,Table7[[#This Row],[Vo]]))","v":0},{"$f":"IF(Z$1=0,0,IF(Configuration!$F$14=\"D\",$R$274,Table7[[#This Row],[Vo]]))","v":0},{"$f":"IF(AA$1=0,0,IF(Configuration!$F$15=\"D\",$R$274,Table7[[#This Row],[Vo]]))","v":0},{"$f":"IF(AB$1=0,0,IF(Configuration!$F$16=\"D\",$R$274,Table7[[#This Row],[Vo]]))","v":0},{"$f":"IF(AC$1=0,0,IF(Configuration!$F$17=\"D\",$R$274,Table7[[#This Row],[Vo]]))","v":0}]
[35.799999999999997,"NMS-240-48",5,{"$f":"Table2[[#This Row],[Output Voltage]]*Table2[[#This Row],[Module rated current]]","v":179},"K",{"$f":"IF(1200/Table2[[#This Row],[Module rated power]]>6,6,ROUNDDOWN(1200/Table2[[#This Row],[Module rated power]],0))","v":6},{"$f":"Table2[[#This Row],[Module rated power]]*Table2[[#This Row],[Available No. of Slot]]","v":1074},{"$f":"ROUNDDOWN(Table2[[#This Row],[Max power per output]]/Table2[[#This Row],[Output Voltage]],2)","v":30},null,null,null,null,null,null,null,null,null,37.5,{"$f":"IF(S$1=0,0,IF(Configuration!$F$7=\"D\",$R$274,Table7[[#This Row],[Vo]]))","v":0},{"$f":"IF(T$1=0,0,IF(Configuration!$F$8=\"D\",$R$274,Table7[[#This Row],[Vo]]))","v":0},{"$f":"IF(U$1=0,0,IF(Configuration!$F$9=\"D\",$R$274,Table7[[#This Row],[Vo]]))","v":0},{"$f":"IF(V$1=0,0,IF(Configuration!$F$10=\"D\",$R$274,Table7[[#This Row],[Vo]]))","v":0},{"$f":"IF(W$1=0,0,IF(Configuration!$F$11=\"D\",$R$274,Table7[[#This Row],[Vo]]))","v":0},{"$f":"IF(X$1=0,0,IF(Configuration!$F$12=\"D\",$R$274,Table7[[#This Row],[Vo]]))","v":0},{"$f":"IF(Y$1=0,0,IF(Configuration!$F$13=\"D\",$R$274,Table7[[#This Row],[Vo]]))","v":0},{"$f":"IF(Z$1=0,0,IF(Configuration!$F$14=\"D\",$R$274,Table7[[#This Row],[Vo]]))","v":0},{"$f":"IF(AA$1=0,0,IF(Configuration!$F$15=\"D\",$R$274,Table7[[#This Row],[Vo]]))","v":0},{"$f":"IF(AB$1=0,0,IF(Configuration!$F$16=\"D\",$R$274,Table7[[#This Row],[Vo]]))","v":0},{"$f":"IF(AC$1=0,0,IF(Configuration!$F$17=\"D\",$R$274,Table7[[#This Row],[Vo]]))","v":0}]
[35.9,"NMS-240-48",5,{"$f":"Table2[[#This Row],[Output Voltage]]*Table2[[#This Row],[Module rated current]]","v":179.5},"K",{"$f":"IF(1200/Table2[[#This Row],[Module rated power]]>6,6,ROUNDDOWN(1200/Table2[[#This Row],[Module rated power]],0))","v":6},{"$f":"Table2[[#This Row],[Module rated power]]*Table2[[#This Row],[Available No. of Slot]]","v":1077},{"$f":"ROUNDDOWN(Table2[[#This Row],[Max power per output]]/Table2[[#This Row],[Output Voltage]],2)","v":30},null,null,null,null,null,null,null,null,null,37.6,{"$f":"IF(S$1=0,0,IF(Configuration!$F$7=\"D\",$R$274,Table7[[#This Row],[Vo]]))","v":0},{"$f":"IF(T$1=0,0,IF(Configuration!$F$8=\"D\",$R$274,Table7[[#This Row],[Vo]]))","v":0},{"$f":"IF(U$1=0,0,IF(Configuration!$F$9=\"D\",$R$274,Table7[[#This Row],[Vo]]))","v":0},{"$f":"IF(V$1=0,0,IF(Configuration!$F$10=\"D\",$R$274,Table7[[#This Row],[Vo]]))","v":0},{"$f":"IF(W$1=0,0,IF(Configuration!$F$11=\"D\",$R$274,Table7[[#This Row],[Vo]]))","v":0},{"$f":"IF(X$1=0,0,IF(Configuration!$F$12=\"D\",$R$274,Table7[[#This Row],[Vo]]))","v":0},{"$f":"IF(Y$1=0,0,IF(Configuration!$F$13=\"D\",$R$274,Table7[[#This Row],[Vo]]))","v":0},{"$f":"IF(Z$1=0,0,IF(Configuration!$F$14=\"D\",$R$274,Table7[[#This Row],[Vo]]))","v":0},{"$f":"IF(AA$1=0,0,IF(Configuration!$F$15=\"D\",$R$274,Table7[[#This Row],[Vo]]))","v":0},{"$f":"IF(AB$1=0,0,IF(Configuration!$F$16=\"D\",$R$274,Table7[[#This Row],[Vo]]))","v":0},{"$f":"IF(AC$1=0,0,IF(Configuration!$F$17=\"D\",$R$274,Table7[[#This Row],[Vo]]))","v":0}]
[36,"NMS-240-48",5,{"$f":"Table2[[#This Row],[Output Voltage]]*Table2[[#This Row],[Module rated current]]","v":180},"K",{"$f":"IF(1200/Table2[[#This Row],[Module rated power]]>6,6,ROUNDDOWN(1200/Table2[[#This Row],[Module rated power]],0))","v":6},{"$f":"Table2[[#This Row],[Module rated power]]*Table2[[#This Row],[Available No. of Slot]]","v":1080},{"$f":"ROUNDDOWN(Table2[[#This Row],[Max power per output]]/Table2[[#This Row],[Output Voltage]],2)","v":30},null,null,null,null,null,null,null,null,null,37.700000000000003,{"$f":"IF(S$1=0,0,IF(Configuration!$F$7=\"D\",$R$274,Table7[[#This Row],[Vo]]))","v":0},{"$f":"IF(T$1=0,0,IF(Configuration!$F$8=\"D\",$R$274,Table7[[#This Row],[Vo]]))","v":0},{"$f":"IF(U$1=0,0,IF(Configuration!$F$9=\"D\",$R$274,Table7[[#This Row],[Vo]]))","v":0},{"$f":"IF(V$1=0,0,IF(Configuration!$F$10=\"D\",$R$274,Table7[[#This Row],[Vo]]))","v":0},{"$f":"IF(W$1=0,0,IF(Configuration!$F$11=\"D\",$R$274,Table7[[#This Row],[Vo]]))","v":0},{"$f":"IF(X$1=0,0,IF(Configuration!$F$12=\"D\",$R$274,Table7[[#This Row],[Vo]]))","v":0},{"$f":"IF(Y$1=0,0,IF(Configuration!$F$13=\"D\",$R$274,Table7[[#This Row],[Vo]]))","v":0},{"$f":"IF(Z$1=0,0,IF(Configuration!$F$14=\"D\",$R$274,Table7[[#This Row],[Vo]]))","v":0},{"$f":"IF(AA$1=0,0,IF(Configuration!$F$15=\"D\",$R$274,Table7[[#This Row],[Vo]]))","v":0},{"$f":"IF(AB$1=0,0,IF(Configuration!$F$16=\"D\",$R$274,Table7[[#This Row],[Vo]]))","v":0},{"$f":"IF(AC$1=0,0,IF(Configuration!$F$17=\"D\",$R$274,Table7[[#This Row],[Vo]]))","v":0}]
[36.1,"NMS-240-48",5,{"$f":"Table2[[#This Row],[Output Voltage]]*Table2[[#This Row],[Module rated current]]","v":180.5},"K",{"$f":"IF(1200/Table2[[#This Row],[Module rated power]]>6,6,ROUNDDOWN(1200/Table2[[#This Row],[Module rated power]],0))","v":6},{"$f":"Table2[[#This Row],[Module rated power]]*Table2[[#This Row],[Available No. of Slot]]","v":1083},{"$f":"ROUNDDOWN(Table2[[#This Row],[Max power per output]]/Table2[[#This Row],[Output Voltage]],2)","v":30},null,null,null,null,null,null,null,null,null,37.799999999999997,{"$f":"IF(S$1=0,0,IF(Configuration!$F$7=\"D\",$R$274,Table7[[#This Row],[Vo]]))","v":0},{"$f":"IF(T$1=0,0,IF(Configuration!$F$8=\"D\",$R$274,Table7[[#This Row],[Vo]]))","v":0},{"$f":"IF(U$1=0,0,IF(Configuration!$F$9=\"D\",$R$274,Table7[[#This Row],[Vo]]))","v":0},{"$f":"IF(V$1=0,0,IF(Configuration!$F$10=\"D\",$R$274,Table7[[#This Row],[Vo]]))","v":0},{"$f":"IF(W$1=0,0,IF(Configuration!$F$11=\"D\",$R$274,Table7[[#This Row],[Vo]]))","v":0},{"$f":"IF(X$1=0,0,IF(Configuration!$F$12=\"D\",$R$274,Table7[[#This Row],[Vo]]))","v":0},{"$f":"IF(Y$1=0,0,IF(Configuration!$F$13=\"D\",$R$274,Table7[[#This Row],[Vo]]))","v":0},{"$f":"IF(Z$1=0,0,IF(Configuration!$F$14=\"D\",$R$274,Table7[[#This Row],[Vo]]))","v":0},{"$f":"IF(AA$1=0,0,IF(Configuration!$F$15=\"D\",$R$274,Table7[[#This Row],[Vo]]))","v":0},{"$f":"IF(AB$1=0,0,IF(Configuration!$F$16=\"D\",$R$274,Table7[[#This Row],[Vo]]))","v":0},{"$f":"IF(AC$1=0,0,IF(Configuration!$F$17=\"D\",$R$274,Table7[[#This Row],[Vo]]))","v":0}]
[36.200000000000003,"NMS-240-48",5,{"$f":"Table2[[#This Row],[Output Voltage]]*Table2[[#This Row],[Module rated current]]","v":181},"K",{"$f":"IF(1200/Table2[[#This Row],[Module rated power]]>6,6,ROUNDDOWN(1200/Table2[[#This Row],[Module rated power]],0))","v":6},{"$f":"Table2[[#This Row],[Module rated power]]*Table2[[#This Row],[Available No. of Slot]]","v":1086},{"$f":"ROUNDDOWN(Table2[[#This Row],[Max power per output]]/Table2[[#This Row],[Output Voltage]],2)","v":30},null,null,null,null,null,null,null,null,null,37.9,{"$f":"IF(S$1=0,0,IF(Configuration!$F$7=\"D\",$R$274,Table7[[#This Row],[Vo]]))","v":0},{"$f":"IF(T$1=0,0,IF(Configuration!$F$8=\"D\",$R$274,Table7[[#This Row],[Vo]]))","v":0},{"$f":"IF(U$1=0,0,IF(Configuration!$F$9=\"D\",$R$274,Table7[[#This Row],[Vo]]))","v":0},{"$f":"IF(V$1=0,0,IF(Configuration!$F$10=\"D\",$R$274,Table7[[#This Row],[Vo]]))","v":0},{"$f":"IF(W$1=0,0,IF(Configuration!$F$11=\"D\",$R$274,Table7[[#This Row],[Vo]]))","v":0},{"$f":"IF(X$1=0,0,IF(Configuration!$F$12=\"D\",$R$274,Table7[[#This Row],[Vo]]))","v":0},{"$f":"IF(Y$1=0,0,IF(Configuration!$F$13=\"D\",$R$274,Table7[[#This Row],[Vo]]))","v":0},{"$f":"IF(Z$1=0,0,IF(Configuration!$F$14=\"D\",$R$274,Table7[[#This Row],[Vo]]))","v":0},{"$f":"IF(AA$1=0,0,IF(Configuration!$F$15=\"D\",$R$274,Table7[[#This Row],[Vo]]))","v":0},{"$f":"IF(AB$1=0,0,IF(Configuration!$F$16=\"D\",$R$274,Table7[[#This Row],[Vo]]))","v":0},{"$f":"IF(AC$1=0,0,IF(Configuration!$F$17=\"D\",$R$274,Table7[[#This Row],[Vo]]))","v":0}]
[36.299999999999997,"NMS-240-48",5,{"$f":"Table2[[#This Row],[Output Voltage]]*Table2[[#This Row],[Module rated current]]","v":181.5},"K",{"$f":"IF(1200/Table2[[#This Row],[Module rated power]]>6,6,ROUNDDOWN(1200/Table2[[#This Row],[Module rated power]],0))","v":6},{"$f":"Table2[[#This Row],[Module rated power]]*Table2[[#This Row],[Available No. of Slot]]","v":1089},{"$f":"ROUNDDOWN(Table2[[#This Row],[Max power per output]]/Table2[[#This Row],[Output Voltage]],2)","v":30},null,null,null,null,null,null,null,null,null,38,{"$f":"IF(S$1=0,0,IF(Configuration!$F$7=\"D\",$R$274,Table7[[#This Row],[Vo]]))","v":0},{"$f":"IF(T$1=0,0,IF(Configuration!$F$8=\"D\",$R$274,Table7[[#This Row],[Vo]]))","v":0},{"$f":"IF(U$1=0,0,IF(Configuration!$F$9=\"D\",$R$274,Table7[[#This Row],[Vo]]))","v":0},{"$f":"IF(V$1=0,0,IF(Configuration!$F$10=\"D\",$R$274,Table7[[#This Row],[Vo]]))","v":0},{"$f":"IF(W$1=0,0,IF(Configuration!$F$11=\"D\",$R$274,Table7[[#This Row],[Vo]]))","v":0},{"$f":"IF(X$1=0,0,IF(Configuration!$F$12=\"D\",$R$274,Table7[[#This Row],[Vo]]))","v":0},{"$f":"IF(Y$1=0,0,IF(Configuration!$F$13=\"D\",$R$274,Table7[[#This Row],[Vo]]))","v":0},{"$f":"IF(Z$1=0,0,IF(Configuration!$F$14=\"D\",$R$274,Table7[[#This Row],[Vo]]))","v":0},{"$f":"IF(AA$1=0,0,IF(Configuration!$F$15=\"D\",$R$274,Table7[[#This Row],[Vo]]))","v":0},{"$f":"IF(AB$1=0,0,IF(Configuration!$F$16=\"D\",$R$274,Table7[[#This Row],[Vo]]))","v":0},{"$f":"IF(AC$1=0,0,IF(Configuration!$F$17=\"D\",$R$274,Table7[[#This Row],[Vo]]))","v":0}]
[36.4,"NMS-240-48",5,{"$f":"Table2[[#This Row],[Output Voltage]]*Table2[[#This Row],[Module rated current]]","v":182},"K",{"$f":"IF(1200/Table2[[#This Row],[Module rated power]]>6,6,ROUNDDOWN(1200/Table2[[#This Row],[Module rated power]],0))","v":6},{"$f":"Table2[[#This Row],[Module rated power]]*Table2[[#This Row],[Available No. of Slot]]","v":1092},{"$f":"ROUNDDOWN(Table2[[#This Row],[Max power per output]]/Table2[[#This Row],[Output Voltage]],2)","v":30},null,null,null,null,null,null,null,null,null,38.1,{"$f":"IF(S$1=0,0,IF(Configuration!$F$7=\"D\",$R$274,Table7[[#This Row],[Vo]]))","v":0},{"$f":"IF(T$1=0,0,IF(Configuration!$F$8=\"D\",$R$274,Table7[[#This Row],[Vo]]))","v":0},{"$f":"IF(U$1=0,0,IF(Configuration!$F$9=\"D\",$R$274,Table7[[#This Row],[Vo]]))","v":0},{"$f":"IF(V$1=0,0,IF(Configuration!$F$10=\"D\",$R$274,Table7[[#This Row],[Vo]]))","v":0},{"$f":"IF(W$1=0,0,IF(Configuration!$F$11=\"D\",$R$274,Table7[[#This Row],[Vo]]))","v":0},{"$f":"IF(X$1=0,0,IF(Configuration!$F$12=\"D\",$R$274,Table7[[#This Row],[Vo]]))","v":0},{"$f":"IF(Y$1=0,0,IF(Configuration!$F$13=\"D\",$R$274,Table7[[#This Row],[Vo]]))","v":0},{"$f":"IF(Z$1=0,0,IF(Configuration!$F$14=\"D\",$R$274,Table7[[#This Row],[Vo]]))","v":0},{"$f":"IF(AA$1=0,0,IF(Configuration!$F$15=\"D\",$R$274,Table7[[#This Row],[Vo]]))","v":0},{"$f":"IF(AB$1=0,0,IF(Configuration!$F$16=\"D\",$R$274,Table7[[#This Row],[Vo]]))","v":0},{"$f":"IF(AC$1=0,0,IF(Configuration!$F$17=\"D\",$R$274,Table7[[#This Row],[Vo]]))","v":0}]
[36.5,"NMS-240-48",5,{"$f":"Table2[[#This Row],[Output Voltage]]*Table2[[#This Row],[Module rated current]]","v":182.5},"K",{"$f":"IF(1200/Table2[[#This Row],[Module rated power]]>6,6,ROUNDDOWN(1200/Table2[[#This Row],[Module rated power]],0))","v":6},{"$f":"Table2[[#This Row],[Module rated power]]*Table2[[#This Row],[Available No. of Slot]]","v":1095},{"$f":"ROUNDDOWN(Table2[[#This Row],[Max power per output]]/Table2[[#This Row],[Output Voltage]],2)","v":30},null,null,null,null,null,null,null,null,null,38.200000000000003,{"$f":"IF(S$1=0,0,IF(Configuration!$F$7=\"D\",$R$274,Table7[[#This Row],[Vo]]))","v":0},{"$f":"IF(T$1=0,0,IF(Configuration!$F$8=\"D\",$R$274,Table7[[#This Row],[Vo]]))","v":0},{"$f":"IF(U$1=0,0,IF(Configuration!$F$9=\"D\",$R$274,Table7[[#This Row],[Vo]]))","v":0},{"$f":"IF(V$1=0,0,IF(Configuration!$F$10=\"D\",$R$274,Table7[[#This Row],[Vo]]))","v":0},{"$f":"IF(W$1=0,0,IF(Configuration!$F$11=\"D\",$R$274,Table7[[#This Row],[Vo]]))","v":0},{"$f":"IF(X$1=0,0,IF(Configuration!$F$12=\"D\",$R$274,Table7[[#This Row],[Vo]]))","v":0},{"$f":"IF(Y$1=0,0,IF(Configuration!$F$13=\"D\",$R$274,Table7[[#This Row],[Vo]]))","v":0},{"$f":"IF(Z$1=0,0,IF(Configuration!$F$14=\"D\",$R$274,Table7[[#This Row],[Vo]]))","v":0},{"$f":"IF(AA$1=0,0,IF(Configuration!$F$15=\"D\",$R$274,Table7[[#This Row],[Vo]]))","v":0},{"$f":"IF(AB$1=0,0,IF(Configuration!$F$16=\"D\",$R$274,Table7[[#This Row],[Vo]]))","v":0},{"$f":"IF(AC$1=0,0,IF(Configuration!$F$17=\"D\",$R$274,Table7[[#This Row],[Vo]]))","v":0}]
[36.6,"NMS-240-48",5,{"$f":"Table2[[#This Row],[Output Voltage]]*Table2[[#This Row],[Module rated current]]","v":183},"K",{"$f":"IF(1200/Table2[[#This Row],[Module rated power]]>6,6,ROUNDDOWN(1200/Table2[[#This Row],[Module rated power]],0))","v":6},{"$f":"Table2[[#This Row],[Module rated power]]*Table2[[#This Row],[Available No. of Slot]]","v":1098},{"$f":"ROUNDDOWN(Table2[[#This Row],[Max power per output]]/Table2[[#This Row],[Output Voltage]],2)","v":30},null,null,null,null,null,null,null,null,null,38.299999999999997,{"$f":"IF(S$1=0,0,IF(Configuration!$F$7=\"D\",$R$274,Table7[[#This Row],[Vo]]))","v":0},{"$f":"IF(T$1=0,0,IF(Configuration!$F$8=\"D\",$R$274,Table7[[#This Row],[Vo]]))","v":0},{"$f":"IF(U$1=0,0,IF(Configuration!$F$9=\"D\",$R$274,Table7[[#This Row],[Vo]]))","v":0},{"$f":"IF(V$1=0,0,IF(Configuration!$F$10=\"D\",$R$274,Table7[[#This Row],[Vo]]))","v":0},{"$f":"IF(W$1=0,0,IF(Configuration!$F$11=\"D\",$R$274,Table7[[#This Row],[Vo]]))","v":0},{"$f":"IF(X$1=0,0,IF(Configuration!$F$12=\"D\",$R$274,Table7[[#This Row],[Vo]]))","v":0},{"$f":"IF(Y$1=0,0,IF(Configuration!$F$13=\"D\",$R$274,Table7[[#This Row],[Vo]]))","v":0},{"$f":"IF(Z$1=0,0,IF(Configuration!$F$14=\"D\",$R$274,Table7[[#This Row],[Vo]]))","v":0},{"$f":"IF(AA$1=0,0,IF(Configuration!$F$15=\"D\",$R$274,Table7[[#This Row],[Vo]]))","v":0},{"$f":"IF(AB$1=0,0,IF(Configuration!$F$16=\"D\",$R$274,Table7[[#This Row],[Vo]]))","v":0},{"$f":"IF(AC$1=0,0,IF(Configuration!$F$17=\"D\",$R$274,Table7[[#This Row],[Vo]]))","v":0}]
[36.700000000000003,"NMS-240-48",5,{"$f":"Table2[[#This Row],[Output Voltage]]*Table2[[#This Row],[Module rated current]]","v":183.5},"K",{"$f":"IF(1200/Table2[[#This Row],[Module rated power]]>6,6,ROUNDDOWN(1200/Table2[[#This Row],[Module rated power]],0))","v":6},{"$f":"Table2[[#This Row],[Module rated power]]*Table2[[#This Row],[Available No. of Slot]]","v":1101},{"$f":"ROUNDDOWN(Table2[[#This Row],[Max power per output]]/Table2[[#This Row],[Output Voltage]],2)","v":30},null,null,null,null,null,null,null,null,null,38.4,{"$f":"IF(S$1=0,0,IF(Configuration!$F$7=\"D\",$R$274,Table7[[#This Row],[Vo]]))","v":0},{"$f":"IF(T$1=0,0,IF(Configuration!$F$8=\"D\",$R$274,Table7[[#This Row],[Vo]]))","v":0},{"$f":"IF(U$1=0,0,IF(Configuration!$F$9=\"D\",$R$274,Table7[[#This Row],[Vo]]))","v":0},{"$f":"IF(V$1=0,0,IF(Configuration!$F$10=\"D\",$R$274,Table7[[#This Row],[Vo]]))","v":0},{"$f":"IF(W$1=0,0,IF(Configuration!$F$11=\"D\",$R$274,Table7[[#This Row],[Vo]]))","v":0},{"$f":"IF(X$1=0,0,IF(Configuration!$F$12=\"D\",$R$274,Table7[[#This Row],[Vo]]))","v":0},{"$f":"IF(Y$1=0,0,IF(Configuration!$F$13=\"D\",$R$274,Table7[[#This Row],[Vo]]))","v":0},{"$f":"IF(Z$1=0,0,IF(Configuration!$F$14=\"D\",$R$274,Table7[[#This Row],[Vo]]))","v":0},{"$f":"IF(AA$1=0,0,IF(Configuration!$F$15=\"D\",$R$274,Table7[[#This Row],[Vo]]))","v":0},{"$f":"IF(AB$1=0,0,IF(Configuration!$F$16=\"D\",$R$274,Table7[[#This Row],[Vo]]))","v":0},{"$f":"IF(AC$1=0,0,IF(Configuration!$F$17=\"D\",$R$274,Table7[[#This Row],[Vo]]))","v":0}]
[36.799999999999997,"NMS-240-48",5,{"$f":"Table2[[#This Row],[Output Voltage]]*Table2[[#This Row],[Module rated current]]","v":184},"K",{"$f":"IF(1200/Table2[[#This Row],[Module rated power]]>6,6,ROUNDDOWN(1200/Table2[[#This Row],[Module rated power]],0))","v":6},{"$f":"Table2[[#This Row],[Module rated power]]*Table2[[#This Row],[Available No. of Slot]]","v":1104},{"$f":"ROUNDDOWN(Table2[[#This Row],[Max power per output]]/Table2[[#This Row],[Output Voltage]],2)","v":30},null,null,null,null,null,null,null,null,null,38.5,{"$f":"IF(S$1=0,0,IF(Configuration!$F$7=\"D\",$R$274,Table7[[#This Row],[Vo]]))","v":0},{"$f":"IF(T$1=0,0,IF(Configuration!$F$8=\"D\",$R$274,Table7[[#This Row],[Vo]]))","v":0},{"$f":"IF(U$1=0,0,IF(Configuration!$F$9=\"D\",$R$274,Table7[[#This Row],[Vo]]))","v":0},{"$f":"IF(V$1=0,0,IF(Configuration!$F$10=\"D\",$R$274,Table7[[#This Row],[Vo]]))","v":0},{"$f":"IF(W$1=0,0,IF(Configuration!$F$11=\"D\",$R$274,Table7[[#This Row],[Vo]]))","v":0},{"$f":"IF(X$1=0,0,IF(Configuration!$F$12=\"D\",$R$274,Table7[[#This Row],[Vo]]))","v":0},{"$f":"IF(Y$1=0,0,IF(Configuration!$F$13=\"D\",$R$274,Table7[[#This Row],[Vo]]))","v":0},{"$f":"IF(Z$1=0,0,IF(Configuration!$F$14=\"D\",$R$274,Table7[[#This Row],[Vo]]))","v":0},{"$f":"IF(AA$1=0,0,IF(Configuration!$F$15=\"D\",$R$274,Table7[[#This Row],[Vo]]))","v":0},{"$f":"IF(AB$1=0,0,IF(Configuration!$F$16=\"D\",$R$274,Table7[[#This Row],[Vo]]))","v":0},{"$f":"IF(AC$1=0,0,IF(Configuration!$F$17=\"D\",$R$274,Table7[[#This Row],[Vo]]))","v":0}]
[36.9,"NMS-240-48",5,{"$f":"Table2[[#This Row],[Output Voltage]]*Table2[[#This Row],[Module rated current]]","v":184.5},"K",{"$f":"IF(1200/Table2[[#This Row],[Module rated power]]>6,6,ROUNDDOWN(1200/Table2[[#This Row],[Module rated power]],0))","v":6},{"$f":"Table2[[#This Row],[Module rated power]]*Table2[[#This Row],[Available No. of Slot]]","v":1107},{"$f":"ROUNDDOWN(Table2[[#This Row],[Max power per output]]/Table2[[#This Row],[Output Voltage]],2)","v":30},null,null,null,null,null,null,null,null,null,38.6,{"$f":"IF(S$1=0,0,IF(Configuration!$F$7=\"D\",$R$274,Table7[[#This Row],[Vo]]))","v":0},{"$f":"IF(T$1=0,0,IF(Configuration!$F$8=\"D\",$R$274,Table7[[#This Row],[Vo]]))","v":0},{"$f":"IF(U$1=0,0,IF(Configuration!$F$9=\"D\",$R$274,Table7[[#This Row],[Vo]]))","v":0},{"$f":"IF(V$1=0,0,IF(Configuration!$F$10=\"D\",$R$274,Table7[[#This Row],[Vo]]))","v":0},{"$f":"IF(W$1=0,0,IF(Configuration!$F$11=\"D\",$R$274,Table7[[#This Row],[Vo]]))","v":0},{"$f":"IF(X$1=0,0,IF(Configuration!$F$12=\"D\",$R$274,Table7[[#This Row],[Vo]]))","v":0},{"$f":"IF(Y$1=0,0,IF(Configuration!$F$13=\"D\",$R$274,Table7[[#This Row],[Vo]]))","v":0},{"$f":"IF(Z$1=0,0,IF(Configuration!$F$14=\"D\",$R$274,Table7[[#This Row],[Vo]]))","v":0},{"$f":"IF(AA$1=0,0,IF(Configuration!$F$15=\"D\",$R$274,Table7[[#This Row],[Vo]]))","v":0},{"$f":"IF(AB$1=0,0,IF(Configuration!$F$16=\"D\",$R$274,Table7[[#This Row],[Vo]]))","v":0},{"$f":"IF(AC$1=0,0,IF(Configuration!$F$17=\"D\",$R$274,Table7[[#This Row],[Vo]]))","v":0}]
[37,"NMS-240-48",5,{"$f":"Table2[[#This Row],[Output Voltage]]*Table2[[#This Row],[Module rated current]]","v":185},"K",{"$f":"IF(1200/Table2[[#This Row],[Module rated power]]>6,6,ROUNDDOWN(1200/Table2[[#This Row],[Module rated power]],0))","v":6},{"$f":"Table2[[#This Row],[Module rated power]]*Table2[[#This Row],[Available No. of Slot]]","v":1110},{"$f":"ROUNDDOWN(Table2[[#This Row],[Max power per output]]/Table2[[#This Row],[Output Voltage]],2)","v":30},null,null,null,null,null,null,null,null,null,38.700000000000003,{"$f":"IF(S$1=0,0,IF(Configuration!$F$7=\"D\",$R$274,Table7[[#This Row],[Vo]]))","v":0},{"$f":"IF(T$1=0,0,IF(Configuration!$F$8=\"D\",$R$274,Table7[[#This Row],[Vo]]))","v":0},{"$f":"IF(U$1=0,0,IF(Configuration!$F$9=\"D\",$R$274,Table7[[#This Row],[Vo]]))","v":0},{"$f":"IF(V$1=0,0,IF(Configuration!$F$10=\"D\",$R$274,Table7[[#This Row],[Vo]]))","v":0},{"$f":"IF(W$1=0,0,IF(Configuration!$F$11=\"D\",$R$274,Table7[[#This Row],[Vo]]))","v":0},{"$f":"IF(X$1=0,0,IF(Configuration!$F$12=\"D\",$R$274,Table7[[#This Row],[Vo]]))","v":0},{"$f":"IF(Y$1=0,0,IF(Configuration!$F$13=\"D\",$R$274,Table7[[#This Row],[Vo]]))","v":0},{"$f":"IF(Z$1=0,0,IF(Configuration!$F$14=\"D\",$R$274,Table7[[#This Row],[Vo]]))","v":0},{"$f":"IF(AA$1=0,0,IF(Configuration!$F$15=\"D\",$R$274,Table7[[#This Row],[Vo]]))","v":0},{"$f":"IF(AB$1=0,0,IF(Configuration!$F$16=\"D\",$R$274,Table7[[#This Row],[Vo]]))","v":0},{"$f":"IF(AC$1=0,0,IF(Configuration!$F$17=\"D\",$R$274,Table7[[#This Row],[Vo]]))","v":0}]
[37.1,"NMS-240-48",5,{"$f":"Table2[[#This Row],[Output Voltage]]*Table2[[#This Row],[Module rated current]]","v":185.5},"K",{"$f":"IF(1200/Table2[[#This Row],[Module rated power]]>6,6,ROUNDDOWN(1200/Table2[[#This Row],[Module rated power]],0))","v":6},{"$f":"Table2[[#This Row],[Module rated power]]*Table2[[#This Row],[Available No. of Slot]]","v":1113},{"$f":"ROUNDDOWN(Table2[[#This Row],[Max power per output]]/Table2[[#This Row],[Output Voltage]],2)","v":30},null,null,null,null,null,null,null,null,null,38.799999999999997,{"$f":"IF(S$1=0,0,IF(Configuration!$F$7=\"D\",$R$274,Table7[[#This Row],[Vo]]))","v":0},{"$f":"IF(T$1=0,0,IF(Configuration!$F$8=\"D\",$R$274,Table7[[#This Row],[Vo]]))","v":0},{"$f":"IF(U$1=0,0,IF(Configuration!$F$9=\"D\",$R$274,Table7[[#This Row],[Vo]]))","v":0},{"$f":"IF(V$1=0,0,IF(Configuration!$F$10=\"D\",$R$274,Table7[[#This Row],[Vo]]))","v":0},{"$f":"IF(W$1=0,0,IF(Configuration!$F$11=\"D\",$R$274,Table7[[#This Row],[Vo]]))","v":0},{"$f":"IF(X$1=0,0,IF(Configuration!$F$12=\"D\",$R$274,Table7[[#This Row],[Vo]]))","v":0},{"$f":"IF(Y$1=0,0,IF(Configuration!$F$13=\"D\",$R$274,Table7[[#This Row],[Vo]]))","v":0},{"$f":"IF(Z$1=0,0,IF(Configuration!$F$14=\"D\",$R$274,Table7[[#This Row],[Vo]]))","v":0},{"$f":"IF(AA$1=0,0,IF(Configuration!$F$15=\"D\",$R$274,Table7[[#This Row],[Vo]]))","v":0},{"$f":"IF(AB$1=0,0,IF(Configuration!$F$16=\"D\",$R$274,Table7[[#This Row],[Vo]]))","v":0},{"$f":"IF(AC$1=0,0,IF(Configuration!$F$17=\"D\",$R$274,Table7[[#This Row],[Vo]]))","v":0}]
[37.200000000000003,"NMS-240-48",5,{"$f":"Table2[[#This Row],[Output Voltage]]*Table2[[#This Row],[Module rated current]]","v":186},"K",{"$f":"IF(1200/Table2[[#This Row],[Module rated power]]>6,6,ROUNDDOWN(1200/Table2[[#This Row],[Module rated power]],0))","v":6},{"$f":"Table2[[#This Row],[Module rated power]]*Table2[[#This Row],[Available No. of Slot]]","v":1116},{"$f":"ROUNDDOWN(Table2[[#This Row],[Max power per output]]/Table2[[#This Row],[Output Voltage]],2)","v":30},null,null,null,null,null,null,null,null,null,38.9,{"$f":"IF(S$1=0,0,IF(Configuration!$F$7=\"D\",$R$274,Table7[[#This Row],[Vo]]))","v":0},{"$f":"IF(T$1=0,0,IF(Configuration!$F$8=\"D\",$R$274,Table7[[#This Row],[Vo]]))","v":0},{"$f":"IF(U$1=0,0,IF(Configuration!$F$9=\"D\",$R$274,Table7[[#This Row],[Vo]]))","v":0},{"$f":"IF(V$1=0,0,IF(Configuration!$F$10=\"D\",$R$274,Table7[[#This Row],[Vo]]))","v":0},{"$f":"IF(W$1=0,0,IF(Configuration!$F$11=\"D\",$R$274,Table7[[#This Row],[Vo]]))","v":0},{"$f":"IF(X$1=0,0,IF(Configuration!$F$12=\"D\",$R$274,Table7[[#This Row],[Vo]]))","v":0},{"$f":"IF(Y$1=0,0,IF(Configuration!$F$13=\"D\",$R$274,Table7[[#This Row],[Vo]]))","v":0},{"$f":"IF(Z$1=0,0,IF(Configuration!$F$14=\"D\",$R$274,Table7[[#This Row],[Vo]]))","v":0},{"$f":"IF(AA$1=0,0,IF(Configuration!$F$15=\"D\",$R$274,Table7[[#This Row],[Vo]]))","v":0},{"$f":"IF(AB$1=0,0,IF(Configuration!$F$16=\"D\",$R$274,Table7[[#This Row],[Vo]]))","v":0},{"$f":"IF(AC$1=0,0,IF(Configuration!$F$17=\"D\",$R$274,Table7[[#This Row],[Vo]]))","v":0}]
[37.299999999999997,"NMS-240-48",5,{"$f":"Table2[[#This Row],[Output Voltage]]*Table2[[#This Row],[Module rated current]]","v":186.5},"K",{"$f":"IF(1200/Table2[[#This Row],[Module rated power]]>6,6,ROUNDDOWN(1200/Table2[[#This Row],[Module rated power]],0))","v":6},{"$f":"Table2[[#This Row],[Module rated power]]*Table2[[#This Row],[Available No. of Slot]]","v":1119},{"$f":"ROUNDDOWN(Table2[[#This Row],[Max power per output]]/Table2[[#This Row],[Output Voltage]],2)","v":30},null,null,null,null,null,null,null,null,null,39,{"$f":"IF(S$1=0,0,IF(Configuration!$F$7=\"D\",$R$274,Table7[[#This Row],[Vo]]))","v":0},{"$f":"IF(T$1=0,0,IF(Configuration!$F$8=\"D\",$R$274,Table7[[#This Row],[Vo]]))","v":0},{"$f":"IF(U$1=0,0,IF(Configuration!$F$9=\"D\",$R$274,Table7[[#This Row],[Vo]]))","v":0},{"$f":"IF(V$1=0,0,IF(Configuration!$F$10=\"D\",$R$274,Table7[[#This Row],[Vo]]))","v":0},{"$f":"IF(W$1=0,0,IF(Configuration!$F$11=\"D\",$R$274,Table7[[#This Row],[Vo]]))","v":0},{"$f":"IF(X$1=0,0,IF(Configuration!$F$12=\"D\",$R$274,Table7[[#This Row],[Vo]]))","v":0},{"$f":"IF(Y$1=0,0,IF(Configuration!$F$13=\"D\",$R$274,Table7[[#This Row],[Vo]]))","v":0},{"$f":"IF(Z$1=0,0,IF(Configuration!$F$14=\"D\",$R$274,Table7[[#This Row],[Vo]]))","v":0},{"$f":"IF(AA$1=0,0,IF(Configuration!$F$15=\"D\",$R$274,Table7[[#This Row],[Vo]]))","v":0},{"$f":"IF(AB$1=0,0,IF(Configuration!$F$16=\"D\",$R$274,Table7[[#This Row],[Vo]]))","v":0},{"$f":"IF(AC$1=0,0,IF(Configuration!$F$17=\"D\",$R$274,Table7[[#This Row],[Vo]]))","v":0}]
[37.4,"NMS-240-48",5,{"$f":"Table2[[#This Row],[Output Voltage]]*Table2[[#This Row],[Module rated current]]","v":187},"K",{"$f":"IF(1200/Table2[[#This Row],[Module rated power]]>6,6,ROUNDDOWN(1200/Table2[[#This Row],[Module rated power]],0))","v":6},{"$f":"Table2[[#This Row],[Module rated power]]*Table2[[#This Row],[Available No. of Slot]]","v":1122},{"$f":"ROUNDDOWN(Table2[[#This Row],[Max power per output]]/Table2[[#This Row],[Output Voltage]],2)","v":30},null,null,null,null,null,null,null,null,null,39.1,{"$f":"IF(S$1=0,0,IF(Configuration!$F$7=\"D\",$R$274,Table7[[#This Row],[Vo]]))","v":0},{"$f":"IF(T$1=0,0,IF(Configuration!$F$8=\"D\",$R$274,Table7[[#This Row],[Vo]]))","v":0},{"$f":"IF(U$1=0,0,IF(Configuration!$F$9=\"D\",$R$274,Table7[[#This Row],[Vo]]))","v":0},{"$f":"IF(V$1=0,0,IF(Configuration!$F$10=\"D\",$R$274,Table7[[#This Row],[Vo]]))","v":0},{"$f":"IF(W$1=0,0,IF(Configuration!$F$11=\"D\",$R$274,Table7[[#This Row],[Vo]]))","v":0},{"$f":"IF(X$1=0,0,IF(Configuration!$F$12=\"D\",$R$274,Table7[[#This Row],[Vo]]))","v":0},{"$f":"IF(Y$1=0,0,IF(Configuration!$F$13=\"D\",$R$274,Table7[[#This Row],[Vo]]))","v":0},{"$f":"IF(Z$1=0,0,IF(Configuration!$F$14=\"D\",$R$274,Table7[[#This Row],[Vo]]))","v":0},{"$f":"IF(AA$1=0,0,IF(Configuration!$F$15=\"D\",$R$274,Table7[[#This Row],[Vo]]))","v":0},{"$f":"IF(AB$1=0,0,IF(Configuration!$F$16=\"D\",$R$274,Table7[[#This Row],[Vo]]))","v":0},{"$f":"IF(AC$1=0,0,IF(Configuration!$F$17=\"D\",$R$274,Table7[[#This Row],[Vo]]))","v":0}]
[37.5,"NMS-240-48",5,{"$f":"Table2[[#This Row],[Output Voltage]]*Table2[[#This Row],[Module rated current]]","v":187.5},"K",{"$f":"IF(1200/Table2[[#This Row],[Module rated power]]>6,6,ROUNDDOWN(1200/Table2[[#This Row],[Module rated power]],0))","v":6},{"$f":"Table2[[#This Row],[Module rated power]]*Table2[[#This Row],[Available No. of Slot]]","v":1125},{"$f":"ROUNDDOWN(Table2[[#This Row],[Max power per output]]/Table2[[#This Row],[Output Voltage]],2)","v":30},null,null,null,null,null,null,null,null,null,39.200000000000003,{"$f":"IF(S$1=0,0,IF(Configuration!$F$7=\"D\",$R$274,Table7[[#This Row],[Vo]]))","v":0},{"$f":"IF(T$1=0,0,IF(Configuration!$F$8=\"D\",$R$274,Table7[[#This Row],[Vo]]))","v":0},{"$f":"IF(U$1=0,0,IF(Configuration!$F$9=\"D\",$R$274,Table7[[#This Row],[Vo]]))","v":0},{"$f":"IF(V$1=0,0,IF(Configuration!$F$10=\"D\",$R$274,Table7[[#This Row],[Vo]]))","v":0},{"$f":"IF(W$1=0,0,IF(Configuration!$F$11=\"D\",$R$274,Table7[[#This Row],[Vo]]))","v":0},{"$f":"IF(X$1=0,0,IF(Configuration!$F$12=\"D\",$R$274,Table7[[#This Row],[Vo]]))","v":0},{"$f":"IF(Y$1=0,0,IF(Configuration!$F$13=\"D\",$R$274,Table7[[#This Row],[Vo]]))","v":0},{"$f":"IF(Z$1=0,0,IF(Configuration!$F$14=\"D\",$R$274,Table7[[#This Row],[Vo]]))","v":0},{"$f":"IF(AA$1=0,0,IF(Configuration!$F$15=\"D\",$R$274,Table7[[#This Row],[Vo]]))","v":0},{"$f":"IF(AB$1=0,0,IF(Configuration!$F$16=\"D\",$R$274,Table7[[#This Row],[Vo]]))","v":0},{"$f":"IF(AC$1=0,0,IF(Configuration!$F$17=\"D\",$R$274,Table7[[#This Row],[Vo]]))","v":0}]
[37.6,"NMS-240-48",5,{"$f":"Table2[[#This Row],[Output Voltage]]*Table2[[#This Row],[Module rated current]]","v":188},"K",{"$f":"IF(1200/Table2[[#This Row],[Module rated power]]>6,6,ROUNDDOWN(1200/Table2[[#This Row],[Module rated power]],0))","v":6},{"$f":"Table2[[#This Row],[Module rated power]]*Table2[[#This Row],[Available No. of Slot]]","v":1128},{"$f":"ROUNDDOWN(Table2[[#This Row],[Max power per output]]/Table2[[#This Row],[Output Voltage]],2)","v":30},null,null,null,null,null,null,null,null,null,39.299999999999997,{"$f":"IF(S$1=0,0,IF(Configuration!$F$7=\"D\",$R$274,Table7[[#This Row],[Vo]]))","v":0},{"$f":"IF(T$1=0,0,IF(Configuration!$F$8=\"D\",$R$274,Table7[[#This Row],[Vo]]))","v":0},{"$f":"IF(U$1=0,0,IF(Configuration!$F$9=\"D\",$R$274,Table7[[#This Row],[Vo]]))","v":0},{"$f":"IF(V$1=0,0,IF(Configuration!$F$10=\"D\",$R$274,Table7[[#This Row],[Vo]]))","v":0},{"$f":"IF(W$1=0,0,IF(Configuration!$F$11=\"D\",$R$274,Table7[[#This Row],[Vo]]))","v":0},{"$f":"IF(X$1=0,0,IF(Configuration!$F$12=\"D\",$R$274,Table7[[#This Row],[Vo]]))","v":0},{"$f":"IF(Y$1=0,0,IF(Configuration!$F$13=\"D\",$R$274,Table7[[#This Row],[Vo]]))","v":0},{"$f":"IF(Z$1=0,0,IF(Configuration!$F$14=\"D\",$R$274,Table7[[#This Row],[Vo]]))","v":0},{"$f":"IF(AA$1=0,0,IF(Configuration!$F$15=\"D\",$R$274,Table7[[#This Row],[Vo]]))","v":0},{"$f":"IF(AB$1=0,0,IF(Configuration!$F$16=\"D\",$R$274,Table7[[#This Row],[Vo]]))","v":0},{"$f":"IF(AC$1=0,0,IF(Configuration!$F$17=\"D\",$R$274,Table7[[#This Row],[Vo]]))","v":0}]
[37.700000000000003,"NMS-240-48",5,{"$f":"Table2[[#This Row],[Output Voltage]]*Table2[[#This Row],[Module rated current]]","v":188.5},"K",{"$f":"IF(1200/Table2[[#This Row],[Module rated power]]>6,6,ROUNDDOWN(1200/Table2[[#This Row],[Module rated power]],0))","v":6},{"$f":"Table2[[#This Row],[Module rated power]]*Table2[[#This Row],[Available No. of Slot]]","v":1131},{"$f":"ROUNDDOWN(Table2[[#This Row],[Max power per output]]/Table2[[#This Row],[Output Voltage]],2)","v":30},null,null,null,null,null,null,null,null,null,39.4,{"$f":"IF(S$1=0,0,IF(Configuration!$F$7=\"D\",$R$274,Table7[[#This Row],[Vo]]))","v":0},{"$f":"IF(T$1=0,0,IF(Configuration!$F$8=\"D\",$R$274,Table7[[#This Row],[Vo]]))","v":0},{"$f":"IF(U$1=0,0,IF(Configuration!$F$9=\"D\",$R$274,Table7[[#This Row],[Vo]]))","v":0},{"$f":"IF(V$1=0,0,IF(Configuration!$F$10=\"D\",$R$274,Table7[[#This Row],[Vo]]))","v":0},{"$f":"IF(W$1=0,0,IF(Configuration!$F$11=\"D\",$R$274,Table7[[#This Row],[Vo]]))","v":0},{"$f":"IF(X$1=0,0,IF(Configuration!$F$12=\"D\",$R$274,Table7[[#This Row],[Vo]]))","v":0},{"$f":"IF(Y$1=0,0,IF(Configuration!$F$13=\"D\",$R$274,Table7[[#This Row],[Vo]]))","v":0},{"$f":"IF(Z$1=0,0,IF(Configuration!$F$14=\"D\",$R$274,Table7[[#This Row],[Vo]]))","v":0},{"$f":"IF(AA$1=0,0,IF(Configuration!$F$15=\"D\",$R$274,Table7[[#This Row],[Vo]]))","v":0},{"$f":"IF(AB$1=0,0,IF(Configuration!$F$16=\"D\",$R$274,Table7[[#This Row],[Vo]]))","v":0},{"$f":"IF(AC$1=0,0,IF(Configuration!$F$17=\"D\",$R$274,Table7[[#This Row],[Vo]]))","v":0}]
[37.799999999999997,"NMS-240-48",5,{"$f":"Table2[[#This Row],[Output Voltage]]*Table2[[#This Row],[Module rated current]]","v":189},"K",{"$f":"IF(1200/Table2[[#This Row],[Module rated power]]>6,6,ROUNDDOWN(1200/Table2[[#This Row],[Module rated power]],0))","v":6},{"$f":"Table2[[#This Row],[Module rated power]]*Table2[[#This Row],[Available No. of Slot]]","v":1134},{"$f":"ROUNDDOWN(Table2[[#This Row],[Max power per output]]/Table2[[#This Row],[Output Voltage]],2)","v":30},null,null,null,null,null,null,null,null,null,39.5,{"$f":"IF(S$1=0,0,IF(Configuration!$F$7=\"D\",$R$274,Table7[[#This Row],[Vo]]))","v":0},{"$f":"IF(T$1=0,0,IF(Configuration!$F$8=\"D\",$R$274,Table7[[#This Row],[Vo]]))","v":0},{"$f":"IF(U$1=0,0,IF(Configuration!$F$9=\"D\",$R$274,Table7[[#This Row],[Vo]]))","v":0},{"$f":"IF(V$1=0,0,IF(Configuration!$F$10=\"D\",$R$274,Table7[[#This Row],[Vo]]))","v":0},{"$f":"IF(W$1=0,0,IF(Configuration!$F$11=\"D\",$R$274,Table7[[#This Row],[Vo]]))","v":0},{"$f":"IF(X$1=0,0,IF(Configuration!$F$12=\"D\",$R$274,Table7[[#This Row],[Vo]]))","v":0},{"$f":"IF(Y$1=0,0,IF(Configuration!$F$13=\"D\",$R$274,Table7[[#This Row],[Vo]]))","v":0},{"$f":"IF(Z$1=0,0,IF(Configuration!$F$14=\"D\",$R$274,Table7[[#This Row],[Vo]]))","v":0},{"$f":"IF(AA$1=0,0,IF(Configuration!$F$15=\"D\",$R$274,Table7[[#This Row],[Vo]]))","v":0},{"$f":"IF(AB$1=0,0,IF(Configuration!$F$16=\"D\",$R$274,Table7[[#This Row],[Vo]]))","v":0},{"$f":"IF(AC$1=0,0,IF(Configuration!$F$17=\"D\",$R$274,Table7[[#This Row],[Vo]]))","v":0}]
[37.9,"NMS-240-48",5,{"$f":"Table2[[#This Row],[Output Voltage]]*Table2[[#This Row],[Module rated current]]","v":189.5},"K",{"$f":"IF(1200/Table2[[#This Row],[Module rated power]]>6,6,ROUNDDOWN(1200/Table2[[#This Row],[Module rated power]],0))","v":6},{"$f":"Table2[[#This Row],[Module rated power]]*Table2[[#This Row],[Available No. of Slot]]","v":1137},{"$f":"ROUNDDOWN(Table2[[#This Row],[Max power per output]]/Table2[[#This Row],[Output Voltage]],2)","v":30},null,null,null,null,null,null,null,null,null,39.6,{"$f":"IF(S$1=0,0,IF(Configuration!$F$7=\"D\",$R$274,Table7[[#This Row],[Vo]]))","v":0},{"$f":"IF(T$1=0,0,IF(Configuration!$F$8=\"D\",$R$274,Table7[[#This Row],[Vo]]))","v":0},{"$f":"IF(U$1=0,0,IF(Configuration!$F$9=\"D\",$R$274,Table7[[#This Row],[Vo]]))","v":0},{"$f":"IF(V$1=0,0,IF(Configuration!$F$10=\"D\",$R$274,Table7[[#This Row],[Vo]]))","v":0},{"$f":"IF(W$1=0,0,IF(Configuration!$F$11=\"D\",$R$274,Table7[[#This Row],[Vo]]))","v":0},{"$f":"IF(X$1=0,0,IF(Configuration!$F$12=\"D\",$R$274,Table7[[#This Row],[Vo]]))","v":0},{"$f":"IF(Y$1=0,0,IF(Configuration!$F$13=\"D\",$R$274,Table7[[#This Row],[Vo]]))","v":0},{"$f":"IF(Z$1=0,0,IF(Configuration!$F$14=\"D\",$R$274,Table7[[#This Row],[Vo]]))","v":0},{"$f":"IF(AA$1=0,0,IF(Configuration!$F$15=\"D\",$R$274,Table7[[#This Row],[Vo]]))","v":0},{"$f":"IF(AB$1=0,0,IF(Configuration!$F$16=\"D\",$R$274,Table7[[#This Row],[Vo]]))","v":0},{"$f":"IF(AC$1=0,0,IF(Configuration!$F$17=\"D\",$R$274,Table7[[#This Row],[Vo]]))","v":0}]
[38,"NMS-240-48",5,{"$f":"Table2[[#This Row],[Output Voltage]]*Table2[[#This Row],[Module rated current]]","v":190},"K",{"$f":"IF(1200/Table2[[#This Row],[Module rated power]]>6,6,ROUNDDOWN(1200/Table2[[#This Row],[Module rated power]],0))","v":6},{"$f":"Table2[[#This Row],[Module rated power]]*Table2[[#This Row],[Available No. of Slot]]","v":1140},{"$f":"ROUNDDOWN(Table2[[#This Row],[Max power per output]]/Table2[[#This Row],[Output Voltage]],2)","v":30},null,null,null,null,null,null,null,null,null,39.700000000000003,{"$f":"IF(S$1=0,0,IF(Configuration!$F$7=\"D\",$R$274,Table7[[#This Row],[Vo]]))","v":0},{"$f":"IF(T$1=0,0,IF(Configuration!$F$8=\"D\",$R$274,Table7[[#This Row],[Vo]]))","v":0},{"$f":"IF(U$1=0,0,IF(Configuration!$F$9=\"D\",$R$274,Table7[[#This Row],[Vo]]))","v":0},{"$f":"IF(V$1=0,0,IF(Configuration!$F$10=\"D\",$R$274,Table7[[#This Row],[Vo]]))","v":0},{"$f":"IF(W$1=0,0,IF(Configuration!$F$11=\"D\",$R$274,Table7[[#This Row],[Vo]]))","v":0},{"$f":"IF(X$1=0,0,IF(Configuration!$F$12=\"D\",$R$274,Table7[[#This Row],[Vo]]))","v":0},{"$f":"IF(Y$1=0,0,IF(Configuration!$F$13=\"D\",$R$274,Table7[[#This Row],[Vo]]))","v":0},{"$f":"IF(Z$1=0,0,IF(Configuration!$F$14=\"D\",$R$274,Table7[[#This Row],[Vo]]))","v":0},{"$f":"IF(AA$1=0,0,IF(Configuration!$F$15=\"D\",$R$274,Table7[[#This Row],[Vo]]))","v":0},{"$f":"IF(AB$1=0,0,IF(Configuration!$F$16=\"D\",$R$274,Table7[[#This Row],[Vo]]))","v":0},{"$f":"IF(AC$1=0,0,IF(Configuration!$F$17=\"D\",$R$274,Table7[[#This Row],[Vo]]))","v":0}]
[38.1,"NMS-240-48",5,{"$f":"Table2[[#This Row],[Output Voltage]]*Table2[[#This Row],[Module rated current]]","v":190.5},"K",{"$f":"IF(1200/Table2[[#This Row],[Module rated power]]>6,6,ROUNDDOWN(1200/Table2[[#This Row],[Module rated power]],0))","v":6},{"$f":"Table2[[#This Row],[Module rated power]]*Table2[[#This Row],[Available No. of Slot]]","v":1143},{"$f":"ROUNDDOWN(Table2[[#This Row],[Max power per output]]/Table2[[#This Row],[Output Voltage]],2)","v":30},null,null,null,null,null,null,null,null,null,39.799999999999997,{"$f":"IF(S$1=0,0,IF(Configuration!$F$7=\"D\",$R$274,Table7[[#This Row],[Vo]]))","v":0},{"$f":"IF(T$1=0,0,IF(Configuration!$F$8=\"D\",$R$274,Table7[[#This Row],[Vo]]))","v":0},{"$f":"IF(U$1=0,0,IF(Configuration!$F$9=\"D\",$R$274,Table7[[#This Row],[Vo]]))","v":0},{"$f":"IF(V$1=0,0,IF(Configuration!$F$10=\"D\",$R$274,Table7[[#This Row],[Vo]]))","v":0},{"$f":"IF(W$1=0,0,IF(Configuration!$F$11=\"D\",$R$274,Table7[[#This Row],[Vo]]))","v":0},{"$f":"IF(X$1=0,0,IF(Configuration!$F$12=\"D\",$R$274,Table7[[#This Row],[Vo]]))","v":0},{"$f":"IF(Y$1=0,0,IF(Configuration!$F$13=\"D\",$R$274,Table7[[#This Row],[Vo]]))","v":0},{"$f":"IF(Z$1=0,0,IF(Configuration!$F$14=\"D\",$R$274,Table7[[#This Row],[Vo]]))","v":0},{"$f":"IF(AA$1=0,0,IF(Configuration!$F$15=\"D\",$R$274,Table7[[#This Row],[Vo]]))","v":0},{"$f":"IF(AB$1=0,0,IF(Configuration!$F$16=\"D\",$R$274,Table7[[#This Row],[Vo]]))","v":0},{"$f":"IF(AC$1=0,0,IF(Configuration!$F$17=\"D\",$R$274,Table7[[#This Row],[Vo]]))","v":0}]
[38.200000000000003,"NMS-240-48",5,{"$f":"Table2[[#This Row],[Output Voltage]]*Table2[[#This Row],[Module rated current]]","v":191},"K",{"$f":"IF(1200/Table2[[#This Row],[Module rated power]]>6,6,ROUNDDOWN(1200/Table2[[#This Row],[Module rated power]],0))","v":6},{"$f":"Table2[[#This Row],[Module rated power]]*Table2[[#This Row],[Available No. of Slot]]","v":1146},{"$f":"ROUNDDOWN(Table2[[#This Row],[Max power per output]]/Table2[[#This Row],[Output Voltage]],2)","v":30},null,null,null,null,null,null,null,null,null,39.9,{"$f":"IF(S$1=0,0,IF(Configuration!$F$7=\"D\",$R$274,Table7[[#This Row],[Vo]]))","v":0},{"$f":"IF(T$1=0,0,IF(Configuration!$F$8=\"D\",$R$274,Table7[[#This Row],[Vo]]))","v":0},{"$f":"IF(U$1=0,0,IF(Configuration!$F$9=\"D\",$R$274,Table7[[#This Row],[Vo]]))","v":0},{"$f":"IF(V$1=0,0,IF(Configuration!$F$10=\"D\",$R$274,Table7[[#This Row],[Vo]]))","v":0},{"$f":"IF(W$1=0,0,IF(Configuration!$F$11=\"D\",$R$274,Table7[[#This Row],[Vo]]))","v":0},{"$f":"IF(X$1=0,0,IF(Configuration!$F$12=\"D\",$R$274,Table7[[#This Row],[Vo]]))","v":0},{"$f":"IF(Y$1=0,0,IF(Configuration!$F$13=\"D\",$R$274,Table7[[#This Row],[Vo]]))","v":0},{"$f":"IF(Z$1=0,0,IF(Configuration!$F$14=\"D\",$R$274,Table7[[#This Row],[Vo]]))","v":0},{"$f":"IF(AA$1=0,0,IF(Configuration!$F$15=\"D\",$R$274,Table7[[#This Row],[Vo]]))","v":0},{"$f":"IF(AB$1=0,0,IF(Configuration!$F$16=\"D\",$R$274,Table7[[#This Row],[Vo]]))","v":0},{"$f":"IF(AC$1=0,0,IF(Configuration!$F$17=\"D\",$R$274,Table7[[#This Row],[Vo]]))","v":0}]
[38.299999999999997,"NMS-240-48",5,{"$f":"Table2[[#This Row],[Output Voltage]]*Table2[[#This Row],[Module rated current]]","v":191.5},"K",{"$f":"IF(1200/Table2[[#This Row],[Module rated power]]>6,6,ROUNDDOWN(1200/Table2[[#This Row],[Module rated power]],0))","v":6},{"$f":"Table2[[#This Row],[Module rated power]]*Table2[[#This Row],[Available No. of Slot]]","v":1149},{"$f":"ROUNDDOWN(Table2[[#This Row],[Max power per output]]/Table2[[#This Row],[Output Voltage]],2)","v":30},null,null,null,null,null,null,null,null,null,40,{"$f":"IF(S$1=0,0,IF(Configuration!$F$7=\"D\",$R$274,Table7[[#This Row],[Vo]]))","v":0},{"$f":"IF(T$1=0,0,IF(Configuration!$F$8=\"D\",$R$274,Table7[[#This Row],[Vo]]))","v":0},{"$f":"IF(U$1=0,0,IF(Configuration!$F$9=\"D\",$R$274,Table7[[#This Row],[Vo]]))","v":0},{"$f":"IF(V$1=0,0,IF(Configuration!$F$10=\"D\",$R$274,Table7[[#This Row],[Vo]]))","v":0},{"$f":"IF(W$1=0,0,IF(Configuration!$F$11=\"D\",$R$274,Table7[[#This Row],[Vo]]))","v":0},{"$f":"IF(X$1=0,0,IF(Configuration!$F$12=\"D\",$R$274,Table7[[#This Row],[Vo]]))","v":0},{"$f":"IF(Y$1=0,0,IF(Configuration!$F$13=\"D\",$R$274,Table7[[#This Row],[Vo]]))","v":0},{"$f":"IF(Z$1=0,0,IF(Configuration!$F$14=\"D\",$R$274,Table7[[#This Row],[Vo]]))","v":0},{"$f":"IF(AA$1=0,0,IF(Configuration!$F$15=\"D\",$R$274,Table7[[#This Row],[Vo]]))","v":0},{"$f":"IF(AB$1=0,0,IF(Configuration!$F$16=\"D\",$R$274,Table7[[#This Row],[Vo]]))","v":0},{"$f":"IF(AC$1=0,0,IF(Configuration!$F$17=\"D\",$R$274,Table7[[#This Row],[Vo]]))","v":0}]
[38.4,"NMS-240-48",5,{"$f":"Table2[[#This Row],[Output Voltage]]*Table2[[#This Row],[Module rated current]]","v":192},"K",{"$f":"IF(1200/Table2[[#This Row],[Module rated power]]>6,6,ROUNDDOWN(1200/Table2[[#This Row],[Module rated power]],0))","v":6},{"$f":"Table2[[#This Row],[Module rated power]]*Table2[[#This Row],[Available No. of Slot]]","v":1152},{"$f":"ROUNDDOWN(Table2[[#This Row],[Max power per output]]/Table2[[#This Row],[Output Voltage]],2)","v":30},null,null,null,null,null,null,null,null,null,40.1,{"$f":"IF(S$1=0,0,IF(Configuration!$F$7=\"D\",$R$274,Table7[[#This Row],[Vo]]))","v":0},{"$f":"IF(T$1=0,0,IF(Configuration!$F$8=\"D\",$R$274,Table7[[#This Row],[Vo]]))","v":0},{"$f":"IF(U$1=0,0,IF(Configuration!$F$9=\"D\",$R$274,Table7[[#This Row],[Vo]]))","v":0},{"$f":"IF(V$1=0,0,IF(Configuration!$F$10=\"D\",$R$274,Table7[[#This Row],[Vo]]))","v":0},{"$f":"IF(W$1=0,0,IF(Configuration!$F$11=\"D\",$R$274,Table7[[#This Row],[Vo]]))","v":0},{"$f":"IF(X$1=0,0,IF(Configuration!$F$12=\"D\",$R$274,Table7[[#This Row],[Vo]]))","v":0},{"$f":"IF(Y$1=0,0,IF(Configuration!$F$13=\"D\",$R$274,Table7[[#This Row],[Vo]]))","v":0},{"$f":"IF(Z$1=0,0,IF(Configuration!$F$14=\"D\",$R$274,Table7[[#This Row],[Vo]]))","v":0},{"$f":"IF(AA$1=0,0,IF(Configuration!$F$15=\"D\",$R$274,Table7[[#This Row],[Vo]]))","v":0},{"$f":"IF(AB$1=0,0,IF(Configuration!$F$16=\"D\",$R$274,Table7[[#This Row],[Vo]]))","v":0},{"$f":"IF(AC$1=0,0,IF(Configuration!$F$17=\"D\",$R$274,Table7[[#This Row],[Vo]]))","v":0}]
[38.5,"NMS-240-48",5,{"$f":"Table2[[#This Row],[Output Voltage]]*Table2[[#This Row],[Module rated current]]","v":192.5},"K",{"$f":"IF(1200/Table2[[#This Row],[Module rated power]]>6,6,ROUNDDOWN(1200/Table2[[#This Row],[Module rated power]],0))","v":6},{"$f":"Table2[[#This Row],[Module rated power]]*Table2[[#This Row],[Available No. of Slot]]","v":1155},{"$f":"ROUNDDOWN(Table2[[#This Row],[Max power per output]]/Table2[[#This Row],[Output Voltage]],2)","v":30},null,null,null,null,null,null,null,null,null,40.200000000000003,{"$f":"IF(S$1=0,0,IF(Configuration!$F$7=\"D\",$R$274,Table7[[#This Row],[Vo]]))","v":0},{"$f":"IF(T$1=0,0,IF(Configuration!$F$8=\"D\",$R$274,Table7[[#This Row],[Vo]]))","v":0},{"$f":"IF(U$1=0,0,IF(Configuration!$F$9=\"D\",$R$274,Table7[[#This Row],[Vo]]))","v":0},{"$f":"IF(V$1=0,0,IF(Configuration!$F$10=\"D\",$R$274,Table7[[#This Row],[Vo]]))","v":0},{"$f":"IF(W$1=0,0,IF(Configuration!$F$11=\"D\",$R$274,Table7[[#This Row],[Vo]]))","v":0},{"$f":"IF(X$1=0,0,IF(Configuration!$F$12=\"D\",$R$274,Table7[[#This Row],[Vo]]))","v":0},{"$f":"IF(Y$1=0,0,IF(Configuration!$F$13=\"D\",$R$274,Table7[[#This Row],[Vo]]))","v":0},{"$f":"IF(Z$1=0,0,IF(Configuration!$F$14=\"D\",$R$274,Table7[[#This Row],[Vo]]))","v":0},{"$f":"IF(AA$1=0,0,IF(Configuration!$F$15=\"D\",$R$274,Table7[[#This Row],[Vo]]))","v":0},{"$f":"IF(AB$1=0,0,IF(Configuration!$F$16=\"D\",$R$274,Table7[[#This Row],[Vo]]))","v":0},{"$f":"IF(AC$1=0,0,IF(Configuration!$F$17=\"D\",$R$274,Table7[[#This Row],[Vo]]))","v":0}]
[38.6,"NMS-240-48",5,{"$f":"Table2[[#This Row],[Output Voltage]]*Table2[[#This Row],[Module rated current]]","v":193},"K",{"$f":"IF(1200/Table2[[#This Row],[Module rated power]]>6,6,ROUNDDOWN(1200/Table2[[#This Row],[Module rated power]],0))","v":6},{"$f":"Table2[[#This Row],[Module rated power]]*Table2[[#This Row],[Available No. of Slot]]","v":1158},{"$f":"ROUNDDOWN(Table2[[#This Row],[Max power per output]]/Table2[[#This Row],[Output Voltage]],2)","v":30},null,null,null,null,null,null,null,null,null,40.299999999999997,{"$f":"IF(S$1=0,0,IF(Configuration!$F$7=\"D\",$R$274,Table7[[#This Row],[Vo]]))","v":0},{"$f":"IF(T$1=0,0,IF(Configuration!$F$8=\"D\",$R$274,Table7[[#This Row],[Vo]]))","v":0},{"$f":"IF(U$1=0,0,IF(Configuration!$F$9=\"D\",$R$274,Table7[[#This Row],[Vo]]))","v":0},{"$f":"IF(V$1=0,0,IF(Configuration!$F$10=\"D\",$R$274,Table7[[#This Row],[Vo]]))","v":0},{"$f":"IF(W$1=0,0,IF(Configuration!$F$11=\"D\",$R$274,Table7[[#This Row],[Vo]]))","v":0},{"$f":"IF(X$1=0,0,IF(Configuration!$F$12=\"D\",$R$274,Table7[[#This Row],[Vo]]))","v":0},{"$f":"IF(Y$1=0,0,IF(Configuration!$F$13=\"D\",$R$274,Table7[[#This Row],[Vo]]))","v":0},{"$f":"IF(Z$1=0,0,IF(Configuration!$F$14=\"D\",$R$274,Table7[[#This Row],[Vo]]))","v":0},{"$f":"IF(AA$1=0,0,IF(Configuration!$F$15=\"D\",$R$274,Table7[[#This Row],[Vo]]))","v":0},{"$f":"IF(AB$1=0,0,IF(Configuration!$F$16=\"D\",$R$274,Table7[[#This Row],[Vo]]))","v":0},{"$f":"IF(AC$1=0,0,IF(Configuration!$F$17=\"D\",$R$274,Table7[[#This Row],[Vo]]))","v":0}]
[38.700000000000003,"NMS-240-48",5,{"$f":"Table2[[#This Row],[Output Voltage]]*Table2[[#This Row],[Module rated current]]","v":193.5},"K",{"$f":"IF(1200/Table2[[#This Row],[Module rated power]]>6,6,ROUNDDOWN(1200/Table2[[#This Row],[Module rated power]],0))","v":6},{"$f":"Table2[[#This Row],[Module rated power]]*Table2[[#This Row],[Available No. of Slot]]","v":1161},{"$f":"ROUNDDOWN(Table2[[#This Row],[Max power per output]]/Table2[[#This Row],[Output Voltage]],2)","v":30},null,null,null,null,null,null,null,null,null,40.4,{"$f":"IF(S$1=0,0,IF(Configuration!$F$7=\"D\",$R$274,Table7[[#This Row],[Vo]]))","v":0},{"$f":"IF(T$1=0,0,IF(Configuration!$F$8=\"D\",$R$274,Table7[[#This Row],[Vo]]))","v":0},{"$f":"IF(U$1=0,0,IF(Configuration!$F$9=\"D\",$R$274,Table7[[#This Row],[Vo]]))","v":0},{"$f":"IF(V$1=0,0,IF(Configuration!$F$10=\"D\",$R$274,Table7[[#This Row],[Vo]]))","v":0},{"$f":"IF(W$1=0,0,IF(Configuration!$F$11=\"D\",$R$274,Table7[[#This Row],[Vo]]))","v":0},{"$f":"IF(X$1=0,0,IF(Configuration!$F$12=\"D\",$R$274,Table7[[#This Row],[Vo]]))","v":0},{"$f":"IF(Y$1=0,0,IF(Configuration!$F$13=\"D\",$R$274,Table7[[#This Row],[Vo]]))","v":0},{"$f":"IF(Z$1=0,0,IF(Configuration!$F$14=\"D\",$R$274,Table7[[#This Row],[Vo]]))","v":0},{"$f":"IF(AA$1=0,0,IF(Configuration!$F$15=\"D\",$R$274,Table7[[#This Row],[Vo]]))","v":0},{"$f":"IF(AB$1=0,0,IF(Configuration!$F$16=\"D\",$R$274,Table7[[#This Row],[Vo]]))","v":0},{"$f":"IF(AC$1=0,0,IF(Configuration!$F$17=\"D\",$R$274,Table7[[#This Row],[Vo]]))","v":0}]
[38.799999999999997,"NMS-240-48",5,{"$f":"Table2[[#This Row],[Output Voltage]]*Table2[[#This Row],[Module rated current]]","v":194},"K",{"$f":"IF(1200/Table2[[#This Row],[Module rated power]]>6,6,ROUNDDOWN(1200/Table2[[#This Row],[Module rated power]],0))","v":6},{"$f":"Table2[[#This Row],[Module rated power]]*Table2[[#This Row],[Available No. of Slot]]","v":1164},{"$f":"ROUNDDOWN(Table2[[#This Row],[Max power per output]]/Table2[[#This Row],[Output Voltage]],2)","v":30},null,null,null,null,null,null,null,null,null,40.5,{"$f":"IF(S$1=0,0,IF(Configuration!$F$7=\"D\",$R$274,Table7[[#This Row],[Vo]]))","v":0},{"$f":"IF(T$1=0,0,IF(Configuration!$F$8=\"D\",$R$274,Table7[[#This Row],[Vo]]))","v":0},{"$f":"IF(U$1=0,0,IF(Configuration!$F$9=\"D\",$R$274,Table7[[#This Row],[Vo]]))","v":0},{"$f":"IF(V$1=0,0,IF(Configuration!$F$10=\"D\",$R$274,Table7[[#This Row],[Vo]]))","v":0},{"$f":"IF(W$1=0,0,IF(Configuration!$F$11=\"D\",$R$274,Table7[[#This Row],[Vo]]))","v":0},{"$f":"IF(X$1=0,0,IF(Configuration!$F$12=\"D\",$R$274,Table7[[#This Row],[Vo]]))","v":0},{"$f":"IF(Y$1=0,0,IF(Configuration!$F$13=\"D\",$R$274,Table7[[#This Row],[Vo]]))","v":0},{"$f":"IF(Z$1=0,0,IF(Configuration!$F$14=\"D\",$R$274,Table7[[#This Row],[Vo]]))","v":0},{"$f":"IF(AA$1=0,0,IF(Configuration!$F$15=\"D\",$R$274,Table7[[#This Row],[Vo]]))","v":0},{"$f":"IF(AB$1=0,0,IF(Configuration!$F$16=\"D\",$R$274,Table7[[#This Row],[Vo]]))","v":0},{"$f":"IF(AC$1=0,0,IF(Configuration!$F$17=\"D\",$R$274,Table7[[#This Row],[Vo]]))","v":0}]
[38.9,"NMS-240-48",5,{"$f":"Table2[[#This Row],[Output Voltage]]*Table2[[#This Row],[Module rated current]]","v":194.5},"K",{"$f":"IF(1200/Table2[[#This Row],[Module rated power]]>6,6,ROUNDDOWN(1200/Table2[[#This Row],[Module rated power]],0))","v":6},{"$f":"Table2[[#This Row],[Module rated power]]*Table2[[#This Row],[Available No. of Slot]]","v":1167},{"$f":"ROUNDDOWN(Table2[[#This Row],[Max power per output]]/Table2[[#This Row],[Output Voltage]],2)","v":30},null,null,null,null,null,null,null,null,null,40.6,{"$f":"IF(S$1=0,0,IF(Configuration!$F$7=\"D\",$R$274,Table7[[#This Row],[Vo]]))","v":0},{"$f":"IF(T$1=0,0,IF(Configuration!$F$8=\"D\",$R$274,Table7[[#This Row],[Vo]]))","v":0},{"$f":"IF(U$1=0,0,IF(Configuration!$F$9=\"D\",$R$274,Table7[[#This Row],[Vo]]))","v":0},{"$f":"IF(V$1=0,0,IF(Configuration!$F$10=\"D\",$R$274,Table7[[#This Row],[Vo]]))","v":0},{"$f":"IF(W$1=0,0,IF(Configuration!$F$11=\"D\",$R$274,Table7[[#This Row],[Vo]]))","v":0},{"$f":"IF(X$1=0,0,IF(Configuration!$F$12=\"D\",$R$274,Table7[[#This Row],[Vo]]))","v":0},{"$f":"IF(Y$1=0,0,IF(Configuration!$F$13=\"D\",$R$274,Table7[[#This Row],[Vo]]))","v":0},{"$f":"IF(Z$1=0,0,IF(Configuration!$F$14=\"D\",$R$274,Table7[[#This Row],[Vo]]))","v":0},{"$f":"IF(AA$1=0,0,IF(Configuration!$F$15=\"D\",$R$274,Table7[[#This Row],[Vo]]))","v":0},{"$f":"IF(AB$1=0,0,IF(Configuration!$F$16=\"D\",$R$274,Table7[[#This Row],[Vo]]))","v":0},{"$f":"IF(AC$1=0,0,IF(Configuration!$F$17=\"D\",$R$274,Table7[[#This Row],[Vo]]))","v":0}]
[39,"NMS-240-48",5,{"$f":"Table2[[#This Row],[Output Voltage]]*Table2[[#This Row],[Module rated current]]","v":195},"K",{"$f":"IF(1200/Table2[[#This Row],[Module rated power]]>6,6,ROUNDDOWN(1200/Table2[[#This Row],[Module rated power]],0))","v":6},{"$f":"Table2[[#This Row],[Module rated power]]*Table2[[#This Row],[Available No. of Slot]]","v":1170},{"$f":"ROUNDDOWN(Table2[[#This Row],[Max power per output]]/Table2[[#This Row],[Output Voltage]],2)","v":30},null,null,null,null,null,null,null,null,null,40.700000000000003,{"$f":"IF(S$1=0,0,IF(Configuration!$F$7=\"D\",$R$274,Table7[[#This Row],[Vo]]))","v":0},{"$f":"IF(T$1=0,0,IF(Configuration!$F$8=\"D\",$R$274,Table7[[#This Row],[Vo]]))","v":0},{"$f":"IF(U$1=0,0,IF(Configuration!$F$9=\"D\",$R$274,Table7[[#This Row],[Vo]]))","v":0},{"$f":"IF(V$1=0,0,IF(Configuration!$F$10=\"D\",$R$274,Table7[[#This Row],[Vo]]))","v":0},{"$f":"IF(W$1=0,0,IF(Configuration!$F$11=\"D\",$R$274,Table7[[#This Row],[Vo]]))","v":0},{"$f":"IF(X$1=0,0,IF(Configuration!$F$12=\"D\",$R$274,Table7[[#This Row],[Vo]]))","v":0},{"$f":"IF(Y$1=0,0,IF(Configuration!$F$13=\"D\",$R$274,Table7[[#This Row],[Vo]]))","v":0},{"$f":"IF(Z$1=0,0,IF(Configuration!$F$14=\"D\",$R$274,Table7[[#This Row],[Vo]]))","v":0},{"$f":"IF(AA$1=0,0,IF(Configuration!$F$15=\"D\",$R$274,Table7[[#This Row],[Vo]]))","v":0},{"$f":"IF(AB$1=0,0,IF(Configuration!$F$16=\"D\",$R$274,Table7[[#This Row],[Vo]]))","v":0},{"$f":"IF(AC$1=0,0,IF(Configuration!$F$17=\"D\",$R$274,Table7[[#This Row],[Vo]]))","v":0}]
[39.1,"NMS-240-48",5,{"$f":"Table2[[#This Row],[Output Voltage]]*Table2[[#This Row],[Module rated current]]","v":195.5},"K",{"$f":"IF(1200/Table2[[#This Row],[Module rated power]]>6,6,ROUNDDOWN(1200/Table2[[#This Row],[Module rated power]],0))","v":6},{"$f":"Table2[[#This Row],[Module rated power]]*Table2[[#This Row],[Available No. of Slot]]","v":1173},{"$f":"ROUNDDOWN(Table2[[#This Row],[Max power per output]]/Table2[[#This Row],[Output Voltage]],2)","v":30},null,null,null,null,null,null,null,null,null,40.799999999999997,{"$f":"IF(S$1=0,0,IF(Configuration!$F$7=\"D\",$R$274,Table7[[#This Row],[Vo]]))","v":0},{"$f":"IF(T$1=0,0,IF(Configuration!$F$8=\"D\",$R$274,Table7[[#This Row],[Vo]]))","v":0},{"$f":"IF(U$1=0,0,IF(Configuration!$F$9=\"D\",$R$274,Table7[[#This Row],[Vo]]))","v":0},{"$f":"IF(V$1=0,0,IF(Configuration!$F$10=\"D\",$R$274,Table7[[#This Row],[Vo]]))","v":0},{"$f":"IF(W$1=0,0,IF(Configuration!$F$11=\"D\",$R$274,Table7[[#This Row],[Vo]]))","v":0},{"$f":"IF(X$1=0,0,IF(Configuration!$F$12=\"D\",$R$274,Table7[[#This Row],[Vo]]))","v":0},{"$f":"IF(Y$1=0,0,IF(Configuration!$F$13=\"D\",$R$274,Table7[[#This Row],[Vo]]))","v":0},{"$f":"IF(Z$1=0,0,IF(Configuration!$F$14=\"D\",$R$274,Table7[[#This Row],[Vo]]))","v":0},{"$f":"IF(AA$1=0,0,IF(Configuration!$F$15=\"D\",$R$274,Table7[[#This Row],[Vo]]))","v":0},{"$f":"IF(AB$1=0,0,IF(Configuration!$F$16=\"D\",$R$274,Table7[[#This Row],[Vo]]))","v":0},{"$f":"IF(AC$1=0,0,IF(Configuration!$F$17=\"D\",$R$274,Table7[[#This Row],[Vo]]))","v":0}]
[39.200000000000003,"NMS-240-48",5,{"$f":"Table2[[#This Row],[Output Voltage]]*Table2[[#This Row],[Module rated current]]","v":196},"K",{"$f":"IF(1200/Table2[[#This Row],[Module rated power]]>6,6,ROUNDDOWN(1200/Table2[[#This Row],[Module rated power]],0))","v":6},{"$f":"Table2[[#This Row],[Module rated power]]*Table2[[#This Row],[Available No. of Slot]]","v":1176},{"$f":"ROUNDDOWN(Table2[[#This Row],[Max power per output]]/Table2[[#This Row],[Output Voltage]],2)","v":30},null,null,null,null,null,null,null,null,null,40.9,{"$f":"IF(S$1=0,0,IF(Configuration!$F$7=\"D\",$R$274,Table7[[#This Row],[Vo]]))","v":0},{"$f":"IF(T$1=0,0,IF(Configuration!$F$8=\"D\",$R$274,Table7[[#This Row],[Vo]]))","v":0},{"$f":"IF(U$1=0,0,IF(Configuration!$F$9=\"D\",$R$274,Table7[[#This Row],[Vo]]))","v":0},{"$f":"IF(V$1=0,0,IF(Configuration!$F$10=\"D\",$R$274,Table7[[#This Row],[Vo]]))","v":0},{"$f":"IF(W$1=0,0,IF(Configuration!$F$11=\"D\",$R$274,Table7[[#This Row],[Vo]]))","v":0},{"$f":"IF(X$1=0,0,IF(Configuration!$F$12=\"D\",$R$274,Table7[[#This Row],[Vo]]))","v":0},{"$f":"IF(Y$1=0,0,IF(Configuration!$F$13=\"D\",$R$274,Table7[[#This Row],[Vo]]))","v":0},{"$f":"IF(Z$1=0,0,IF(Configuration!$F$14=\"D\",$R$274,Table7[[#This Row],[Vo]]))","v":0},{"$f":"IF(AA$1=0,0,IF(Configuration!$F$15=\"D\",$R$274,Table7[[#This Row],[Vo]]))","v":0},{"$f":"IF(AB$1=0,0,IF(Configuration!$F$16=\"D\",$R$274,Table7[[#This Row],[Vo]]))","v":0},{"$f":"IF(AC$1=0,0,IF(Configuration!$F$17=\"D\",$R$274,Table7[[#This Row],[Vo]]))","v":0}]
[39.299999999999997,"NMS-240-48",5,{"$f":"Table2[[#This Row],[Output Voltage]]*Table2[[#This Row],[Module rated current]]","v":196.5},"K",{"$f":"IF(1200/Table2[[#This Row],[Module rated power]]>6,6,ROUNDDOWN(1200/Table2[[#This Row],[Module rated power]],0))","v":6},{"$f":"Table2[[#This Row],[Module rated power]]*Table2[[#This Row],[Available No. of Slot]]","v":1179},{"$f":"ROUNDDOWN(Table2[[#This Row],[Max power per output]]/Table2[[#This Row],[Output Voltage]],2)","v":30},null,null,null,null,null,null,null,null,null,41,{"$f":"IF(S$1=0,0,IF(Configuration!$F$7=\"D\",$R$274,Table7[[#This Row],[Vo]]))","v":0},{"$f":"IF(T$1=0,0,IF(Configuration!$F$8=\"D\",$R$274,Table7[[#This Row],[Vo]]))","v":0},{"$f":"IF(U$1=0,0,IF(Configuration!$F$9=\"D\",$R$274,Table7[[#This Row],[Vo]]))","v":0},{"$f":"IF(V$1=0,0,IF(Configuration!$F$10=\"D\",$R$274,Table7[[#This Row],[Vo]]))","v":0},{"$f":"IF(W$1=0,0,IF(Configuration!$F$11=\"D\",$R$274,Table7[[#This Row],[Vo]]))","v":0},{"$f":"IF(X$1=0,0,IF(Configuration!$F$12=\"D\",$R$274,Table7[[#This Row],[Vo]]))","v":0},{"$f":"IF(Y$1=0,0,IF(Configuration!$F$13=\"D\",$R$274,Table7[[#This Row],[Vo]]))","v":0},{"$f":"IF(Z$1=0,0,IF(Configuration!$F$14=\"D\",$R$274,Table7[[#This Row],[Vo]]))","v":0},{"$f":"IF(AA$1=0,0,IF(Configuration!$F$15=\"D\",$R$274,Table7[[#This Row],[Vo]]))","v":0},{"$f":"IF(AB$1=0,0,IF(Configuration!$F$16=\"D\",$R$274,Table7[[#This Row],[Vo]]))","v":0},{"$f":"IF(AC$1=0,0,IF(Configuration!$F$17=\"D\",$R$274,Table7[[#This Row],[Vo]]))","v":0}]
[39.4,"NMS-240-48",5,{"$f":"Table2[[#This Row],[Output Voltage]]*Table2[[#This Row],[Module rated current]]","v":197},"K",{"$f":"IF(1200/Table2[[#This Row],[Module rated power]]>6,6,ROUNDDOWN(1200/Table2[[#This Row],[Module rated power]],0))","v":6},{"$f":"Table2[[#This Row],[Module rated power]]*Table2[[#This Row],[Available No. of Slot]]","v":1182},{"$f":"ROUNDDOWN(Table2[[#This Row],[Max power per output]]/Table2[[#This Row],[Output Voltage]],2)","v":30},null,null,null,null,null,null,null,null,null,41.1,{"$f":"IF(S$1=0,0,IF(Configuration!$F$7=\"D\",$R$274,Table7[[#This Row],[Vo]]))","v":0},{"$f":"IF(T$1=0,0,IF(Configuration!$F$8=\"D\",$R$274,Table7[[#This Row],[Vo]]))","v":0},{"$f":"IF(U$1=0,0,IF(Configuration!$F$9=\"D\",$R$274,Table7[[#This Row],[Vo]]))","v":0},{"$f":"IF(V$1=0,0,IF(Configuration!$F$10=\"D\",$R$274,Table7[[#This Row],[Vo]]))","v":0},{"$f":"IF(W$1=0,0,IF(Configuration!$F$11=\"D\",$R$274,Table7[[#This Row],[Vo]]))","v":0},{"$f":"IF(X$1=0,0,IF(Configuration!$F$12=\"D\",$R$274,Table7[[#This Row],[Vo]]))","v":0},{"$f":"IF(Y$1=0,0,IF(Configuration!$F$13=\"D\",$R$274,Table7[[#This Row],[Vo]]))","v":0},{"$f":"IF(Z$1=0,0,IF(Configuration!$F$14=\"D\",$R$274,Table7[[#This Row],[Vo]]))","v":0},{"$f":"IF(AA$1=0,0,IF(Configuration!$F$15=\"D\",$R$274,Table7[[#This Row],[Vo]]))","v":0},{"$f":"IF(AB$1=0,0,IF(Configuration!$F$16=\"D\",$R$274,Table7[[#This Row],[Vo]]))","v":0},{"$f":"IF(AC$1=0,0,IF(Configuration!$F$17=\"D\",$R$274,Table7[[#This Row],[Vo]]))","v":0}]
[39.5,"NMS-240-48",5,{"$f":"Table2[[#This Row],[Output Voltage]]*Table2[[#This Row],[Module rated current]]","v":197.5},"K",{"$f":"IF(1200/Table2[[#This Row],[Module rated power]]>6,6,ROUNDDOWN(1200/Table2[[#This Row],[Module rated power]],0))","v":6},{"$f":"Table2[[#This Row],[Module rated power]]*Table2[[#This Row],[Available No. of Slot]]","v":1185},{"$f":"ROUNDDOWN(Table2[[#This Row],[Max power per output]]/Table2[[#This Row],[Output Voltage]],2)","v":30},null,null,null,null,null,null,null,null,null,41.2,{"$f":"IF(S$1=0,0,IF(Configuration!$F$7=\"D\",$R$274,Table7[[#This Row],[Vo]]))","v":0},{"$f":"IF(T$1=0,0,IF(Configuration!$F$8=\"D\",$R$274,Table7[[#This Row],[Vo]]))","v":0},{"$f":"IF(U$1=0,0,IF(Configuration!$F$9=\"D\",$R$274,Table7[[#This Row],[Vo]]))","v":0},{"$f":"IF(V$1=0,0,IF(Configuration!$F$10=\"D\",$R$274,Table7[[#This Row],[Vo]]))","v":0},{"$f":"IF(W$1=0,0,IF(Configuration!$F$11=\"D\",$R$274,Table7[[#This Row],[Vo]]))","v":0},{"$f":"IF(X$1=0,0,IF(Configuration!$F$12=\"D\",$R$274,Table7[[#This Row],[Vo]]))","v":0},{"$f":"IF(Y$1=0,0,IF(Configuration!$F$13=\"D\",$R$274,Table7[[#This Row],[Vo]]))","v":0},{"$f":"IF(Z$1=0,0,IF(Configuration!$F$14=\"D\",$R$274,Table7[[#This Row],[Vo]]))","v":0},{"$f":"IF(AA$1=0,0,IF(Configuration!$F$15=\"D\",$R$274,Table7[[#This Row],[Vo]]))","v":0},{"$f":"IF(AB$1=0,0,IF(Configuration!$F$16=\"D\",$R$274,Table7[[#This Row],[Vo]]))","v":0},{"$f":"IF(AC$1=0,0,IF(Configuration!$F$17=\"D\",$R$274,Table7[[#This Row],[Vo]]))","v":0}]
[39.6,"NMS-240-48",5,{"$f":"Table2[[#This Row],[Output Voltage]]*Table2[[#This Row],[Module rated current]]","v":198},"K",{"$f":"IF(1200/Table2[[#This Row],[Module rated power]]>6,6,ROUNDDOWN(1200/Table2[[#This Row],[Module rated power]],0))","v":6},{"$f":"Table2[[#This Row],[Module rated power]]*Table2[[#This Row],[Available No. of Slot]]","v":1188},{"$f":"ROUNDDOWN(Table2[[#This Row],[Max power per output]]/Table2[[#This Row],[Output Voltage]],2)","v":30},null,null,null,null,null,null,null,null,null,41.3,{"$f":"IF(S$1=0,0,IF(Configuration!$F$7=\"D\",$R$274,Table7[[#This Row],[Vo]]))","v":0},{"$f":"IF(T$1=0,0,IF(Configuration!$F$8=\"D\",$R$274,Table7[[#This Row],[Vo]]))","v":0},{"$f":"IF(U$1=0,0,IF(Configuration!$F$9=\"D\",$R$274,Table7[[#This Row],[Vo]]))","v":0},{"$f":"IF(V$1=0,0,IF(Configuration!$F$10=\"D\",$R$274,Table7[[#This Row],[Vo]]))","v":0},{"$f":"IF(W$1=0,0,IF(Configuration!$F$11=\"D\",$R$274,Table7[[#This Row],[Vo]]))","v":0},{"$f":"IF(X$1=0,0,IF(Configuration!$F$12=\"D\",$R$274,Table7[[#This Row],[Vo]]))","v":0},{"$f":"IF(Y$1=0,0,IF(Configuration!$F$13=\"D\",$R$274,Table7[[#This Row],[Vo]]))","v":0},{"$f":"IF(Z$1=0,0,IF(Configuration!$F$14=\"D\",$R$274,Table7[[#This Row],[Vo]]))","v":0},{"$f":"IF(AA$1=0,0,IF(Configuration!$F$15=\"D\",$R$274,Table7[[#This Row],[Vo]]))","v":0},{"$f":"IF(AB$1=0,0,IF(Configuration!$F$16=\"D\",$R$274,Table7[[#This Row],[Vo]]))","v":0},{"$f":"IF(AC$1=0,0,IF(Configuration!$F$17=\"D\",$R$274,Table7[[#This Row],[Vo]]))","v":0}]
[39.700000000000003,"NMS-240-48",5,{"$f":"Table2[[#This Row],[Output Voltage]]*Table2[[#This Row],[Module rated current]]","v":198.5},"K",{"$f":"IF(1200/Table2[[#This Row],[Module rated power]]>6,6,ROUNDDOWN(1200/Table2[[#This Row],[Module rated power]],0))","v":6},{"$f":"Table2[[#This Row],[Module rated power]]*Table2[[#This Row],[Available No. of Slot]]","v":1191},{"$f":"ROUNDDOWN(Table2[[#This Row],[Max power per output]]/Table2[[#This Row],[Output Voltage]],2)","v":30},null,null,null,null,null,null,null,null,null,41.4,{"$f":"IF(S$1=0,0,IF(Configuration!$F$7=\"D\",$R$274,Table7[[#This Row],[Vo]]))","v":0},{"$f":"IF(T$1=0,0,IF(Configuration!$F$8=\"D\",$R$274,Table7[[#This Row],[Vo]]))","v":0},{"$f":"IF(U$1=0,0,IF(Configuration!$F$9=\"D\",$R$274,Table7[[#This Row],[Vo]]))","v":0},{"$f":"IF(V$1=0,0,IF(Configuration!$F$10=\"D\",$R$274,Table7[[#This Row],[Vo]]))","v":0},{"$f":"IF(W$1=0,0,IF(Configuration!$F$11=\"D\",$R$274,Table7[[#This Row],[Vo]]))","v":0},{"$f":"IF(X$1=0,0,IF(Configuration!$F$12=\"D\",$R$274,Table7[[#This Row],[Vo]]))","v":0},{"$f":"IF(Y$1=0,0,IF(Configuration!$F$13=\"D\",$R$274,Table7[[#This Row],[Vo]]))","v":0},{"$f":"IF(Z$1=0,0,IF(Configuration!$F$14=\"D\",$R$274,Table7[[#This Row],[Vo]]))","v":0},{"$f":"IF(AA$1=0,0,IF(Configuration!$F$15=\"D\",$R$274,Table7[[#This Row],[Vo]]))","v":0},{"$f":"IF(AB$1=0,0,IF(Configuration!$F$16=\"D\",$R$274,Table7[[#This Row],[Vo]]))","v":0},{"$f":"IF(AC$1=0,0,IF(Configuration!$F$17=\"D\",$R$274,Table7[[#This Row],[Vo]]))","v":0}]
[39.799999999999997,"NMS-240-48",5,{"$f":"Table2[[#This Row],[Output Voltage]]*Table2[[#This Row],[Module rated current]]","v":199},"K",{"$f":"IF(1200/Table2[[#This Row],[Module rated power]]>6,6,ROUNDDOWN(1200/Table2[[#This Row],[Module rated power]],0))","v":6},{"$f":"Table2[[#This Row],[Module rated power]]*Table2[[#This Row],[Available No. of Slot]]","v":1194},{"$f":"ROUNDDOWN(Table2[[#This Row],[Max power per output]]/Table2[[#This Row],[Output Voltage]],2)","v":30},null,null,null,null,null,null,null,null,null,41.5,{"$f":"IF(S$1=0,0,IF(Configuration!$F$7=\"D\",$R$274,Table7[[#This Row],[Vo]]))","v":0},{"$f":"IF(T$1=0,0,IF(Configuration!$F$8=\"D\",$R$274,Table7[[#This Row],[Vo]]))","v":0},{"$f":"IF(U$1=0,0,IF(Configuration!$F$9=\"D\",$R$274,Table7[[#This Row],[Vo]]))","v":0},{"$f":"IF(V$1=0,0,IF(Configuration!$F$10=\"D\",$R$274,Table7[[#This Row],[Vo]]))","v":0},{"$f":"IF(W$1=0,0,IF(Configuration!$F$11=\"D\",$R$274,Table7[[#This Row],[Vo]]))","v":0},{"$f":"IF(X$1=0,0,IF(Configuration!$F$12=\"D\",$R$274,Table7[[#This Row],[Vo]]))","v":0},{"$f":"IF(Y$1=0,0,IF(Configuration!$F$13=\"D\",$R$274,Table7[[#This Row],[Vo]]))","v":0},{"$f":"IF(Z$1=0,0,IF(Configuration!$F$14=\"D\",$R$274,Table7[[#This Row],[Vo]]))","v":0},{"$f":"IF(AA$1=0,0,IF(Configuration!$F$15=\"D\",$R$274,Table7[[#This Row],[Vo]]))","v":0},{"$f":"IF(AB$1=0,0,IF(Configuration!$F$16=\"D\",$R$274,Table7[[#This Row],[Vo]]))","v":0},{"$f":"IF(AC$1=0,0,IF(Configuration!$F$17=\"D\",$R$274,Table7[[#This Row],[Vo]]))","v":0}]
[39.9,"NMS-240-48",5,{"$f":"Table2[[#This Row],[Output Voltage]]*Table2[[#This Row],[Module rated current]]","v":199.5},"K",{"$f":"IF(1200/Table2[[#This Row],[Module rated power]]>6,6,ROUNDDOWN(1200/Table2[[#This Row],[Module rated power]],0))","v":6},{"$f":"Table2[[#This Row],[Module rated power]]*Table2[[#This Row],[Available No. of Slot]]","v":1197},{"$f":"ROUNDDOWN(Table2[[#This Row],[Max power per output]]/Table2[[#This Row],[Output Voltage]],2)","v":30},null,null,null,null,null,null,null,null,null,{"$f":"ROUNDUP(R389+0.1,1)","v":41.6},{"$f":"IF(S$1=0,0,IF(Configuration!$F$7=\"D\",$R$274,Table7[[#This Row],[Vo]]))","v":0},{"$f":"IF(T$1=0,0,IF(Configuration!$F$8=\"D\",$R$274,Table7[[#This Row],[Vo]]))","v":0},{"$f":"IF(U$1=0,0,IF(Configuration!$F$9=\"D\",$R$274,Table7[[#This Row],[Vo]]))","v":0},{"$f":"IF(V$1=0,0,IF(Configuration!$F$10=\"D\",$R$274,Table7[[#This Row],[Vo]]))","v":0},{"$f":"IF(W$1=0,0,IF(Configuration!$F$11=\"D\",$R$274,Table7[[#This Row],[Vo]]))","v":0},{"$f":"IF(X$1=0,0,IF(Configuration!$F$12=\"D\",$R$274,Table7[[#This Row],[Vo]]))","v":0},{"$f":"IF(Y$1=0,0,IF(Configuration!$F$13=\"D\",$R$274,Table7[[#This Row],[Vo]]))","v":0},{"$f":"IF(Z$1=0,0,IF(Configuration!$F$14=\"D\",$R$274,Table7[[#This Row],[Vo]]))","v":0},{"$f":"IF(AA$1=0,0,IF(Configuration!$F$15=\"D\",$R$274,Table7[[#This Row],[Vo]]))","v":0},{"$f":"IF(AB$1=0,0,IF(Configuration!$F$16=\"D\",$R$274,Table7[[#This Row],[Vo]]))","v":0},{"$f":"IF(AC$1=0,0,IF(Configuration!$F$17=\"D\",$R$274,Table7[[#This Row],[Vo]]))","v":0}]
[40,"NMS-240-48",5,{"$f":"Table2[[#This Row],[Output Voltage]]*Table2[[#This Row],[Module rated current]]","v":200},"K",{"$f":"IF(1200/Table2[[#This Row],[Module rated power]]>6,6,ROUNDDOWN(1200/Table2[[#This Row],[Module rated power]],0))","v":6},{"$f":"Table2[[#This Row],[Module rated power]]*Table2[[#This Row],[Available No. of Slot]]","v":1200},{"$f":"ROUNDDOWN(Table2[[#This Row],[Max power per output]]/Table2[[#This Row],[Output Voltage]],2)","v":30},null,null,null,null,null,null,null,null,null,41.7,{"$f":"IF(S$1=0,0,IF(Configuration!$F$7=\"D\",$R$274,Table7[[#This Row],[Vo]]))","v":0},{"$f":"IF(T$1=0,0,IF(Configuration!$F$8=\"D\",$R$274,Table7[[#This Row],[Vo]]))","v":0},{"$f":"IF(U$1=0,0,IF(Configuration!$F$9=\"D\",$R$274,Table7[[#This Row],[Vo]]))","v":0},{"$f":"IF(V$1=0,0,IF(Configuration!$F$10=\"D\",$R$274,Table7[[#This Row],[Vo]]))","v":0},{"$f":"IF(W$1=0,0,IF(Configuration!$F$11=\"D\",$R$274,Table7[[#This Row],[Vo]]))","v":0},{"$f":"IF(X$1=0,0,IF(Configuration!$F$12=\"D\",$R$274,Table7[[#This Row],[Vo]]))","v":0},{"$f":"IF(Y$1=0,0,IF(Configuration!$F$13=\"D\",$R$274,Table7[[#This Row],[Vo]]))","v":0},{"$f":"IF(Z$1=0,0,IF(Configuration!$F$14=\"D\",$R$274,Table7[[#This Row],[Vo]]))","v":0},{"$f":"IF(AA$1=0,0,IF(Configuration!$F$15=\"D\",$R$274,Table7[[#This Row],[Vo]]))","v":0},{"$f":"IF(AB$1=0,0,IF(Configuration!$F$16=\"D\",$R$274,Table7[[#This Row],[Vo]]))","v":0},{"$f":"IF(AC$1=0,0,IF(Configuration!$F$17=\"D\",$R$274,Table7[[#This Row],[Vo]]))","v":0}]
[40.1,"NMS-240-48",5,{"$f":"Table2[[#This Row],[Output Voltage]]*Table2[[#This Row],[Module rated current]]","v":200.5},"K",{"$f":"IF(1200/Table2[[#This Row],[Module rated power]]>6,6,ROUNDDOWN(1200/Table2[[#This Row],[Module rated power]],0))","v":5},{"$f":"Table2[[#This Row],[Module rated power]]*Table2[[#This Row],[Available No. of Slot]]","v":1002.5},{"$f":"ROUNDDOWN(Table2[[#This Row],[Max power per output]]/Table2[[#This Row],[Output Voltage]],2)","v":25},null,null,null,null,null,null,null,null,null,41.8,{"$f":"IF(S$1=0,0,IF(Configuration!$F$7=\"D\",$R$274,Table7[[#This Row],[Vo]]))","v":0},{"$f":"IF(T$1=0,0,IF(Configuration!$F$8=\"D\",$R$274,Table7[[#This Row],[Vo]]))","v":0},{"$f":"IF(U$1=0,0,IF(Configuration!$F$9=\"D\",$R$274,Table7[[#This Row],[Vo]]))","v":0},{"$f":"IF(V$1=0,0,IF(Configuration!$F$10=\"D\",$R$274,Table7[[#This Row],[Vo]]))","v":0},{"$f":"IF(W$1=0,0,IF(Configuration!$F$11=\"D\",$R$274,Table7[[#This Row],[Vo]]))","v":0},{"$f":"IF(X$1=0,0,IF(Configuration!$F$12=\"D\",$R$274,Table7[[#This Row],[Vo]]))","v":0},{"$f":"IF(Y$1=0,0,IF(Configuration!$F$13=\"D\",$R$274,Table7[[#This Row],[Vo]]))","v":0},{"$f":"IF(Z$1=0,0,IF(Configuration!$F$14=\"D\",$R$274,Table7[[#This Row],[Vo]]))","v":0},{"$f":"IF(AA$1=0,0,IF(Configuration!$F$15=\"D\",$R$274,Table7[[#This Row],[Vo]]))","v":0},{"$f":"IF(AB$1=0,0,IF(Configuration!$F$16=\"D\",$R$274,Table7[[#This Row],[Vo]]))","v":0},{"$f":"IF(AC$1=0,0,IF(Configuration!$F$17=\"D\",$R$274,Table7[[#This Row],[Vo]]))","v":0}]
[40.200000000000003,"NMS-240-48",5,{"$f":"Table2[[#This Row],[Output Voltage]]*Table2[[#This Row],[Module rated current]]","v":201},"K",{"$f":"IF(1200/Table2[[#This Row],[Module rated power]]>6,6,ROUNDDOWN(1200/Table2[[#This Row],[Module rated power]],0))","v":5},{"$f":"Table2[[#This Row],[Module rated power]]*Table2[[#This Row],[Available No. of Slot]]","v":1005},{"$f":"ROUNDDOWN(Table2[[#This Row],[Max power per output]]/Table2[[#This Row],[Output Voltage]],2)","v":25},null,null,null,null,null,null,null,null,null,41.9,{"$f":"IF(S$1=0,0,IF(Configuration!$F$7=\"D\",$R$274,Table7[[#This Row],[Vo]]))","v":0},{"$f":"IF(T$1=0,0,IF(Configuration!$F$8=\"D\",$R$274,Table7[[#This Row],[Vo]]))","v":0},{"$f":"IF(U$1=0,0,IF(Configuration!$F$9=\"D\",$R$274,Table7[[#This Row],[Vo]]))","v":0},{"$f":"IF(V$1=0,0,IF(Configuration!$F$10=\"D\",$R$274,Table7[[#This Row],[Vo]]))","v":0},{"$f":"IF(W$1=0,0,IF(Configuration!$F$11=\"D\",$R$274,Table7[[#This Row],[Vo]]))","v":0},{"$f":"IF(X$1=0,0,IF(Configuration!$F$12=\"D\",$R$274,Table7[[#This Row],[Vo]]))","v":0},{"$f":"IF(Y$1=0,0,IF(Configuration!$F$13=\"D\",$R$274,Table7[[#This Row],[Vo]]))","v":0},{"$f":"IF(Z$1=0,0,IF(Configuration!$F$14=\"D\",$R$274,Table7[[#This Row],[Vo]]))","v":0},{"$f":"IF(AA$1=0,0,IF(Configuration!$F$15=\"D\",$R$274,Table7[[#This Row],[Vo]]))","v":0},{"$f":"IF(AB$1=0,0,IF(Configuration!$F$16=\"D\",$R$274,Table7[[#This Row],[Vo]]))","v":0},{"$f":"IF(AC$1=0,0,IF(Configuration!$F$17=\"D\",$R$274,Table7[[#This Row],[Vo]]))","v":0}]
[40.299999999999997,"NMS-240-48",5,{"$f":"Table2[[#This Row],[Output Voltage]]*Table2[[#This Row],[Module rated current]]","v":201.5},"K",{"$f":"IF(1200/Table2[[#This Row],[Module rated power]]>6,6,ROUNDDOWN(1200/Table2[[#This Row],[Module rated power]],0))","v":5},{"$f":"Table2[[#This Row],[Module rated power]]*Table2[[#This Row],[Available No. of Slot]]","v":1007.5},{"$f":"ROUNDDOWN(Table2[[#This Row],[Max power per output]]/Table2[[#This Row],[Output Voltage]],2)","v":25},null,null,null,null,null,null,null,null,null,42,{"$f":"IF(S$1=0,0,IF(Configuration!$F$7=\"D\",$R$274,Table7[[#This Row],[Vo]]))","v":0},{"$f":"IF(T$1=0,0,IF(Configuration!$F$8=\"D\",$R$274,Table7[[#This Row],[Vo]]))","v":0},{"$f":"IF(U$1=0,0,IF(Configuration!$F$9=\"D\",$R$274,Table7[[#This Row],[Vo]]))","v":0},{"$f":"IF(V$1=0,0,IF(Configuration!$F$10=\"D\",$R$274,Table7[[#This Row],[Vo]]))","v":0},{"$f":"IF(W$1=0,0,IF(Configuration!$F$11=\"D\",$R$274,Table7[[#This Row],[Vo]]))","v":0},{"$f":"IF(X$1=0,0,IF(Configuration!$F$12=\"D\",$R$274,Table7[[#This Row],[Vo]]))","v":0},{"$f":"IF(Y$1=0,0,IF(Configuration!$F$13=\"D\",$R$274,Table7[[#This Row],[Vo]]))","v":0},{"$f":"IF(Z$1=0,0,IF(Configuration!$F$14=\"D\",$R$274,Table7[[#This Row],[Vo]]))","v":0},{"$f":"IF(AA$1=0,0,IF(Configuration!$F$15=\"D\",$R$274,Table7[[#This Row],[Vo]]))","v":0},{"$f":"IF(AB$1=0,0,IF(Configuration!$F$16=\"D\",$R$274,Table7[[#This Row],[Vo]]))","v":0},{"$f":"IF(AC$1=0,0,IF(Configuration!$F$17=\"D\",$R$274,Table7[[#This Row],[Vo]]))","v":0}]
[40.4,"NMS-240-48",5,{"$f":"Table2[[#This Row],[Output Voltage]]*Table2[[#This Row],[Module rated current]]","v":202},"K",{"$f":"IF(1200/Table2[[#This Row],[Module rated power]]>6,6,ROUNDDOWN(1200/Table2[[#This Row],[Module rated power]],0))","v":5},{"$f":"Table2[[#This Row],[Module rated power]]*Table2[[#This Row],[Available No. of Slot]]","v":1010},{"$f":"ROUNDDOWN(Table2[[#This Row],[Max power per output]]/Table2[[#This Row],[Output Voltage]],2)","v":25},null,null,null,null,null,null,null,null,null,42.1,{"$f":"IF(S$1=0,0,IF(Configuration!$F$7=\"D\",$R$274,Table7[[#This Row],[Vo]]))","v":0},{"$f":"IF(T$1=0,0,IF(Configuration!$F$8=\"D\",$R$274,Table7[[#This Row],[Vo]]))","v":0},{"$f":"IF(U$1=0,0,IF(Configuration!$F$9=\"D\",$R$274,Table7[[#This Row],[Vo]]))","v":0},{"$f":"IF(V$1=0,0,IF(Configuration!$F$10=\"D\",$R$274,Table7[[#This Row],[Vo]]))","v":0},{"$f":"IF(W$1=0,0,IF(Configuration!$F$11=\"D\",$R$274,Table7[[#This Row],[Vo]]))","v":0},{"$f":"IF(X$1=0,0,IF(Configuration!$F$12=\"D\",$R$274,Table7[[#This Row],[Vo]]))","v":0},{"$f":"IF(Y$1=0,0,IF(Configuration!$F$13=\"D\",$R$274,Table7[[#This Row],[Vo]]))","v":0},{"$f":"IF(Z$1=0,0,IF(Configuration!$F$14=\"D\",$R$274,Table7[[#This Row],[Vo]]))","v":0},{"$f":"IF(AA$1=0,0,IF(Configuration!$F$15=\"D\",$R$274,Table7[[#This Row],[Vo]]))","v":0},{"$f":"IF(AB$1=0,0,IF(Configuration!$F$16=\"D\",$R$274,Table7[[#This Row],[Vo]]))","v":0},{"$f":"IF(AC$1=0,0,IF(Configuration!$F$17=\"D\",$R$274,Table7[[#This Row],[Vo]]))","v":0}]
[40.5,"NMS-240-48",5,{"$f":"Table2[[#This Row],[Output Voltage]]*Table2[[#This Row],[Module rated current]]","v":202.5},"K",{"$f":"IF(1200/Table2[[#This Row],[Module rated power]]>6,6,ROUNDDOWN(1200/Table2[[#This Row],[Module rated power]],0))","v":5},{"$f":"Table2[[#This Row],[Module rated power]]*Table2[[#This Row],[Available No. of Slot]]","v":1012.5},{"$f":"ROUNDDOWN(Table2[[#This Row],[Max power per output]]/Table2[[#This Row],[Output Voltage]],2)","v":25},null,null,null,null,null,null,null,null,null,42.2,{"$f":"IF(S$1=0,0,IF(Configuration!$F$7=\"D\",$R$274,Table7[[#This Row],[Vo]]))","v":0},{"$f":"IF(T$1=0,0,IF(Configuration!$F$8=\"D\",$R$274,Table7[[#This Row],[Vo]]))","v":0},{"$f":"IF(U$1=0,0,IF(Configuration!$F$9=\"D\",$R$274,Table7[[#This Row],[Vo]]))","v":0},{"$f":"IF(V$1=0,0,IF(Configuration!$F$10=\"D\",$R$274,Table7[[#This Row],[Vo]]))","v":0},{"$f":"IF(W$1=0,0,IF(Configuration!$F$11=\"D\",$R$274,Table7[[#This Row],[Vo]]))","v":0},{"$f":"IF(X$1=0,0,IF(Configuration!$F$12=\"D\",$R$274,Table7[[#This Row],[Vo]]))","v":0},{"$f":"IF(Y$1=0,0,IF(Configuration!$F$13=\"D\",$R$274,Table7[[#This Row],[Vo]]))","v":0},{"$f":"IF(Z$1=0,0,IF(Configuration!$F$14=\"D\",$R$274,Table7[[#This Row],[Vo]]))","v":0},{"$f":"IF(AA$1=0,0,IF(Configuration!$F$15=\"D\",$R$274,Table7[[#This Row],[Vo]]))","v":0},{"$f":"IF(AB$1=0,0,IF(Configuration!$F$16=\"D\",$R$274,Table7[[#This Row],[Vo]]))","v":0},{"$f":"IF(AC$1=0,0,IF(Configuration!$F$17=\"D\",$R$274,Table7[[#This Row],[Vo]]))","v":0}]
[40.6,"NMS-240-48",5,{"$f":"Table2[[#This Row],[Output Voltage]]*Table2[[#This Row],[Module rated current]]","v":203},"K",{"$f":"IF(1200/Table2[[#This Row],[Module rated power]]>6,6,ROUNDDOWN(1200/Table2[[#This Row],[Module rated power]],0))","v":5},{"$f":"Table2[[#This Row],[Module rated power]]*Table2[[#This Row],[Available No. of Slot]]","v":1015},{"$f":"ROUNDDOWN(Table2[[#This Row],[Max power per output]]/Table2[[#This Row],[Output Voltage]],2)","v":25},null,null,null,null,null,null,null,null,null,42.3,{"$f":"IF(S$1=0,0,IF(Configuration!$F$7=\"D\",$R$274,Table7[[#This Row],[Vo]]))","v":0},{"$f":"IF(T$1=0,0,IF(Configuration!$F$8=\"D\",$R$274,Table7[[#This Row],[Vo]]))","v":0},{"$f":"IF(U$1=0,0,IF(Configuration!$F$9=\"D\",$R$274,Table7[[#This Row],[Vo]]))","v":0},{"$f":"IF(V$1=0,0,IF(Configuration!$F$10=\"D\",$R$274,Table7[[#This Row],[Vo]]))","v":0},{"$f":"IF(W$1=0,0,IF(Configuration!$F$11=\"D\",$R$274,Table7[[#This Row],[Vo]]))","v":0},{"$f":"IF(X$1=0,0,IF(Configuration!$F$12=\"D\",$R$274,Table7[[#This Row],[Vo]]))","v":0},{"$f":"IF(Y$1=0,0,IF(Configuration!$F$13=\"D\",$R$274,Table7[[#This Row],[Vo]]))","v":0},{"$f":"IF(Z$1=0,0,IF(Configuration!$F$14=\"D\",$R$274,Table7[[#This Row],[Vo]]))","v":0},{"$f":"IF(AA$1=0,0,IF(Configuration!$F$15=\"D\",$R$274,Table7[[#This Row],[Vo]]))","v":0},{"$f":"IF(AB$1=0,0,IF(Configuration!$F$16=\"D\",$R$274,Table7[[#This Row],[Vo]]))","v":0},{"$f":"IF(AC$1=0,0,IF(Configuration!$F$17=\"D\",$R$274,Table7[[#This Row],[Vo]]))","v":0}]
[40.700000000000003,"NMS-240-48",5,{"$f":"Table2[[#This Row],[Output Voltage]]*Table2[[#This Row],[Module rated current]]","v":203.5},"K",{"$f":"IF(1200/Table2[[#This Row],[Module rated power]]>6,6,ROUNDDOWN(1200/Table2[[#This Row],[Module rated power]],0))","v":5},{"$f":"Table2[[#This Row],[Module rated power]]*Table2[[#This Row],[Available No. of Slot]]","v":1017.5},{"$f":"ROUNDDOWN(Table2[[#This Row],[Max power per output]]/Table2[[#This Row],[Output Voltage]],2)","v":25},null,null,null,null,null,null,null,null,null,42.4,{"$f":"IF(S$1=0,0,IF(Configuration!$F$7=\"D\",$R$274,Table7[[#This Row],[Vo]]))","v":0},{"$f":"IF(T$1=0,0,IF(Configuration!$F$8=\"D\",$R$274,Table7[[#This Row],[Vo]]))","v":0},{"$f":"IF(U$1=0,0,IF(Configuration!$F$9=\"D\",$R$274,Table7[[#This Row],[Vo]]))","v":0},{"$f":"IF(V$1=0,0,IF(Configuration!$F$10=\"D\",$R$274,Table7[[#This Row],[Vo]]))","v":0},{"$f":"IF(W$1=0,0,IF(Configuration!$F$11=\"D\",$R$274,Table7[[#This Row],[Vo]]))","v":0},{"$f":"IF(X$1=0,0,IF(Configuration!$F$12=\"D\",$R$274,Table7[[#This Row],[Vo]]))","v":0},{"$f":"IF(Y$1=0,0,IF(Configuration!$F$13=\"D\",$R$274,Table7[[#This Row],[Vo]]))","v":0},{"$f":"IF(Z$1=0,0,IF(Configuration!$F$14=\"D\",$R$274,Table7[[#This Row],[Vo]]))","v":0},{"$f":"IF(AA$1=0,0,IF(Configuration!$F$15=\"D\",$R$274,Table7[[#This Row],[Vo]]))","v":0},{"$f":"IF(AB$1=0,0,IF(Configuration!$F$16=\"D\",$R$274,Table7[[#This Row],[Vo]]))","v":0},{"$f":"IF(AC$1=0,0,IF(Configuration!$F$17=\"D\",$R$274,Table7[[#This Row],[Vo]]))","v":0}]
[40.799999999999997,"NMS-240-48",5,{"$f":"Table2[[#This Row],[Output Voltage]]*Table2[[#This Row],[Module rated current]]","v":204},"K",{"$f":"IF(1200/Table2[[#This Row],[Module rated power]]>6,6,ROUNDDOWN(1200/Table2[[#This Row],[Module rated power]],0))","v":5},{"$f":"Table2[[#This Row],[Module rated power]]*Table2[[#This Row],[Available No. of Slot]]","v":1020},{"$f":"ROUNDDOWN(Table2[[#This Row],[Max power per output]]/Table2[[#This Row],[Output Voltage]],2)","v":25},null,null,null,null,null,null,null,null,null,42.5,{"$f":"IF(S$1=0,0,IF(Configuration!$F$7=\"D\",$R$274,Table7[[#This Row],[Vo]]))","v":0},{"$f":"IF(T$1=0,0,IF(Configuration!$F$8=\"D\",$R$274,Table7[[#This Row],[Vo]]))","v":0},{"$f":"IF(U$1=0,0,IF(Configuration!$F$9=\"D\",$R$274,Table7[[#This Row],[Vo]]))","v":0},{"$f":"IF(V$1=0,0,IF(Configuration!$F$10=\"D\",$R$274,Table7[[#This Row],[Vo]]))","v":0},{"$f":"IF(W$1=0,0,IF(Configuration!$F$11=\"D\",$R$274,Table7[[#This Row],[Vo]]))","v":0},{"$f":"IF(X$1=0,0,IF(Configuration!$F$12=\"D\",$R$274,Table7[[#This Row],[Vo]]))","v":0},{"$f":"IF(Y$1=0,0,IF(Configuration!$F$13=\"D\",$R$274,Table7[[#This Row],[Vo]]))","v":0},{"$f":"IF(Z$1=0,0,IF(Configuration!$F$14=\"D\",$R$274,Table7[[#This Row],[Vo]]))","v":0},{"$f":"IF(AA$1=0,0,IF(Configuration!$F$15=\"D\",$R$274,Table7[[#This Row],[Vo]]))","v":0},{"$f":"IF(AB$1=0,0,IF(Configuration!$F$16=\"D\",$R$274,Table7[[#This Row],[Vo]]))","v":0},{"$f":"IF(AC$1=0,0,IF(Configuration!$F$17=\"D\",$R$274,Table7[[#This Row],[Vo]]))","v":0}]
[40.9,"NMS-240-48",5,{"$f":"Table2[[#This Row],[Output Voltage]]*Table2[[#This Row],[Module rated current]]","v":204.5},"K",{"$f":"IF(1200/Table2[[#This Row],[Module rated power]]>6,6,ROUNDDOWN(1200/Table2[[#This Row],[Module rated power]],0))","v":5},{"$f":"Table2[[#This Row],[Module rated power]]*Table2[[#This Row],[Available No. of Slot]]","v":1022.5},{"$f":"ROUNDDOWN(Table2[[#This Row],[Max power per output]]/Table2[[#This Row],[Output Voltage]],2)","v":25},null,null,null,null,null,null,null,null,null,42.6,{"$f":"IF(S$1=0,0,IF(Configuration!$F$7=\"D\",$R$274,Table7[[#This Row],[Vo]]))","v":0},{"$f":"IF(T$1=0,0,IF(Configuration!$F$8=\"D\",$R$274,Table7[[#This Row],[Vo]]))","v":0},{"$f":"IF(U$1=0,0,IF(Configuration!$F$9=\"D\",$R$274,Table7[[#This Row],[Vo]]))","v":0},{"$f":"IF(V$1=0,0,IF(Configuration!$F$10=\"D\",$R$274,Table7[[#This Row],[Vo]]))","v":0},{"$f":"IF(W$1=0,0,IF(Configuration!$F$11=\"D\",$R$274,Table7[[#This Row],[Vo]]))","v":0},{"$f":"IF(X$1=0,0,IF(Configuration!$F$12=\"D\",$R$274,Table7[[#This Row],[Vo]]))","v":0},{"$f":"IF(Y$1=0,0,IF(Configuration!$F$13=\"D\",$R$274,Table7[[#This Row],[Vo]]))","v":0},{"$f":"IF(Z$1=0,0,IF(Configuration!$F$14=\"D\",$R$274,Table7[[#This Row],[Vo]]))","v":0},{"$f":"IF(AA$1=0,0,IF(Configuration!$F$15=\"D\",$R$274,Table7[[#This Row],[Vo]]))","v":0},{"$f":"IF(AB$1=0,0,IF(Configuration!$F$16=\"D\",$R$274,Table7[[#This Row],[Vo]]))","v":0},{"$f":"IF(AC$1=0,0,IF(Configuration!$F$17=\"D\",$R$274,Table7[[#This Row],[Vo]]))","v":0}]
[41,"NMS-240-48",5,{"$f":"Table2[[#This Row],[Output Voltage]]*Table2[[#This Row],[Module rated current]]","v":205},"K",{"$f":"IF(1200/Table2[[#This Row],[Module rated power]]>6,6,ROUNDDOWN(1200/Table2[[#This Row],[Module rated power]],0))","v":5},{"$f":"Table2[[#This Row],[Module rated power]]*Table2[[#This Row],[Available No. of Slot]]","v":1025},{"$f":"ROUNDDOWN(Table2[[#This Row],[Max power per output]]/Table2[[#This Row],[Output Voltage]],2)","v":25},null,null,null,null,null,null,null,null,null,42.7,{"$f":"IF(S$1=0,0,IF(Configuration!$F$7=\"D\",$R$274,Table7[[#This Row],[Vo]]))","v":0},{"$f":"IF(T$1=0,0,IF(Configuration!$F$8=\"D\",$R$274,Table7[[#This Row],[Vo]]))","v":0},{"$f":"IF(U$1=0,0,IF(Configuration!$F$9=\"D\",$R$274,Table7[[#This Row],[Vo]]))","v":0},{"$f":"IF(V$1=0,0,IF(Configuration!$F$10=\"D\",$R$274,Table7[[#This Row],[Vo]]))","v":0},{"$f":"IF(W$1=0,0,IF(Configuration!$F$11=\"D\",$R$274,Table7[[#This Row],[Vo]]))","v":0},{"$f":"IF(X$1=0,0,IF(Configuration!$F$12=\"D\",$R$274,Table7[[#This Row],[Vo]]))","v":0},{"$f":"IF(Y$1=0,0,IF(Configuration!$F$13=\"D\",$R$274,Table7[[#This Row],[Vo]]))","v":0},{"$f":"IF(Z$1=0,0,IF(Configuration!$F$14=\"D\",$R$274,Table7[[#This Row],[Vo]]))","v":0},{"$f":"IF(AA$1=0,0,IF(Configuration!$F$15=\"D\",$R$274,Table7[[#This Row],[Vo]]))","v":0},{"$f":"IF(AB$1=0,0,IF(Configuration!$F$16=\"D\",$R$274,Table7[[#This Row],[Vo]]))","v":0},{"$f":"IF(AC$1=0,0,IF(Configuration!$F$17=\"D\",$R$274,Table7[[#This Row],[Vo]]))","v":0}]
[41.1,"NMS-240-48",5,{"$f":"Table2[[#This Row],[Output Voltage]]*Table2[[#This Row],[Module rated current]]","v":205.5},"K",{"$f":"IF(1200/Table2[[#This Row],[Module rated power]]>6,6,ROUNDDOWN(1200/Table2[[#This Row],[Module rated power]],0))","v":5},{"$f":"Table2[[#This Row],[Module rated power]]*Table2[[#This Row],[Available No. of Slot]]","v":1027.5},{"$f":"ROUNDDOWN(Table2[[#This Row],[Max power per output]]/Table2[[#This Row],[Output Voltage]],2)","v":25},null,null,null,null,null,null,null,null,null,42.8,{"$f":"IF(S$1=0,0,IF(Configuration!$F$7=\"D\",$R$274,Table7[[#This Row],[Vo]]))","v":0},{"$f":"IF(T$1=0,0,IF(Configuration!$F$8=\"D\",$R$274,Table7[[#This Row],[Vo]]))","v":0},{"$f":"IF(U$1=0,0,IF(Configuration!$F$9=\"D\",$R$274,Table7[[#This Row],[Vo]]))","v":0},{"$f":"IF(V$1=0,0,IF(Configuration!$F$10=\"D\",$R$274,Table7[[#This Row],[Vo]]))","v":0},{"$f":"IF(W$1=0,0,IF(Configuration!$F$11=\"D\",$R$274,Table7[[#This Row],[Vo]]))","v":0},{"$f":"IF(X$1=0,0,IF(Configuration!$F$12=\"D\",$R$274,Table7[[#This Row],[Vo]]))","v":0},{"$f":"IF(Y$1=0,0,IF(Configuration!$F$13=\"D\",$R$274,Table7[[#This Row],[Vo]]))","v":0},{"$f":"IF(Z$1=0,0,IF(Configuration!$F$14=\"D\",$R$274,Table7[[#This Row],[Vo]]))","v":0},{"$f":"IF(AA$1=0,0,IF(Configuration!$F$15=\"D\",$R$274,Table7[[#This Row],[Vo]]))","v":0},{"$f":"IF(AB$1=0,0,IF(Configuration!$F$16=\"D\",$R$274,Table7[[#This Row],[Vo]]))","v":0},{"$f":"IF(AC$1=0,0,IF(Configuration!$F$17=\"D\",$R$274,Table7[[#This Row],[Vo]]))","v":0}]
[41.2,"NMS-240-48",5,{"$f":"Table2[[#This Row],[Output Voltage]]*Table2[[#This Row],[Module rated current]]","v":206},"K",{"$f":"IF(1200/Table2[[#This Row],[Module rated power]]>6,6,ROUNDDOWN(1200/Table2[[#This Row],[Module rated power]],0))","v":5},{"$f":"Table2[[#This Row],[Module rated power]]*Table2[[#This Row],[Available No. of Slot]]","v":1030},{"$f":"ROUNDDOWN(Table2[[#This Row],[Max power per output]]/Table2[[#This Row],[Output Voltage]],2)","v":25},null,null,null,null,null,null,null,null,null,42.9,{"$f":"IF(S$1=0,0,IF(Configuration!$F$7=\"D\",$R$274,Table7[[#This Row],[Vo]]))","v":0},{"$f":"IF(T$1=0,0,IF(Configuration!$F$8=\"D\",$R$274,Table7[[#This Row],[Vo]]))","v":0},{"$f":"IF(U$1=0,0,IF(Configuration!$F$9=\"D\",$R$274,Table7[[#This Row],[Vo]]))","v":0},{"$f":"IF(V$1=0,0,IF(Configuration!$F$10=\"D\",$R$274,Table7[[#This Row],[Vo]]))","v":0},{"$f":"IF(W$1=0,0,IF(Configuration!$F$11=\"D\",$R$274,Table7[[#This Row],[Vo]]))","v":0},{"$f":"IF(X$1=0,0,IF(Configuration!$F$12=\"D\",$R$274,Table7[[#This Row],[Vo]]))","v":0},{"$f":"IF(Y$1=0,0,IF(Configuration!$F$13=\"D\",$R$274,Table7[[#This Row],[Vo]]))","v":0},{"$f":"IF(Z$1=0,0,IF(Configuration!$F$14=\"D\",$R$274,Table7[[#This Row],[Vo]]))","v":0},{"$f":"IF(AA$1=0,0,IF(Configuration!$F$15=\"D\",$R$274,Table7[[#This Row],[Vo]]))","v":0},{"$f":"IF(AB$1=0,0,IF(Configuration!$F$16=\"D\",$R$274,Table7[[#This Row],[Vo]]))","v":0},{"$f":"IF(AC$1=0,0,IF(Configuration!$F$17=\"D\",$R$274,Table7[[#This Row],[Vo]]))","v":0}]
[41.3,"NMS-240-48",5,{"$f":"Table2[[#This Row],[Output Voltage]]*Table2[[#This Row],[Module rated current]]","v":206.5},"K",{"$f":"IF(1200/Table2[[#This Row],[Module rated power]]>6,6,ROUNDDOWN(1200/Table2[[#This Row],[Module rated power]],0))","v":5},{"$f":"Table2[[#This Row],[Module rated power]]*Table2[[#This Row],[Available No. of Slot]]","v":1032.5},{"$f":"ROUNDDOWN(Table2[[#This Row],[Max power per output]]/Table2[[#This Row],[Output Voltage]],2)","v":25},null,null,null,null,null,null,null,null,null,43,{"$f":"IF(S$1=0,0,IF(Configuration!$F$7=\"D\",$R$274,Table7[[#This Row],[Vo]]))","v":0},{"$f":"IF(T$1=0,0,IF(Configuration!$F$8=\"D\",$R$274,Table7[[#This Row],[Vo]]))","v":0},{"$f":"IF(U$1=0,0,IF(Configuration!$F$9=\"D\",$R$274,Table7[[#This Row],[Vo]]))","v":0},{"$f":"IF(V$1=0,0,IF(Configuration!$F$10=\"D\",$R$274,Table7[[#This Row],[Vo]]))","v":0},{"$f":"IF(W$1=0,0,IF(Configuration!$F$11=\"D\",$R$274,Table7[[#This Row],[Vo]]))","v":0},{"$f":"IF(X$1=0,0,IF(Configuration!$F$12=\"D\",$R$274,Table7[[#This Row],[Vo]]))","v":0},{"$f":"IF(Y$1=0,0,IF(Configuration!$F$13=\"D\",$R$274,Table7[[#This Row],[Vo]]))","v":0},{"$f":"IF(Z$1=0,0,IF(Configuration!$F$14=\"D\",$R$274,Table7[[#This Row],[Vo]]))","v":0},{"$f":"IF(AA$1=0,0,IF(Configuration!$F$15=\"D\",$R$274,Table7[[#This Row],[Vo]]))","v":0},{"$f":"IF(AB$1=0,0,IF(Configuration!$F$16=\"D\",$R$274,Table7[[#This Row],[Vo]]))","v":0},{"$f":"IF(AC$1=0,0,IF(Configuration!$F$17=\"D\",$R$274,Table7[[#This Row],[Vo]]))","v":0}]
[41.4,"NMS-240-48",5,{"$f":"Table2[[#This Row],[Output Voltage]]*Table2[[#This Row],[Module rated current]]","v":207},"K",{"$f":"IF(1200/Table2[[#This Row],[Module rated power]]>6,6,ROUNDDOWN(1200/Table2[[#This Row],[Module rated power]],0))","v":5},{"$f":"Table2[[#This Row],[Module rated power]]*Table2[[#This Row],[Available No. of Slot]]","v":1035},{"$f":"ROUNDDOWN(Table2[[#This Row],[Max power per output]]/Table2[[#This Row],[Output Voltage]],2)","v":25},null,null,null,null,null,null,null,null,null,43.1,{"$f":"IF(S$1=0,0,IF(Configuration!$F$7=\"D\",$R$274,Table7[[#This Row],[Vo]]))","v":0},{"$f":"IF(T$1=0,0,IF(Configuration!$F$8=\"D\",$R$274,Table7[[#This Row],[Vo]]))","v":0},{"$f":"IF(U$1=0,0,IF(Configuration!$F$9=\"D\",$R$274,Table7[[#This Row],[Vo]]))","v":0},{"$f":"IF(V$1=0,0,IF(Configuration!$F$10=\"D\",$R$274,Table7[[#This Row],[Vo]]))","v":0},{"$f":"IF(W$1=0,0,IF(Configuration!$F$11=\"D\",$R$274,Table7[[#This Row],[Vo]]))","v":0},{"$f":"IF(X$1=0,0,IF(Configuration!$F$12=\"D\",$R$274,Table7[[#This Row],[Vo]]))","v":0},{"$f":"IF(Y$1=0,0,IF(Configuration!$F$13=\"D\",$R$274,Table7[[#This Row],[Vo]]))","v":0},{"$f":"IF(Z$1=0,0,IF(Configuration!$F$14=\"D\",$R$274,Table7[[#This Row],[Vo]]))","v":0},{"$f":"IF(AA$1=0,0,IF(Configuration!$F$15=\"D\",$R$274,Table7[[#This Row],[Vo]]))","v":0},{"$f":"IF(AB$1=0,0,IF(Configuration!$F$16=\"D\",$R$274,Table7[[#This Row],[Vo]]))","v":0},{"$f":"IF(AC$1=0,0,IF(Configuration!$F$17=\"D\",$R$274,Table7[[#This Row],[Vo]]))","v":0}]
[41.5,"NMS-240-48",5,{"$f":"Table2[[#This Row],[Output Voltage]]*Table2[[#This Row],[Module rated current]]","v":207.5},"K",{"$f":"IF(1200/Table2[[#This Row],[Module rated power]]>6,6,ROUNDDOWN(1200/Table2[[#This Row],[Module rated power]],0))","v":5},{"$f":"Table2[[#This Row],[Module rated power]]*Table2[[#This Row],[Available No. of Slot]]","v":1037.5},{"$f":"ROUNDDOWN(Table2[[#This Row],[Max power per output]]/Table2[[#This Row],[Output Voltage]],2)","v":25},null,null,null,null,null,null,null,null,null,43.2,{"$f":"IF(S$1=0,0,IF(Configuration!$F$7=\"D\",$R$274,Table7[[#This Row],[Vo]]))","v":0},{"$f":"IF(T$1=0,0,IF(Configuration!$F$8=\"D\",$R$274,Table7[[#This Row],[Vo]]))","v":0},{"$f":"IF(U$1=0,0,IF(Configuration!$F$9=\"D\",$R$274,Table7[[#This Row],[Vo]]))","v":0},{"$f":"IF(V$1=0,0,IF(Configuration!$F$10=\"D\",$R$274,Table7[[#This Row],[Vo]]))","v":0},{"$f":"IF(W$1=0,0,IF(Configuration!$F$11=\"D\",$R$274,Table7[[#This Row],[Vo]]))","v":0},{"$f":"IF(X$1=0,0,IF(Configuration!$F$12=\"D\",$R$274,Table7[[#This Row],[Vo]]))","v":0},{"$f":"IF(Y$1=0,0,IF(Configuration!$F$13=\"D\",$R$274,Table7[[#This Row],[Vo]]))","v":0},{"$f":"IF(Z$1=0,0,IF(Configuration!$F$14=\"D\",$R$274,Table7[[#This Row],[Vo]]))","v":0},{"$f":"IF(AA$1=0,0,IF(Configuration!$F$15=\"D\",$R$274,Table7[[#This Row],[Vo]]))","v":0},{"$f":"IF(AB$1=0,0,IF(Configuration!$F$16=\"D\",$R$274,Table7[[#This Row],[Vo]]))","v":0},{"$f":"IF(AC$1=0,0,IF(Configuration!$F$17=\"D\",$R$274,Table7[[#This Row],[Vo]]))","v":0}]
[{"$f":"ROUNDUP(A406+0.1,1)","v":41.6},"NMS-240-48",5,{"$f":"Table2[[#This Row],[Output Voltage]]*Table2[[#This Row],[Module rated current]]","v":208},"K",{"$f":"IF(1200/Table2[[#This Row],[Module rated power]]>6,6,ROUNDDOWN(1200/Table2[[#This Row],[Module rated power]],0))","v":5},{"$f":"Table2[[#This Row],[Module rated power]]*Table2[[#This Row],[Available No. of Slot]]","v":1040},{"$f":"ROUNDDOWN(Table2[[#This Row],[Max power per output]]/Table2[[#This Row],[Output Voltage]],2)","v":25},null,null,null,null,null,null,null,null,null,43.3,{"$f":"IF(S$1=0,0,IF(Configuration!$F$7=\"D\",$R$274,Table7[[#This Row],[Vo]]))","v":0},{"$f":"IF(T$1=0,0,IF(Configuration!$F$8=\"D\",$R$274,Table7[[#This Row],[Vo]]))","v":0},{"$f":"IF(U$1=0,0,IF(Configuration!$F$9=\"D\",$R$274,Table7[[#This Row],[Vo]]))","v":0},{"$f":"IF(V$1=0,0,IF(Configuration!$F$10=\"D\",$R$274,Table7[[#This Row],[Vo]]))","v":0},{"$f":"IF(W$1=0,0,IF(Configuration!$F$11=\"D\",$R$274,Table7[[#This Row],[Vo]]))","v":0},{"$f":"IF(X$1=0,0,IF(Configuration!$F$12=\"D\",$R$274,Table7[[#This Row],[Vo]]))","v":0},{"$f":"IF(Y$1=0,0,IF(Configuration!$F$13=\"D\",$R$274,Table7[[#This Row],[Vo]]))","v":0},{"$f":"IF(Z$1=0,0,IF(Configuration!$F$14=\"D\",$R$274,Table7[[#This Row],[Vo]]))","v":0},{"$f":"IF(AA$1=0,0,IF(Configuration!$F$15=\"D\",$R$274,Table7[[#This Row],[Vo]]))","v":0},{"$f":"IF(AB$1=0,0,IF(Configuration!$F$16=\"D\",$R$274,Table7[[#This Row],[Vo]]))","v":0},{"$f":"IF(AC$1=0,0,IF(Configuration!$F$17=\"D\",$R$274,Table7[[#This Row],[Vo]]))","v":0}]
[41.7,"NMS-240-48",5,{"$f":"Table2[[#This Row],[Output Voltage]]*Table2[[#This Row],[Module rated current]]","v":208.5},"K",{"$f":"IF(1200/Table2[[#This Row],[Module rated power]]>6,6,ROUNDDOWN(1200/Table2[[#This Row],[Module rated power]],0))","v":5},{"$f":"Table2[[#This Row],[Module rated power]]*Table2[[#This Row],[Available No. of Slot]]","v":1042.5},{"$f":"ROUNDDOWN(Table2[[#This Row],[Max power per output]]/Table2[[#This Row],[Output Voltage]],2)","v":25},null,null,null,null,null,null,null,null,null,43.4,{"$f":"IF(S$1=0,0,IF(Configuration!$F$7=\"D\",$R$274,Table7[[#This Row],[Vo]]))","v":0},{"$f":"IF(T$1=0,0,IF(Configuration!$F$8=\"D\",$R$274,Table7[[#This Row],[Vo]]))","v":0},{"$f":"IF(U$1=0,0,IF(Configuration!$F$9=\"D\",$R$274,Table7[[#This Row],[Vo]]))","v":0},{"$f":"IF(V$1=0,0,IF(Configuration!$F$10=\"D\",$R$274,Table7[[#This Row],[Vo]]))","v":0},{"$f":"IF(W$1=0,0,IF(Configuration!$F$11=\"D\",$R$274,Table7[[#This Row],[Vo]]))","v":0},{"$f":"IF(X$1=0,0,IF(Configuration!$F$12=\"D\",$R$274,Table7[[#This Row],[Vo]]))","v":0},{"$f":"IF(Y$1=0,0,IF(Configuration!$F$13=\"D\",$R$274,Table7[[#This Row],[Vo]]))","v":0},{"$f":"IF(Z$1=0,0,IF(Configuration!$F$14=\"D\",$R$274,Table7[[#This Row],[Vo]]))","v":0},{"$f":"IF(AA$1=0,0,IF(Configuration!$F$15=\"D\",$R$274,Table7[[#This Row],[Vo]]))","v":0},{"$f":"IF(AB$1=0,0,IF(Configuration!$F$16=\"D\",$R$274,Table7[[#This Row],[Vo]]))","v":0},{"$f":"IF(AC$1=0,0,IF(Configuration!$F$17=\"D\",$R$274,Table7[[#This Row],[Vo]]))","v":0}]
[41.8,"NMS-240-48",5,{"$f":"Table2[[#This Row],[Output Voltage]]*Table2[[#This Row],[Module rated current]]","v":209},"K",{"$f":"IF(1200/Table2[[#This Row],[Module rated power]]>6,6,ROUNDDOWN(1200/Table2[[#This Row],[Module rated power]],0))","v":5},{"$f":"Table2[[#This Row],[Module rated power]]*Table2[[#This Row],[Available No. of Slot]]","v":1045},{"$f":"ROUNDDOWN(Table2[[#This Row],[Max power per output]]/Table2[[#This Row],[Output Voltage]],2)","v":25},null,null,null,null,null,null,null,null,null,43.5,{"$f":"IF(S$1=0,0,IF(Configuration!$F$7=\"D\",$R$274,Table7[[#This Row],[Vo]]))","v":0},{"$f":"IF(T$1=0,0,IF(Configuration!$F$8=\"D\",$R$274,Table7[[#This Row],[Vo]]))","v":0},{"$f":"IF(U$1=0,0,IF(Configuration!$F$9=\"D\",$R$274,Table7[[#This Row],[Vo]]))","v":0},{"$f":"IF(V$1=0,0,IF(Configuration!$F$10=\"D\",$R$274,Table7[[#This Row],[Vo]]))","v":0},{"$f":"IF(W$1=0,0,IF(Configuration!$F$11=\"D\",$R$274,Table7[[#This Row],[Vo]]))","v":0},{"$f":"IF(X$1=0,0,IF(Configuration!$F$12=\"D\",$R$274,Table7[[#This Row],[Vo]]))","v":0},{"$f":"IF(Y$1=0,0,IF(Configuration!$F$13=\"D\",$R$274,Table7[[#This Row],[Vo]]))","v":0},{"$f":"IF(Z$1=0,0,IF(Configuration!$F$14=\"D\",$R$274,Table7[[#This Row],[Vo]]))","v":0},{"$f":"IF(AA$1=0,0,IF(Configuration!$F$15=\"D\",$R$274,Table7[[#This Row],[Vo]]))","v":0},{"$f":"IF(AB$1=0,0,IF(Configuration!$F$16=\"D\",$R$274,Table7[[#This Row],[Vo]]))","v":0},{"$f":"IF(AC$1=0,0,IF(Configuration!$F$17=\"D\",$R$274,Table7[[#This Row],[Vo]]))","v":0}]
[41.9,"NMS-240-48",5,{"$f":"Table2[[#This Row],[Output Voltage]]*Table2[[#This Row],[Module rated current]]","v":209.5},"K",{"$f":"IF(1200/Table2[[#This Row],[Module rated power]]>6,6,ROUNDDOWN(1200/Table2[[#This Row],[Module rated power]],0))","v":5},{"$f":"Table2[[#This Row],[Module rated power]]*Table2[[#This Row],[Available No. of Slot]]","v":1047.5},{"$f":"ROUNDDOWN(Table2[[#This Row],[Max power per output]]/Table2[[#This Row],[Output Voltage]],2)","v":25},null,null,null,null,null,null,null,null,null,43.6,{"$f":"IF(S$1=0,0,IF(Configuration!$F$7=\"D\",$R$274,Table7[[#This Row],[Vo]]))","v":0},{"$f":"IF(T$1=0,0,IF(Configuration!$F$8=\"D\",$R$274,Table7[[#This Row],[Vo]]))","v":0},{"$f":"IF(U$1=0,0,IF(Configuration!$F$9=\"D\",$R$274,Table7[[#This Row],[Vo]]))","v":0},{"$f":"IF(V$1=0,0,IF(Configuration!$F$10=\"D\",$R$274,Table7[[#This Row],[Vo]]))","v":0},{"$f":"IF(W$1=0,0,IF(Configuration!$F$11=\"D\",$R$274,Table7[[#This Row],[Vo]]))","v":0},{"$f":"IF(X$1=0,0,IF(Configuration!$F$12=\"D\",$R$274,Table7[[#This Row],[Vo]]))","v":0},{"$f":"IF(Y$1=0,0,IF(Configuration!$F$13=\"D\",$R$274,Table7[[#This Row],[Vo]]))","v":0},{"$f":"IF(Z$1=0,0,IF(Configuration!$F$14=\"D\",$R$274,Table7[[#This Row],[Vo]]))","v":0},{"$f":"IF(AA$1=0,0,IF(Configuration!$F$15=\"D\",$R$274,Table7[[#This Row],[Vo]]))","v":0},{"$f":"IF(AB$1=0,0,IF(Configuration!$F$16=\"D\",$R$274,Table7[[#This Row],[Vo]]))","v":0},{"$f":"IF(AC$1=0,0,IF(Configuration!$F$17=\"D\",$R$274,Table7[[#This Row],[Vo]]))","v":0}]
[42,"NMS-240-48",5,{"$f":"Table2[[#This Row],[Output Voltage]]*Table2[[#This Row],[Module rated current]]","v":210},"K",{"$f":"IF(1200/Table2[[#This Row],[Module rated power]]>6,6,ROUNDDOWN(1200/Table2[[#This Row],[Module rated power]],0))","v":5},{"$f":"Table2[[#This Row],[Module rated power]]*Table2[[#This Row],[Available No. of Slot]]","v":1050},{"$f":"ROUNDDOWN(Table2[[#This Row],[Max power per output]]/Table2[[#This Row],[Output Voltage]],2)","v":25},null,null,null,null,null,null,null,null,null,43.7,{"$f":"IF(S$1=0,0,IF(Configuration!$F$7=\"D\",$R$274,Table7[[#This Row],[Vo]]))","v":0},{"$f":"IF(T$1=0,0,IF(Configuration!$F$8=\"D\",$R$274,Table7[[#This Row],[Vo]]))","v":0},{"$f":"IF(U$1=0,0,IF(Configuration!$F$9=\"D\",$R$274,Table7[[#This Row],[Vo]]))","v":0},{"$f":"IF(V$1=0,0,IF(Configuration!$F$10=\"D\",$R$274,Table7[[#This Row],[Vo]]))","v":0},{"$f":"IF(W$1=0,0,IF(Configuration!$F$11=\"D\",$R$274,Table7[[#This Row],[Vo]]))","v":0},{"$f":"IF(X$1=0,0,IF(Configuration!$F$12=\"D\",$R$274,Table7[[#This Row],[Vo]]))","v":0},{"$f":"IF(Y$1=0,0,IF(Configuration!$F$13=\"D\",$R$274,Table7[[#This Row],[Vo]]))","v":0},{"$f":"IF(Z$1=0,0,IF(Configuration!$F$14=\"D\",$R$274,Table7[[#This Row],[Vo]]))","v":0},{"$f":"IF(AA$1=0,0,IF(Configuration!$F$15=\"D\",$R$274,Table7[[#This Row],[Vo]]))","v":0},{"$f":"IF(AB$1=0,0,IF(Configuration!$F$16=\"D\",$R$274,Table7[[#This Row],[Vo]]))","v":0},{"$f":"IF(AC$1=0,0,IF(Configuration!$F$17=\"D\",$R$274,Table7[[#This Row],[Vo]]))","v":0}]
[42.1,"NMS-240-48",5,{"$f":"Table2[[#This Row],[Output Voltage]]*Table2[[#This Row],[Module rated current]]","v":210.5},"K",{"$f":"IF(1200/Table2[[#This Row],[Module rated power]]>6,6,ROUNDDOWN(1200/Table2[[#This Row],[Module rated power]],0))","v":5},{"$f":"Table2[[#This Row],[Module rated power]]*Table2[[#This Row],[Available No. of Slot]]","v":1052.5},{"$f":"ROUNDDOWN(Table2[[#This Row],[Max power per output]]/Table2[[#This Row],[Output Voltage]],2)","v":25},null,null,null,null,null,null,null,null,null,43.8,{"$f":"IF(S$1=0,0,IF(Configuration!$F$7=\"D\",$R$274,Table7[[#This Row],[Vo]]))","v":0},{"$f":"IF(T$1=0,0,IF(Configuration!$F$8=\"D\",$R$274,Table7[[#This Row],[Vo]]))","v":0},{"$f":"IF(U$1=0,0,IF(Configuration!$F$9=\"D\",$R$274,Table7[[#This Row],[Vo]]))","v":0},{"$f":"IF(V$1=0,0,IF(Configuration!$F$10=\"D\",$R$274,Table7[[#This Row],[Vo]]))","v":0},{"$f":"IF(W$1=0,0,IF(Configuration!$F$11=\"D\",$R$274,Table7[[#This Row],[Vo]]))","v":0},{"$f":"IF(X$1=0,0,IF(Configuration!$F$12=\"D\",$R$274,Table7[[#This Row],[Vo]]))","v":0},{"$f":"IF(Y$1=0,0,IF(Configuration!$F$13=\"D\",$R$274,Table7[[#This Row],[Vo]]))","v":0},{"$f":"IF(Z$1=0,0,IF(Configuration!$F$14=\"D\",$R$274,Table7[[#This Row],[Vo]]))","v":0},{"$f":"IF(AA$1=0,0,IF(Configuration!$F$15=\"D\",$R$274,Table7[[#This Row],[Vo]]))","v":0},{"$f":"IF(AB$1=0,0,IF(Configuration!$F$16=\"D\",$R$274,Table7[[#This Row],[Vo]]))","v":0},{"$f":"IF(AC$1=0,0,IF(Configuration!$F$17=\"D\",$R$274,Table7[[#This Row],[Vo]]))","v":0}]
[42.2,"NMS-240-48",5,{"$f":"Table2[[#This Row],[Output Voltage]]*Table2[[#This Row],[Module rated current]]","v":211},"K",{"$f":"IF(1200/Table2[[#This Row],[Module rated power]]>6,6,ROUNDDOWN(1200/Table2[[#This Row],[Module rated power]],0))","v":5},{"$f":"Table2[[#This Row],[Module rated power]]*Table2[[#This Row],[Available No. of Slot]]","v":1055},{"$f":"ROUNDDOWN(Table2[[#This Row],[Max power per output]]/Table2[[#This Row],[Output Voltage]],2)","v":25},null,null,null,null,null,null,null,null,null,43.9,{"$f":"IF(S$1=0,0,IF(Configuration!$F$7=\"D\",$R$274,Table7[[#This Row],[Vo]]))","v":0},{"$f":"IF(T$1=0,0,IF(Configuration!$F$8=\"D\",$R$274,Table7[[#This Row],[Vo]]))","v":0},{"$f":"IF(U$1=0,0,IF(Configuration!$F$9=\"D\",$R$274,Table7[[#This Row],[Vo]]))","v":0},{"$f":"IF(V$1=0,0,IF(Configuration!$F$10=\"D\",$R$274,Table7[[#This Row],[Vo]]))","v":0},{"$f":"IF(W$1=0,0,IF(Configuration!$F$11=\"D\",$R$274,Table7[[#This Row],[Vo]]))","v":0},{"$f":"IF(X$1=0,0,IF(Configuration!$F$12=\"D\",$R$274,Table7[[#This Row],[Vo]]))","v":0},{"$f":"IF(Y$1=0,0,IF(Configuration!$F$13=\"D\",$R$274,Table7[[#This Row],[Vo]]))","v":0},{"$f":"IF(Z$1=0,0,IF(Configuration!$F$14=\"D\",$R$274,Table7[[#This Row],[Vo]]))","v":0},{"$f":"IF(AA$1=0,0,IF(Configuration!$F$15=\"D\",$R$274,Table7[[#This Row],[Vo]]))","v":0},{"$f":"IF(AB$1=0,0,IF(Configuration!$F$16=\"D\",$R$274,Table7[[#This Row],[Vo]]))","v":0},{"$f":"IF(AC$1=0,0,IF(Configuration!$F$17=\"D\",$R$274,Table7[[#This Row],[Vo]]))","v":0}]
[42.3,"NMS-240-48",5,{"$f":"Table2[[#This Row],[Output Voltage]]*Table2[[#This Row],[Module rated current]]","v":211.5},"K",{"$f":"IF(1200/Table2[[#This Row],[Module rated power]]>6,6,ROUNDDOWN(1200/Table2[[#This Row],[Module rated power]],0))","v":5},{"$f":"Table2[[#This Row],[Module rated power]]*Table2[[#This Row],[Available No. of Slot]]","v":1057.5},{"$f":"ROUNDDOWN(Table2[[#This Row],[Max power per output]]/Table2[[#This Row],[Output Voltage]],2)","v":25},null,null,null,null,null,null,null,null,null,44,{"$f":"IF(S$1=0,0,IF(Configuration!$F$7=\"D\",$R$274,Table7[[#This Row],[Vo]]))","v":0},{"$f":"IF(T$1=0,0,IF(Configuration!$F$8=\"D\",$R$274,Table7[[#This Row],[Vo]]))","v":0},{"$f":"IF(U$1=0,0,IF(Configuration!$F$9=\"D\",$R$274,Table7[[#This Row],[Vo]]))","v":0},{"$f":"IF(V$1=0,0,IF(Configuration!$F$10=\"D\",$R$274,Table7[[#This Row],[Vo]]))","v":0},{"$f":"IF(W$1=0,0,IF(Configuration!$F$11=\"D\",$R$274,Table7[[#This Row],[Vo]]))","v":0},{"$f":"IF(X$1=0,0,IF(Configuration!$F$12=\"D\",$R$274,Table7[[#This Row],[Vo]]))","v":0},{"$f":"IF(Y$1=0,0,IF(Configuration!$F$13=\"D\",$R$274,Table7[[#This Row],[Vo]]))","v":0},{"$f":"IF(Z$1=0,0,IF(Configuration!$F$14=\"D\",$R$274,Table7[[#This Row],[Vo]]))","v":0},{"$f":"IF(AA$1=0,0,IF(Configuration!$F$15=\"D\",$R$274,Table7[[#This Row],[Vo]]))","v":0},{"$f":"IF(AB$1=0,0,IF(Configuration!$F$16=\"D\",$R$274,Table7[[#This Row],[Vo]]))","v":0},{"$f":"IF(AC$1=0,0,IF(Configuration!$F$17=\"D\",$R$274,Table7[[#This Row],[Vo]]))","v":0}]
[42.4,"NMS-240-48",5,{"$f":"Table2[[#This Row],[Output Voltage]]*Table2[[#This Row],[Module rated current]]","v":212},"K",{"$f":"IF(1200/Table2[[#This Row],[Module rated power]]>6,6,ROUNDDOWN(1200/Table2[[#This Row],[Module rated power]],0))","v":5},{"$f":"Table2[[#This Row],[Module rated power]]*Table2[[#This Row],[Available No. of Slot]]","v":1060},{"$f":"ROUNDDOWN(Table2[[#This Row],[Max power per output]]/Table2[[#This Row],[Output Voltage]],2)","v":25},null,null,null,null,null,null,null,null,null,44.1,{"$f":"IF(S$1=0,0,IF(Configuration!$F$7=\"D\",$R$274,Table7[[#This Row],[Vo]]))","v":0},{"$f":"IF(T$1=0,0,IF(Configuration!$F$8=\"D\",$R$274,Table7[[#This Row],[Vo]]))","v":0},{"$f":"IF(U$1=0,0,IF(Configuration!$F$9=\"D\",$R$274,Table7[[#This Row],[Vo]]))","v":0},{"$f":"IF(V$1=0,0,IF(Configuration!$F$10=\"D\",$R$274,Table7[[#This Row],[Vo]]))","v":0},{"$f":"IF(W$1=0,0,IF(Configuration!$F$11=\"D\",$R$274,Table7[[#This Row],[Vo]]))","v":0},{"$f":"IF(X$1=0,0,IF(Configuration!$F$12=\"D\",$R$274,Table7[[#This Row],[Vo]]))","v":0},{"$f":"IF(Y$1=0,0,IF(Configuration!$F$13=\"D\",$R$274,Table7[[#This Row],[Vo]]))","v":0},{"$f":"IF(Z$1=0,0,IF(Configuration!$F$14=\"D\",$R$274,Table7[[#This Row],[Vo]]))","v":0},{"$f":"IF(AA$1=0,0,IF(Configuration!$F$15=\"D\",$R$274,Table7[[#This Row],[Vo]]))","v":0},{"$f":"IF(AB$1=0,0,IF(Configuration!$F$16=\"D\",$R$274,Table7[[#This Row],[Vo]]))","v":0},{"$f":"IF(AC$1=0,0,IF(Configuration!$F$17=\"D\",$R$274,Table7[[#This Row],[Vo]]))","v":0}]
[42.5,"NMS-240-48",5,{"$f":"Table2[[#This Row],[Output Voltage]]*Table2[[#This Row],[Module rated current]]","v":212.5},"K",{"$f":"IF(1200/Table2[[#This Row],[Module rated power]]>6,6,ROUNDDOWN(1200/Table2[[#This Row],[Module rated power]],0))","v":5},{"$f":"Table2[[#This Row],[Module rated power]]*Table2[[#This Row],[Available No. of Slot]]","v":1062.5},{"$f":"ROUNDDOWN(Table2[[#This Row],[Max power per output]]/Table2[[#This Row],[Output Voltage]],2)","v":25},null,null,null,null,null,null,null,null,null,44.2,{"$f":"IF(S$1=0,0,IF(Configuration!$F$7=\"D\",$R$274,Table7[[#This Row],[Vo]]))","v":0},{"$f":"IF(T$1=0,0,IF(Configuration!$F$8=\"D\",$R$274,Table7[[#This Row],[Vo]]))","v":0},{"$f":"IF(U$1=0,0,IF(Configuration!$F$9=\"D\",$R$274,Table7[[#This Row],[Vo]]))","v":0},{"$f":"IF(V$1=0,0,IF(Configuration!$F$10=\"D\",$R$274,Table7[[#This Row],[Vo]]))","v":0},{"$f":"IF(W$1=0,0,IF(Configuration!$F$11=\"D\",$R$274,Table7[[#This Row],[Vo]]))","v":0},{"$f":"IF(X$1=0,0,IF(Configuration!$F$12=\"D\",$R$274,Table7[[#This Row],[Vo]]))","v":0},{"$f":"IF(Y$1=0,0,IF(Configuration!$F$13=\"D\",$R$274,Table7[[#This Row],[Vo]]))","v":0},{"$f":"IF(Z$1=0,0,IF(Configuration!$F$14=\"D\",$R$274,Table7[[#This Row],[Vo]]))","v":0},{"$f":"IF(AA$1=0,0,IF(Configuration!$F$15=\"D\",$R$274,Table7[[#This Row],[Vo]]))","v":0},{"$f":"IF(AB$1=0,0,IF(Configuration!$F$16=\"D\",$R$274,Table7[[#This Row],[Vo]]))","v":0},{"$f":"IF(AC$1=0,0,IF(Configuration!$F$17=\"D\",$R$274,Table7[[#This Row],[Vo]]))","v":0}]
[42.6,"NMS-240-48",5,{"$f":"Table2[[#This Row],[Output Voltage]]*Table2[[#This Row],[Module rated current]]","v":213},"K",{"$f":"IF(1200/Table2[[#This Row],[Module rated power]]>6,6,ROUNDDOWN(1200/Table2[[#This Row],[Module rated power]],0))","v":5},{"$f":"Table2[[#This Row],[Module rated power]]*Table2[[#This Row],[Available No. of Slot]]","v":1065},{"$f":"ROUNDDOWN(Table2[[#This Row],[Max power per output]]/Table2[[#This Row],[Output Voltage]],2)","v":25},null,null,null,null,null,null,null,null,null,44.3,{"$f":"IF(S$1=0,0,IF(Configuration!$F$7=\"D\",$R$274,Table7[[#This Row],[Vo]]))","v":0},{"$f":"IF(T$1=0,0,IF(Configuration!$F$8=\"D\",$R$274,Table7[[#This Row],[Vo]]))","v":0},{"$f":"IF(U$1=0,0,IF(Configuration!$F$9=\"D\",$R$274,Table7[[#This Row],[Vo]]))","v":0},{"$f":"IF(V$1=0,0,IF(Configuration!$F$10=\"D\",$R$274,Table7[[#This Row],[Vo]]))","v":0},{"$f":"IF(W$1=0,0,IF(Configuration!$F$11=\"D\",$R$274,Table7[[#This Row],[Vo]]))","v":0},{"$f":"IF(X$1=0,0,IF(Configuration!$F$12=\"D\",$R$274,Table7[[#This Row],[Vo]]))","v":0},{"$f":"IF(Y$1=0,0,IF(Configuration!$F$13=\"D\",$R$274,Table7[[#This Row],[Vo]]))","v":0},{"$f":"IF(Z$1=0,0,IF(Configuration!$F$14=\"D\",$R$274,Table7[[#This Row],[Vo]]))","v":0},{"$f":"IF(AA$1=0,0,IF(Configuration!$F$15=\"D\",$R$274,Table7[[#This Row],[Vo]]))","v":0},{"$f":"IF(AB$1=0,0,IF(Configuration!$F$16=\"D\",$R$274,Table7[[#This Row],[Vo]]))","v":0},{"$f":"IF(AC$1=0,0,IF(Configuration!$F$17=\"D\",$R$274,Table7[[#This Row],[Vo]]))","v":0}]
[42.7,"NMS-240-48",5,{"$f":"Table2[[#This Row],[Output Voltage]]*Table2[[#This Row],[Module rated current]]","v":213.5},"K",{"$f":"IF(1200/Table2[[#This Row],[Module rated power]]>6,6,ROUNDDOWN(1200/Table2[[#This Row],[Module rated power]],0))","v":5},{"$f":"Table2[[#This Row],[Module rated power]]*Table2[[#This Row],[Available No. of Slot]]","v":1067.5},{"$f":"ROUNDDOWN(Table2[[#This Row],[Max power per output]]/Table2[[#This Row],[Output Voltage]],2)","v":25},null,null,null,null,null,null,null,null,null,44.4,{"$f":"IF(S$1=0,0,IF(Configuration!$F$7=\"D\",$R$274,Table7[[#This Row],[Vo]]))","v":0},{"$f":"IF(T$1=0,0,IF(Configuration!$F$8=\"D\",$R$274,Table7[[#This Row],[Vo]]))","v":0},{"$f":"IF(U$1=0,0,IF(Configuration!$F$9=\"D\",$R$274,Table7[[#This Row],[Vo]]))","v":0},{"$f":"IF(V$1=0,0,IF(Configuration!$F$10=\"D\",$R$274,Table7[[#This Row],[Vo]]))","v":0},{"$f":"IF(W$1=0,0,IF(Configuration!$F$11=\"D\",$R$274,Table7[[#This Row],[Vo]]))","v":0},{"$f":"IF(X$1=0,0,IF(Configuration!$F$12=\"D\",$R$274,Table7[[#This Row],[Vo]]))","v":0},{"$f":"IF(Y$1=0,0,IF(Configuration!$F$13=\"D\",$R$274,Table7[[#This Row],[Vo]]))","v":0},{"$f":"IF(Z$1=0,0,IF(Configuration!$F$14=\"D\",$R$274,Table7[[#This Row],[Vo]]))","v":0},{"$f":"IF(AA$1=0,0,IF(Configuration!$F$15=\"D\",$R$274,Table7[[#This Row],[Vo]]))","v":0},{"$f":"IF(AB$1=0,0,IF(Configuration!$F$16=\"D\",$R$274,Table7[[#This Row],[Vo]]))","v":0},{"$f":"IF(AC$1=0,0,IF(Configuration!$F$17=\"D\",$R$274,Table7[[#This Row],[Vo]]))","v":0}]
[42.8,"NMS-240-48",5,{"$f":"Table2[[#This Row],[Output Voltage]]*Table2[[#This Row],[Module rated current]]","v":214},"K",{"$f":"IF(1200/Table2[[#This Row],[Module rated power]]>6,6,ROUNDDOWN(1200/Table2[[#This Row],[Module rated power]],0))","v":5},{"$f":"Table2[[#This Row],[Module rated power]]*Table2[[#This Row],[Available No. of Slot]]","v":1070},{"$f":"ROUNDDOWN(Table2[[#This Row],[Max power per output]]/Table2[[#This Row],[Output Voltage]],2)","v":25},null,null,null,null,null,null,null,null,null,44.5,{"$f":"IF(S$1=0,0,IF(Configuration!$F$7=\"D\",$R$274,Table7[[#This Row],[Vo]]))","v":0},{"$f":"IF(T$1=0,0,IF(Configuration!$F$8=\"D\",$R$274,Table7[[#This Row],[Vo]]))","v":0},{"$f":"IF(U$1=0,0,IF(Configuration!$F$9=\"D\",$R$274,Table7[[#This Row],[Vo]]))","v":0},{"$f":"IF(V$1=0,0,IF(Configuration!$F$10=\"D\",$R$274,Table7[[#This Row],[Vo]]))","v":0},{"$f":"IF(W$1=0,0,IF(Configuration!$F$11=\"D\",$R$274,Table7[[#This Row],[Vo]]))","v":0},{"$f":"IF(X$1=0,0,IF(Configuration!$F$12=\"D\",$R$274,Table7[[#This Row],[Vo]]))","v":0},{"$f":"IF(Y$1=0,0,IF(Configuration!$F$13=\"D\",$R$274,Table7[[#This Row],[Vo]]))","v":0},{"$f":"IF(Z$1=0,0,IF(Configuration!$F$14=\"D\",$R$274,Table7[[#This Row],[Vo]]))","v":0},{"$f":"IF(AA$1=0,0,IF(Configuration!$F$15=\"D\",$R$274,Table7[[#This Row],[Vo]]))","v":0},{"$f":"IF(AB$1=0,0,IF(Configuration!$F$16=\"D\",$R$274,Table7[[#This Row],[Vo]]))","v":0},{"$f":"IF(AC$1=0,0,IF(Configuration!$F$17=\"D\",$R$274,Table7[[#This Row],[Vo]]))","v":0}]
[42.9,"NMS-240-48",5,{"$f":"Table2[[#This Row],[Output Voltage]]*Table2[[#This Row],[Module rated current]]","v":214.5},"K",{"$f":"IF(1200/Table2[[#This Row],[Module rated power]]>6,6,ROUNDDOWN(1200/Table2[[#This Row],[Module rated power]],0))","v":5},{"$f":"Table2[[#This Row],[Module rated power]]*Table2[[#This Row],[Available No. of Slot]]","v":1072.5},{"$f":"ROUNDDOWN(Table2[[#This Row],[Max power per output]]/Table2[[#This Row],[Output Voltage]],2)","v":25},null,null,null,null,null,null,null,null,null,44.6,{"$f":"IF(S$1=0,0,IF(Configuration!$F$7=\"D\",$R$274,Table7[[#This Row],[Vo]]))","v":0},{"$f":"IF(T$1=0,0,IF(Configuration!$F$8=\"D\",$R$274,Table7[[#This Row],[Vo]]))","v":0},{"$f":"IF(U$1=0,0,IF(Configuration!$F$9=\"D\",$R$274,Table7[[#This Row],[Vo]]))","v":0},{"$f":"IF(V$1=0,0,IF(Configuration!$F$10=\"D\",$R$274,Table7[[#This Row],[Vo]]))","v":0},{"$f":"IF(W$1=0,0,IF(Configuration!$F$11=\"D\",$R$274,Table7[[#This Row],[Vo]]))","v":0},{"$f":"IF(X$1=0,0,IF(Configuration!$F$12=\"D\",$R$274,Table7[[#This Row],[Vo]]))","v":0},{"$f":"IF(Y$1=0,0,IF(Configuration!$F$13=\"D\",$R$274,Table7[[#This Row],[Vo]]))","v":0},{"$f":"IF(Z$1=0,0,IF(Configuration!$F$14=\"D\",$R$274,Table7[[#This Row],[Vo]]))","v":0},{"$f":"IF(AA$1=0,0,IF(Configuration!$F$15=\"D\",$R$274,Table7[[#This Row],[Vo]]))","v":0},{"$f":"IF(AB$1=0,0,IF(Configuration!$F$16=\"D\",$R$274,Table7[[#This Row],[Vo]]))","v":0},{"$f":"IF(AC$1=0,0,IF(Configuration!$F$17=\"D\",$R$274,Table7[[#This Row],[Vo]]))","v":0}]
[43,"NMS-240-48",5,{"$f":"Table2[[#This Row],[Output Voltage]]*Table2[[#This Row],[Module rated current]]","v":215},"K",{"$f":"IF(1200/Table2[[#This Row],[Module rated power]]>6,6,ROUNDDOWN(1200/Table2[[#This Row],[Module rated power]],0))","v":5},{"$f":"Table2[[#This Row],[Module rated power]]*Table2[[#This Row],[Available No. of Slot]]","v":1075},{"$f":"ROUNDDOWN(Table2[[#This Row],[Max power per output]]/Table2[[#This Row],[Output Voltage]],2)","v":25},null,null,null,null,null,null,null,null,null,44.7,{"$f":"IF(S$1=0,0,IF(Configuration!$F$7=\"D\",$R$274,Table7[[#This Row],[Vo]]))","v":0},{"$f":"IF(T$1=0,0,IF(Configuration!$F$8=\"D\",$R$274,Table7[[#This Row],[Vo]]))","v":0},{"$f":"IF(U$1=0,0,IF(Configuration!$F$9=\"D\",$R$274,Table7[[#This Row],[Vo]]))","v":0},{"$f":"IF(V$1=0,0,IF(Configuration!$F$10=\"D\",$R$274,Table7[[#This Row],[Vo]]))","v":0},{"$f":"IF(W$1=0,0,IF(Configuration!$F$11=\"D\",$R$274,Table7[[#This Row],[Vo]]))","v":0},{"$f":"IF(X$1=0,0,IF(Configuration!$F$12=\"D\",$R$274,Table7[[#This Row],[Vo]]))","v":0},{"$f":"IF(Y$1=0,0,IF(Configuration!$F$13=\"D\",$R$274,Table7[[#This Row],[Vo]]))","v":0},{"$f":"IF(Z$1=0,0,IF(Configuration!$F$14=\"D\",$R$274,Table7[[#This Row],[Vo]]))","v":0},{"$f":"IF(AA$1=0,0,IF(Configuration!$F$15=\"D\",$R$274,Table7[[#This Row],[Vo]]))","v":0},{"$f":"IF(AB$1=0,0,IF(Configuration!$F$16=\"D\",$R$274,Table7[[#This Row],[Vo]]))","v":0},{"$f":"IF(AC$1=0,0,IF(Configuration!$F$17=\"D\",$R$274,Table7[[#This Row],[Vo]]))","v":0}]
[43.1,"NMS-240-48",5,{"$f":"Table2[[#This Row],[Output Voltage]]*Table2[[#This Row],[Module rated current]]","v":215.5},"K",{"$f":"IF(1200/Table2[[#This Row],[Module rated power]]>6,6,ROUNDDOWN(1200/Table2[[#This Row],[Module rated power]],0))","v":5},{"$f":"Table2[[#This Row],[Module rated power]]*Table2[[#This Row],[Available No. of Slot]]","v":1077.5},{"$f":"ROUNDDOWN(Table2[[#This Row],[Max power per output]]/Table2[[#This Row],[Output Voltage]],2)","v":25},null,null,null,null,null,null,null,null,null,44.8,{"$f":"IF(S$1=0,0,IF(Configuration!$F$7=\"D\",$R$274,Table7[[#This Row],[Vo]]))","v":0},{"$f":"IF(T$1=0,0,IF(Configuration!$F$8=\"D\",$R$274,Table7[[#This Row],[Vo]]))","v":0},{"$f":"IF(U$1=0,0,IF(Configuration!$F$9=\"D\",$R$274,Table7[[#This Row],[Vo]]))","v":0},{"$f":"IF(V$1=0,0,IF(Configuration!$F$10=\"D\",$R$274,Table7[[#This Row],[Vo]]))","v":0},{"$f":"IF(W$1=0,0,IF(Configuration!$F$11=\"D\",$R$274,Table7[[#This Row],[Vo]]))","v":0},{"$f":"IF(X$1=0,0,IF(Configuration!$F$12=\"D\",$R$274,Table7[[#This Row],[Vo]]))","v":0},{"$f":"IF(Y$1=0,0,IF(Configuration!$F$13=\"D\",$R$274,Table7[[#This Row],[Vo]]))","v":0},{"$f":"IF(Z$1=0,0,IF(Configuration!$F$14=\"D\",$R$274,Table7[[#This Row],[Vo]]))","v":0},{"$f":"IF(AA$1=0,0,IF(Configuration!$F$15=\"D\",$R$274,Table7[[#This Row],[Vo]]))","v":0},{"$f":"IF(AB$1=0,0,IF(Configuration!$F$16=\"D\",$R$274,Table7[[#This Row],[Vo]]))","v":0},{"$f":"IF(AC$1=0,0,IF(Configuration!$F$17=\"D\",$R$274,Table7[[#This Row],[Vo]]))","v":0}]
[43.2,"NMS-240-48",5,{"$f":"Table2[[#This Row],[Output Voltage]]*Table2[[#This Row],[Module rated current]]","v":216},"K",{"$f":"IF(1200/Table2[[#This Row],[Module rated power]]>6,6,ROUNDDOWN(1200/Table2[[#This Row],[Module rated power]],0))","v":5},{"$f":"Table2[[#This Row],[Module rated power]]*Table2[[#This Row],[Available No. of Slot]]","v":1080},{"$f":"ROUNDDOWN(Table2[[#This Row],[Max power per output]]/Table2[[#This Row],[Output Voltage]],2)","v":25},null,null,null,null,null,null,null,null,null,44.9,{"$f":"IF(S$1=0,0,IF(Configuration!$F$7=\"D\",$R$274,Table7[[#This Row],[Vo]]))","v":0},{"$f":"IF(T$1=0,0,IF(Configuration!$F$8=\"D\",$R$274,Table7[[#This Row],[Vo]]))","v":0},{"$f":"IF(U$1=0,0,IF(Configuration!$F$9=\"D\",$R$274,Table7[[#This Row],[Vo]]))","v":0},{"$f":"IF(V$1=0,0,IF(Configuration!$F$10=\"D\",$R$274,Table7[[#This Row],[Vo]]))","v":0},{"$f":"IF(W$1=0,0,IF(Configuration!$F$11=\"D\",$R$274,Table7[[#This Row],[Vo]]))","v":0},{"$f":"IF(X$1=0,0,IF(Configuration!$F$12=\"D\",$R$274,Table7[[#This Row],[Vo]]))","v":0},{"$f":"IF(Y$1=0,0,IF(Configuration!$F$13=\"D\",$R$274,Table7[[#This Row],[Vo]]))","v":0},{"$f":"IF(Z$1=0,0,IF(Configuration!$F$14=\"D\",$R$274,Table7[[#This Row],[Vo]]))","v":0},{"$f":"IF(AA$1=0,0,IF(Configuration!$F$15=\"D\",$R$274,Table7[[#This Row],[Vo]]))","v":0},{"$f":"IF(AB$1=0,0,IF(Configuration!$F$16=\"D\",$R$274,Table7[[#This Row],[Vo]]))","v":0},{"$f":"IF(AC$1=0,0,IF(Configuration!$F$17=\"D\",$R$274,Table7[[#This Row],[Vo]]))","v":0}]
[43.3,"NMS-240-48",5,{"$f":"Table2[[#This Row],[Output Voltage]]*Table2[[#This Row],[Module rated current]]","v":216.5},"K",{"$f":"IF(1200/Table2[[#This Row],[Module rated power]]>6,6,ROUNDDOWN(1200/Table2[[#This Row],[Module rated power]],0))","v":5},{"$f":"Table2[[#This Row],[Module rated power]]*Table2[[#This Row],[Available No. of Slot]]","v":1082.5},{"$f":"ROUNDDOWN(Table2[[#This Row],[Max power per output]]/Table2[[#This Row],[Output Voltage]],2)","v":25},null,null,null,null,null,null,null,null,null,45,{"$f":"IF(S$1=0,0,IF(Configuration!$F$7=\"D\",$R$274,Table7[[#This Row],[Vo]]))","v":0},{"$f":"IF(T$1=0,0,IF(Configuration!$F$8=\"D\",$R$274,Table7[[#This Row],[Vo]]))","v":0},{"$f":"IF(U$1=0,0,IF(Configuration!$F$9=\"D\",$R$274,Table7[[#This Row],[Vo]]))","v":0},{"$f":"IF(V$1=0,0,IF(Configuration!$F$10=\"D\",$R$274,Table7[[#This Row],[Vo]]))","v":0},{"$f":"IF(W$1=0,0,IF(Configuration!$F$11=\"D\",$R$274,Table7[[#This Row],[Vo]]))","v":0},{"$f":"IF(X$1=0,0,IF(Configuration!$F$12=\"D\",$R$274,Table7[[#This Row],[Vo]]))","v":0},{"$f":"IF(Y$1=0,0,IF(Configuration!$F$13=\"D\",$R$274,Table7[[#This Row],[Vo]]))","v":0},{"$f":"IF(Z$1=0,0,IF(Configuration!$F$14=\"D\",$R$274,Table7[[#This Row],[Vo]]))","v":0},{"$f":"IF(AA$1=0,0,IF(Configuration!$F$15=\"D\",$R$274,Table7[[#This Row],[Vo]]))","v":0},{"$f":"IF(AB$1=0,0,IF(Configuration!$F$16=\"D\",$R$274,Table7[[#This Row],[Vo]]))","v":0},{"$f":"IF(AC$1=0,0,IF(Configuration!$F$17=\"D\",$R$274,Table7[[#This Row],[Vo]]))","v":0}]
[43.4,"NMS-240-48",5,{"$f":"Table2[[#This Row],[Output Voltage]]*Table2[[#This Row],[Module rated current]]","v":217},"K",{"$f":"IF(1200/Table2[[#This Row],[Module rated power]]>6,6,ROUNDDOWN(1200/Table2[[#This Row],[Module rated power]],0))","v":5},{"$f":"Table2[[#This Row],[Module rated power]]*Table2[[#This Row],[Available No. of Slot]]","v":1085},{"$f":"ROUNDDOWN(Table2[[#This Row],[Max power per output]]/Table2[[#This Row],[Output Voltage]],2)","v":25},null,null,null,null,null,null,null,null,null,45.1,{"$f":"IF(S$1=0,0,IF(Configuration!$F$7=\"D\",$R$274,Table7[[#This Row],[Vo]]))","v":0},{"$f":"IF(T$1=0,0,IF(Configuration!$F$8=\"D\",$R$274,Table7[[#This Row],[Vo]]))","v":0},{"$f":"IF(U$1=0,0,IF(Configuration!$F$9=\"D\",$R$274,Table7[[#This Row],[Vo]]))","v":0},{"$f":"IF(V$1=0,0,IF(Configuration!$F$10=\"D\",$R$274,Table7[[#This Row],[Vo]]))","v":0},{"$f":"IF(W$1=0,0,IF(Configuration!$F$11=\"D\",$R$274,Table7[[#This Row],[Vo]]))","v":0},{"$f":"IF(X$1=0,0,IF(Configuration!$F$12=\"D\",$R$274,Table7[[#This Row],[Vo]]))","v":0},{"$f":"IF(Y$1=0,0,IF(Configuration!$F$13=\"D\",$R$274,Table7[[#This Row],[Vo]]))","v":0},{"$f":"IF(Z$1=0,0,IF(Configuration!$F$14=\"D\",$R$274,Table7[[#This Row],[Vo]]))","v":0},{"$f":"IF(AA$1=0,0,IF(Configuration!$F$15=\"D\",$R$274,Table7[[#This Row],[Vo]]))","v":0},{"$f":"IF(AB$1=0,0,IF(Configuration!$F$16=\"D\",$R$274,Table7[[#This Row],[Vo]]))","v":0},{"$f":"IF(AC$1=0,0,IF(Configuration!$F$17=\"D\",$R$274,Table7[[#This Row],[Vo]]))","v":0}]
[43.5,"NMS-240-48",5,{"$f":"Table2[[#This Row],[Output Voltage]]*Table2[[#This Row],[Module rated current]]","v":217.5},"K",{"$f":"IF(1200/Table2[[#This Row],[Module rated power]]>6,6,ROUNDDOWN(1200/Table2[[#This Row],[Module rated power]],0))","v":5},{"$f":"Table2[[#This Row],[Module rated power]]*Table2[[#This Row],[Available No. of Slot]]","v":1087.5},{"$f":"ROUNDDOWN(Table2[[#This Row],[Max power per output]]/Table2[[#This Row],[Output Voltage]],2)","v":25},null,null,null,null,null,null,null,null,null,45.2,{"$f":"IF(S$1=0,0,IF(Configuration!$F$7=\"D\",$R$274,Table7[[#This Row],[Vo]]))","v":0},{"$f":"IF(T$1=0,0,IF(Configuration!$F$8=\"D\",$R$274,Table7[[#This Row],[Vo]]))","v":0},{"$f":"IF(U$1=0,0,IF(Configuration!$F$9=\"D\",$R$274,Table7[[#This Row],[Vo]]))","v":0},{"$f":"IF(V$1=0,0,IF(Configuration!$F$10=\"D\",$R$274,Table7[[#This Row],[Vo]]))","v":0},{"$f":"IF(W$1=0,0,IF(Configuration!$F$11=\"D\",$R$274,Table7[[#This Row],[Vo]]))","v":0},{"$f":"IF(X$1=0,0,IF(Configuration!$F$12=\"D\",$R$274,Table7[[#This Row],[Vo]]))","v":0},{"$f":"IF(Y$1=0,0,IF(Configuration!$F$13=\"D\",$R$274,Table7[[#This Row],[Vo]]))","v":0},{"$f":"IF(Z$1=0,0,IF(Configuration!$F$14=\"D\",$R$274,Table7[[#This Row],[Vo]]))","v":0},{"$f":"IF(AA$1=0,0,IF(Configuration!$F$15=\"D\",$R$274,Table7[[#This Row],[Vo]]))","v":0},{"$f":"IF(AB$1=0,0,IF(Configuration!$F$16=\"D\",$R$274,Table7[[#This Row],[Vo]]))","v":0},{"$f":"IF(AC$1=0,0,IF(Configuration!$F$17=\"D\",$R$274,Table7[[#This Row],[Vo]]))","v":0}]
[43.6,"NMS-240-48",5,{"$f":"Table2[[#This Row],[Output Voltage]]*Table2[[#This Row],[Module rated current]]","v":218},"K",{"$f":"IF(1200/Table2[[#This Row],[Module rated power]]>6,6,ROUNDDOWN(1200/Table2[[#This Row],[Module rated power]],0))","v":5},{"$f":"Table2[[#This Row],[Module rated power]]*Table2[[#This Row],[Available No. of Slot]]","v":1090},{"$f":"ROUNDDOWN(Table2[[#This Row],[Max power per output]]/Table2[[#This Row],[Output Voltage]],2)","v":25},null,null,null,null,null,null,null,null,null,45.3,{"$f":"IF(S$1=0,0,IF(Configuration!$F$7=\"D\",$R$274,Table7[[#This Row],[Vo]]))","v":0},{"$f":"IF(T$1=0,0,IF(Configuration!$F$8=\"D\",$R$274,Table7[[#This Row],[Vo]]))","v":0},{"$f":"IF(U$1=0,0,IF(Configuration!$F$9=\"D\",$R$274,Table7[[#This Row],[Vo]]))","v":0},{"$f":"IF(V$1=0,0,IF(Configuration!$F$10=\"D\",$R$274,Table7[[#This Row],[Vo]]))","v":0},{"$f":"IF(W$1=0,0,IF(Configuration!$F$11=\"D\",$R$274,Table7[[#This Row],[Vo]]))","v":0},{"$f":"IF(X$1=0,0,IF(Configuration!$F$12=\"D\",$R$274,Table7[[#This Row],[Vo]]))","v":0},{"$f":"IF(Y$1=0,0,IF(Configuration!$F$13=\"D\",$R$274,Table7[[#This Row],[Vo]]))","v":0},{"$f":"IF(Z$1=0,0,IF(Configuration!$F$14=\"D\",$R$274,Table7[[#This Row],[Vo]]))","v":0},{"$f":"IF(AA$1=0,0,IF(Configuration!$F$15=\"D\",$R$274,Table7[[#This Row],[Vo]]))","v":0},{"$f":"IF(AB$1=0,0,IF(Configuration!$F$16=\"D\",$R$274,Table7[[#This Row],[Vo]]))","v":0},{"$f":"IF(AC$1=0,0,IF(Configuration!$F$17=\"D\",$R$274,Table7[[#This Row],[Vo]]))","v":0}]
[43.7,"NMS-240-48",5,{"$f":"Table2[[#This Row],[Output Voltage]]*Table2[[#This Row],[Module rated current]]","v":218.5},"K",{"$f":"IF(1200/Table2[[#This Row],[Module rated power]]>6,6,ROUNDDOWN(1200/Table2[[#This Row],[Module rated power]],0))","v":5},{"$f":"Table2[[#This Row],[Module rated power]]*Table2[[#This Row],[Available No. of Slot]]","v":1092.5},{"$f":"ROUNDDOWN(Table2[[#This Row],[Max power per output]]/Table2[[#This Row],[Output Voltage]],2)","v":25},null,null,null,null,null,null,null,null,null,45.4,{"$f":"IF(S$1=0,0,IF(Configuration!$F$7=\"D\",$R$274,Table7[[#This Row],[Vo]]))","v":0},{"$f":"IF(T$1=0,0,IF(Configuration!$F$8=\"D\",$R$274,Table7[[#This Row],[Vo]]))","v":0},{"$f":"IF(U$1=0,0,IF(Configuration!$F$9=\"D\",$R$274,Table7[[#This Row],[Vo]]))","v":0},{"$f":"IF(V$1=0,0,IF(Configuration!$F$10=\"D\",$R$274,Table7[[#This Row],[Vo]]))","v":0},{"$f":"IF(W$1=0,0,IF(Configuration!$F$11=\"D\",$R$274,Table7[[#This Row],[Vo]]))","v":0},{"$f":"IF(X$1=0,0,IF(Configuration!$F$12=\"D\",$R$274,Table7[[#This Row],[Vo]]))","v":0},{"$f":"IF(Y$1=0,0,IF(Configuration!$F$13=\"D\",$R$274,Table7[[#This Row],[Vo]]))","v":0},{"$f":"IF(Z$1=0,0,IF(Configuration!$F$14=\"D\",$R$274,Table7[[#This Row],[Vo]]))","v":0},{"$f":"IF(AA$1=0,0,IF(Configuration!$F$15=\"D\",$R$274,Table7[[#This Row],[Vo]]))","v":0},{"$f":"IF(AB$1=0,0,IF(Configuration!$F$16=\"D\",$R$274,Table7[[#This Row],[Vo]]))","v":0},{"$f":"IF(AC$1=0,0,IF(Configuration!$F$17=\"D\",$R$274,Table7[[#This Row],[Vo]]))","v":0}]
[43.8,"NMS-240-48",5,{"$f":"Table2[[#This Row],[Output Voltage]]*Table2[[#This Row],[Module rated current]]","v":219},"K",{"$f":"IF(1200/Table2[[#This Row],[Module rated power]]>6,6,ROUNDDOWN(1200/Table2[[#This Row],[Module rated power]],0))","v":5},{"$f":"Table2[[#This Row],[Module rated power]]*Table2[[#This Row],[Available No. of Slot]]","v":1095},{"$f":"ROUNDDOWN(Table2[[#This Row],[Max power per output]]/Table2[[#This Row],[Output Voltage]],2)","v":25},null,null,null,null,null,null,null,null,null,45.5,{"$f":"IF(S$1=0,0,IF(Configuration!$F$7=\"D\",$R$274,Table7[[#This Row],[Vo]]))","v":0},{"$f":"IF(T$1=0,0,IF(Configuration!$F$8=\"D\",$R$274,Table7[[#This Row],[Vo]]))","v":0},{"$f":"IF(U$1=0,0,IF(Configuration!$F$9=\"D\",$R$274,Table7[[#This Row],[Vo]]))","v":0},{"$f":"IF(V$1=0,0,IF(Configuration!$F$10=\"D\",$R$274,Table7[[#This Row],[Vo]]))","v":0},{"$f":"IF(W$1=0,0,IF(Configuration!$F$11=\"D\",$R$274,Table7[[#This Row],[Vo]]))","v":0},{"$f":"IF(X$1=0,0,IF(Configuration!$F$12=\"D\",$R$274,Table7[[#This Row],[Vo]]))","v":0},{"$f":"IF(Y$1=0,0,IF(Configuration!$F$13=\"D\",$R$274,Table7[[#This Row],[Vo]]))","v":0},{"$f":"IF(Z$1=0,0,IF(Configuration!$F$14=\"D\",$R$274,Table7[[#This Row],[Vo]]))","v":0},{"$f":"IF(AA$1=0,0,IF(Configuration!$F$15=\"D\",$R$274,Table7[[#This Row],[Vo]]))","v":0},{"$f":"IF(AB$1=0,0,IF(Configuration!$F$16=\"D\",$R$274,Table7[[#This Row],[Vo]]))","v":0},{"$f":"IF(AC$1=0,0,IF(Configuration!$F$17=\"D\",$R$274,Table7[[#This Row],[Vo]]))","v":0}]
[43.9,"NMS-240-48",5,{"$f":"Table2[[#This Row],[Output Voltage]]*Table2[[#This Row],[Module rated current]]","v":219.5},"K",{"$f":"IF(1200/Table2[[#This Row],[Module rated power]]>6,6,ROUNDDOWN(1200/Table2[[#This Row],[Module rated power]],0))","v":5},{"$f":"Table2[[#This Row],[Module rated power]]*Table2[[#This Row],[Available No. of Slot]]","v":1097.5},{"$f":"ROUNDDOWN(Table2[[#This Row],[Max power per output]]/Table2[[#This Row],[Output Voltage]],2)","v":25},null,null,null,null,null,null,null,null,null,45.6,{"$f":"IF(S$1=0,0,IF(Configuration!$F$7=\"D\",$R$274,Table7[[#This Row],[Vo]]))","v":0},{"$f":"IF(T$1=0,0,IF(Configuration!$F$8=\"D\",$R$274,Table7[[#This Row],[Vo]]))","v":0},{"$f":"IF(U$1=0,0,IF(Configuration!$F$9=\"D\",$R$274,Table7[[#This Row],[Vo]]))","v":0},{"$f":"IF(V$1=0,0,IF(Configuration!$F$10=\"D\",$R$274,Table7[[#This Row],[Vo]]))","v":0},{"$f":"IF(W$1=0,0,IF(Configuration!$F$11=\"D\",$R$274,Table7[[#This Row],[Vo]]))","v":0},{"$f":"IF(X$1=0,0,IF(Configuration!$F$12=\"D\",$R$274,Table7[[#This Row],[Vo]]))","v":0},{"$f":"IF(Y$1=0,0,IF(Configuration!$F$13=\"D\",$R$274,Table7[[#This Row],[Vo]]))","v":0},{"$f":"IF(Z$1=0,0,IF(Configuration!$F$14=\"D\",$R$274,Table7[[#This Row],[Vo]]))","v":0},{"$f":"IF(AA$1=0,0,IF(Configuration!$F$15=\"D\",$R$274,Table7[[#This Row],[Vo]]))","v":0},{"$f":"IF(AB$1=0,0,IF(Configuration!$F$16=\"D\",$R$274,Table7[[#This Row],[Vo]]))","v":0},{"$f":"IF(AC$1=0,0,IF(Configuration!$F$17=\"D\",$R$274,Table7[[#This Row],[Vo]]))","v":0}]
[44,"NMS-240-48",5,{"$f":"Table2[[#This Row],[Output Voltage]]*Table2[[#This Row],[Module rated current]]","v":220},"K",{"$f":"IF(1200/Table2[[#This Row],[Module rated power]]>6,6,ROUNDDOWN(1200/Table2[[#This Row],[Module rated power]],0))","v":5},{"$f":"Table2[[#This Row],[Module rated power]]*Table2[[#This Row],[Available No. of Slot]]","v":1100},{"$f":"ROUNDDOWN(Table2[[#This Row],[Max power per output]]/Table2[[#This Row],[Output Voltage]],2)","v":25},null,null,null,null,null,null,null,null,null,45.7,{"$f":"IF(S$1=0,0,IF(Configuration!$F$7=\"D\",$R$274,Table7[[#This Row],[Vo]]))","v":0},{"$f":"IF(T$1=0,0,IF(Configuration!$F$8=\"D\",$R$274,Table7[[#This Row],[Vo]]))","v":0},{"$f":"IF(U$1=0,0,IF(Configuration!$F$9=\"D\",$R$274,Table7[[#This Row],[Vo]]))","v":0},{"$f":"IF(V$1=0,0,IF(Configuration!$F$10=\"D\",$R$274,Table7[[#This Row],[Vo]]))","v":0},{"$f":"IF(W$1=0,0,IF(Configuration!$F$11=\"D\",$R$274,Table7[[#This Row],[Vo]]))","v":0},{"$f":"IF(X$1=0,0,IF(Configuration!$F$12=\"D\",$R$274,Table7[[#This Row],[Vo]]))","v":0},{"$f":"IF(Y$1=0,0,IF(Configuration!$F$13=\"D\",$R$274,Table7[[#This Row],[Vo]]))","v":0},{"$f":"IF(Z$1=0,0,IF(Configuration!$F$14=\"D\",$R$274,Table7[[#This Row],[Vo]]))","v":0},{"$f":"IF(AA$1=0,0,IF(Configuration!$F$15=\"D\",$R$274,Table7[[#This Row],[Vo]]))","v":0},{"$f":"IF(AB$1=0,0,IF(Configuration!$F$16=\"D\",$R$274,Table7[[#This Row],[Vo]]))","v":0},{"$f":"IF(AC$1=0,0,IF(Configuration!$F$17=\"D\",$R$274,Table7[[#This Row],[Vo]]))","v":0}]
[44.1,"NMS-240-48",5,{"$f":"Table2[[#This Row],[Output Voltage]]*Table2[[#This Row],[Module rated current]]","v":220.5},"K",{"$f":"IF(1200/Table2[[#This Row],[Module rated power]]>6,6,ROUNDDOWN(1200/Table2[[#This Row],[Module rated power]],0))","v":5},{"$f":"Table2[[#This Row],[Module rated power]]*Table2[[#This Row],[Available No. of Slot]]","v":1102.5},{"$f":"ROUNDDOWN(Table2[[#This Row],[Max power per output]]/Table2[[#This Row],[Output Voltage]],2)","v":25},null,null,null,null,null,null,null,null,null,45.8,{"$f":"IF(S$1=0,0,IF(Configuration!$F$7=\"D\",$R$274,Table7[[#This Row],[Vo]]))","v":0},{"$f":"IF(T$1=0,0,IF(Configuration!$F$8=\"D\",$R$274,Table7[[#This Row],[Vo]]))","v":0},{"$f":"IF(U$1=0,0,IF(Configuration!$F$9=\"D\",$R$274,Table7[[#This Row],[Vo]]))","v":0},{"$f":"IF(V$1=0,0,IF(Configuration!$F$10=\"D\",$R$274,Table7[[#This Row],[Vo]]))","v":0},{"$f":"IF(W$1=0,0,IF(Configuration!$F$11=\"D\",$R$274,Table7[[#This Row],[Vo]]))","v":0},{"$f":"IF(X$1=0,0,IF(Configuration!$F$12=\"D\",$R$274,Table7[[#This Row],[Vo]]))","v":0},{"$f":"IF(Y$1=0,0,IF(Configuration!$F$13=\"D\",$R$274,Table7[[#This Row],[Vo]]))","v":0},{"$f":"IF(Z$1=0,0,IF(Configuration!$F$14=\"D\",$R$274,Table7[[#This Row],[Vo]]))","v":0},{"$f":"IF(AA$1=0,0,IF(Configuration!$F$15=\"D\",$R$274,Table7[[#This Row],[Vo]]))","v":0},{"$f":"IF(AB$1=0,0,IF(Configuration!$F$16=\"D\",$R$274,Table7[[#This Row],[Vo]]))","v":0},{"$f":"IF(AC$1=0,0,IF(Configuration!$F$17=\"D\",$R$274,Table7[[#This Row],[Vo]]))","v":0}]
[44.2,"NMS-240-48",5,{"$f":"Table2[[#This Row],[Output Voltage]]*Table2[[#This Row],[Module rated current]]","v":221},"K",{"$f":"IF(1200/Table2[[#This Row],[Module rated power]]>6,6,ROUNDDOWN(1200/Table2[[#This Row],[Module rated power]],0))","v":5},{"$f":"Table2[[#This Row],[Module rated power]]*Table2[[#This Row],[Available No. of Slot]]","v":1105},{"$f":"ROUNDDOWN(Table2[[#This Row],[Max power per output]]/Table2[[#This Row],[Output Voltage]],2)","v":25},null,null,null,null,null,null,null,null,null,45.9,{"$f":"IF(S$1=0,0,IF(Configuration!$F$7=\"D\",$R$274,Table7[[#This Row],[Vo]]))","v":0},{"$f":"IF(T$1=0,0,IF(Configuration!$F$8=\"D\",$R$274,Table7[[#This Row],[Vo]]))","v":0},{"$f":"IF(U$1=0,0,IF(Configuration!$F$9=\"D\",$R$274,Table7[[#This Row],[Vo]]))","v":0},{"$f":"IF(V$1=0,0,IF(Configuration!$F$10=\"D\",$R$274,Table7[[#This Row],[Vo]]))","v":0},{"$f":"IF(W$1=0,0,IF(Configuration!$F$11=\"D\",$R$274,Table7[[#This Row],[Vo]]))","v":0},{"$f":"IF(X$1=0,0,IF(Configuration!$F$12=\"D\",$R$274,Table7[[#This Row],[Vo]]))","v":0},{"$f":"IF(Y$1=0,0,IF(Configuration!$F$13=\"D\",$R$274,Table7[[#This Row],[Vo]]))","v":0},{"$f":"IF(Z$1=0,0,IF(Configuration!$F$14=\"D\",$R$274,Table7[[#This Row],[Vo]]))","v":0},{"$f":"IF(AA$1=0,0,IF(Configuration!$F$15=\"D\",$R$274,Table7[[#This Row],[Vo]]))","v":0},{"$f":"IF(AB$1=0,0,IF(Configuration!$F$16=\"D\",$R$274,Table7[[#This Row],[Vo]]))","v":0},{"$f":"IF(AC$1=0,0,IF(Configuration!$F$17=\"D\",$R$274,Table7[[#This Row],[Vo]]))","v":0}]
[44.3,"NMS-240-48",5,{"$f":"Table2[[#This Row],[Output Voltage]]*Table2[[#This Row],[Module rated current]]","v":221.5},"K",{"$f":"IF(1200/Table2[[#This Row],[Module rated power]]>6,6,ROUNDDOWN(1200/Table2[[#This Row],[Module rated power]],0))","v":5},{"$f":"Table2[[#This Row],[Module rated power]]*Table2[[#This Row],[Available No. of Slot]]","v":1107.5},{"$f":"ROUNDDOWN(Table2[[#This Row],[Max power per output]]/Table2[[#This Row],[Output Voltage]],2)","v":25},null,null,null,null,null,null,null,null,null,46,{"$f":"IF(S$1=0,0,IF(Configuration!$F$7=\"D\",$R$274,Table7[[#This Row],[Vo]]))","v":0},{"$f":"IF(T$1=0,0,IF(Configuration!$F$8=\"D\",$R$274,Table7[[#This Row],[Vo]]))","v":0},{"$f":"IF(U$1=0,0,IF(Configuration!$F$9=\"D\",$R$274,Table7[[#This Row],[Vo]]))","v":0},{"$f":"IF(V$1=0,0,IF(Configuration!$F$10=\"D\",$R$274,Table7[[#This Row],[Vo]]))","v":0},{"$f":"IF(W$1=0,0,IF(Configuration!$F$11=\"D\",$R$274,Table7[[#This Row],[Vo]]))","v":0},{"$f":"IF(X$1=0,0,IF(Configuration!$F$12=\"D\",$R$274,Table7[[#This Row],[Vo]]))","v":0},{"$f":"IF(Y$1=0,0,IF(Configuration!$F$13=\"D\",$R$274,Table7[[#This Row],[Vo]]))","v":0},{"$f":"IF(Z$1=0,0,IF(Configuration!$F$14=\"D\",$R$274,Table7[[#This Row],[Vo]]))","v":0},{"$f":"IF(AA$1=0,0,IF(Configuration!$F$15=\"D\",$R$274,Table7[[#This Row],[Vo]]))","v":0},{"$f":"IF(AB$1=0,0,IF(Configuration!$F$16=\"D\",$R$274,Table7[[#This Row],[Vo]]))","v":0},{"$f":"IF(AC$1=0,0,IF(Configuration!$F$17=\"D\",$R$274,Table7[[#This Row],[Vo]]))","v":0}]
[44.4,"NMS-240-48",5,{"$f":"Table2[[#This Row],[Output Voltage]]*Table2[[#This Row],[Module rated current]]","v":222},"K",{"$f":"IF(1200/Table2[[#This Row],[Module rated power]]>6,6,ROUNDDOWN(1200/Table2[[#This Row],[Module rated power]],0))","v":5},{"$f":"Table2[[#This Row],[Module rated power]]*Table2[[#This Row],[Available No. of Slot]]","v":1110},{"$f":"ROUNDDOWN(Table2[[#This Row],[Max power per output]]/Table2[[#This Row],[Output Voltage]],2)","v":25},null,null,null,null,null,null,null,null,null,46.1,{"$f":"IF(S$1=0,0,IF(Configuration!$F$7=\"D\",$R$274,Table7[[#This Row],[Vo]]))","v":0},{"$f":"IF(T$1=0,0,IF(Configuration!$F$8=\"D\",$R$274,Table7[[#This Row],[Vo]]))","v":0},{"$f":"IF(U$1=0,0,IF(Configuration!$F$9=\"D\",$R$274,Table7[[#This Row],[Vo]]))","v":0},{"$f":"IF(V$1=0,0,IF(Configuration!$F$10=\"D\",$R$274,Table7[[#This Row],[Vo]]))","v":0},{"$f":"IF(W$1=0,0,IF(Configuration!$F$11=\"D\",$R$274,Table7[[#This Row],[Vo]]))","v":0},{"$f":"IF(X$1=0,0,IF(Configuration!$F$12=\"D\",$R$274,Table7[[#This Row],[Vo]]))","v":0},{"$f":"IF(Y$1=0,0,IF(Configuration!$F$13=\"D\",$R$274,Table7[[#This Row],[Vo]]))","v":0},{"$f":"IF(Z$1=0,0,IF(Configuration!$F$14=\"D\",$R$274,Table7[[#This Row],[Vo]]))","v":0},{"$f":"IF(AA$1=0,0,IF(Configuration!$F$15=\"D\",$R$274,Table7[[#This Row],[Vo]]))","v":0},{"$f":"IF(AB$1=0,0,IF(Configuration!$F$16=\"D\",$R$274,Table7[[#This Row],[Vo]]))","v":0},{"$f":"IF(AC$1=0,0,IF(Configuration!$F$17=\"D\",$R$274,Table7[[#This Row],[Vo]]))","v":0}]
[44.5,"NMS-240-48",5,{"$f":"Table2[[#This Row],[Output Voltage]]*Table2[[#This Row],[Module rated current]]","v":222.5},"K",{"$f":"IF(1200/Table2[[#This Row],[Module rated power]]>6,6,ROUNDDOWN(1200/Table2[[#This Row],[Module rated power]],0))","v":5},{"$f":"Table2[[#This Row],[Module rated power]]*Table2[[#This Row],[Available No. of Slot]]","v":1112.5},{"$f":"ROUNDDOWN(Table2[[#This Row],[Max power per output]]/Table2[[#This Row],[Output Voltage]],2)","v":25},null,null,null,null,null,null,null,null,null,46.2,{"$f":"IF(S$1=0,0,IF(Configuration!$F$7=\"D\",$R$274,Table7[[#This Row],[Vo]]))","v":0},{"$f":"IF(T$1=0,0,IF(Configuration!$F$8=\"D\",$R$274,Table7[[#This Row],[Vo]]))","v":0},{"$f":"IF(U$1=0,0,IF(Configuration!$F$9=\"D\",$R$274,Table7[[#This Row],[Vo]]))","v":0},{"$f":"IF(V$1=0,0,IF(Configuration!$F$10=\"D\",$R$274,Table7[[#This Row],[Vo]]))","v":0},{"$f":"IF(W$1=0,0,IF(Configuration!$F$11=\"D\",$R$274,Table7[[#This Row],[Vo]]))","v":0},{"$f":"IF(X$1=0,0,IF(Configuration!$F$12=\"D\",$R$274,Table7[[#This Row],[Vo]]))","v":0},{"$f":"IF(Y$1=0,0,IF(Configuration!$F$13=\"D\",$R$274,Table7[[#This Row],[Vo]]))","v":0},{"$f":"IF(Z$1=0,0,IF(Configuration!$F$14=\"D\",$R$274,Table7[[#This Row],[Vo]]))","v":0},{"$f":"IF(AA$1=0,0,IF(Configuration!$F$15=\"D\",$R$274,Table7[[#This Row],[Vo]]))","v":0},{"$f":"IF(AB$1=0,0,IF(Configuration!$F$16=\"D\",$R$274,Table7[[#This Row],[Vo]]))","v":0},{"$f":"IF(AC$1=0,0,IF(Configuration!$F$17=\"D\",$R$274,Table7[[#This Row],[Vo]]))","v":0}]
[44.6,"NMS-240-48",5,{"$f":"Table2[[#This Row],[Output Voltage]]*Table2[[#This Row],[Module rated current]]","v":223},"K",{"$f":"IF(1200/Table2[[#This Row],[Module rated power]]>6,6,ROUNDDOWN(1200/Table2[[#This Row],[Module rated power]],0))","v":5},{"$f":"Table2[[#This Row],[Module rated power]]*Table2[[#This Row],[Available No. of Slot]]","v":1115},{"$f":"ROUNDDOWN(Table2[[#This Row],[Max power per output]]/Table2[[#This Row],[Output Voltage]],2)","v":25},null,null,null,null,null,null,null,null,null,46.3,{"$f":"IF(S$1=0,0,IF(Configuration!$F$7=\"D\",$R$274,Table7[[#This Row],[Vo]]))","v":0},{"$f":"IF(T$1=0,0,IF(Configuration!$F$8=\"D\",$R$274,Table7[[#This Row],[Vo]]))","v":0},{"$f":"IF(U$1=0,0,IF(Configuration!$F$9=\"D\",$R$274,Table7[[#This Row],[Vo]]))","v":0},{"$f":"IF(V$1=0,0,IF(Configuration!$F$10=\"D\",$R$274,Table7[[#This Row],[Vo]]))","v":0},{"$f":"IF(W$1=0,0,IF(Configuration!$F$11=\"D\",$R$274,Table7[[#This Row],[Vo]]))","v":0},{"$f":"IF(X$1=0,0,IF(Configuration!$F$12=\"D\",$R$274,Table7[[#This Row],[Vo]]))","v":0},{"$f":"IF(Y$1=0,0,IF(Configuration!$F$13=\"D\",$R$274,Table7[[#This Row],[Vo]]))","v":0},{"$f":"IF(Z$1=0,0,IF(Configuration!$F$14=\"D\",$R$274,Table7[[#This Row],[Vo]]))","v":0},{"$f":"IF(AA$1=0,0,IF(Configuration!$F$15=\"D\",$R$274,Table7[[#This Row],[Vo]]))","v":0},{"$f":"IF(AB$1=0,0,IF(Configuration!$F$16=\"D\",$R$274,Table7[[#This Row],[Vo]]))","v":0},{"$f":"IF(AC$1=0,0,IF(Configuration!$F$17=\"D\",$R$274,Table7[[#This Row],[Vo]]))","v":0}]
[44.7,"NMS-240-48",5,{"$f":"Table2[[#This Row],[Output Voltage]]*Table2[[#This Row],[Module rated current]]","v":223.5},"K",{"$f":"IF(1200/Table2[[#This Row],[Module rated power]]>6,6,ROUNDDOWN(1200/Table2[[#This Row],[Module rated power]],0))","v":5},{"$f":"Table2[[#This Row],[Module rated power]]*Table2[[#This Row],[Available No. of Slot]]","v":1117.5},{"$f":"ROUNDDOWN(Table2[[#This Row],[Max power per output]]/Table2[[#This Row],[Output Voltage]],2)","v":25},null,null,null,null,null,null,null,null,null,46.4,{"$f":"IF(S$1=0,0,IF(Configuration!$F$7=\"D\",$R$274,Table7[[#This Row],[Vo]]))","v":0},{"$f":"IF(T$1=0,0,IF(Configuration!$F$8=\"D\",$R$274,Table7[[#This Row],[Vo]]))","v":0},{"$f":"IF(U$1=0,0,IF(Configuration!$F$9=\"D\",$R$274,Table7[[#This Row],[Vo]]))","v":0},{"$f":"IF(V$1=0,0,IF(Configuration!$F$10=\"D\",$R$274,Table7[[#This Row],[Vo]]))","v":0},{"$f":"IF(W$1=0,0,IF(Configuration!$F$11=\"D\",$R$274,Table7[[#This Row],[Vo]]))","v":0},{"$f":"IF(X$1=0,0,IF(Configuration!$F$12=\"D\",$R$274,Table7[[#This Row],[Vo]]))","v":0},{"$f":"IF(Y$1=0,0,IF(Configuration!$F$13=\"D\",$R$274,Table7[[#This Row],[Vo]]))","v":0},{"$f":"IF(Z$1=0,0,IF(Configuration!$F$14=\"D\",$R$274,Table7[[#This Row],[Vo]]))","v":0},{"$f":"IF(AA$1=0,0,IF(Configuration!$F$15=\"D\",$R$274,Table7[[#This Row],[Vo]]))","v":0},{"$f":"IF(AB$1=0,0,IF(Configuration!$F$16=\"D\",$R$274,Table7[[#This Row],[Vo]]))","v":0},{"$f":"IF(AC$1=0,0,IF(Configuration!$F$17=\"D\",$R$274,Table7[[#This Row],[Vo]]))","v":0}]
[44.8,"NMS-240-48",5,{"$f":"Table2[[#This Row],[Output Voltage]]*Table2[[#This Row],[Module rated current]]","v":224},"K",{"$f":"IF(1200/Table2[[#This Row],[Module rated power]]>6,6,ROUNDDOWN(1200/Table2[[#This Row],[Module rated power]],0))","v":5},{"$f":"Table2[[#This Row],[Module rated power]]*Table2[[#This Row],[Available No. of Slot]]","v":1120},{"$f":"ROUNDDOWN(Table2[[#This Row],[Max power per output]]/Table2[[#This Row],[Output Voltage]],2)","v":25},null,null,null,null,null,null,null,null,null,46.5,{"$f":"IF(S$1=0,0,IF(Configuration!$F$7=\"D\",$R$274,Table7[[#This Row],[Vo]]))","v":0},{"$f":"IF(T$1=0,0,IF(Configuration!$F$8=\"D\",$R$274,Table7[[#This Row],[Vo]]))","v":0},{"$f":"IF(U$1=0,0,IF(Configuration!$F$9=\"D\",$R$274,Table7[[#This Row],[Vo]]))","v":0},{"$f":"IF(V$1=0,0,IF(Configuration!$F$10=\"D\",$R$274,Table7[[#This Row],[Vo]]))","v":0},{"$f":"IF(W$1=0,0,IF(Configuration!$F$11=\"D\",$R$274,Table7[[#This Row],[Vo]]))","v":0},{"$f":"IF(X$1=0,0,IF(Configuration!$F$12=\"D\",$R$274,Table7[[#This Row],[Vo]]))","v":0},{"$f":"IF(Y$1=0,0,IF(Configuration!$F$13=\"D\",$R$274,Table7[[#This Row],[Vo]]))","v":0},{"$f":"IF(Z$1=0,0,IF(Configuration!$F$14=\"D\",$R$274,Table7[[#This Row],[Vo]]))","v":0},{"$f":"IF(AA$1=0,0,IF(Configuration!$F$15=\"D\",$R$274,Table7[[#This Row],[Vo]]))","v":0},{"$f":"IF(AB$1=0,0,IF(Configuration!$F$16=\"D\",$R$274,Table7[[#This Row],[Vo]]))","v":0},{"$f":"IF(AC$1=0,0,IF(Configuration!$F$17=\"D\",$R$274,Table7[[#This Row],[Vo]]))","v":0}]
[44.9,"NMS-240-48",5,{"$f":"Table2[[#This Row],[Output Voltage]]*Table2[[#This Row],[Module rated current]]","v":224.5},"K",{"$f":"IF(1200/Table2[[#This Row],[Module rated power]]>6,6,ROUNDDOWN(1200/Table2[[#This Row],[Module rated power]],0))","v":5},{"$f":"Table2[[#This Row],[Module rated power]]*Table2[[#This Row],[Available No. of Slot]]","v":1122.5},{"$f":"ROUNDDOWN(Table2[[#This Row],[Max power per output]]/Table2[[#This Row],[Output Voltage]],2)","v":25},null,null,null,null,null,null,null,null,null,46.6,{"$f":"IF(S$1=0,0,IF(Configuration!$F$7=\"D\",$R$274,Table7[[#This Row],[Vo]]))","v":0},{"$f":"IF(T$1=0,0,IF(Configuration!$F$8=\"D\",$R$274,Table7[[#This Row],[Vo]]))","v":0},{"$f":"IF(U$1=0,0,IF(Configuration!$F$9=\"D\",$R$274,Table7[[#This Row],[Vo]]))","v":0},{"$f":"IF(V$1=0,0,IF(Configuration!$F$10=\"D\",$R$274,Table7[[#This Row],[Vo]]))","v":0},{"$f":"IF(W$1=0,0,IF(Configuration!$F$11=\"D\",$R$274,Table7[[#This Row],[Vo]]))","v":0},{"$f":"IF(X$1=0,0,IF(Configuration!$F$12=\"D\",$R$274,Table7[[#This Row],[Vo]]))","v":0},{"$f":"IF(Y$1=0,0,IF(Configuration!$F$13=\"D\",$R$274,Table7[[#This Row],[Vo]]))","v":0},{"$f":"IF(Z$1=0,0,IF(Configuration!$F$14=\"D\",$R$274,Table7[[#This Row],[Vo]]))","v":0},{"$f":"IF(AA$1=0,0,IF(Configuration!$F$15=\"D\",$R$274,Table7[[#This Row],[Vo]]))","v":0},{"$f":"IF(AB$1=0,0,IF(Configuration!$F$16=\"D\",$R$274,Table7[[#This Row],[Vo]]))","v":0},{"$f":"IF(AC$1=0,0,IF(Configuration!$F$17=\"D\",$R$274,Table7[[#This Row],[Vo]]))","v":0}]
[45,"NMS-240-48",5,{"$f":"Table2[[#This Row],[Output Voltage]]*Table2[[#This Row],[Module rated current]]","v":225},"K",{"$f":"IF(1200/Table2[[#This Row],[Module rated power]]>6,6,ROUNDDOWN(1200/Table2[[#This Row],[Module rated power]],0))","v":5},{"$f":"Table2[[#This Row],[Module rated power]]*Table2[[#This Row],[Available No. of Slot]]","v":1125},{"$f":"ROUNDDOWN(Table2[[#This Row],[Max power per output]]/Table2[[#This Row],[Output Voltage]],2)","v":25},null,null,null,null,null,null,null,null,null,46.7,{"$f":"IF(S$1=0,0,IF(Configuration!$F$7=\"D\",$R$274,Table7[[#This Row],[Vo]]))","v":0},{"$f":"IF(T$1=0,0,IF(Configuration!$F$8=\"D\",$R$274,Table7[[#This Row],[Vo]]))","v":0},{"$f":"IF(U$1=0,0,IF(Configuration!$F$9=\"D\",$R$274,Table7[[#This Row],[Vo]]))","v":0},{"$f":"IF(V$1=0,0,IF(Configuration!$F$10=\"D\",$R$274,Table7[[#This Row],[Vo]]))","v":0},{"$f":"IF(W$1=0,0,IF(Configuration!$F$11=\"D\",$R$274,Table7[[#This Row],[Vo]]))","v":0},{"$f":"IF(X$1=0,0,IF(Configuration!$F$12=\"D\",$R$274,Table7[[#This Row],[Vo]]))","v":0},{"$f":"IF(Y$1=0,0,IF(Configuration!$F$13=\"D\",$R$274,Table7[[#This Row],[Vo]]))","v":0},{"$f":"IF(Z$1=0,0,IF(Configuration!$F$14=\"D\",$R$274,Table7[[#This Row],[Vo]]))","v":0},{"$f":"IF(AA$1=0,0,IF(Configuration!$F$15=\"D\",$R$274,Table7[[#This Row],[Vo]]))","v":0},{"$f":"IF(AB$1=0,0,IF(Configuration!$F$16=\"D\",$R$274,Table7[[#This Row],[Vo]]))","v":0},{"$f":"IF(AC$1=0,0,IF(Configuration!$F$17=\"D\",$R$274,Table7[[#This Row],[Vo]]))","v":0}]
[45.1,"NMS-240-48",5,{"$f":"Table2[[#This Row],[Output Voltage]]*Table2[[#This Row],[Module rated current]]","v":225.5},"K",{"$f":"IF(1200/Table2[[#This Row],[Module rated power]]>6,6,ROUNDDOWN(1200/Table2[[#This Row],[Module rated power]],0))","v":5},{"$f":"Table2[[#This Row],[Module rated power]]*Table2[[#This Row],[Available No. of Slot]]","v":1127.5},{"$f":"ROUNDDOWN(Table2[[#This Row],[Max power per output]]/Table2[[#This Row],[Output Voltage]],2)","v":25},null,null,null,null,null,null,null,null,null,46.8,{"$f":"IF(S$1=0,0,IF(Configuration!$F$7=\"D\",$R$274,Table7[[#This Row],[Vo]]))","v":0},{"$f":"IF(T$1=0,0,IF(Configuration!$F$8=\"D\",$R$274,Table7[[#This Row],[Vo]]))","v":0},{"$f":"IF(U$1=0,0,IF(Configuration!$F$9=\"D\",$R$274,Table7[[#This Row],[Vo]]))","v":0},{"$f":"IF(V$1=0,0,IF(Configuration!$F$10=\"D\",$R$274,Table7[[#This Row],[Vo]]))","v":0},{"$f":"IF(W$1=0,0,IF(Configuration!$F$11=\"D\",$R$274,Table7[[#This Row],[Vo]]))","v":0},{"$f":"IF(X$1=0,0,IF(Configuration!$F$12=\"D\",$R$274,Table7[[#This Row],[Vo]]))","v":0},{"$f":"IF(Y$1=0,0,IF(Configuration!$F$13=\"D\",$R$274,Table7[[#This Row],[Vo]]))","v":0},{"$f":"IF(Z$1=0,0,IF(Configuration!$F$14=\"D\",$R$274,Table7[[#This Row],[Vo]]))","v":0},{"$f":"IF(AA$1=0,0,IF(Configuration!$F$15=\"D\",$R$274,Table7[[#This Row],[Vo]]))","v":0},{"$f":"IF(AB$1=0,0,IF(Configuration!$F$16=\"D\",$R$274,Table7[[#This Row],[Vo]]))","v":0},{"$f":"IF(AC$1=0,0,IF(Configuration!$F$17=\"D\",$R$274,Table7[[#This Row],[Vo]]))","v":0}]
[45.2,"NMS-240-48",5,{"$f":"Table2[[#This Row],[Output Voltage]]*Table2[[#This Row],[Module rated current]]","v":226},"K",{"$f":"IF(1200/Table2[[#This Row],[Module rated power]]>6,6,ROUNDDOWN(1200/Table2[[#This Row],[Module rated power]],0))","v":5},{"$f":"Table2[[#This Row],[Module rated power]]*Table2[[#This Row],[Available No. of Slot]]","v":1130},{"$f":"ROUNDDOWN(Table2[[#This Row],[Max power per output]]/Table2[[#This Row],[Output Voltage]],2)","v":25},null,null,null,null,null,null,null,null,null,46.9,{"$f":"IF(S$1=0,0,IF(Configuration!$F$7=\"D\",$R$274,Table7[[#This Row],[Vo]]))","v":0},{"$f":"IF(T$1=0,0,IF(Configuration!$F$8=\"D\",$R$274,Table7[[#This Row],[Vo]]))","v":0},{"$f":"IF(U$1=0,0,IF(Configuration!$F$9=\"D\",$R$274,Table7[[#This Row],[Vo]]))","v":0},{"$f":"IF(V$1=0,0,IF(Configuration!$F$10=\"D\",$R$274,Table7[[#This Row],[Vo]]))","v":0},{"$f":"IF(W$1=0,0,IF(Configuration!$F$11=\"D\",$R$274,Table7[[#This Row],[Vo]]))","v":0},{"$f":"IF(X$1=0,0,IF(Configuration!$F$12=\"D\",$R$274,Table7[[#This Row],[Vo]]))","v":0},{"$f":"IF(Y$1=0,0,IF(Configuration!$F$13=\"D\",$R$274,Table7[[#This Row],[Vo]]))","v":0},{"$f":"IF(Z$1=0,0,IF(Configuration!$F$14=\"D\",$R$274,Table7[[#This Row],[Vo]]))","v":0},{"$f":"IF(AA$1=0,0,IF(Configuration!$F$15=\"D\",$R$274,Table7[[#This Row],[Vo]]))","v":0},{"$f":"IF(AB$1=0,0,IF(Configuration!$F$16=\"D\",$R$274,Table7[[#This Row],[Vo]]))","v":0},{"$f":"IF(AC$1=0,0,IF(Configuration!$F$17=\"D\",$R$274,Table7[[#This Row],[Vo]]))","v":0}]
[45.3,"NMS-240-48",5,{"$f":"Table2[[#This Row],[Output Voltage]]*Table2[[#This Row],[Module rated current]]","v":226.5},"K",{"$f":"IF(1200/Table2[[#This Row],[Module rated power]]>6,6,ROUNDDOWN(1200/Table2[[#This Row],[Module rated power]],0))","v":5},{"$f":"Table2[[#This Row],[Module rated power]]*Table2[[#This Row],[Available No. of Slot]]","v":1132.5},{"$f":"ROUNDDOWN(Table2[[#This Row],[Max power per output]]/Table2[[#This Row],[Output Voltage]],2)","v":25},null,null,null,null,null,null,null,null,null,47,{"$f":"IF(S$1=0,0,IF(Configuration!$F$7=\"D\",$R$274,Table7[[#This Row],[Vo]]))","v":0},{"$f":"IF(T$1=0,0,IF(Configuration!$F$8=\"D\",$R$274,Table7[[#This Row],[Vo]]))","v":0},{"$f":"IF(U$1=0,0,IF(Configuration!$F$9=\"D\",$R$274,Table7[[#This Row],[Vo]]))","v":0},{"$f":"IF(V$1=0,0,IF(Configuration!$F$10=\"D\",$R$274,Table7[[#This Row],[Vo]]))","v":0},{"$f":"IF(W$1=0,0,IF(Configuration!$F$11=\"D\",$R$274,Table7[[#This Row],[Vo]]))","v":0},{"$f":"IF(X$1=0,0,IF(Configuration!$F$12=\"D\",$R$274,Table7[[#This Row],[Vo]]))","v":0},{"$f":"IF(Y$1=0,0,IF(Configuration!$F$13=\"D\",$R$274,Table7[[#This Row],[Vo]]))","v":0},{"$f":"IF(Z$1=0,0,IF(Configuration!$F$14=\"D\",$R$274,Table7[[#This Row],[Vo]]))","v":0},{"$f":"IF(AA$1=0,0,IF(Configuration!$F$15=\"D\",$R$274,Table7[[#This Row],[Vo]]))","v":0},{"$f":"IF(AB$1=0,0,IF(Configuration!$F$16=\"D\",$R$274,Table7[[#This Row],[Vo]]))","v":0},{"$f":"IF(AC$1=0,0,IF(Configuration!$F$17=\"D\",$R$274,Table7[[#This Row],[Vo]]))","v":0}]
[45.4,"NMS-240-48",5,{"$f":"Table2[[#This Row],[Output Voltage]]*Table2[[#This Row],[Module rated current]]","v":227},"K",{"$f":"IF(1200/Table2[[#This Row],[Module rated power]]>6,6,ROUNDDOWN(1200/Table2[[#This Row],[Module rated power]],0))","v":5},{"$f":"Table2[[#This Row],[Module rated power]]*Table2[[#This Row],[Available No. of Slot]]","v":1135},{"$f":"ROUNDDOWN(Table2[[#This Row],[Max power per output]]/Table2[[#This Row],[Output Voltage]],2)","v":25},null,null,null,null,null,null,null,null,null,47.1,{"$f":"IF(S$1=0,0,IF(Configuration!$F$7=\"D\",$R$274,Table7[[#This Row],[Vo]]))","v":0},{"$f":"IF(T$1=0,0,IF(Configuration!$F$8=\"D\",$R$274,Table7[[#This Row],[Vo]]))","v":0},{"$f":"IF(U$1=0,0,IF(Configuration!$F$9=\"D\",$R$274,Table7[[#This Row],[Vo]]))","v":0},{"$f":"IF(V$1=0,0,IF(Configuration!$F$10=\"D\",$R$274,Table7[[#This Row],[Vo]]))","v":0},{"$f":"IF(W$1=0,0,IF(Configuration!$F$11=\"D\",$R$274,Table7[[#This Row],[Vo]]))","v":0},{"$f":"IF(X$1=0,0,IF(Configuration!$F$12=\"D\",$R$274,Table7[[#This Row],[Vo]]))","v":0},{"$f":"IF(Y$1=0,0,IF(Configuration!$F$13=\"D\",$R$274,Table7[[#This Row],[Vo]]))","v":0},{"$f":"IF(Z$1=0,0,IF(Configuration!$F$14=\"D\",$R$274,Table7[[#This Row],[Vo]]))","v":0},{"$f":"IF(AA$1=0,0,IF(Configuration!$F$15=\"D\",$R$274,Table7[[#This Row],[Vo]]))","v":0},{"$f":"IF(AB$1=0,0,IF(Configuration!$F$16=\"D\",$R$274,Table7[[#This Row],[Vo]]))","v":0},{"$f":"IF(AC$1=0,0,IF(Configuration!$F$17=\"D\",$R$274,Table7[[#This Row],[Vo]]))","v":0}]
[45.5,"NMS-240-48",5,{"$f":"Table2[[#This Row],[Output Voltage]]*Table2[[#This Row],[Module rated current]]","v":227.5},"K",{"$f":"IF(1200/Table2[[#This Row],[Module rated power]]>6,6,ROUNDDOWN(1200/Table2[[#This Row],[Module rated power]],0))","v":5},{"$f":"Table2[[#This Row],[Module rated power]]*Table2[[#This Row],[Available No. of Slot]]","v":1137.5},{"$f":"ROUNDDOWN(Table2[[#This Row],[Max power per output]]/Table2[[#This Row],[Output Voltage]],2)","v":25},null,null,null,null,null,null,null,null,null,47.2,{"$f":"IF(S$1=0,0,IF(Configuration!$F$7=\"D\",$R$274,Table7[[#This Row],[Vo]]))","v":0},{"$f":"IF(T$1=0,0,IF(Configuration!$F$8=\"D\",$R$274,Table7[[#This Row],[Vo]]))","v":0},{"$f":"IF(U$1=0,0,IF(Configuration!$F$9=\"D\",$R$274,Table7[[#This Row],[Vo]]))","v":0},{"$f":"IF(V$1=0,0,IF(Configuration!$F$10=\"D\",$R$274,Table7[[#This Row],[Vo]]))","v":0},{"$f":"IF(W$1=0,0,IF(Configuration!$F$11=\"D\",$R$274,Table7[[#This Row],[Vo]]))","v":0},{"$f":"IF(X$1=0,0,IF(Configuration!$F$12=\"D\",$R$274,Table7[[#This Row],[Vo]]))","v":0},{"$f":"IF(Y$1=0,0,IF(Configuration!$F$13=\"D\",$R$274,Table7[[#This Row],[Vo]]))","v":0},{"$f":"IF(Z$1=0,0,IF(Configuration!$F$14=\"D\",$R$274,Table7[[#This Row],[Vo]]))","v":0},{"$f":"IF(AA$1=0,0,IF(Configuration!$F$15=\"D\",$R$274,Table7[[#This Row],[Vo]]))","v":0},{"$f":"IF(AB$1=0,0,IF(Configuration!$F$16=\"D\",$R$274,Table7[[#This Row],[Vo]]))","v":0},{"$f":"IF(AC$1=0,0,IF(Configuration!$F$17=\"D\",$R$274,Table7[[#This Row],[Vo]]))","v":0}]
[45.6,"NMS-240-48",5,{"$f":"Table2[[#This Row],[Output Voltage]]*Table2[[#This Row],[Module rated current]]","v":228},"K",{"$f":"IF(1200/Table2[[#This Row],[Module rated power]]>6,6,ROUNDDOWN(1200/Table2[[#This Row],[Module rated power]],0))","v":5},{"$f":"Table2[[#This Row],[Module rated power]]*Table2[[#This Row],[Available No. of Slot]]","v":1140},{"$f":"ROUNDDOWN(Table2[[#This Row],[Max power per output]]/Table2[[#This Row],[Output Voltage]],2)","v":25},null,null,null,null,null,null,null,null,null,47.3,{"$f":"IF(S$1=0,0,IF(Configuration!$F$7=\"D\",$R$274,Table7[[#This Row],[Vo]]))","v":0},{"$f":"IF(T$1=0,0,IF(Configuration!$F$8=\"D\",$R$274,Table7[[#This Row],[Vo]]))","v":0},{"$f":"IF(U$1=0,0,IF(Configuration!$F$9=\"D\",$R$274,Table7[[#This Row],[Vo]]))","v":0},{"$f":"IF(V$1=0,0,IF(Configuration!$F$10=\"D\",$R$274,Table7[[#This Row],[Vo]]))","v":0},{"$f":"IF(W$1=0,0,IF(Configuration!$F$11=\"D\",$R$274,Table7[[#This Row],[Vo]]))","v":0},{"$f":"IF(X$1=0,0,IF(Configuration!$F$12=\"D\",$R$274,Table7[[#This Row],[Vo]]))","v":0},{"$f":"IF(Y$1=0,0,IF(Configuration!$F$13=\"D\",$R$274,Table7[[#This Row],[Vo]]))","v":0},{"$f":"IF(Z$1=0,0,IF(Configuration!$F$14=\"D\",$R$274,Table7[[#This Row],[Vo]]))","v":0},{"$f":"IF(AA$1=0,0,IF(Configuration!$F$15=\"D\",$R$274,Table7[[#This Row],[Vo]]))","v":0},{"$f":"IF(AB$1=0,0,IF(Configuration!$F$16=\"D\",$R$274,Table7[[#This Row],[Vo]]))","v":0},{"$f":"IF(AC$1=0,0,IF(Configuration!$F$17=\"D\",$R$274,Table7[[#This Row],[Vo]]))","v":0}]
[45.7,"NMS-240-48",5,{"$f":"Table2[[#This Row],[Output Voltage]]*Table2[[#This Row],[Module rated current]]","v":228.5},"K",{"$f":"IF(1200/Table2[[#This Row],[Module rated power]]>6,6,ROUNDDOWN(1200/Table2[[#This Row],[Module rated power]],0))","v":5},{"$f":"Table2[[#This Row],[Module rated power]]*Table2[[#This Row],[Available No. of Slot]]","v":1142.5},{"$f":"ROUNDDOWN(Table2[[#This Row],[Max power per output]]/Table2[[#This Row],[Output Voltage]],2)","v":25},null,null,null,null,null,null,null,null,null,47.4,{"$f":"IF(S$1=0,0,IF(Configuration!$F$7=\"D\",$R$274,Table7[[#This Row],[Vo]]))","v":0},{"$f":"IF(T$1=0,0,IF(Configuration!$F$8=\"D\",$R$274,Table7[[#This Row],[Vo]]))","v":0},{"$f":"IF(U$1=0,0,IF(Configuration!$F$9=\"D\",$R$274,Table7[[#This Row],[Vo]]))","v":0},{"$f":"IF(V$1=0,0,IF(Configuration!$F$10=\"D\",$R$274,Table7[[#This Row],[Vo]]))","v":0},{"$f":"IF(W$1=0,0,IF(Configuration!$F$11=\"D\",$R$274,Table7[[#This Row],[Vo]]))","v":0},{"$f":"IF(X$1=0,0,IF(Configuration!$F$12=\"D\",$R$274,Table7[[#This Row],[Vo]]))","v":0},{"$f":"IF(Y$1=0,0,IF(Configuration!$F$13=\"D\",$R$274,Table7[[#This Row],[Vo]]))","v":0},{"$f":"IF(Z$1=0,0,IF(Configuration!$F$14=\"D\",$R$274,Table7[[#This Row],[Vo]]))","v":0},{"$f":"IF(AA$1=0,0,IF(Configuration!$F$15=\"D\",$R$274,Table7[[#This Row],[Vo]]))","v":0},{"$f":"IF(AB$1=0,0,IF(Configuration!$F$16=\"D\",$R$274,Table7[[#This Row],[Vo]]))","v":0},{"$f":"IF(AC$1=0,0,IF(Configuration!$F$17=\"D\",$R$274,Table7[[#This Row],[Vo]]))","v":0}]
[45.8,"NMS-240-48",5,{"$f":"Table2[[#This Row],[Output Voltage]]*Table2[[#This Row],[Module rated current]]","v":229},"K",{"$f":"IF(1200/Table2[[#This Row],[Module rated power]]>6,6,ROUNDDOWN(1200/Table2[[#This Row],[Module rated power]],0))","v":5},{"$f":"Table2[[#This Row],[Module rated power]]*Table2[[#This Row],[Available No. of Slot]]","v":1145},{"$f":"ROUNDDOWN(Table2[[#This Row],[Max power per output]]/Table2[[#This Row],[Output Voltage]],2)","v":25},null,null,null,null,null,null,null,null,null,47.5,{"$f":"IF(S$1=0,0,IF(Configuration!$F$7=\"D\",$R$274,Table7[[#This Row],[Vo]]))","v":0},{"$f":"IF(T$1=0,0,IF(Configuration!$F$8=\"D\",$R$274,Table7[[#This Row],[Vo]]))","v":0},{"$f":"IF(U$1=0,0,IF(Configuration!$F$9=\"D\",$R$274,Table7[[#This Row],[Vo]]))","v":0},{"$f":"IF(V$1=0,0,IF(Configuration!$F$10=\"D\",$R$274,Table7[[#This Row],[Vo]]))","v":0},{"$f":"IF(W$1=0,0,IF(Configuration!$F$11=\"D\",$R$274,Table7[[#This Row],[Vo]]))","v":0},{"$f":"IF(X$1=0,0,IF(Configuration!$F$12=\"D\",$R$274,Table7[[#This Row],[Vo]]))","v":0},{"$f":"IF(Y$1=0,0,IF(Configuration!$F$13=\"D\",$R$274,Table7[[#This Row],[Vo]]))","v":0},{"$f":"IF(Z$1=0,0,IF(Configuration!$F$14=\"D\",$R$274,Table7[[#This Row],[Vo]]))","v":0},{"$f":"IF(AA$1=0,0,IF(Configuration!$F$15=\"D\",$R$274,Table7[[#This Row],[Vo]]))","v":0},{"$f":"IF(AB$1=0,0,IF(Configuration!$F$16=\"D\",$R$274,Table7[[#This Row],[Vo]]))","v":0},{"$f":"IF(AC$1=0,0,IF(Configuration!$F$17=\"D\",$R$274,Table7[[#This Row],[Vo]]))","v":0}]
[45.9,"NMS-240-48",5,{"$f":"Table2[[#This Row],[Output Voltage]]*Table2[[#This Row],[Module rated current]]","v":229.5},"K",{"$f":"IF(1200/Table2[[#This Row],[Module rated power]]>6,6,ROUNDDOWN(1200/Table2[[#This Row],[Module rated power]],0))","v":5},{"$f":"Table2[[#This Row],[Module rated power]]*Table2[[#This Row],[Available No. of Slot]]","v":1147.5},{"$f":"ROUNDDOWN(Table2[[#This Row],[Max power per output]]/Table2[[#This Row],[Output Voltage]],2)","v":25},null,null,null,null,null,null,null,null,null,47.6,{"$f":"IF(S$1=0,0,IF(Configuration!$F$7=\"D\",$R$274,Table7[[#This Row],[Vo]]))","v":0},{"$f":"IF(T$1=0,0,IF(Configuration!$F$8=\"D\",$R$274,Table7[[#This Row],[Vo]]))","v":0},{"$f":"IF(U$1=0,0,IF(Configuration!$F$9=\"D\",$R$274,Table7[[#This Row],[Vo]]))","v":0},{"$f":"IF(V$1=0,0,IF(Configuration!$F$10=\"D\",$R$274,Table7[[#This Row],[Vo]]))","v":0},{"$f":"IF(W$1=0,0,IF(Configuration!$F$11=\"D\",$R$274,Table7[[#This Row],[Vo]]))","v":0},{"$f":"IF(X$1=0,0,IF(Configuration!$F$12=\"D\",$R$274,Table7[[#This Row],[Vo]]))","v":0},{"$f":"IF(Y$1=0,0,IF(Configuration!$F$13=\"D\",$R$274,Table7[[#This Row],[Vo]]))","v":0},{"$f":"IF(Z$1=0,0,IF(Configuration!$F$14=\"D\",$R$274,Table7[[#This Row],[Vo]]))","v":0},{"$f":"IF(AA$1=0,0,IF(Configuration!$F$15=\"D\",$R$274,Table7[[#This Row],[Vo]]))","v":0},{"$f":"IF(AB$1=0,0,IF(Configuration!$F$16=\"D\",$R$274,Table7[[#This Row],[Vo]]))","v":0},{"$f":"IF(AC$1=0,0,IF(Configuration!$F$17=\"D\",$R$274,Table7[[#This Row],[Vo]]))","v":0}]
[46,"NMS-240-48",5,{"$f":"Table2[[#This Row],[Output Voltage]]*Table2[[#This Row],[Module rated current]]","v":230},"K",{"$f":"IF(1200/Table2[[#This Row],[Module rated power]]>6,6,ROUNDDOWN(1200/Table2[[#This Row],[Module rated power]],0))","v":5},{"$f":"Table2[[#This Row],[Module rated power]]*Table2[[#This Row],[Available No. of Slot]]","v":1150},{"$f":"ROUNDDOWN(Table2[[#This Row],[Max power per output]]/Table2[[#This Row],[Output Voltage]],2)","v":25},null,null,null,null,null,null,null,null,null,47.7,{"$f":"IF(S$1=0,0,IF(Configuration!$F$7=\"D\",$R$274,Table7[[#This Row],[Vo]]))","v":0},{"$f":"IF(T$1=0,0,IF(Configuration!$F$8=\"D\",$R$274,Table7[[#This Row],[Vo]]))","v":0},{"$f":"IF(U$1=0,0,IF(Configuration!$F$9=\"D\",$R$274,Table7[[#This Row],[Vo]]))","v":0},{"$f":"IF(V$1=0,0,IF(Configuration!$F$10=\"D\",$R$274,Table7[[#This Row],[Vo]]))","v":0},{"$f":"IF(W$1=0,0,IF(Configuration!$F$11=\"D\",$R$274,Table7[[#This Row],[Vo]]))","v":0},{"$f":"IF(X$1=0,0,IF(Configuration!$F$12=\"D\",$R$274,Table7[[#This Row],[Vo]]))","v":0},{"$f":"IF(Y$1=0,0,IF(Configuration!$F$13=\"D\",$R$274,Table7[[#This Row],[Vo]]))","v":0},{"$f":"IF(Z$1=0,0,IF(Configuration!$F$14=\"D\",$R$274,Table7[[#This Row],[Vo]]))","v":0},{"$f":"IF(AA$1=0,0,IF(Configuration!$F$15=\"D\",$R$274,Table7[[#This Row],[Vo]]))","v":0},{"$f":"IF(AB$1=0,0,IF(Configuration!$F$16=\"D\",$R$274,Table7[[#This Row],[Vo]]))","v":0},{"$f":"IF(AC$1=0,0,IF(Configuration!$F$17=\"D\",$R$274,Table7[[#This Row],[Vo]]))","v":0}]
[46.1,"NMS-240-48",5,{"$f":"Table2[[#This Row],[Output Voltage]]*Table2[[#This Row],[Module rated current]]","v":230.5},"K",{"$f":"IF(1200/Table2[[#This Row],[Module rated power]]>6,6,ROUNDDOWN(1200/Table2[[#This Row],[Module rated power]],0))","v":5},{"$f":"Table2[[#This Row],[Module rated power]]*Table2[[#This Row],[Available No. of Slot]]","v":1152.5},{"$f":"ROUNDDOWN(Table2[[#This Row],[Max power per output]]/Table2[[#This Row],[Output Voltage]],2)","v":25},null,null,null,null,null,null,null,null,null,47.8,{"$f":"IF(S$1=0,0,IF(Configuration!$F$7=\"D\",$R$274,Table7[[#This Row],[Vo]]))","v":0},{"$f":"IF(T$1=0,0,IF(Configuration!$F$8=\"D\",$R$274,Table7[[#This Row],[Vo]]))","v":0},{"$f":"IF(U$1=0,0,IF(Configuration!$F$9=\"D\",$R$274,Table7[[#This Row],[Vo]]))","v":0},{"$f":"IF(V$1=0,0,IF(Configuration!$F$10=\"D\",$R$274,Table7[[#This Row],[Vo]]))","v":0},{"$f":"IF(W$1=0,0,IF(Configuration!$F$11=\"D\",$R$274,Table7[[#This Row],[Vo]]))","v":0},{"$f":"IF(X$1=0,0,IF(Configuration!$F$12=\"D\",$R$274,Table7[[#This Row],[Vo]]))","v":0},{"$f":"IF(Y$1=0,0,IF(Configuration!$F$13=\"D\",$R$274,Table7[[#This Row],[Vo]]))","v":0},{"$f":"IF(Z$1=0,0,IF(Configuration!$F$14=\"D\",$R$274,Table7[[#This Row],[Vo]]))","v":0},{"$f":"IF(AA$1=0,0,IF(Configuration!$F$15=\"D\",$R$274,Table7[[#This Row],[Vo]]))","v":0},{"$f":"IF(AB$1=0,0,IF(Configuration!$F$16=\"D\",$R$274,Table7[[#This Row],[Vo]]))","v":0},{"$f":"IF(AC$1=0,0,IF(Configuration!$F$17=\"D\",$R$274,Table7[[#This Row],[Vo]]))","v":0}]
[46.2,"NMS-240-48",5,{"$f":"Table2[[#This Row],[Output Voltage]]*Table2[[#This Row],[Module rated current]]","v":231},"K",{"$f":"IF(1200/Table2[[#This Row],[Module rated power]]>6,6,ROUNDDOWN(1200/Table2[[#This Row],[Module rated power]],0))","v":5},{"$f":"Table2[[#This Row],[Module rated power]]*Table2[[#This Row],[Available No. of Slot]]","v":1155},{"$f":"ROUNDDOWN(Table2[[#This Row],[Max power per output]]/Table2[[#This Row],[Output Voltage]],2)","v":25},null,null,null,null,null,null,null,null,null,47.9,{"$f":"IF(S$1=0,0,IF(Configuration!$F$7=\"D\",$R$274,Table7[[#This Row],[Vo]]))","v":0},{"$f":"IF(T$1=0,0,IF(Configuration!$F$8=\"D\",$R$274,Table7[[#This Row],[Vo]]))","v":0},{"$f":"IF(U$1=0,0,IF(Configuration!$F$9=\"D\",$R$274,Table7[[#This Row],[Vo]]))","v":0},{"$f":"IF(V$1=0,0,IF(Configuration!$F$10=\"D\",$R$274,Table7[[#This Row],[Vo]]))","v":0},{"$f":"IF(W$1=0,0,IF(Configuration!$F$11=\"D\",$R$274,Table7[[#This Row],[Vo]]))","v":0},{"$f":"IF(X$1=0,0,IF(Configuration!$F$12=\"D\",$R$274,Table7[[#This Row],[Vo]]))","v":0},{"$f":"IF(Y$1=0,0,IF(Configuration!$F$13=\"D\",$R$274,Table7[[#This Row],[Vo]]))","v":0},{"$f":"IF(Z$1=0,0,IF(Configuration!$F$14=\"D\",$R$274,Table7[[#This Row],[Vo]]))","v":0},{"$f":"IF(AA$1=0,0,IF(Configuration!$F$15=\"D\",$R$274,Table7[[#This Row],[Vo]]))","v":0},{"$f":"IF(AB$1=0,0,IF(Configuration!$F$16=\"D\",$R$274,Table7[[#This Row],[Vo]]))","v":0},{"$f":"IF(AC$1=0,0,IF(Configuration!$F$17=\"D\",$R$274,Table7[[#This Row],[Vo]]))","v":0}]
[46.3,"NMS-240-48",5,{"$f":"Table2[[#This Row],[Output Voltage]]*Table2[[#This Row],[Module rated current]]","v":231.5},"K",{"$f":"IF(1200/Table2[[#This Row],[Module rated power]]>6,6,ROUNDDOWN(1200/Table2[[#This Row],[Module rated power]],0))","v":5},{"$f":"Table2[[#This Row],[Module rated power]]*Table2[[#This Row],[Available No. of Slot]]","v":1157.5},{"$f":"ROUNDDOWN(Table2[[#This Row],[Max power per output]]/Table2[[#This Row],[Output Voltage]],2)","v":25},null,null,null,null,null,null,null,null,null,{"$f":"ROUNDUP(R453+0.1,1)","v":48},{"$f":"IF(S$1=0,0,IF(Configuration!$F$7=\"D\",$R$274,Table7[[#This Row],[Vo]]))","v":0},{"$f":"IF(T$1=0,0,IF(Configuration!$F$8=\"D\",$R$274,Table7[[#This Row],[Vo]]))","v":0},{"$f":"IF(U$1=0,0,IF(Configuration!$F$9=\"D\",$R$274,Table7[[#This Row],[Vo]]))","v":0},{"$f":"IF(V$1=0,0,IF(Configuration!$F$10=\"D\",$R$274,Table7[[#This Row],[Vo]]))","v":0},{"$f":"IF(W$1=0,0,IF(Configuration!$F$11=\"D\",$R$274,Table7[[#This Row],[Vo]]))","v":0},{"$f":"IF(X$1=0,0,IF(Configuration!$F$12=\"D\",$R$274,Table7[[#This Row],[Vo]]))","v":0},{"$f":"IF(Y$1=0,0,IF(Configuration!$F$13=\"D\",$R$274,Table7[[#This Row],[Vo]]))","v":0},{"$f":"IF(Z$1=0,0,IF(Configuration!$F$14=\"D\",$R$274,Table7[[#This Row],[Vo]]))","v":0},{"$f":"IF(AA$1=0,0,IF(Configuration!$F$15=\"D\",$R$274,Table7[[#This Row],[Vo]]))","v":0},{"$f":"IF(AB$1=0,0,IF(Configuration!$F$16=\"D\",$R$274,Table7[[#This Row],[Vo]]))","v":0},{"$f":"IF(AC$1=0,0,IF(Configuration!$F$17=\"D\",$R$274,Table7[[#This Row],[Vo]]))","v":0}]
[46.4,"NMS-240-48",5,{"$f":"Table2[[#This Row],[Output Voltage]]*Table2[[#This Row],[Module rated current]]","v":232},"K",{"$f":"IF(1200/Table2[[#This Row],[Module rated power]]>6,6,ROUNDDOWN(1200/Table2[[#This Row],[Module rated power]],0))","v":5},{"$f":"Table2[[#This Row],[Module rated power]]*Table2[[#This Row],[Available No. of Slot]]","v":1160},{"$f":"ROUNDDOWN(Table2[[#This Row],[Max power per output]]/Table2[[#This Row],[Output Voltage]],2)","v":25},null,null,null,null,null,null,null,null,null,48.1,{"$f":"IF(S$1=0,0,IF(Configuration!$F$7=\"D\",$R$274,Table7[[#This Row],[Vo]]))","v":0},{"$f":"IF(T$1=0,0,IF(Configuration!$F$8=\"D\",$R$274,Table7[[#This Row],[Vo]]))","v":0},{"$f":"IF(U$1=0,0,IF(Configuration!$F$9=\"D\",$R$274,Table7[[#This Row],[Vo]]))","v":0},{"$f":"IF(V$1=0,0,IF(Configuration!$F$10=\"D\",$R$274,Table7[[#This Row],[Vo]]))","v":0},{"$f":"IF(W$1=0,0,IF(Configuration!$F$11=\"D\",$R$274,Table7[[#This Row],[Vo]]))","v":0},{"$f":"IF(X$1=0,0,IF(Configuration!$F$12=\"D\",$R$274,Table7[[#This Row],[Vo]]))","v":0},{"$f":"IF(Y$1=0,0,IF(Configuration!$F$13=\"D\",$R$274,Table7[[#This Row],[Vo]]))","v":0},{"$f":"IF(Z$1=0,0,IF(Configuration!$F$14=\"D\",$R$274,Table7[[#This Row],[Vo]]))","v":0},{"$f":"IF(AA$1=0,0,IF(Configuration!$F$15=\"D\",$R$274,Table7[[#This Row],[Vo]]))","v":0},{"$f":"IF(AB$1=0,0,IF(Configuration!$F$16=\"D\",$R$274,Table7[[#This Row],[Vo]]))","v":0},{"$f":"IF(AC$1=0,0,IF(Configuration!$F$17=\"D\",$R$274,Table7[[#This Row],[Vo]]))","v":0}]
[46.5,"NMS-240-48",5,{"$f":"Table2[[#This Row],[Output Voltage]]*Table2[[#This Row],[Module rated current]]","v":232.5},"K",{"$f":"IF(1200/Table2[[#This Row],[Module rated power]]>6,6,ROUNDDOWN(1200/Table2[[#This Row],[Module rated power]],0))","v":5},{"$f":"Table2[[#This Row],[Module rated power]]*Table2[[#This Row],[Available No. of Slot]]","v":1162.5},{"$f":"ROUNDDOWN(Table2[[#This Row],[Max power per output]]/Table2[[#This Row],[Output Voltage]],2)","v":25},null,null,null,null,null,null,null,null,null,48.2,{"$f":"IF(S$1=0,0,IF(Configuration!$F$7=\"D\",$R$274,Table7[[#This Row],[Vo]]))","v":0},{"$f":"IF(T$1=0,0,IF(Configuration!$F$8=\"D\",$R$274,Table7[[#This Row],[Vo]]))","v":0},{"$f":"IF(U$1=0,0,IF(Configuration!$F$9=\"D\",$R$274,Table7[[#This Row],[Vo]]))","v":0},{"$f":"IF(V$1=0,0,IF(Configuration!$F$10=\"D\",$R$274,Table7[[#This Row],[Vo]]))","v":0},{"$f":"IF(W$1=0,0,IF(Configuration!$F$11=\"D\",$R$274,Table7[[#This Row],[Vo]]))","v":0},{"$f":"IF(X$1=0,0,IF(Configuration!$F$12=\"D\",$R$274,Table7[[#This Row],[Vo]]))","v":0},{"$f":"IF(Y$1=0,0,IF(Configuration!$F$13=\"D\",$R$274,Table7[[#This Row],[Vo]]))","v":0},{"$f":"IF(Z$1=0,0,IF(Configuration!$F$14=\"D\",$R$274,Table7[[#This Row],[Vo]]))","v":0},{"$f":"IF(AA$1=0,0,IF(Configuration!$F$15=\"D\",$R$274,Table7[[#This Row],[Vo]]))","v":0},{"$f":"IF(AB$1=0,0,IF(Configuration!$F$16=\"D\",$R$274,Table7[[#This Row],[Vo]]))","v":0},{"$f":"IF(AC$1=0,0,IF(Configuration!$F$17=\"D\",$R$274,Table7[[#This Row],[Vo]]))","v":0}]
[46.6,"NMS-240-48",5,{"$f":"Table2[[#This Row],[Output Voltage]]*Table2[[#This Row],[Module rated current]]","v":233},"K",{"$f":"IF(1200/Table2[[#This Row],[Module rated power]]>6,6,ROUNDDOWN(1200/Table2[[#This Row],[Module rated power]],0))","v":5},{"$f":"Table2[[#This Row],[Module rated power]]*Table2[[#This Row],[Available No. of Slot]]","v":1165},{"$f":"ROUNDDOWN(Table2[[#This Row],[Max power per output]]/Table2[[#This Row],[Output Voltage]],2)","v":25},null,null,null,null,null,null,null,null,null,48.3,{"$f":"IF(S$1=0,0,IF(Configuration!$F$7=\"D\",$R$274,Table7[[#This Row],[Vo]]))","v":0},{"$f":"IF(T$1=0,0,IF(Configuration!$F$8=\"D\",$R$274,Table7[[#This Row],[Vo]]))","v":0},{"$f":"IF(U$1=0,0,IF(Configuration!$F$9=\"D\",$R$274,Table7[[#This Row],[Vo]]))","v":0},{"$f":"IF(V$1=0,0,IF(Configuration!$F$10=\"D\",$R$274,Table7[[#This Row],[Vo]]))","v":0},{"$f":"IF(W$1=0,0,IF(Configuration!$F$11=\"D\",$R$274,Table7[[#This Row],[Vo]]))","v":0},{"$f":"IF(X$1=0,0,IF(Configuration!$F$12=\"D\",$R$274,Table7[[#This Row],[Vo]]))","v":0},{"$f":"IF(Y$1=0,0,IF(Configuration!$F$13=\"D\",$R$274,Table7[[#This Row],[Vo]]))","v":0},{"$f":"IF(Z$1=0,0,IF(Configuration!$F$14=\"D\",$R$274,Table7[[#This Row],[Vo]]))","v":0},{"$f":"IF(AA$1=0,0,IF(Configuration!$F$15=\"D\",$R$274,Table7[[#This Row],[Vo]]))","v":0},{"$f":"IF(AB$1=0,0,IF(Configuration!$F$16=\"D\",$R$274,Table7[[#This Row],[Vo]]))","v":0},{"$f":"IF(AC$1=0,0,IF(Configuration!$F$17=\"D\",$R$274,Table7[[#This Row],[Vo]]))","v":0}]
[46.7,"NMS-240-48",5,{"$f":"Table2[[#This Row],[Output Voltage]]*Table2[[#This Row],[Module rated current]]","v":233.5},"K",{"$f":"IF(1200/Table2[[#This Row],[Module rated power]]>6,6,ROUNDDOWN(1200/Table2[[#This Row],[Module rated power]],0))","v":5},{"$f":"Table2[[#This Row],[Module rated power]]*Table2[[#This Row],[Available No. of Slot]]","v":1167.5},{"$f":"ROUNDDOWN(Table2[[#This Row],[Max power per output]]/Table2[[#This Row],[Output Voltage]],2)","v":25},null,null,null,null,null,null,null,null,null,48.4,{"$f":"IF(S$1=0,0,IF(Configuration!$F$7=\"D\",$R$274,Table7[[#This Row],[Vo]]))","v":0},{"$f":"IF(T$1=0,0,IF(Configuration!$F$8=\"D\",$R$274,Table7[[#This Row],[Vo]]))","v":0},{"$f":"IF(U$1=0,0,IF(Configuration!$F$9=\"D\",$R$274,Table7[[#This Row],[Vo]]))","v":0},{"$f":"IF(V$1=0,0,IF(Configuration!$F$10=\"D\",$R$274,Table7[[#This Row],[Vo]]))","v":0},{"$f":"IF(W$1=0,0,IF(Configuration!$F$11=\"D\",$R$274,Table7[[#This Row],[Vo]]))","v":0},{"$f":"IF(X$1=0,0,IF(Configuration!$F$12=\"D\",$R$274,Table7[[#This Row],[Vo]]))","v":0},{"$f":"IF(Y$1=0,0,IF(Configuration!$F$13=\"D\",$R$274,Table7[[#This Row],[Vo]]))","v":0},{"$f":"IF(Z$1=0,0,IF(Configuration!$F$14=\"D\",$R$274,Table7[[#This Row],[Vo]]))","v":0},{"$f":"IF(AA$1=0,0,IF(Configuration!$F$15=\"D\",$R$274,Table7[[#This Row],[Vo]]))","v":0},{"$f":"IF(AB$1=0,0,IF(Configuration!$F$16=\"D\",$R$274,Table7[[#This Row],[Vo]]))","v":0},{"$f":"IF(AC$1=0,0,IF(Configuration!$F$17=\"D\",$R$274,Table7[[#This Row],[Vo]]))","v":0}]
[46.8,"NMS-240-48",5,{"$f":"Table2[[#This Row],[Output Voltage]]*Table2[[#This Row],[Module rated current]]","v":234},"K",{"$f":"IF(1200/Table2[[#This Row],[Module rated power]]>6,6,ROUNDDOWN(1200/Table2[[#This Row],[Module rated power]],0))","v":5},{"$f":"Table2[[#This Row],[Module rated power]]*Table2[[#This Row],[Available No. of Slot]]","v":1170},{"$f":"ROUNDDOWN(Table2[[#This Row],[Max power per output]]/Table2[[#This Row],[Output Voltage]],2)","v":25},null,null,null,null,null,null,null,null,null,48.5,{"$f":"IF(S$1=0,0,IF(Configuration!$F$7=\"D\",$R$274,Table7[[#This Row],[Vo]]))","v":0},{"$f":"IF(T$1=0,0,IF(Configuration!$F$8=\"D\",$R$274,Table7[[#This Row],[Vo]]))","v":0},{"$f":"IF(U$1=0,0,IF(Configuration!$F$9=\"D\",$R$274,Table7[[#This Row],[Vo]]))","v":0},{"$f":"IF(V$1=0,0,IF(Configuration!$F$10=\"D\",$R$274,Table7[[#This Row],[Vo]]))","v":0},{"$f":"IF(W$1=0,0,IF(Configuration!$F$11=\"D\",$R$274,Table7[[#This Row],[Vo]]))","v":0},{"$f":"IF(X$1=0,0,IF(Configuration!$F$12=\"D\",$R$274,Table7[[#This Row],[Vo]]))","v":0},{"$f":"IF(Y$1=0,0,IF(Configuration!$F$13=\"D\",$R$274,Table7[[#This Row],[Vo]]))","v":0},{"$f":"IF(Z$1=0,0,IF(Configuration!$F$14=\"D\",$R$274,Table7[[#This Row],[Vo]]))","v":0},{"$f":"IF(AA$1=0,0,IF(Configuration!$F$15=\"D\",$R$274,Table7[[#This Row],[Vo]]))","v":0},{"$f":"IF(AB$1=0,0,IF(Configuration!$F$16=\"D\",$R$274,Table7[[#This Row],[Vo]]))","v":0},{"$f":"IF(AC$1=0,0,IF(Configuration!$F$17=\"D\",$R$274,Table7[[#This Row],[Vo]]))","v":0}]
[46.9,"NMS-240-48",5,{"$f":"Table2[[#This Row],[Output Voltage]]*Table2[[#This Row],[Module rated current]]","v":234.5},"K",{"$f":"IF(1200/Table2[[#This Row],[Module rated power]]>6,6,ROUNDDOWN(1200/Table2[[#This Row],[Module rated power]],0))","v":5},{"$f":"Table2[[#This Row],[Module rated power]]*Table2[[#This Row],[Available No. of Slot]]","v":1172.5},{"$f":"ROUNDDOWN(Table2[[#This Row],[Max power per output]]/Table2[[#This Row],[Output Voltage]],2)","v":25},null,null,null,null,null,null,null,null,null,48.6,{"$f":"IF(S$1=0,0,IF(Configuration!$F$7=\"D\",$R$274,Table7[[#This Row],[Vo]]))","v":0},{"$f":"IF(T$1=0,0,IF(Configuration!$F$8=\"D\",$R$274,Table7[[#This Row],[Vo]]))","v":0},{"$f":"IF(U$1=0,0,IF(Configuration!$F$9=\"D\",$R$274,Table7[[#This Row],[Vo]]))","v":0},{"$f":"IF(V$1=0,0,IF(Configuration!$F$10=\"D\",$R$274,Table7[[#This Row],[Vo]]))","v":0},{"$f":"IF(W$1=0,0,IF(Configuration!$F$11=\"D\",$R$274,Table7[[#This Row],[Vo]]))","v":0},{"$f":"IF(X$1=0,0,IF(Configuration!$F$12=\"D\",$R$274,Table7[[#This Row],[Vo]]))","v":0},{"$f":"IF(Y$1=0,0,IF(Configuration!$F$13=\"D\",$R$274,Table7[[#This Row],[Vo]]))","v":0},{"$f":"IF(Z$1=0,0,IF(Configuration!$F$14=\"D\",$R$274,Table7[[#This Row],[Vo]]))","v":0},{"$f":"IF(AA$1=0,0,IF(Configuration!$F$15=\"D\",$R$274,Table7[[#This Row],[Vo]]))","v":0},{"$f":"IF(AB$1=0,0,IF(Configuration!$F$16=\"D\",$R$274,Table7[[#This Row],[Vo]]))","v":0},{"$f":"IF(AC$1=0,0,IF(Configuration!$F$17=\"D\",$R$274,Table7[[#This Row],[Vo]]))","v":0}]
[47,"NMS-240-48",5,{"$f":"Table2[[#This Row],[Output Voltage]]*Table2[[#This Row],[Module rated current]]","v":235},"K",{"$f":"IF(1200/Table2[[#This Row],[Module rated power]]>6,6,ROUNDDOWN(1200/Table2[[#This Row],[Module rated power]],0))","v":5},{"$f":"Table2[[#This Row],[Module rated power]]*Table2[[#This Row],[Available No. of Slot]]","v":1175},{"$f":"ROUNDDOWN(Table2[[#This Row],[Max power per output]]/Table2[[#This Row],[Output Voltage]],2)","v":25},null,null,null,null,null,null,null,null,null,48.7,{"$f":"IF(S$1=0,0,IF(Configuration!$F$7=\"D\",$R$274,Table7[[#This Row],[Vo]]))","v":0},{"$f":"IF(T$1=0,0,IF(Configuration!$F$8=\"D\",$R$274,Table7[[#This Row],[Vo]]))","v":0},{"$f":"IF(U$1=0,0,IF(Configuration!$F$9=\"D\",$R$274,Table7[[#This Row],[Vo]]))","v":0},{"$f":"IF(V$1=0,0,IF(Configuration!$F$10=\"D\",$R$274,Table7[[#This Row],[Vo]]))","v":0},{"$f":"IF(W$1=0,0,IF(Configuration!$F$11=\"D\",$R$274,Table7[[#This Row],[Vo]]))","v":0},{"$f":"IF(X$1=0,0,IF(Configuration!$F$12=\"D\",$R$274,Table7[[#This Row],[Vo]]))","v":0},{"$f":"IF(Y$1=0,0,IF(Configuration!$F$13=\"D\",$R$274,Table7[[#This Row],[Vo]]))","v":0},{"$f":"IF(Z$1=0,0,IF(Configuration!$F$14=\"D\",$R$274,Table7[[#This Row],[Vo]]))","v":0},{"$f":"IF(AA$1=0,0,IF(Configuration!$F$15=\"D\",$R$274,Table7[[#This Row],[Vo]]))","v":0},{"$f":"IF(AB$1=0,0,IF(Configuration!$F$16=\"D\",$R$274,Table7[[#This Row],[Vo]]))","v":0},{"$f":"IF(AC$1=0,0,IF(Configuration!$F$17=\"D\",$R$274,Table7[[#This Row],[Vo]]))","v":0}]
[47.1,"NMS-240-48",5,{"$f":"Table2[[#This Row],[Output Voltage]]*Table2[[#This Row],[Module rated current]]","v":235.5},"K",{"$f":"IF(1200/Table2[[#This Row],[Module rated power]]>6,6,ROUNDDOWN(1200/Table2[[#This Row],[Module rated power]],0))","v":5},{"$f":"Table2[[#This Row],[Module rated power]]*Table2[[#This Row],[Available No. of Slot]]","v":1177.5},{"$f":"ROUNDDOWN(Table2[[#This Row],[Max power per output]]/Table2[[#This Row],[Output Voltage]],2)","v":25},null,null,null,null,null,null,null,null,null,48.8,{"$f":"IF(S$1=0,0,IF(Configuration!$F$7=\"D\",$R$274,Table7[[#This Row],[Vo]]))","v":0},{"$f":"IF(T$1=0,0,IF(Configuration!$F$8=\"D\",$R$274,Table7[[#This Row],[Vo]]))","v":0},{"$f":"IF(U$1=0,0,IF(Configuration!$F$9=\"D\",$R$274,Table7[[#This Row],[Vo]]))","v":0},{"$f":"IF(V$1=0,0,IF(Configuration!$F$10=\"D\",$R$274,Table7[[#This Row],[Vo]]))","v":0},{"$f":"IF(W$1=0,0,IF(Configuration!$F$11=\"D\",$R$274,Table7[[#This Row],[Vo]]))","v":0},{"$f":"IF(X$1=0,0,IF(Configuration!$F$12=\"D\",$R$274,Table7[[#This Row],[Vo]]))","v":0},{"$f":"IF(Y$1=0,0,IF(Configuration!$F$13=\"D\",$R$274,Table7[[#This Row],[Vo]]))","v":0},{"$f":"IF(Z$1=0,0,IF(Configuration!$F$14=\"D\",$R$274,Table7[[#This Row],[Vo]]))","v":0},{"$f":"IF(AA$1=0,0,IF(Configuration!$F$15=\"D\",$R$274,Table7[[#This Row],[Vo]]))","v":0},{"$f":"IF(AB$1=0,0,IF(Configuration!$F$16=\"D\",$R$274,Table7[[#This Row],[Vo]]))","v":0},{"$f":"IF(AC$1=0,0,IF(Configuration!$F$17=\"D\",$R$274,Table7[[#This Row],[Vo]]))","v":0}]
[47.2,"NMS-240-48",5,{"$f":"Table2[[#This Row],[Output Voltage]]*Table2[[#This Row],[Module rated current]]","v":236},"K",{"$f":"IF(1200/Table2[[#This Row],[Module rated power]]>6,6,ROUNDDOWN(1200/Table2[[#This Row],[Module rated power]],0))","v":5},{"$f":"Table2[[#This Row],[Module rated power]]*Table2[[#This Row],[Available No. of Slot]]","v":1180},{"$f":"ROUNDDOWN(Table2[[#This Row],[Max power per output]]/Table2[[#This Row],[Output Voltage]],2)","v":25},null,null,null,null,null,null,null,null,null,48.9,{"$f":"IF(S$1=0,0,IF(Configuration!$F$7=\"D\",$R$274,Table7[[#This Row],[Vo]]))","v":0},{"$f":"IF(T$1=0,0,IF(Configuration!$F$8=\"D\",$R$274,Table7[[#This Row],[Vo]]))","v":0},{"$f":"IF(U$1=0,0,IF(Configuration!$F$9=\"D\",$R$274,Table7[[#This Row],[Vo]]))","v":0},{"$f":"IF(V$1=0,0,IF(Configuration!$F$10=\"D\",$R$274,Table7[[#This Row],[Vo]]))","v":0},{"$f":"IF(W$1=0,0,IF(Configuration!$F$11=\"D\",$R$274,Table7[[#This Row],[Vo]]))","v":0},{"$f":"IF(X$1=0,0,IF(Configuration!$F$12=\"D\",$R$274,Table7[[#This Row],[Vo]]))","v":0},{"$f":"IF(Y$1=0,0,IF(Configuration!$F$13=\"D\",$R$274,Table7[[#This Row],[Vo]]))","v":0},{"$f":"IF(Z$1=0,0,IF(Configuration!$F$14=\"D\",$R$274,Table7[[#This Row],[Vo]]))","v":0},{"$f":"IF(AA$1=0,0,IF(Configuration!$F$15=\"D\",$R$274,Table7[[#This Row],[Vo]]))","v":0},{"$f":"IF(AB$1=0,0,IF(Configuration!$F$16=\"D\",$R$274,Table7[[#This Row],[Vo]]))","v":0},{"$f":"IF(AC$1=0,0,IF(Configuration!$F$17=\"D\",$R$274,Table7[[#This Row],[Vo]]))","v":0}]
[47.3,"NMS-240-48",5,{"$f":"Table2[[#This Row],[Output Voltage]]*Table2[[#This Row],[Module rated current]]","v":236.5},"K",{"$f":"IF(1200/Table2[[#This Row],[Module rated power]]>6,6,ROUNDDOWN(1200/Table2[[#This Row],[Module rated power]],0))","v":5},{"$f":"Table2[[#This Row],[Module rated power]]*Table2[[#This Row],[Available No. of Slot]]","v":1182.5},{"$f":"ROUNDDOWN(Table2[[#This Row],[Max power per output]]/Table2[[#This Row],[Output Voltage]],2)","v":25},null,null,null,null,null,null,null,null,null,49,{"$f":"IF(S$1=0,0,IF(Configuration!$F$7=\"D\",$R$274,Table7[[#This Row],[Vo]]))","v":0},{"$f":"IF(T$1=0,0,IF(Configuration!$F$8=\"D\",$R$274,Table7[[#This Row],[Vo]]))","v":0},{"$f":"IF(U$1=0,0,IF(Configuration!$F$9=\"D\",$R$274,Table7[[#This Row],[Vo]]))","v":0},{"$f":"IF(V$1=0,0,IF(Configuration!$F$10=\"D\",$R$274,Table7[[#This Row],[Vo]]))","v":0},{"$f":"IF(W$1=0,0,IF(Configuration!$F$11=\"D\",$R$274,Table7[[#This Row],[Vo]]))","v":0},{"$f":"IF(X$1=0,0,IF(Configuration!$F$12=\"D\",$R$274,Table7[[#This Row],[Vo]]))","v":0},{"$f":"IF(Y$1=0,0,IF(Configuration!$F$13=\"D\",$R$274,Table7[[#This Row],[Vo]]))","v":0},{"$f":"IF(Z$1=0,0,IF(Configuration!$F$14=\"D\",$R$274,Table7[[#This Row],[Vo]]))","v":0},{"$f":"IF(AA$1=0,0,IF(Configuration!$F$15=\"D\",$R$274,Table7[[#This Row],[Vo]]))","v":0},{"$f":"IF(AB$1=0,0,IF(Configuration!$F$16=\"D\",$R$274,Table7[[#This Row],[Vo]]))","v":0},{"$f":"IF(AC$1=0,0,IF(Configuration!$F$17=\"D\",$R$274,Table7[[#This Row],[Vo]]))","v":0}]
[47.4,"NMS-240-48",5,{"$f":"Table2[[#This Row],[Output Voltage]]*Table2[[#This Row],[Module rated current]]","v":237},"K",{"$f":"IF(1200/Table2[[#This Row],[Module rated power]]>6,6,ROUNDDOWN(1200/Table2[[#This Row],[Module rated power]],0))","v":5},{"$f":"Table2[[#This Row],[Module rated power]]*Table2[[#This Row],[Available No. of Slot]]","v":1185},{"$f":"ROUNDDOWN(Table2[[#This Row],[Max power per output]]/Table2[[#This Row],[Output Voltage]],2)","v":25},null,null,null,null,null,null,null,null,null,49.1,{"$f":"IF(S$1=0,0,IF(Configuration!$F$7=\"D\",$R$274,Table7[[#This Row],[Vo]]))","v":0},{"$f":"IF(T$1=0,0,IF(Configuration!$F$8=\"D\",$R$274,Table7[[#This Row],[Vo]]))","v":0},{"$f":"IF(U$1=0,0,IF(Configuration!$F$9=\"D\",$R$274,Table7[[#This Row],[Vo]]))","v":0},{"$f":"IF(V$1=0,0,IF(Configuration!$F$10=\"D\",$R$274,Table7[[#This Row],[Vo]]))","v":0},{"$f":"IF(W$1=0,0,IF(Configuration!$F$11=\"D\",$R$274,Table7[[#This Row],[Vo]]))","v":0},{"$f":"IF(X$1=0,0,IF(Configuration!$F$12=\"D\",$R$274,Table7[[#This Row],[Vo]]))","v":0},{"$f":"IF(Y$1=0,0,IF(Configuration!$F$13=\"D\",$R$274,Table7[[#This Row],[Vo]]))","v":0},{"$f":"IF(Z$1=0,0,IF(Configuration!$F$14=\"D\",$R$274,Table7[[#This Row],[Vo]]))","v":0},{"$f":"IF(AA$1=0,0,IF(Configuration!$F$15=\"D\",$R$274,Table7[[#This Row],[Vo]]))","v":0},{"$f":"IF(AB$1=0,0,IF(Configuration!$F$16=\"D\",$R$274,Table7[[#This Row],[Vo]]))","v":0},{"$f":"IF(AC$1=0,0,IF(Configuration!$F$17=\"D\",$R$274,Table7[[#This Row],[Vo]]))","v":0}]
[47.5,"NMS-240-48",5,{"$f":"Table2[[#This Row],[Output Voltage]]*Table2[[#This Row],[Module rated current]]","v":237.5},"K",{"$f":"IF(1200/Table2[[#This Row],[Module rated power]]>6,6,ROUNDDOWN(1200/Table2[[#This Row],[Module rated power]],0))","v":5},{"$f":"Table2[[#This Row],[Module rated power]]*Table2[[#This Row],[Available No. of Slot]]","v":1187.5},{"$f":"ROUNDDOWN(Table2[[#This Row],[Max power per output]]/Table2[[#This Row],[Output Voltage]],2)","v":25},null,null,null,null,null,null,null,null,null,49.2,{"$f":"IF(S$1=0,0,IF(Configuration!$F$7=\"D\",$R$274,Table7[[#This Row],[Vo]]))","v":0},{"$f":"IF(T$1=0,0,IF(Configuration!$F$8=\"D\",$R$274,Table7[[#This Row],[Vo]]))","v":0},{"$f":"IF(U$1=0,0,IF(Configuration!$F$9=\"D\",$R$274,Table7[[#This Row],[Vo]]))","v":0},{"$f":"IF(V$1=0,0,IF(Configuration!$F$10=\"D\",$R$274,Table7[[#This Row],[Vo]]))","v":0},{"$f":"IF(W$1=0,0,IF(Configuration!$F$11=\"D\",$R$274,Table7[[#This Row],[Vo]]))","v":0},{"$f":"IF(X$1=0,0,IF(Configuration!$F$12=\"D\",$R$274,Table7[[#This Row],[Vo]]))","v":0},{"$f":"IF(Y$1=0,0,IF(Configuration!$F$13=\"D\",$R$274,Table7[[#This Row],[Vo]]))","v":0},{"$f":"IF(Z$1=0,0,IF(Configuration!$F$14=\"D\",$R$274,Table7[[#This Row],[Vo]]))","v":0},{"$f":"IF(AA$1=0,0,IF(Configuration!$F$15=\"D\",$R$274,Table7[[#This Row],[Vo]]))","v":0},{"$f":"IF(AB$1=0,0,IF(Configuration!$F$16=\"D\",$R$274,Table7[[#This Row],[Vo]]))","v":0},{"$f":"IF(AC$1=0,0,IF(Configuration!$F$17=\"D\",$R$274,Table7[[#This Row],[Vo]]))","v":0}]
[47.6,"NMS-240-48",5,{"$f":"Table2[[#This Row],[Output Voltage]]*Table2[[#This Row],[Module rated current]]","v":238},"K",{"$f":"IF(1200/Table2[[#This Row],[Module rated power]]>6,6,ROUNDDOWN(1200/Table2[[#This Row],[Module rated power]],0))","v":5},{"$f":"Table2[[#This Row],[Module rated power]]*Table2[[#This Row],[Available No. of Slot]]","v":1190},{"$f":"ROUNDDOWN(Table2[[#This Row],[Max power per output]]/Table2[[#This Row],[Output Voltage]],2)","v":25},null,null,null,null,null,null,null,null,null,49.3,{"$f":"IF(S$1=0,0,IF(Configuration!$F$7=\"D\",$R$274,Table7[[#This Row],[Vo]]))","v":0},{"$f":"IF(T$1=0,0,IF(Configuration!$F$8=\"D\",$R$274,Table7[[#This Row],[Vo]]))","v":0},{"$f":"IF(U$1=0,0,IF(Configuration!$F$9=\"D\",$R$274,Table7[[#This Row],[Vo]]))","v":0},{"$f":"IF(V$1=0,0,IF(Configuration!$F$10=\"D\",$R$274,Table7[[#This Row],[Vo]]))","v":0},{"$f":"IF(W$1=0,0,IF(Configuration!$F$11=\"D\",$R$274,Table7[[#This Row],[Vo]]))","v":0},{"$f":"IF(X$1=0,0,IF(Configuration!$F$12=\"D\",$R$274,Table7[[#This Row],[Vo]]))","v":0},{"$f":"IF(Y$1=0,0,IF(Configuration!$F$13=\"D\",$R$274,Table7[[#This Row],[Vo]]))","v":0},{"$f":"IF(Z$1=0,0,IF(Configuration!$F$14=\"D\",$R$274,Table7[[#This Row],[Vo]]))","v":0},{"$f":"IF(AA$1=0,0,IF(Configuration!$F$15=\"D\",$R$274,Table7[[#This Row],[Vo]]))","v":0},{"$f":"IF(AB$1=0,0,IF(Configuration!$F$16=\"D\",$R$274,Table7[[#This Row],[Vo]]))","v":0},{"$f":"IF(AC$1=0,0,IF(Configuration!$F$17=\"D\",$R$274,Table7[[#This Row],[Vo]]))","v":0}]
[47.7,"NMS-240-48",5,{"$f":"Table2[[#This Row],[Output Voltage]]*Table2[[#This Row],[Module rated current]]","v":238.5},"K",{"$f":"IF(1200/Table2[[#This Row],[Module rated power]]>6,6,ROUNDDOWN(1200/Table2[[#This Row],[Module rated power]],0))","v":5},{"$f":"Table2[[#This Row],[Module rated power]]*Table2[[#This Row],[Available No. of Slot]]","v":1192.5},{"$f":"ROUNDDOWN(Table2[[#This Row],[Max power per output]]/Table2[[#This Row],[Output Voltage]],2)","v":25},null,null,null,null,null,null,null,null,null,49.4,{"$f":"IF(S$1=0,0,IF(Configuration!$F$7=\"D\",$R$274,Table7[[#This Row],[Vo]]))","v":0},{"$f":"IF(T$1=0,0,IF(Configuration!$F$8=\"D\",$R$274,Table7[[#This Row],[Vo]]))","v":0},{"$f":"IF(U$1=0,0,IF(Configuration!$F$9=\"D\",$R$274,Table7[[#This Row],[Vo]]))","v":0},{"$f":"IF(V$1=0,0,IF(Configuration!$F$10=\"D\",$R$274,Table7[[#This Row],[Vo]]))","v":0},{"$f":"IF(W$1=0,0,IF(Configuration!$F$11=\"D\",$R$274,Table7[[#This Row],[Vo]]))","v":0},{"$f":"IF(X$1=0,0,IF(Configuration!$F$12=\"D\",$R$274,Table7[[#This Row],[Vo]]))","v":0},{"$f":"IF(Y$1=0,0,IF(Configuration!$F$13=\"D\",$R$274,Table7[[#This Row],[Vo]]))","v":0},{"$f":"IF(Z$1=0,0,IF(Configuration!$F$14=\"D\",$R$274,Table7[[#This Row],[Vo]]))","v":0},{"$f":"IF(AA$1=0,0,IF(Configuration!$F$15=\"D\",$R$274,Table7[[#This Row],[Vo]]))","v":0},{"$f":"IF(AB$1=0,0,IF(Configuration!$F$16=\"D\",$R$274,Table7[[#This Row],[Vo]]))","v":0},{"$f":"IF(AC$1=0,0,IF(Configuration!$F$17=\"D\",$R$274,Table7[[#This Row],[Vo]]))","v":0}]
[47.8,"NMS-240-48",5,{"$f":"Table2[[#This Row],[Output Voltage]]*Table2[[#This Row],[Module rated current]]","v":239},"K",{"$f":"IF(1200/Table2[[#This Row],[Module rated power]]>6,6,ROUNDDOWN(1200/Table2[[#This Row],[Module rated power]],0))","v":5},{"$f":"Table2[[#This Row],[Module rated power]]*Table2[[#This Row],[Available No. of Slot]]","v":1195},{"$f":"ROUNDDOWN(Table2[[#This Row],[Max power per output]]/Table2[[#This Row],[Output Voltage]],2)","v":25},null,null,null,null,null,null,null,null,null,49.5,{"$f":"IF(S$1=0,0,IF(Configuration!$F$7=\"D\",$R$274,Table7[[#This Row],[Vo]]))","v":0},{"$f":"IF(T$1=0,0,IF(Configuration!$F$8=\"D\",$R$274,Table7[[#This Row],[Vo]]))","v":0},{"$f":"IF(U$1=0,0,IF(Configuration!$F$9=\"D\",$R$274,Table7[[#This Row],[Vo]]))","v":0},{"$f":"IF(V$1=0,0,IF(Configuration!$F$10=\"D\",$R$274,Table7[[#This Row],[Vo]]))","v":0},{"$f":"IF(W$1=0,0,IF(Configuration!$F$11=\"D\",$R$274,Table7[[#This Row],[Vo]]))","v":0},{"$f":"IF(X$1=0,0,IF(Configuration!$F$12=\"D\",$R$274,Table7[[#This Row],[Vo]]))","v":0},{"$f":"IF(Y$1=0,0,IF(Configuration!$F$13=\"D\",$R$274,Table7[[#This Row],[Vo]]))","v":0},{"$f":"IF(Z$1=0,0,IF(Configuration!$F$14=\"D\",$R$274,Table7[[#This Row],[Vo]]))","v":0},{"$f":"IF(AA$1=0,0,IF(Configuration!$F$15=\"D\",$R$274,Table7[[#This Row],[Vo]]))","v":0},{"$f":"IF(AB$1=0,0,IF(Configuration!$F$16=\"D\",$R$274,Table7[[#This Row],[Vo]]))","v":0},{"$f":"IF(AC$1=0,0,IF(Configuration!$F$17=\"D\",$R$274,Table7[[#This Row],[Vo]]))","v":0}]
[47.9,"NMS-240-48",5,{"$f":"Table2[[#This Row],[Output Voltage]]*Table2[[#This Row],[Module rated current]]","v":239.5},"K",{"$f":"IF(1200/Table2[[#This Row],[Module rated power]]>6,6,ROUNDDOWN(1200/Table2[[#This Row],[Module rated power]],0))","v":5},{"$f":"Table2[[#This Row],[Module rated power]]*Table2[[#This Row],[Available No. of Slot]]","v":1197.5},{"$f":"ROUNDDOWN(Table2[[#This Row],[Max power per output]]/Table2[[#This Row],[Output Voltage]],2)","v":25},null,null,null,null,null,null,null,null,null,49.6,{"$f":"IF(S$1=0,0,IF(Configuration!$F$7=\"D\",$R$274,Table7[[#This Row],[Vo]]))","v":0},{"$f":"IF(T$1=0,0,IF(Configuration!$F$8=\"D\",$R$274,Table7[[#This Row],[Vo]]))","v":0},{"$f":"IF(U$1=0,0,IF(Configuration!$F$9=\"D\",$R$274,Table7[[#This Row],[Vo]]))","v":0},{"$f":"IF(V$1=0,0,IF(Configuration!$F$10=\"D\",$R$274,Table7[[#This Row],[Vo]]))","v":0},{"$f":"IF(W$1=0,0,IF(Configuration!$F$11=\"D\",$R$274,Table7[[#This Row],[Vo]]))","v":0},{"$f":"IF(X$1=0,0,IF(Configuration!$F$12=\"D\",$R$274,Table7[[#This Row],[Vo]]))","v":0},{"$f":"IF(Y$1=0,0,IF(Configuration!$F$13=\"D\",$R$274,Table7[[#This Row],[Vo]]))","v":0},{"$f":"IF(Z$1=0,0,IF(Configuration!$F$14=\"D\",$R$274,Table7[[#This Row],[Vo]]))","v":0},{"$f":"IF(AA$1=0,0,IF(Configuration!$F$15=\"D\",$R$274,Table7[[#This Row],[Vo]]))","v":0},{"$f":"IF(AB$1=0,0,IF(Configuration!$F$16=\"D\",$R$274,Table7[[#This Row],[Vo]]))","v":0},{"$f":"IF(AC$1=0,0,IF(Configuration!$F$17=\"D\",$R$274,Table7[[#This Row],[Vo]]))","v":0}]
[{"$f":"ROUNDUP(A470+0.1,1)","v":48},"NMS-240-48",5,{"$f":"Table2[[#This Row],[Output Voltage]]*Table2[[#This Row],[Module rated current]]","v":240},"K",{"$f":"IF(1200/Table2[[#This Row],[Module rated power]]>6,6,ROUNDDOWN(1200/Table2[[#This Row],[Module rated power]],0))","v":5},{"$f":"Table2[[#This Row],[Module rated power]]*Table2[[#This Row],[Available No. of Slot]]","v":1200},{"$f":"ROUNDDOWN(Table2[[#This Row],[Max power per output]]/Table2[[#This Row],[Output Voltage]],2)","v":25},null,null,null,null,null,null,null,null,null,49.7,{"$f":"IF(S$1=0,0,IF(Configuration!$F$7=\"D\",$R$274,Table7[[#This Row],[Vo]]))","v":0},{"$f":"IF(T$1=0,0,IF(Configuration!$F$8=\"D\",$R$274,Table7[[#This Row],[Vo]]))","v":0},{"$f":"IF(U$1=0,0,IF(Configuration!$F$9=\"D\",$R$274,Table7[[#This Row],[Vo]]))","v":0},{"$f":"IF(V$1=0,0,IF(Configuration!$F$10=\"D\",$R$274,Table7[[#This Row],[Vo]]))","v":0},{"$f":"IF(W$1=0,0,IF(Configuration!$F$11=\"D\",$R$274,Table7[[#This Row],[Vo]]))","v":0},{"$f":"IF(X$1=0,0,IF(Configuration!$F$12=\"D\",$R$274,Table7[[#This Row],[Vo]]))","v":0},{"$f":"IF(Y$1=0,0,IF(Configuration!$F$13=\"D\",$R$274,Table7[[#This Row],[Vo]]))","v":0},{"$f":"IF(Z$1=0,0,IF(Configuration!$F$14=\"D\",$R$274,Table7[[#This Row],[Vo]]))","v":0},{"$f":"IF(AA$1=0,0,IF(Configuration!$F$15=\"D\",$R$274,Table7[[#This Row],[Vo]]))","v":0},{"$f":"IF(AB$1=0,0,IF(Configuration!$F$16=\"D\",$R$274,Table7[[#This Row],[Vo]]))","v":0},{"$f":"IF(AC$1=0,0,IF(Configuration!$F$17=\"D\",$R$274,Table7[[#This Row],[Vo]]))","v":0}]
[48.1,"NMS-240-48",{"$f":"Table2[[#This Row],[Module rated power]]/Table2[[#This Row],[Output Voltage]]","v":4.9896049896049899},240,"K",{"$f":"IF(1200/Table2[[#This Row],[Module rated power]]>6,6,ROUNDDOWN(1200/Table2[[#This Row],[Module rated power]],0))","v":5},{"$f":"Table2[[#This Row],[Module rated power]]*Table2[[#This Row],[Available No. of Slot]]","v":1200},{"$f":"ROUNDDOWN(Table2[[#This Row],[Max power per output]]/Table2[[#This Row],[Output Voltage]],2)","v":24.94},null,null,null,null,null,null,null,null,null,49.8,{"$f":"IF(S$1=0,0,IF(Configuration!$F$7=\"D\",$R$274,Table7[[#This Row],[Vo]]))","v":0},{"$f":"IF(T$1=0,0,IF(Configuration!$F$8=\"D\",$R$274,Table7[[#This Row],[Vo]]))","v":0},{"$f":"IF(U$1=0,0,IF(Configuration!$F$9=\"D\",$R$274,Table7[[#This Row],[Vo]]))","v":0},{"$f":"IF(V$1=0,0,IF(Configuration!$F$10=\"D\",$R$274,Table7[[#This Row],[Vo]]))","v":0},{"$f":"IF(W$1=0,0,IF(Configuration!$F$11=\"D\",$R$274,Table7[[#This Row],[Vo]]))","v":0},{"$f":"IF(X$1=0,0,IF(Configuration!$F$12=\"D\",$R$274,Table7[[#This Row],[Vo]]))","v":0},{"$f":"IF(Y$1=0,0,IF(Configuration!$F$13=\"D\",$R$274,Table7[[#This Row],[Vo]]))","v":0},{"$f":"IF(Z$1=0,0,IF(Configuration!$F$14=\"D\",$R$274,Table7[[#This Row],[Vo]]))","v":0},{"$f":"IF(AA$1=0,0,IF(Configuration!$F$15=\"D\",$R$274,Table7[[#This Row],[Vo]]))","v":0},{"$f":"IF(AB$1=0,0,IF(Configuration!$F$16=\"D\",$R$274,Table7[[#This Row],[Vo]]))","v":0},{"$f":"IF(AC$1=0,0,IF(Configuration!$F$17=\"D\",$R$274,Table7[[#This Row],[Vo]]))","v":0}]
[48.2,"NMS-240-48",{"$f":"Table2[[#This Row],[Module rated power]]/Table2[[#This Row],[Output Voltage]]","v":4.9792531120331951},240,"K",{"$f":"IF(1200/Table2[[#This Row],[Module rated power]]>6,6,ROUNDDOWN(1200/Table2[[#This Row],[Module rated power]],0))","v":5},{"$f":"Table2[[#This Row],[Module rated power]]*Table2[[#This Row],[Available No. of Slot]]","v":1200},{"$f":"ROUNDDOWN(Table2[[#This Row],[Max power per output]]/Table2[[#This Row],[Output Voltage]],2)","v":24.89},null,null,null,null,null,null,null,null,null,49.9,{"$f":"IF(S$1=0,0,IF(Configuration!$F$7=\"D\",$R$274,Table7[[#This Row],[Vo]]))","v":0},{"$f":"IF(T$1=0,0,IF(Configuration!$F$8=\"D\",$R$274,Table7[[#This Row],[Vo]]))","v":0},{"$f":"IF(U$1=0,0,IF(Configuration!$F$9=\"D\",$R$274,Table7[[#This Row],[Vo]]))","v":0},{"$f":"IF(V$1=0,0,IF(Configuration!$F$10=\"D\",$R$274,Table7[[#This Row],[Vo]]))","v":0},{"$f":"IF(W$1=0,0,IF(Configuration!$F$11=\"D\",$R$274,Table7[[#This Row],[Vo]]))","v":0},{"$f":"IF(X$1=0,0,IF(Configuration!$F$12=\"D\",$R$274,Table7[[#This Row],[Vo]]))","v":0},{"$f":"IF(Y$1=0,0,IF(Configuration!$F$13=\"D\",$R$274,Table7[[#This Row],[Vo]]))","v":0},{"$f":"IF(Z$1=0,0,IF(Configuration!$F$14=\"D\",$R$274,Table7[[#This Row],[Vo]]))","v":0},{"$f":"IF(AA$1=0,0,IF(Configuration!$F$15=\"D\",$R$274,Table7[[#This Row],[Vo]]))","v":0},{"$f":"IF(AB$1=0,0,IF(Configuration!$F$16=\"D\",$R$274,Table7[[#This Row],[Vo]]))","v":0},{"$f":"IF(AC$1=0,0,IF(Configuration!$F$17=\"D\",$R$274,Table7[[#This Row],[Vo]]))","v":0}]
[48.3,"NMS-240-48",{"$f":"Table2[[#This Row],[Module rated power]]/Table2[[#This Row],[Output Voltage]]","v":4.9689440993788825},240,"K",{"$f":"IF(1200/Table2[[#This Row],[Module rated power]]>6,6,ROUNDDOWN(1200/Table2[[#This Row],[Module rated power]],0))","v":5},{"$f":"Table2[[#This Row],[Module rated power]]*Table2[[#This Row],[Available No. of Slot]]","v":1200},{"$f":"ROUNDDOWN(Table2[[#This Row],[Max power per output]]/Table2[[#This Row],[Output Voltage]],2)","v":24.84},null,null,null,null,null,null,null,null,null,50,{"$f":"IF(S$1=0,0,IF(Configuration!$F$7=\"D\",$R$274,Table7[[#This Row],[Vo]]))","v":0},{"$f":"IF(T$1=0,0,IF(Configuration!$F$8=\"D\",$R$274,Table7[[#This Row],[Vo]]))","v":0},{"$f":"IF(U$1=0,0,IF(Configuration!$F$9=\"D\",$R$274,Table7[[#This Row],[Vo]]))","v":0},{"$f":"IF(V$1=0,0,IF(Configuration!$F$10=\"D\",$R$274,Table7[[#This Row],[Vo]]))","v":0},{"$f":"IF(W$1=0,0,IF(Configuration!$F$11=\"D\",$R$274,Table7[[#This Row],[Vo]]))","v":0},{"$f":"IF(X$1=0,0,IF(Configuration!$F$12=\"D\",$R$274,Table7[[#This Row],[Vo]]))","v":0},{"$f":"IF(Y$1=0,0,IF(Configuration!$F$13=\"D\",$R$274,Table7[[#This Row],[Vo]]))","v":0},{"$f":"IF(Z$1=0,0,IF(Configuration!$F$14=\"D\",$R$274,Table7[[#This Row],[Vo]]))","v":0},{"$f":"IF(AA$1=0,0,IF(Configuration!$F$15=\"D\",$R$274,Table7[[#This Row],[Vo]]))","v":0},{"$f":"IF(AB$1=0,0,IF(Configuration!$F$16=\"D\",$R$274,Table7[[#This Row],[Vo]]))","v":0},{"$f":"IF(AC$1=0,0,IF(Configuration!$F$17=\"D\",$R$274,Table7[[#This Row],[Vo]]))","v":0}]
[48.4,"NMS-240-48",{"$f":"Table2[[#This Row],[Module rated power]]/Table2[[#This Row],[Output Voltage]]","v":4.9586776859504136},240,"K",{"$f":"IF(1200/Table2[[#This Row],[Module rated power]]>6,6,ROUNDDOWN(1200/Table2[[#This Row],[Module rated power]],0))","v":5},{"$f":"Table2[[#This Row],[Module rated power]]*Table2[[#This Row],[Available No. of Slot]]","v":1200},{"$f":"ROUNDDOWN(Table2[[#This Row],[Max power per output]]/Table2[[#This Row],[Output Voltage]],2)","v":24.79},null,null,null,null,null,null,null,null,null,50.1,{"$f":"IF(S$1=0,0,IF(Configuration!$F$7=\"D\",$R$274,Table7[[#This Row],[Vo]]))","v":0},{"$f":"IF(T$1=0,0,IF(Configuration!$F$8=\"D\",$R$274,Table7[[#This Row],[Vo]]))","v":0},{"$f":"IF(U$1=0,0,IF(Configuration!$F$9=\"D\",$R$274,Table7[[#This Row],[Vo]]))","v":0},{"$f":"IF(V$1=0,0,IF(Configuration!$F$10=\"D\",$R$274,Table7[[#This Row],[Vo]]))","v":0},{"$f":"IF(W$1=0,0,IF(Configuration!$F$11=\"D\",$R$274,Table7[[#This Row],[Vo]]))","v":0},{"$f":"IF(X$1=0,0,IF(Configuration!$F$12=\"D\",$R$274,Table7[[#This Row],[Vo]]))","v":0},{"$f":"IF(Y$1=0,0,IF(Configuration!$F$13=\"D\",$R$274,Table7[[#This Row],[Vo]]))","v":0},{"$f":"IF(Z$1=0,0,IF(Configuration!$F$14=\"D\",$R$274,Table7[[#This Row],[Vo]]))","v":0},{"$f":"IF(AA$1=0,0,IF(Configuration!$F$15=\"D\",$R$274,Table7[[#This Row],[Vo]]))","v":0},{"$f":"IF(AB$1=0,0,IF(Configuration!$F$16=\"D\",$R$274,Table7[[#This Row],[Vo]]))","v":0},{"$f":"IF(AC$1=0,0,IF(Configuration!$F$17=\"D\",$R$274,Table7[[#This Row],[Vo]]))","v":0}]
[48.5,"NMS-240-48",{"$f":"Table2[[#This Row],[Module rated power]]/Table2[[#This Row],[Output Voltage]]","v":4.9484536082474229},240,"K",{"$f":"IF(1200/Table2[[#This Row],[Module rated power]]>6,6,ROUNDDOWN(1200/Table2[[#This Row],[Module rated power]],0))","v":5},{"$f":"Table2[[#This Row],[Module rated power]]*Table2[[#This Row],[Available No. of Slot]]","v":1200},{"$f":"ROUNDDOWN(Table2[[#This Row],[Max power per output]]/Table2[[#This Row],[Output Voltage]],2)","v":24.74},null,null,null,null,null,null,null,null,null,50.2,{"$f":"IF(S$1=0,0,IF(Configuration!$F$7=\"D\",$R$274,Table7[[#This Row],[Vo]]))","v":0},{"$f":"IF(T$1=0,0,IF(Configuration!$F$8=\"D\",$R$274,Table7[[#This Row],[Vo]]))","v":0},{"$f":"IF(U$1=0,0,IF(Configuration!$F$9=\"D\",$R$274,Table7[[#This Row],[Vo]]))","v":0},{"$f":"IF(V$1=0,0,IF(Configuration!$F$10=\"D\",$R$274,Table7[[#This Row],[Vo]]))","v":0},{"$f":"IF(W$1=0,0,IF(Configuration!$F$11=\"D\",$R$274,Table7[[#This Row],[Vo]]))","v":0},{"$f":"IF(X$1=0,0,IF(Configuration!$F$12=\"D\",$R$274,Table7[[#This Row],[Vo]]))","v":0},{"$f":"IF(Y$1=0,0,IF(Configuration!$F$13=\"D\",$R$274,Table7[[#This Row],[Vo]]))","v":0},{"$f":"IF(Z$1=0,0,IF(Configuration!$F$14=\"D\",$R$274,Table7[[#This Row],[Vo]]))","v":0},{"$f":"IF(AA$1=0,0,IF(Configuration!$F$15=\"D\",$R$274,Table7[[#This Row],[Vo]]))","v":0},{"$f":"IF(AB$1=0,0,IF(Configuration!$F$16=\"D\",$R$274,Table7[[#This Row],[Vo]]))","v":0},{"$f":"IF(AC$1=0,0,IF(Configuration!$F$17=\"D\",$R$274,Table7[[#This Row],[Vo]]))","v":0}]
[48.6,"NMS-240-48",{"$f":"Table2[[#This Row],[Module rated power]]/Table2[[#This Row],[Output Voltage]]","v":4.9382716049382713},240,"K",{"$f":"IF(1200/Table2[[#This Row],[Module rated power]]>6,6,ROUNDDOWN(1200/Table2[[#This Row],[Module rated power]],0))","v":5},{"$f":"Table2[[#This Row],[Module rated power]]*Table2[[#This Row],[Available No. of Slot]]","v":1200},{"$f":"ROUNDDOWN(Table2[[#This Row],[Max power per output]]/Table2[[#This Row],[Output Voltage]],2)","v":24.69},null,null,null,null,null,null,null,null,null,50.3,{"$f":"IF(S$1=0,0,IF(Configuration!$F$7=\"D\",$R$274,Table7[[#This Row],[Vo]]))","v":0},{"$f":"IF(T$1=0,0,IF(Configuration!$F$8=\"D\",$R$274,Table7[[#This Row],[Vo]]))","v":0},{"$f":"IF(U$1=0,0,IF(Configuration!$F$9=\"D\",$R$274,Table7[[#This Row],[Vo]]))","v":0},{"$f":"IF(V$1=0,0,IF(Configuration!$F$10=\"D\",$R$274,Table7[[#This Row],[Vo]]))","v":0},{"$f":"IF(W$1=0,0,IF(Configuration!$F$11=\"D\",$R$274,Table7[[#This Row],[Vo]]))","v":0},{"$f":"IF(X$1=0,0,IF(Configuration!$F$12=\"D\",$R$274,Table7[[#This Row],[Vo]]))","v":0},{"$f":"IF(Y$1=0,0,IF(Configuration!$F$13=\"D\",$R$274,Table7[[#This Row],[Vo]]))","v":0},{"$f":"IF(Z$1=0,0,IF(Configuration!$F$14=\"D\",$R$274,Table7[[#This Row],[Vo]]))","v":0},{"$f":"IF(AA$1=0,0,IF(Configuration!$F$15=\"D\",$R$274,Table7[[#This Row],[Vo]]))","v":0},{"$f":"IF(AB$1=0,0,IF(Configuration!$F$16=\"D\",$R$274,Table7[[#This Row],[Vo]]))","v":0},{"$f":"IF(AC$1=0,0,IF(Configuration!$F$17=\"D\",$R$274,Table7[[#This Row],[Vo]]))","v":0}]
[48.7,"NMS-240-48",{"$f":"Table2[[#This Row],[Module rated power]]/Table2[[#This Row],[Output Voltage]]","v":4.9281314168377817},240,"K",{"$f":"IF(1200/Table2[[#This Row],[Module rated power]]>6,6,ROUNDDOWN(1200/Table2[[#This Row],[Module rated power]],0))","v":5},{"$f":"Table2[[#This Row],[Module rated power]]*Table2[[#This Row],[Available No. of Slot]]","v":1200},{"$f":"ROUNDDOWN(Table2[[#This Row],[Max power per output]]/Table2[[#This Row],[Output Voltage]],2)","v":24.64},null,null,null,null,null,null,null,null,null,50.4,{"$f":"IF(S$1=0,0,IF(Configuration!$F$7=\"D\",$R$274,Table7[[#This Row],[Vo]]))","v":0},{"$f":"IF(T$1=0,0,IF(Configuration!$F$8=\"D\",$R$274,Table7[[#This Row],[Vo]]))","v":0},{"$f":"IF(U$1=0,0,IF(Configuration!$F$9=\"D\",$R$274,Table7[[#This Row],[Vo]]))","v":0},{"$f":"IF(V$1=0,0,IF(Configuration!$F$10=\"D\",$R$274,Table7[[#This Row],[Vo]]))","v":0},{"$f":"IF(W$1=0,0,IF(Configuration!$F$11=\"D\",$R$274,Table7[[#This Row],[Vo]]))","v":0},{"$f":"IF(X$1=0,0,IF(Configuration!$F$12=\"D\",$R$274,Table7[[#This Row],[Vo]]))","v":0},{"$f":"IF(Y$1=0,0,IF(Configuration!$F$13=\"D\",$R$274,Table7[[#This Row],[Vo]]))","v":0},{"$f":"IF(Z$1=0,0,IF(Configuration!$F$14=\"D\",$R$274,Table7[[#This Row],[Vo]]))","v":0},{"$f":"IF(AA$1=0,0,IF(Configuration!$F$15=\"D\",$R$274,Table7[[#This Row],[Vo]]))","v":0},{"$f":"IF(AB$1=0,0,IF(Configuration!$F$16=\"D\",$R$274,Table7[[#This Row],[Vo]]))","v":0},{"$f":"IF(AC$1=0,0,IF(Configuration!$F$17=\"D\",$R$274,Table7[[#This Row],[Vo]]))","v":0}]
[48.8,"NMS-240-48",{"$f":"Table2[[#This Row],[Module rated power]]/Table2[[#This Row],[Output Voltage]]","v":4.918032786885246},240,"K",{"$f":"IF(1200/Table2[[#This Row],[Module rated power]]>6,6,ROUNDDOWN(1200/Table2[[#This Row],[Module rated power]],0))","v":5},{"$f":"Table2[[#This Row],[Module rated power]]*Table2[[#This Row],[Available No. of Slot]]","v":1200},{"$f":"ROUNDDOWN(Table2[[#This Row],[Max power per output]]/Table2[[#This Row],[Output Voltage]],2)","v":24.59},null,null,null,null,null,null,null,null,null,50.5,{"$f":"IF(S$1=0,0,IF(Configuration!$F$7=\"D\",$R$274,Table7[[#This Row],[Vo]]))","v":0},{"$f":"IF(T$1=0,0,IF(Configuration!$F$8=\"D\",$R$274,Table7[[#This Row],[Vo]]))","v":0},{"$f":"IF(U$1=0,0,IF(Configuration!$F$9=\"D\",$R$274,Table7[[#This Row],[Vo]]))","v":0},{"$f":"IF(V$1=0,0,IF(Configuration!$F$10=\"D\",$R$274,Table7[[#This Row],[Vo]]))","v":0},{"$f":"IF(W$1=0,0,IF(Configuration!$F$11=\"D\",$R$274,Table7[[#This Row],[Vo]]))","v":0},{"$f":"IF(X$1=0,0,IF(Configuration!$F$12=\"D\",$R$274,Table7[[#This Row],[Vo]]))","v":0},{"$f":"IF(Y$1=0,0,IF(Configuration!$F$13=\"D\",$R$274,Table7[[#This Row],[Vo]]))","v":0},{"$f":"IF(Z$1=0,0,IF(Configuration!$F$14=\"D\",$R$274,Table7[[#This Row],[Vo]]))","v":0},{"$f":"IF(AA$1=0,0,IF(Configuration!$F$15=\"D\",$R$274,Table7[[#This Row],[Vo]]))","v":0},{"$f":"IF(AB$1=0,0,IF(Configuration!$F$16=\"D\",$R$274,Table7[[#This Row],[Vo]]))","v":0},{"$f":"IF(AC$1=0,0,IF(Configuration!$F$17=\"D\",$R$274,Table7[[#This Row],[Vo]]))","v":0}]
[48.9,"NMS-240-48",{"$f":"Table2[[#This Row],[Module rated power]]/Table2[[#This Row],[Output Voltage]]","v":4.9079754601226995},240,"K",{"$f":"IF(1200/Table2[[#This Row],[Module rated power]]>6,6,ROUNDDOWN(1200/Table2[[#This Row],[Module rated power]],0))","v":5},{"$f":"Table2[[#This Row],[Module rated power]]*Table2[[#This Row],[Available No. of Slot]]","v":1200},{"$f":"ROUNDDOWN(Table2[[#This Row],[Max power per output]]/Table2[[#This Row],[Output Voltage]],2)","v":24.53},null,null,null,null,null,null,null,null,null,50.6,{"$f":"IF(S$1=0,0,IF(Configuration!$F$7=\"D\",$R$274,Table7[[#This Row],[Vo]]))","v":0},{"$f":"IF(T$1=0,0,IF(Configuration!$F$8=\"D\",$R$274,Table7[[#This Row],[Vo]]))","v":0},{"$f":"IF(U$1=0,0,IF(Configuration!$F$9=\"D\",$R$274,Table7[[#This Row],[Vo]]))","v":0},{"$f":"IF(V$1=0,0,IF(Configuration!$F$10=\"D\",$R$274,Table7[[#This Row],[Vo]]))","v":0},{"$f":"IF(W$1=0,0,IF(Configuration!$F$11=\"D\",$R$274,Table7[[#This Row],[Vo]]))","v":0},{"$f":"IF(X$1=0,0,IF(Configuration!$F$12=\"D\",$R$274,Table7[[#This Row],[Vo]]))","v":0},{"$f":"IF(Y$1=0,0,IF(Configuration!$F$13=\"D\",$R$274,Table7[[#This Row],[Vo]]))","v":0},{"$f":"IF(Z$1=0,0,IF(Configuration!$F$14=\"D\",$R$274,Table7[[#This Row],[Vo]]))","v":0},{"$f":"IF(AA$1=0,0,IF(Configuration!$F$15=\"D\",$R$274,Table7[[#This Row],[Vo]]))","v":0},{"$f":"IF(AB$1=0,0,IF(Configuration!$F$16=\"D\",$R$274,Table7[[#This Row],[Vo]]))","v":0},{"$f":"IF(AC$1=0,0,IF(Configuration!$F$17=\"D\",$R$274,Table7[[#This Row],[Vo]]))","v":0}]
[49,"NMS-240-48",{"$f":"Table2[[#This Row],[Module rated power]]/Table2[[#This Row],[Output Voltage]]","v":4.8979591836734695},240,"K",{"$f":"IF(1200/Table2[[#This Row],[Module rated power]]>6,6,ROUNDDOWN(1200/Table2[[#This Row],[Module rated power]],0))","v":5},{"$f":"Table2[[#This Row],[Module rated power]]*Table2[[#This Row],[Available No. of Slot]]","v":1200},{"$f":"ROUNDDOWN(Table2[[#This Row],[Max power per output]]/Table2[[#This Row],[Output Voltage]],2)","v":24.48},null,null,null,null,null,null,null,null,null,50.7,{"$f":"IF(S$1=0,0,IF(Configuration!$F$7=\"D\",$R$274,Table7[[#This Row],[Vo]]))","v":0},{"$f":"IF(T$1=0,0,IF(Configuration!$F$8=\"D\",$R$274,Table7[[#This Row],[Vo]]))","v":0},{"$f":"IF(U$1=0,0,IF(Configuration!$F$9=\"D\",$R$274,Table7[[#This Row],[Vo]]))","v":0},{"$f":"IF(V$1=0,0,IF(Configuration!$F$10=\"D\",$R$274,Table7[[#This Row],[Vo]]))","v":0},{"$f":"IF(W$1=0,0,IF(Configuration!$F$11=\"D\",$R$274,Table7[[#This Row],[Vo]]))","v":0},{"$f":"IF(X$1=0,0,IF(Configuration!$F$12=\"D\",$R$274,Table7[[#This Row],[Vo]]))","v":0},{"$f":"IF(Y$1=0,0,IF(Configuration!$F$13=\"D\",$R$274,Table7[[#This Row],[Vo]]))","v":0},{"$f":"IF(Z$1=0,0,IF(Configuration!$F$14=\"D\",$R$274,Table7[[#This Row],[Vo]]))","v":0},{"$f":"IF(AA$1=0,0,IF(Configuration!$F$15=\"D\",$R$274,Table7[[#This Row],[Vo]]))","v":0},{"$f":"IF(AB$1=0,0,IF(Configuration!$F$16=\"D\",$R$274,Table7[[#This Row],[Vo]]))","v":0},{"$f":"IF(AC$1=0,0,IF(Configuration!$F$17=\"D\",$R$274,Table7[[#This Row],[Vo]]))","v":0}]
[49.1,"NMS-240-48",{"$f":"Table2[[#This Row],[Module rated power]]/Table2[[#This Row],[Output Voltage]]","v":4.887983706720977},240,"K",{"$f":"IF(1200/Table2[[#This Row],[Module rated power]]>6,6,ROUNDDOWN(1200/Table2[[#This Row],[Module rated power]],0))","v":5},{"$f":"Table2[[#This Row],[Module rated power]]*Table2[[#This Row],[Available No. of Slot]]","v":1200},{"$f":"ROUNDDOWN(Table2[[#This Row],[Max power per output]]/Table2[[#This Row],[Output Voltage]],2)","v":24.43},null,null,null,null,null,null,null,null,null,50.8,{"$f":"IF(S$1=0,0,IF(Configuration!$F$7=\"D\",$R$274,Table7[[#This Row],[Vo]]))","v":0},{"$f":"IF(T$1=0,0,IF(Configuration!$F$8=\"D\",$R$274,Table7[[#This Row],[Vo]]))","v":0},{"$f":"IF(U$1=0,0,IF(Configuration!$F$9=\"D\",$R$274,Table7[[#This Row],[Vo]]))","v":0},{"$f":"IF(V$1=0,0,IF(Configuration!$F$10=\"D\",$R$274,Table7[[#This Row],[Vo]]))","v":0},{"$f":"IF(W$1=0,0,IF(Configuration!$F$11=\"D\",$R$274,Table7[[#This Row],[Vo]]))","v":0},{"$f":"IF(X$1=0,0,IF(Configuration!$F$12=\"D\",$R$274,Table7[[#This Row],[Vo]]))","v":0},{"$f":"IF(Y$1=0,0,IF(Configuration!$F$13=\"D\",$R$274,Table7[[#This Row],[Vo]]))","v":0},{"$f":"IF(Z$1=0,0,IF(Configuration!$F$14=\"D\",$R$274,Table7[[#This Row],[Vo]]))","v":0},{"$f":"IF(AA$1=0,0,IF(Configuration!$F$15=\"D\",$R$274,Table7[[#This Row],[Vo]]))","v":0},{"$f":"IF(AB$1=0,0,IF(Configuration!$F$16=\"D\",$R$274,Table7[[#This Row],[Vo]]))","v":0},{"$f":"IF(AC$1=0,0,IF(Configuration!$F$17=\"D\",$R$274,Table7[[#This Row],[Vo]]))","v":0}]
[49.2,"NMS-240-48",{"$f":"Table2[[#This Row],[Module rated power]]/Table2[[#This Row],[Output Voltage]]","v":4.8780487804878048},240,"K",{"$f":"IF(1200/Table2[[#This Row],[Module rated power]]>6,6,ROUNDDOWN(1200/Table2[[#This Row],[Module rated power]],0))","v":5},{"$f":"Table2[[#This Row],[Module rated power]]*Table2[[#This Row],[Available No. of Slot]]","v":1200},{"$f":"ROUNDDOWN(Table2[[#This Row],[Max power per output]]/Table2[[#This Row],[Output Voltage]],2)","v":24.39},null,null,null,null,null,null,null,null,null,50.9,{"$f":"IF(S$1=0,0,IF(Configuration!$F$7=\"D\",$R$274,Table7[[#This Row],[Vo]]))","v":0},{"$f":"IF(T$1=0,0,IF(Configuration!$F$8=\"D\",$R$274,Table7[[#This Row],[Vo]]))","v":0},{"$f":"IF(U$1=0,0,IF(Configuration!$F$9=\"D\",$R$274,Table7[[#This Row],[Vo]]))","v":0},{"$f":"IF(V$1=0,0,IF(Configuration!$F$10=\"D\",$R$274,Table7[[#This Row],[Vo]]))","v":0},{"$f":"IF(W$1=0,0,IF(Configuration!$F$11=\"D\",$R$274,Table7[[#This Row],[Vo]]))","v":0},{"$f":"IF(X$1=0,0,IF(Configuration!$F$12=\"D\",$R$274,Table7[[#This Row],[Vo]]))","v":0},{"$f":"IF(Y$1=0,0,IF(Configuration!$F$13=\"D\",$R$274,Table7[[#This Row],[Vo]]))","v":0},{"$f":"IF(Z$1=0,0,IF(Configuration!$F$14=\"D\",$R$274,Table7[[#This Row],[Vo]]))","v":0},{"$f":"IF(AA$1=0,0,IF(Configuration!$F$15=\"D\",$R$274,Table7[[#This Row],[Vo]]))","v":0},{"$f":"IF(AB$1=0,0,IF(Configuration!$F$16=\"D\",$R$274,Table7[[#This Row],[Vo]]))","v":0},{"$f":"IF(AC$1=0,0,IF(Configuration!$F$17=\"D\",$R$274,Table7[[#This Row],[Vo]]))","v":0}]
[49.3,"NMS-240-48",{"$f":"Table2[[#This Row],[Module rated power]]/Table2[[#This Row],[Output Voltage]]","v":4.8681541582150105},240,"K",{"$f":"IF(1200/Table2[[#This Row],[Module rated power]]>6,6,ROUNDDOWN(1200/Table2[[#This Row],[Module rated power]],0))","v":5},{"$f":"Table2[[#This Row],[Module rated power]]*Table2[[#This Row],[Available No. of Slot]]","v":1200},{"$f":"ROUNDDOWN(Table2[[#This Row],[Max power per output]]/Table2[[#This Row],[Output Voltage]],2)","v":24.34},null,null,null,null,null,null,null,null,null,51,{"$f":"IF(S$1=0,0,IF(Configuration!$F$7=\"D\",$R$274,Table7[[#This Row],[Vo]]))","v":0},{"$f":"IF(T$1=0,0,IF(Configuration!$F$8=\"D\",$R$274,Table7[[#This Row],[Vo]]))","v":0},{"$f":"IF(U$1=0,0,IF(Configuration!$F$9=\"D\",$R$274,Table7[[#This Row],[Vo]]))","v":0},{"$f":"IF(V$1=0,0,IF(Configuration!$F$10=\"D\",$R$274,Table7[[#This Row],[Vo]]))","v":0},{"$f":"IF(W$1=0,0,IF(Configuration!$F$11=\"D\",$R$274,Table7[[#This Row],[Vo]]))","v":0},{"$f":"IF(X$1=0,0,IF(Configuration!$F$12=\"D\",$R$274,Table7[[#This Row],[Vo]]))","v":0},{"$f":"IF(Y$1=0,0,IF(Configuration!$F$13=\"D\",$R$274,Table7[[#This Row],[Vo]]))","v":0},{"$f":"IF(Z$1=0,0,IF(Configuration!$F$14=\"D\",$R$274,Table7[[#This Row],[Vo]]))","v":0},{"$f":"IF(AA$1=0,0,IF(Configuration!$F$15=\"D\",$R$274,Table7[[#This Row],[Vo]]))","v":0},{"$f":"IF(AB$1=0,0,IF(Configuration!$F$16=\"D\",$R$274,Table7[[#This Row],[Vo]]))","v":0},{"$f":"IF(AC$1=0,0,IF(Configuration!$F$17=\"D\",$R$274,Table7[[#This Row],[Vo]]))","v":0}]
[49.4,"NMS-240-48",{"$f":"Table2[[#This Row],[Module rated power]]/Table2[[#This Row],[Output Voltage]]","v":4.858299595141701},240,"K",{"$f":"IF(1200/Table2[[#This Row],[Module rated power]]>6,6,ROUNDDOWN(1200/Table2[[#This Row],[Module rated power]],0))","v":5},{"$f":"Table2[[#This Row],[Module rated power]]*Table2[[#This Row],[Available No. of Slot]]","v":1200},{"$f":"ROUNDDOWN(Table2[[#This Row],[Max power per output]]/Table2[[#This Row],[Output Voltage]],2)","v":24.29},null,null,null,null,null,null,null,null,null,51.1,{"$f":"IF(S$1=0,0,IF(Configuration!$F$7=\"D\",$R$274,Table7[[#This Row],[Vo]]))","v":0},{"$f":"IF(T$1=0,0,IF(Configuration!$F$8=\"D\",$R$274,Table7[[#This Row],[Vo]]))","v":0},{"$f":"IF(U$1=0,0,IF(Configuration!$F$9=\"D\",$R$274,Table7[[#This Row],[Vo]]))","v":0},{"$f":"IF(V$1=0,0,IF(Configuration!$F$10=\"D\",$R$274,Table7[[#This Row],[Vo]]))","v":0},{"$f":"IF(W$1=0,0,IF(Configuration!$F$11=\"D\",$R$274,Table7[[#This Row],[Vo]]))","v":0},{"$f":"IF(X$1=0,0,IF(Configuration!$F$12=\"D\",$R$274,Table7[[#This Row],[Vo]]))","v":0},{"$f":"IF(Y$1=0,0,IF(Configuration!$F$13=\"D\",$R$274,Table7[[#This Row],[Vo]]))","v":0},{"$f":"IF(Z$1=0,0,IF(Configuration!$F$14=\"D\",$R$274,Table7[[#This Row],[Vo]]))","v":0},{"$f":"IF(AA$1=0,0,IF(Configuration!$F$15=\"D\",$R$274,Table7[[#This Row],[Vo]]))","v":0},{"$f":"IF(AB$1=0,0,IF(Configuration!$F$16=\"D\",$R$274,Table7[[#This Row],[Vo]]))","v":0},{"$f":"IF(AC$1=0,0,IF(Configuration!$F$17=\"D\",$R$274,Table7[[#This Row],[Vo]]))","v":0}]
[49.5,"NMS-240-48",{"$f":"Table2[[#This Row],[Module rated power]]/Table2[[#This Row],[Output Voltage]]","v":4.8484848484848486},240,"K",{"$f":"IF(1200/Table2[[#This Row],[Module rated power]]>6,6,ROUNDDOWN(1200/Table2[[#This Row],[Module rated power]],0))","v":5},{"$f":"Table2[[#This Row],[Module rated power]]*Table2[[#This Row],[Available No. of Slot]]","v":1200},{"$f":"ROUNDDOWN(Table2[[#This Row],[Max power per output]]/Table2[[#This Row],[Output Voltage]],2)","v":24.24},null,null,null,null,null,null,null,null,null,51.2,{"$f":"IF(S$1=0,0,IF(Configuration!$F$7=\"D\",$R$274,Table7[[#This Row],[Vo]]))","v":0},{"$f":"IF(T$1=0,0,IF(Configuration!$F$8=\"D\",$R$274,Table7[[#This Row],[Vo]]))","v":0},{"$f":"IF(U$1=0,0,IF(Configuration!$F$9=\"D\",$R$274,Table7[[#This Row],[Vo]]))","v":0},{"$f":"IF(V$1=0,0,IF(Configuration!$F$10=\"D\",$R$274,Table7[[#This Row],[Vo]]))","v":0},{"$f":"IF(W$1=0,0,IF(Configuration!$F$11=\"D\",$R$274,Table7[[#This Row],[Vo]]))","v":0},{"$f":"IF(X$1=0,0,IF(Configuration!$F$12=\"D\",$R$274,Table7[[#This Row],[Vo]]))","v":0},{"$f":"IF(Y$1=0,0,IF(Configuration!$F$13=\"D\",$R$274,Table7[[#This Row],[Vo]]))","v":0},{"$f":"IF(Z$1=0,0,IF(Configuration!$F$14=\"D\",$R$274,Table7[[#This Row],[Vo]]))","v":0},{"$f":"IF(AA$1=0,0,IF(Configuration!$F$15=\"D\",$R$274,Table7[[#This Row],[Vo]]))","v":0},{"$f":"IF(AB$1=0,0,IF(Configuration!$F$16=\"D\",$R$274,Table7[[#This Row],[Vo]]))","v":0},{"$f":"IF(AC$1=0,0,IF(Configuration!$F$17=\"D\",$R$274,Table7[[#This Row],[Vo]]))","v":0}]
[49.6,"NMS-240-48",{"$f":"Table2[[#This Row],[Module rated power]]/Table2[[#This Row],[Output Voltage]]","v":4.838709677419355},240,"K",{"$f":"IF(1200/Table2[[#This Row],[Module rated power]]>6,6,ROUNDDOWN(1200/Table2[[#This Row],[Module rated power]],0))","v":5},{"$f":"Table2[[#This Row],[Module rated power]]*Table2[[#This Row],[Available No. of Slot]]","v":1200},{"$f":"ROUNDDOWN(Table2[[#This Row],[Max power per output]]/Table2[[#This Row],[Output Voltage]],2)","v":24.19},null,null,null,null,null,null,null,null,null,51.3,{"$f":"IF(S$1=0,0,IF(Configuration!$F$7=\"D\",$R$274,Table7[[#This Row],[Vo]]))","v":0},{"$f":"IF(T$1=0,0,IF(Configuration!$F$8=\"D\",$R$274,Table7[[#This Row],[Vo]]))","v":0},{"$f":"IF(U$1=0,0,IF(Configuration!$F$9=\"D\",$R$274,Table7[[#This Row],[Vo]]))","v":0},{"$f":"IF(V$1=0,0,IF(Configuration!$F$10=\"D\",$R$274,Table7[[#This Row],[Vo]]))","v":0},{"$f":"IF(W$1=0,0,IF(Configuration!$F$11=\"D\",$R$274,Table7[[#This Row],[Vo]]))","v":0},{"$f":"IF(X$1=0,0,IF(Configuration!$F$12=\"D\",$R$274,Table7[[#This Row],[Vo]]))","v":0},{"$f":"IF(Y$1=0,0,IF(Configuration!$F$13=\"D\",$R$274,Table7[[#This Row],[Vo]]))","v":0},{"$f":"IF(Z$1=0,0,IF(Configuration!$F$14=\"D\",$R$274,Table7[[#This Row],[Vo]]))","v":0},{"$f":"IF(AA$1=0,0,IF(Configuration!$F$15=\"D\",$R$274,Table7[[#This Row],[Vo]]))","v":0},{"$f":"IF(AB$1=0,0,IF(Configuration!$F$16=\"D\",$R$274,Table7[[#This Row],[Vo]]))","v":0},{"$f":"IF(AC$1=0,0,IF(Configuration!$F$17=\"D\",$R$274,Table7[[#This Row],[Vo]]))","v":0}]
[49.7,"NMS-240-48",{"$f":"Table2[[#This Row],[Module rated power]]/Table2[[#This Row],[Output Voltage]]","v":4.8289738430583498},240,"K",{"$f":"IF(1200/Table2[[#This Row],[Module rated power]]>6,6,ROUNDDOWN(1200/Table2[[#This Row],[Module rated power]],0))","v":5},{"$f":"Table2[[#This Row],[Module rated power]]*Table2[[#This Row],[Available No. of Slot]]","v":1200},{"$f":"ROUNDDOWN(Table2[[#This Row],[Max power per output]]/Table2[[#This Row],[Output Voltage]],2)","v":24.14},null,null,null,null,null,null,null,null,null,51.4,{"$f":"IF(S$1=0,0,IF(Configuration!$F$7=\"D\",$R$274,Table7[[#This Row],[Vo]]))","v":0},{"$f":"IF(T$1=0,0,IF(Configuration!$F$8=\"D\",$R$274,Table7[[#This Row],[Vo]]))","v":0},{"$f":"IF(U$1=0,0,IF(Configuration!$F$9=\"D\",$R$274,Table7[[#This Row],[Vo]]))","v":0},{"$f":"IF(V$1=0,0,IF(Configuration!$F$10=\"D\",$R$274,Table7[[#This Row],[Vo]]))","v":0},{"$f":"IF(W$1=0,0,IF(Configuration!$F$11=\"D\",$R$274,Table7[[#This Row],[Vo]]))","v":0},{"$f":"IF(X$1=0,0,IF(Configuration!$F$12=\"D\",$R$274,Table7[[#This Row],[Vo]]))","v":0},{"$f":"IF(Y$1=0,0,IF(Configuration!$F$13=\"D\",$R$274,Table7[[#This Row],[Vo]]))","v":0},{"$f":"IF(Z$1=0,0,IF(Configuration!$F$14=\"D\",$R$274,Table7[[#This Row],[Vo]]))","v":0},{"$f":"IF(AA$1=0,0,IF(Configuration!$F$15=\"D\",$R$274,Table7[[#This Row],[Vo]]))","v":0},{"$f":"IF(AB$1=0,0,IF(Configuration!$F$16=\"D\",$R$274,Table7[[#This Row],[Vo]]))","v":0},{"$f":"IF(AC$1=0,0,IF(Configuration!$F$17=\"D\",$R$274,Table7[[#This Row],[Vo]]))","v":0}]
[49.8,"NMS-240-48",{"$f":"Table2[[#This Row],[Module rated power]]/Table2[[#This Row],[Output Voltage]]","v":4.8192771084337354},240,"K",{"$f":"IF(1200/Table2[[#This Row],[Module rated power]]>6,6,ROUNDDOWN(1200/Table2[[#This Row],[Module rated power]],0))","v":5},{"$f":"Table2[[#This Row],[Module rated power]]*Table2[[#This Row],[Available No. of Slot]]","v":1200},{"$f":"ROUNDDOWN(Table2[[#This Row],[Max power per output]]/Table2[[#This Row],[Output Voltage]],2)","v":24.09},null,null,null,null,null,null,null,null,null,51.5,{"$f":"IF(S$1=0,0,IF(Configuration!$F$7=\"D\",$R$274,Table7[[#This Row],[Vo]]))","v":0},{"$f":"IF(T$1=0,0,IF(Configuration!$F$8=\"D\",$R$274,Table7[[#This Row],[Vo]]))","v":0},{"$f":"IF(U$1=0,0,IF(Configuration!$F$9=\"D\",$R$274,Table7[[#This Row],[Vo]]))","v":0},{"$f":"IF(V$1=0,0,IF(Configuration!$F$10=\"D\",$R$274,Table7[[#This Row],[Vo]]))","v":0},{"$f":"IF(W$1=0,0,IF(Configuration!$F$11=\"D\",$R$274,Table7[[#This Row],[Vo]]))","v":0},{"$f":"IF(X$1=0,0,IF(Configuration!$F$12=\"D\",$R$274,Table7[[#This Row],[Vo]]))","v":0},{"$f":"IF(Y$1=0,0,IF(Configuration!$F$13=\"D\",$R$274,Table7[[#This Row],[Vo]]))","v":0},{"$f":"IF(Z$1=0,0,IF(Configuration!$F$14=\"D\",$R$274,Table7[[#This Row],[Vo]]))","v":0},{"$f":"IF(AA$1=0,0,IF(Configuration!$F$15=\"D\",$R$274,Table7[[#This Row],[Vo]]))","v":0},{"$f":"IF(AB$1=0,0,IF(Configuration!$F$16=\"D\",$R$274,Table7[[#This Row],[Vo]]))","v":0},{"$f":"IF(AC$1=0,0,IF(Configuration!$F$17=\"D\",$R$274,Table7[[#This Row],[Vo]]))","v":0}]
[49.9,"NMS-240-48",{"$f":"Table2[[#This Row],[Module rated power]]/Table2[[#This Row],[Output Voltage]]","v":4.8096192384769543},240,"K",{"$f":"IF(1200/Table2[[#This Row],[Module rated power]]>6,6,ROUNDDOWN(1200/Table2[[#This Row],[Module rated power]],0))","v":5},{"$f":"Table2[[#This Row],[Module rated power]]*Table2[[#This Row],[Available No. of Slot]]","v":1200},{"$f":"ROUNDDOWN(Table2[[#This Row],[Max power per output]]/Table2[[#This Row],[Output Voltage]],2)","v":24.04},null,null,null,null,null,null,null,null,null,51.6,{"$f":"IF(S$1=0,0,IF(Configuration!$F$7=\"D\",$R$274,Table7[[#This Row],[Vo]]))","v":0},{"$f":"IF(T$1=0,0,IF(Configuration!$F$8=\"D\",$R$274,Table7[[#This Row],[Vo]]))","v":0},{"$f":"IF(U$1=0,0,IF(Configuration!$F$9=\"D\",$R$274,Table7[[#This Row],[Vo]]))","v":0},{"$f":"IF(V$1=0,0,IF(Configuration!$F$10=\"D\",$R$274,Table7[[#This Row],[Vo]]))","v":0},{"$f":"IF(W$1=0,0,IF(Configuration!$F$11=\"D\",$R$274,Table7[[#This Row],[Vo]]))","v":0},{"$f":"IF(X$1=0,0,IF(Configuration!$F$12=\"D\",$R$274,Table7[[#This Row],[Vo]]))","v":0},{"$f":"IF(Y$1=0,0,IF(Configuration!$F$13=\"D\",$R$274,Table7[[#This Row],[Vo]]))","v":0},{"$f":"IF(Z$1=0,0,IF(Configuration!$F$14=\"D\",$R$274,Table7[[#This Row],[Vo]]))","v":0},{"$f":"IF(AA$1=0,0,IF(Configuration!$F$15=\"D\",$R$274,Table7[[#This Row],[Vo]]))","v":0},{"$f":"IF(AB$1=0,0,IF(Configuration!$F$16=\"D\",$R$274,Table7[[#This Row],[Vo]]))","v":0},{"$f":"IF(AC$1=0,0,IF(Configuration!$F$17=\"D\",$R$274,Table7[[#This Row],[Vo]]))","v":0}]
[50,"NMS-240-48",{"$f":"Table2[[#This Row],[Module rated power]]/Table2[[#This Row],[Output Voltage]]","v":4.8},240,"K",{"$f":"IF(1200/Table2[[#This Row],[Module rated power]]>6,6,ROUNDDOWN(1200/Table2[[#This Row],[Module rated power]],0))","v":5},{"$f":"Table2[[#This Row],[Module rated power]]*Table2[[#This Row],[Available No. of Slot]]","v":1200},{"$f":"ROUNDDOWN(Table2[[#This Row],[Max power per output]]/Table2[[#This Row],[Output Voltage]],2)","v":24},null,null,null,null,null,null,null,null,null,51.7,{"$f":"IF(S$1=0,0,IF(Configuration!$F$7=\"D\",$R$274,Table7[[#This Row],[Vo]]))","v":0},{"$f":"IF(T$1=0,0,IF(Configuration!$F$8=\"D\",$R$274,Table7[[#This Row],[Vo]]))","v":0},{"$f":"IF(U$1=0,0,IF(Configuration!$F$9=\"D\",$R$274,Table7[[#This Row],[Vo]]))","v":0},{"$f":"IF(V$1=0,0,IF(Configuration!$F$10=\"D\",$R$274,Table7[[#This Row],[Vo]]))","v":0},{"$f":"IF(W$1=0,0,IF(Configuration!$F$11=\"D\",$R$274,Table7[[#This Row],[Vo]]))","v":0},{"$f":"IF(X$1=0,0,IF(Configuration!$F$12=\"D\",$R$274,Table7[[#This Row],[Vo]]))","v":0},{"$f":"IF(Y$1=0,0,IF(Configuration!$F$13=\"D\",$R$274,Table7[[#This Row],[Vo]]))","v":0},{"$f":"IF(Z$1=0,0,IF(Configuration!$F$14=\"D\",$R$274,Table7[[#This Row],[Vo]]))","v":0},{"$f":"IF(AA$1=0,0,IF(Configuration!$F$15=\"D\",$R$274,Table7[[#This Row],[Vo]]))","v":0},{"$f":"IF(AB$1=0,0,IF(Configuration!$F$16=\"D\",$R$274,Table7[[#This Row],[Vo]]))","v":0},{"$f":"IF(AC$1=0,0,IF(Configuration!$F$17=\"D\",$R$274,Table7[[#This Row],[Vo]]))","v":0}]
[50.1,"NMS-240-48",{"$f":"Table2[[#This Row],[Module rated power]]/Table2[[#This Row],[Output Voltage]]","v":4.7904191616766463},240,"K",{"$f":"IF(1200/Table2[[#This Row],[Module rated power]]>6,6,ROUNDDOWN(1200/Table2[[#This Row],[Module rated power]],0))","v":5},{"$f":"Table2[[#This Row],[Module rated power]]*Table2[[#This Row],[Available No. of Slot]]","v":1200},{"$f":"ROUNDDOWN(Table2[[#This Row],[Max power per output]]/Table2[[#This Row],[Output Voltage]],2)","v":23.95},null,null,null,null,null,null,null,null,null,51.8,{"$f":"IF(S$1=0,0,IF(Configuration!$F$7=\"D\",$R$274,Table7[[#This Row],[Vo]]))","v":0},{"$f":"IF(T$1=0,0,IF(Configuration!$F$8=\"D\",$R$274,Table7[[#This Row],[Vo]]))","v":0},{"$f":"IF(U$1=0,0,IF(Configuration!$F$9=\"D\",$R$274,Table7[[#This Row],[Vo]]))","v":0},{"$f":"IF(V$1=0,0,IF(Configuration!$F$10=\"D\",$R$274,Table7[[#This Row],[Vo]]))","v":0},{"$f":"IF(W$1=0,0,IF(Configuration!$F$11=\"D\",$R$274,Table7[[#This Row],[Vo]]))","v":0},{"$f":"IF(X$1=0,0,IF(Configuration!$F$12=\"D\",$R$274,Table7[[#This Row],[Vo]]))","v":0},{"$f":"IF(Y$1=0,0,IF(Configuration!$F$13=\"D\",$R$274,Table7[[#This Row],[Vo]]))","v":0},{"$f":"IF(Z$1=0,0,IF(Configuration!$F$14=\"D\",$R$274,Table7[[#This Row],[Vo]]))","v":0},{"$f":"IF(AA$1=0,0,IF(Configuration!$F$15=\"D\",$R$274,Table7[[#This Row],[Vo]]))","v":0},{"$f":"IF(AB$1=0,0,IF(Configuration!$F$16=\"D\",$R$274,Table7[[#This Row],[Vo]]))","v":0},{"$f":"IF(AC$1=0,0,IF(Configuration!$F$17=\"D\",$R$274,Table7[[#This Row],[Vo]]))","v":0}]
[50.2,"NMS-240-48",{"$f":"Table2[[#This Row],[Module rated power]]/Table2[[#This Row],[Output Voltage]]","v":4.7808764940239037},240,"K",{"$f":"IF(1200/Table2[[#This Row],[Module rated power]]>6,6,ROUNDDOWN(1200/Table2[[#This Row],[Module rated power]],0))","v":5},{"$f":"Table2[[#This Row],[Module rated power]]*Table2[[#This Row],[Available No. of Slot]]","v":1200},{"$f":"ROUNDDOWN(Table2[[#This Row],[Max power per output]]/Table2[[#This Row],[Output Voltage]],2)","v":23.9},null,null,null,null,null,null,null,null,null,51.9,{"$f":"IF(S$1=0,0,IF(Configuration!$F$7=\"D\",$R$274,Table7[[#This Row],[Vo]]))","v":0},{"$f":"IF(T$1=0,0,IF(Configuration!$F$8=\"D\",$R$274,Table7[[#This Row],[Vo]]))","v":0},{"$f":"IF(U$1=0,0,IF(Configuration!$F$9=\"D\",$R$274,Table7[[#This Row],[Vo]]))","v":0},{"$f":"IF(V$1=0,0,IF(Configuration!$F$10=\"D\",$R$274,Table7[[#This Row],[Vo]]))","v":0},{"$f":"IF(W$1=0,0,IF(Configuration!$F$11=\"D\",$R$274,Table7[[#This Row],[Vo]]))","v":0},{"$f":"IF(X$1=0,0,IF(Configuration!$F$12=\"D\",$R$274,Table7[[#This Row],[Vo]]))","v":0},{"$f":"IF(Y$1=0,0,IF(Configuration!$F$13=\"D\",$R$274,Table7[[#This Row],[Vo]]))","v":0},{"$f":"IF(Z$1=0,0,IF(Configuration!$F$14=\"D\",$R$274,Table7[[#This Row],[Vo]]))","v":0},{"$f":"IF(AA$1=0,0,IF(Configuration!$F$15=\"D\",$R$274,Table7[[#This Row],[Vo]]))","v":0},{"$f":"IF(AB$1=0,0,IF(Configuration!$F$16=\"D\",$R$274,Table7[[#This Row],[Vo]]))","v":0},{"$f":"IF(AC$1=0,0,IF(Configuration!$F$17=\"D\",$R$274,Table7[[#This Row],[Vo]]))","v":0}]
[50.3,"NMS-240-48",{"$f":"Table2[[#This Row],[Module rated power]]/Table2[[#This Row],[Output Voltage]]","v":4.7713717693836983},240,"K",{"$f":"IF(1200/Table2[[#This Row],[Module rated power]]>6,6,ROUNDDOWN(1200/Table2[[#This Row],[Module rated power]],0))","v":5},{"$f":"Table2[[#This Row],[Module rated power]]*Table2[[#This Row],[Available No. of Slot]]","v":1200},{"$f":"ROUNDDOWN(Table2[[#This Row],[Max power per output]]/Table2[[#This Row],[Output Voltage]],2)","v":23.85},null,null,null,null,null,null,null,null,null,52,{"$f":"IF(S$1=0,0,IF(Configuration!$F$7=\"D\",$R$274,Table7[[#This Row],[Vo]]))","v":0},{"$f":"IF(T$1=0,0,IF(Configuration!$F$8=\"D\",$R$274,Table7[[#This Row],[Vo]]))","v":0},{"$f":"IF(U$1=0,0,IF(Configuration!$F$9=\"D\",$R$274,Table7[[#This Row],[Vo]]))","v":0},{"$f":"IF(V$1=0,0,IF(Configuration!$F$10=\"D\",$R$274,Table7[[#This Row],[Vo]]))","v":0},{"$f":"IF(W$1=0,0,IF(Configuration!$F$11=\"D\",$R$274,Table7[[#This Row],[Vo]]))","v":0},{"$f":"IF(X$1=0,0,IF(Configuration!$F$12=\"D\",$R$274,Table7[[#This Row],[Vo]]))","v":0},{"$f":"IF(Y$1=0,0,IF(Configuration!$F$13=\"D\",$R$274,Table7[[#This Row],[Vo]]))","v":0},{"$f":"IF(Z$1=0,0,IF(Configuration!$F$14=\"D\",$R$274,Table7[[#This Row],[Vo]]))","v":0},{"$f":"IF(AA$1=0,0,IF(Configuration!$F$15=\"D\",$R$274,Table7[[#This Row],[Vo]]))","v":0},{"$f":"IF(AB$1=0,0,IF(Configuration!$F$16=\"D\",$R$274,Table7[[#This Row],[Vo]]))","v":0},{"$f":"IF(AC$1=0,0,IF(Configuration!$F$17=\"D\",$R$274,Table7[[#This Row],[Vo]]))","v":0}]
[50.4,"NMS-240-48",{"$f":"Table2[[#This Row],[Module rated power]]/Table2[[#This Row],[Output Voltage]]","v":4.7619047619047619},240,"K",{"$f":"IF(1200/Table2[[#This Row],[Module rated power]]>6,6,ROUNDDOWN(1200/Table2[[#This Row],[Module rated power]],0))","v":5},{"$f":"Table2[[#This Row],[Module rated power]]*Table2[[#This Row],[Available No. of Slot]]","v":1200},{"$f":"ROUNDDOWN(Table2[[#This Row],[Max power per output]]/Table2[[#This Row],[Output Voltage]],2)","v":23.8},null,null,null,null,null,null,null,null,null,52.1,{"$f":"IF(S$1=0,0,IF(Configuration!$F$7=\"D\",$R$274,Table7[[#This Row],[Vo]]))","v":0},{"$f":"IF(T$1=0,0,IF(Configuration!$F$8=\"D\",$R$274,Table7[[#This Row],[Vo]]))","v":0},{"$f":"IF(U$1=0,0,IF(Configuration!$F$9=\"D\",$R$274,Table7[[#This Row],[Vo]]))","v":0},{"$f":"IF(V$1=0,0,IF(Configuration!$F$10=\"D\",$R$274,Table7[[#This Row],[Vo]]))","v":0},{"$f":"IF(W$1=0,0,IF(Configuration!$F$11=\"D\",$R$274,Table7[[#This Row],[Vo]]))","v":0},{"$f":"IF(X$1=0,0,IF(Configuration!$F$12=\"D\",$R$274,Table7[[#This Row],[Vo]]))","v":0},{"$f":"IF(Y$1=0,0,IF(Configuration!$F$13=\"D\",$R$274,Table7[[#This Row],[Vo]]))","v":0},{"$f":"IF(Z$1=0,0,IF(Configuration!$F$14=\"D\",$R$274,Table7[[#This Row],[Vo]]))","v":0},{"$f":"IF(AA$1=0,0,IF(Configuration!$F$15=\"D\",$R$274,Table7[[#This Row],[Vo]]))","v":0},{"$f":"IF(AB$1=0,0,IF(Configuration!$F$16=\"D\",$R$274,Table7[[#This Row],[Vo]]))","v":0},{"$f":"IF(AC$1=0,0,IF(Configuration!$F$17=\"D\",$R$274,Table7[[#This Row],[Vo]]))","v":0}]
[50.5,"NMS-240-48",{"$f":"Table2[[#This Row],[Module rated power]]/Table2[[#This Row],[Output Voltage]]","v":4.7524752475247523},240,"K",{"$f":"IF(1200/Table2[[#This Row],[Module rated power]]>6,6,ROUNDDOWN(1200/Table2[[#This Row],[Module rated power]],0))","v":5},{"$f":"Table2[[#This Row],[Module rated power]]*Table2[[#This Row],[Available No. of Slot]]","v":1200},{"$f":"ROUNDDOWN(Table2[[#This Row],[Max power per output]]/Table2[[#This Row],[Output Voltage]],2)","v":23.76},null,null,null,null,null,null,null,null,null,52.2,{"$f":"IF(S$1=0,0,IF(Configuration!$F$7=\"D\",$R$274,Table7[[#This Row],[Vo]]))","v":0},{"$f":"IF(T$1=0,0,IF(Configuration!$F$8=\"D\",$R$274,Table7[[#This Row],[Vo]]))","v":0},{"$f":"IF(U$1=0,0,IF(Configuration!$F$9=\"D\",$R$274,Table7[[#This Row],[Vo]]))","v":0},{"$f":"IF(V$1=0,0,IF(Configuration!$F$10=\"D\",$R$274,Table7[[#This Row],[Vo]]))","v":0},{"$f":"IF(W$1=0,0,IF(Configuration!$F$11=\"D\",$R$274,Table7[[#This Row],[Vo]]))","v":0},{"$f":"IF(X$1=0,0,IF(Configuration!$F$12=\"D\",$R$274,Table7[[#This Row],[Vo]]))","v":0},{"$f":"IF(Y$1=0,0,IF(Configuration!$F$13=\"D\",$R$274,Table7[[#This Row],[Vo]]))","v":0},{"$f":"IF(Z$1=0,0,IF(Configuration!$F$14=\"D\",$R$274,Table7[[#This Row],[Vo]]))","v":0},{"$f":"IF(AA$1=0,0,IF(Configuration!$F$15=\"D\",$R$274,Table7[[#This Row],[Vo]]))","v":0},{"$f":"IF(AB$1=0,0,IF(Configuration!$F$16=\"D\",$R$274,Table7[[#This Row],[Vo]]))","v":0},{"$f":"IF(AC$1=0,0,IF(Configuration!$F$17=\"D\",$R$274,Table7[[#This Row],[Vo]]))","v":0}]
[50.6,"NMS-240-48",{"$f":"Table2[[#This Row],[Module rated power]]/Table2[[#This Row],[Output Voltage]]","v":4.7430830039525693},240,"K",{"$f":"IF(1200/Table2[[#This Row],[Module rated power]]>6,6,ROUNDDOWN(1200/Table2[[#This Row],[Module rated power]],0))","v":5},{"$f":"Table2[[#This Row],[Module rated power]]*Table2[[#This Row],[Available No. of Slot]]","v":1200},{"$f":"ROUNDDOWN(Table2[[#This Row],[Max power per output]]/Table2[[#This Row],[Output Voltage]],2)","v":23.71},null,null,null,null,null,null,null,null,null,52.3,{"$f":"IF(S$1=0,0,IF(Configuration!$F$7=\"D\",$R$274,Table7[[#This Row],[Vo]]))","v":0},{"$f":"IF(T$1=0,0,IF(Configuration!$F$8=\"D\",$R$274,Table7[[#This Row],[Vo]]))","v":0},{"$f":"IF(U$1=0,0,IF(Configuration!$F$9=\"D\",$R$274,Table7[[#This Row],[Vo]]))","v":0},{"$f":"IF(V$1=0,0,IF(Configuration!$F$10=\"D\",$R$274,Table7[[#This Row],[Vo]]))","v":0},{"$f":"IF(W$1=0,0,IF(Configuration!$F$11=\"D\",$R$274,Table7[[#This Row],[Vo]]))","v":0},{"$f":"IF(X$1=0,0,IF(Configuration!$F$12=\"D\",$R$274,Table7[[#This Row],[Vo]]))","v":0},{"$f":"IF(Y$1=0,0,IF(Configuration!$F$13=\"D\",$R$274,Table7[[#This Row],[Vo]]))","v":0},{"$f":"IF(Z$1=0,0,IF(Configuration!$F$14=\"D\",$R$274,Table7[[#This Row],[Vo]]))","v":0},{"$f":"IF(AA$1=0,0,IF(Configuration!$F$15=\"D\",$R$274,Table7[[#This Row],[Vo]]))","v":0},{"$f":"IF(AB$1=0,0,IF(Configuration!$F$16=\"D\",$R$274,Table7[[#This Row],[Vo]]))","v":0},{"$f":"IF(AC$1=0,0,IF(Configuration!$F$17=\"D\",$R$274,Table7[[#This Row],[Vo]]))","v":0}]
[50.7,"NMS-240-48",{"$f":"Table2[[#This Row],[Module rated power]]/Table2[[#This Row],[Output Voltage]]","v":4.7337278106508869},240,"K",{"$f":"IF(1200/Table2[[#This Row],[Module rated power]]>6,6,ROUNDDOWN(1200/Table2[[#This Row],[Module rated power]],0))","v":5},{"$f":"Table2[[#This Row],[Module rated power]]*Table2[[#This Row],[Available No. of Slot]]","v":1200},{"$f":"ROUNDDOWN(Table2[[#This Row],[Max power per output]]/Table2[[#This Row],[Output Voltage]],2)","v":23.66},null,null,null,null,null,null,null,null,null,52.4,{"$f":"IF(S$1=0,0,IF(Configuration!$F$7=\"D\",$R$274,Table7[[#This Row],[Vo]]))","v":0},{"$f":"IF(T$1=0,0,IF(Configuration!$F$8=\"D\",$R$274,Table7[[#This Row],[Vo]]))","v":0},{"$f":"IF(U$1=0,0,IF(Configuration!$F$9=\"D\",$R$274,Table7[[#This Row],[Vo]]))","v":0},{"$f":"IF(V$1=0,0,IF(Configuration!$F$10=\"D\",$R$274,Table7[[#This Row],[Vo]]))","v":0},{"$f":"IF(W$1=0,0,IF(Configuration!$F$11=\"D\",$R$274,Table7[[#This Row],[Vo]]))","v":0},{"$f":"IF(X$1=0,0,IF(Configuration!$F$12=\"D\",$R$274,Table7[[#This Row],[Vo]]))","v":0},{"$f":"IF(Y$1=0,0,IF(Configuration!$F$13=\"D\",$R$274,Table7[[#This Row],[Vo]]))","v":0},{"$f":"IF(Z$1=0,0,IF(Configuration!$F$14=\"D\",$R$274,Table7[[#This Row],[Vo]]))","v":0},{"$f":"IF(AA$1=0,0,IF(Configuration!$F$15=\"D\",$R$274,Table7[[#This Row],[Vo]]))","v":0},{"$f":"IF(AB$1=0,0,IF(Configuration!$F$16=\"D\",$R$274,Table7[[#This Row],[Vo]]))","v":0},{"$f":"IF(AC$1=0,0,IF(Configuration!$F$17=\"D\",$R$274,Table7[[#This Row],[Vo]]))","v":0}]
[50.8,"NMS-240-48",{"$f":"Table2[[#This Row],[Module rated power]]/Table2[[#This Row],[Output Voltage]]","v":4.7244094488188981},240,"K",{"$f":"IF(1200/Table2[[#This Row],[Module rated power]]>6,6,ROUNDDOWN(1200/Table2[[#This Row],[Module rated power]],0))","v":5},{"$f":"Table2[[#This Row],[Module rated power]]*Table2[[#This Row],[Available No. of Slot]]","v":1200},{"$f":"ROUNDDOWN(Table2[[#This Row],[Max power per output]]/Table2[[#This Row],[Output Voltage]],2)","v":23.62},null,null,null,null,null,null,null,null,null,52.5,{"$f":"IF(S$1=0,0,IF(Configuration!$F$7=\"D\",$R$274,Table7[[#This Row],[Vo]]))","v":0},{"$f":"IF(T$1=0,0,IF(Configuration!$F$8=\"D\",$R$274,Table7[[#This Row],[Vo]]))","v":0},{"$f":"IF(U$1=0,0,IF(Configuration!$F$9=\"D\",$R$274,Table7[[#This Row],[Vo]]))","v":0},{"$f":"IF(V$1=0,0,IF(Configuration!$F$10=\"D\",$R$274,Table7[[#This Row],[Vo]]))","v":0},{"$f":"IF(W$1=0,0,IF(Configuration!$F$11=\"D\",$R$274,Table7[[#This Row],[Vo]]))","v":0},{"$f":"IF(X$1=0,0,IF(Configuration!$F$12=\"D\",$R$274,Table7[[#This Row],[Vo]]))","v":0},{"$f":"IF(Y$1=0,0,IF(Configuration!$F$13=\"D\",$R$274,Table7[[#This Row],[Vo]]))","v":0},{"$f":"IF(Z$1=0,0,IF(Configuration!$F$14=\"D\",$R$274,Table7[[#This Row],[Vo]]))","v":0},{"$f":"IF(AA$1=0,0,IF(Configuration!$F$15=\"D\",$R$274,Table7[[#This Row],[Vo]]))","v":0},{"$f":"IF(AB$1=0,0,IF(Configuration!$F$16=\"D\",$R$274,Table7[[#This Row],[Vo]]))","v":0},{"$f":"IF(AC$1=0,0,IF(Configuration!$F$17=\"D\",$R$274,Table7[[#This Row],[Vo]]))","v":0}]
[50.9,"NMS-240-48",{"$f":"Table2[[#This Row],[Module rated power]]/Table2[[#This Row],[Output Voltage]]","v":4.7151277013752457},240,"K",{"$f":"IF(1200/Table2[[#This Row],[Module rated power]]>6,6,ROUNDDOWN(1200/Table2[[#This Row],[Module rated power]],0))","v":5},{"$f":"Table2[[#This Row],[Module rated power]]*Table2[[#This Row],[Available No. of Slot]]","v":1200},{"$f":"ROUNDDOWN(Table2[[#This Row],[Max power per output]]/Table2[[#This Row],[Output Voltage]],2)","v":23.57},null,null,null,null,null,null,null,null,null,52.6,{"$f":"IF(S$1=0,0,IF(Configuration!$F$7=\"D\",$R$274,Table7[[#This Row],[Vo]]))","v":0},{"$f":"IF(T$1=0,0,IF(Configuration!$F$8=\"D\",$R$274,Table7[[#This Row],[Vo]]))","v":0},{"$f":"IF(U$1=0,0,IF(Configuration!$F$9=\"D\",$R$274,Table7[[#This Row],[Vo]]))","v":0},{"$f":"IF(V$1=0,0,IF(Configuration!$F$10=\"D\",$R$274,Table7[[#This Row],[Vo]]))","v":0},{"$f":"IF(W$1=0,0,IF(Configuration!$F$11=\"D\",$R$274,Table7[[#This Row],[Vo]]))","v":0},{"$f":"IF(X$1=0,0,IF(Configuration!$F$12=\"D\",$R$274,Table7[[#This Row],[Vo]]))","v":0},{"$f":"IF(Y$1=0,0,IF(Configuration!$F$13=\"D\",$R$274,Table7[[#This Row],[Vo]]))","v":0},{"$f":"IF(Z$1=0,0,IF(Configuration!$F$14=\"D\",$R$274,Table7[[#This Row],[Vo]]))","v":0},{"$f":"IF(AA$1=0,0,IF(Configuration!$F$15=\"D\",$R$274,Table7[[#This Row],[Vo]]))","v":0},{"$f":"IF(AB$1=0,0,IF(Configuration!$F$16=\"D\",$R$274,Table7[[#This Row],[Vo]]))","v":0},{"$f":"IF(AC$1=0,0,IF(Configuration!$F$17=\"D\",$R$274,Table7[[#This Row],[Vo]]))","v":0}]
[51,"NMS-240-48",{"$f":"Table2[[#This Row],[Module rated power]]/Table2[[#This Row],[Output Voltage]]","v":4.7058823529411766},240,"K",{"$f":"IF(1200/Table2[[#This Row],[Module rated power]]>6,6,ROUNDDOWN(1200/Table2[[#This Row],[Module rated power]],0))","v":5},{"$f":"Table2[[#This Row],[Module rated power]]*Table2[[#This Row],[Available No. of Slot]]","v":1200},{"$f":"ROUNDDOWN(Table2[[#This Row],[Max power per output]]/Table2[[#This Row],[Output Voltage]],2)","v":23.52},null,null,null,null,null,null,null,null,null,52.7,{"$f":"IF(S$1=0,0,IF(Configuration!$F$7=\"D\",$R$274,Table7[[#This Row],[Vo]]))","v":0},{"$f":"IF(T$1=0,0,IF(Configuration!$F$8=\"D\",$R$274,Table7[[#This Row],[Vo]]))","v":0},{"$f":"IF(U$1=0,0,IF(Configuration!$F$9=\"D\",$R$274,Table7[[#This Row],[Vo]]))","v":0},{"$f":"IF(V$1=0,0,IF(Configuration!$F$10=\"D\",$R$274,Table7[[#This Row],[Vo]]))","v":0},{"$f":"IF(W$1=0,0,IF(Configuration!$F$11=\"D\",$R$274,Table7[[#This Row],[Vo]]))","v":0},{"$f":"IF(X$1=0,0,IF(Configuration!$F$12=\"D\",$R$274,Table7[[#This Row],[Vo]]))","v":0},{"$f":"IF(Y$1=0,0,IF(Configuration!$F$13=\"D\",$R$274,Table7[[#This Row],[Vo]]))","v":0},{"$f":"IF(Z$1=0,0,IF(Configuration!$F$14=\"D\",$R$274,Table7[[#This Row],[Vo]]))","v":0},{"$f":"IF(AA$1=0,0,IF(Configuration!$F$15=\"D\",$R$274,Table7[[#This Row],[Vo]]))","v":0},{"$f":"IF(AB$1=0,0,IF(Configuration!$F$16=\"D\",$R$274,Table7[[#This Row],[Vo]]))","v":0},{"$f":"IF(AC$1=0,0,IF(Configuration!$F$17=\"D\",$R$274,Table7[[#This Row],[Vo]]))","v":0}]
[51.1,"NMS-240-48",{"$f":"Table2[[#This Row],[Module rated power]]/Table2[[#This Row],[Output Voltage]]","v":4.6966731898238745},240,"K",{"$f":"IF(1200/Table2[[#This Row],[Module rated power]]>6,6,ROUNDDOWN(1200/Table2[[#This Row],[Module rated power]],0))","v":5},{"$f":"Table2[[#This Row],[Module rated power]]*Table2[[#This Row],[Available No. of Slot]]","v":1200},{"$f":"ROUNDDOWN(Table2[[#This Row],[Max power per output]]/Table2[[#This Row],[Output Voltage]],2)","v":23.48},null,null,null,null,null,null,null,null,null,52.8,{"$f":"IF(S$1=0,0,IF(Configuration!$F$7=\"D\",$R$274,Table7[[#This Row],[Vo]]))","v":0},{"$f":"IF(T$1=0,0,IF(Configuration!$F$8=\"D\",$R$274,Table7[[#This Row],[Vo]]))","v":0},{"$f":"IF(U$1=0,0,IF(Configuration!$F$9=\"D\",$R$274,Table7[[#This Row],[Vo]]))","v":0},{"$f":"IF(V$1=0,0,IF(Configuration!$F$10=\"D\",$R$274,Table7[[#This Row],[Vo]]))","v":0},{"$f":"IF(W$1=0,0,IF(Configuration!$F$11=\"D\",$R$274,Table7[[#This Row],[Vo]]))","v":0},{"$f":"IF(X$1=0,0,IF(Configuration!$F$12=\"D\",$R$274,Table7[[#This Row],[Vo]]))","v":0},{"$f":"IF(Y$1=0,0,IF(Configuration!$F$13=\"D\",$R$274,Table7[[#This Row],[Vo]]))","v":0},{"$f":"IF(Z$1=0,0,IF(Configuration!$F$14=\"D\",$R$274,Table7[[#This Row],[Vo]]))","v":0},{"$f":"IF(AA$1=0,0,IF(Configuration!$F$15=\"D\",$R$274,Table7[[#This Row],[Vo]]))","v":0},{"$f":"IF(AB$1=0,0,IF(Configuration!$F$16=\"D\",$R$274,Table7[[#This Row],[Vo]]))","v":0},{"$f":"IF(AC$1=0,0,IF(Configuration!$F$17=\"D\",$R$274,Table7[[#This Row],[Vo]]))","v":0}]
[51.2,"NMS-240-48",{"$f":"Table2[[#This Row],[Module rated power]]/Table2[[#This Row],[Output Voltage]]","v":4.6875},240,"K",{"$f":"IF(1200/Table2[[#This Row],[Module rated power]]>6,6,ROUNDDOWN(1200/Table2[[#This Row],[Module rated power]],0))","v":5},{"$f":"Table2[[#This Row],[Module rated power]]*Table2[[#This Row],[Available No. of Slot]]","v":1200},{"$f":"ROUNDDOWN(Table2[[#This Row],[Max power per output]]/Table2[[#This Row],[Output Voltage]],2)","v":23.43},null,null,null,null,null,null,null,null,null,52.9,{"$f":"IF(S$1=0,0,IF(Configuration!$F$7=\"D\",$R$274,Table7[[#This Row],[Vo]]))","v":0},{"$f":"IF(T$1=0,0,IF(Configuration!$F$8=\"D\",$R$274,Table7[[#This Row],[Vo]]))","v":0},{"$f":"IF(U$1=0,0,IF(Configuration!$F$9=\"D\",$R$274,Table7[[#This Row],[Vo]]))","v":0},{"$f":"IF(V$1=0,0,IF(Configuration!$F$10=\"D\",$R$274,Table7[[#This Row],[Vo]]))","v":0},{"$f":"IF(W$1=0,0,IF(Configuration!$F$11=\"D\",$R$274,Table7[[#This Row],[Vo]]))","v":0},{"$f":"IF(X$1=0,0,IF(Configuration!$F$12=\"D\",$R$274,Table7[[#This Row],[Vo]]))","v":0},{"$f":"IF(Y$1=0,0,IF(Configuration!$F$13=\"D\",$R$274,Table7[[#This Row],[Vo]]))","v":0},{"$f":"IF(Z$1=0,0,IF(Configuration!$F$14=\"D\",$R$274,Table7[[#This Row],[Vo]]))","v":0},{"$f":"IF(AA$1=0,0,IF(Configuration!$F$15=\"D\",$R$274,Table7[[#This Row],[Vo]]))","v":0},{"$f":"IF(AB$1=0,0,IF(Configuration!$F$16=\"D\",$R$274,Table7[[#This Row],[Vo]]))","v":0},{"$f":"IF(AC$1=0,0,IF(Configuration!$F$17=\"D\",$R$274,Table7[[#This Row],[Vo]]))","v":0}]
[51.3,"NMS-240-48",{"$f":"Table2[[#This Row],[Module rated power]]/Table2[[#This Row],[Output Voltage]]","v":4.6783625730994158},240,"K",{"$f":"IF(1200/Table2[[#This Row],[Module rated power]]>6,6,ROUNDDOWN(1200/Table2[[#This Row],[Module rated power]],0))","v":5},{"$f":"Table2[[#This Row],[Module rated power]]*Table2[[#This Row],[Available No. of Slot]]","v":1200},{"$f":"ROUNDDOWN(Table2[[#This Row],[Max power per output]]/Table2[[#This Row],[Output Voltage]],2)","v":23.39},null,null,null,null,null,null,null,null,null,53,{"$f":"IF(S$1=0,0,IF(Configuration!$F$7=\"D\",$R$274,Table7[[#This Row],[Vo]]))","v":0},{"$f":"IF(T$1=0,0,IF(Configuration!$F$8=\"D\",$R$274,Table7[[#This Row],[Vo]]))","v":0},{"$f":"IF(U$1=0,0,IF(Configuration!$F$9=\"D\",$R$274,Table7[[#This Row],[Vo]]))","v":0},{"$f":"IF(V$1=0,0,IF(Configuration!$F$10=\"D\",$R$274,Table7[[#This Row],[Vo]]))","v":0},{"$f":"IF(W$1=0,0,IF(Configuration!$F$11=\"D\",$R$274,Table7[[#This Row],[Vo]]))","v":0},{"$f":"IF(X$1=0,0,IF(Configuration!$F$12=\"D\",$R$274,Table7[[#This Row],[Vo]]))","v":0},{"$f":"IF(Y$1=0,0,IF(Configuration!$F$13=\"D\",$R$274,Table7[[#This Row],[Vo]]))","v":0},{"$f":"IF(Z$1=0,0,IF(Configuration!$F$14=\"D\",$R$274,Table7[[#This Row],[Vo]]))","v":0},{"$f":"IF(AA$1=0,0,IF(Configuration!$F$15=\"D\",$R$274,Table7[[#This Row],[Vo]]))","v":0},{"$f":"IF(AB$1=0,0,IF(Configuration!$F$16=\"D\",$R$274,Table7[[#This Row],[Vo]]))","v":0},{"$f":"IF(AC$1=0,0,IF(Configuration!$F$17=\"D\",$R$274,Table7[[#This Row],[Vo]]))","v":0}]
[51.4,"NMS-240-48",{"$f":"Table2[[#This Row],[Module rated power]]/Table2[[#This Row],[Output Voltage]]","v":4.6692607003891053},240,"K",{"$f":"IF(1200/Table2[[#This Row],[Module rated power]]>6,6,ROUNDDOWN(1200/Table2[[#This Row],[Module rated power]],0))","v":5},{"$f":"Table2[[#This Row],[Module rated power]]*Table2[[#This Row],[Available No. of Slot]]","v":1200},{"$f":"ROUNDDOWN(Table2[[#This Row],[Max power per output]]/Table2[[#This Row],[Output Voltage]],2)","v":23.34},null,null,null,null,null,null,null,null,null,53.1,{"$f":"IF(S$1=0,0,IF(Configuration!$F$7=\"D\",$R$274,Table7[[#This Row],[Vo]]))","v":0},{"$f":"IF(T$1=0,0,IF(Configuration!$F$8=\"D\",$R$274,Table7[[#This Row],[Vo]]))","v":0},{"$f":"IF(U$1=0,0,IF(Configuration!$F$9=\"D\",$R$274,Table7[[#This Row],[Vo]]))","v":0},{"$f":"IF(V$1=0,0,IF(Configuration!$F$10=\"D\",$R$274,Table7[[#This Row],[Vo]]))","v":0},{"$f":"IF(W$1=0,0,IF(Configuration!$F$11=\"D\",$R$274,Table7[[#This Row],[Vo]]))","v":0},{"$f":"IF(X$1=0,0,IF(Configuration!$F$12=\"D\",$R$274,Table7[[#This Row],[Vo]]))","v":0},{"$f":"IF(Y$1=0,0,IF(Configuration!$F$13=\"D\",$R$274,Table7[[#This Row],[Vo]]))","v":0},{"$f":"IF(Z$1=0,0,IF(Configuration!$F$14=\"D\",$R$274,Table7[[#This Row],[Vo]]))","v":0},{"$f":"IF(AA$1=0,0,IF(Configuration!$F$15=\"D\",$R$274,Table7[[#This Row],[Vo]]))","v":0},{"$f":"IF(AB$1=0,0,IF(Configuration!$F$16=\"D\",$R$274,Table7[[#This Row],[Vo]]))","v":0},{"$f":"IF(AC$1=0,0,IF(Configuration!$F$17=\"D\",$R$274,Table7[[#This Row],[Vo]]))","v":0}]
[51.5,"NMS-240-48",{"$f":"Table2[[#This Row],[Module rated power]]/Table2[[#This Row],[Output Voltage]]","v":4.6601941747572813},240,"K",{"$f":"IF(1200/Table2[[#This Row],[Module rated power]]>6,6,ROUNDDOWN(1200/Table2[[#This Row],[Module rated power]],0))","v":5},{"$f":"Table2[[#This Row],[Module rated power]]*Table2[[#This Row],[Available No. of Slot]]","v":1200},{"$f":"ROUNDDOWN(Table2[[#This Row],[Max power per output]]/Table2[[#This Row],[Output Voltage]],2)","v":23.3},null,null,null,null,null,null,null,null,null,53.2,{"$f":"IF(S$1=0,0,IF(Configuration!$F$7=\"D\",$R$274,Table7[[#This Row],[Vo]]))","v":0},{"$f":"IF(T$1=0,0,IF(Configuration!$F$8=\"D\",$R$274,Table7[[#This Row],[Vo]]))","v":0},{"$f":"IF(U$1=0,0,IF(Configuration!$F$9=\"D\",$R$274,Table7[[#This Row],[Vo]]))","v":0},{"$f":"IF(V$1=0,0,IF(Configuration!$F$10=\"D\",$R$274,Table7[[#This Row],[Vo]]))","v":0},{"$f":"IF(W$1=0,0,IF(Configuration!$F$11=\"D\",$R$274,Table7[[#This Row],[Vo]]))","v":0},{"$f":"IF(X$1=0,0,IF(Configuration!$F$12=\"D\",$R$274,Table7[[#This Row],[Vo]]))","v":0},{"$f":"IF(Y$1=0,0,IF(Configuration!$F$13=\"D\",$R$274,Table7[[#This Row],[Vo]]))","v":0},{"$f":"IF(Z$1=0,0,IF(Configuration!$F$14=\"D\",$R$274,Table7[[#This Row],[Vo]]))","v":0},{"$f":"IF(AA$1=0,0,IF(Configuration!$F$15=\"D\",$R$274,Table7[[#This Row],[Vo]]))","v":0},{"$f":"IF(AB$1=0,0,IF(Configuration!$F$16=\"D\",$R$274,Table7[[#This Row],[Vo]]))","v":0},{"$f":"IF(AC$1=0,0,IF(Configuration!$F$17=\"D\",$R$274,Table7[[#This Row],[Vo]]))","v":0}]
[51.6,"NMS-240-48",{"$f":"Table2[[#This Row],[Module rated power]]/Table2[[#This Row],[Output Voltage]]","v":4.6511627906976747},240,"K",{"$f":"IF(1200/Table2[[#This Row],[Module rated power]]>6,6,ROUNDDOWN(1200/Table2[[#This Row],[Module rated power]],0))","v":5},{"$f":"Table2[[#This Row],[Module rated power]]*Table2[[#This Row],[Available No. of Slot]]","v":1200},{"$f":"ROUNDDOWN(Table2[[#This Row],[Max power per output]]/Table2[[#This Row],[Output Voltage]],2)","v":23.25},null,null,null,null,null,null,null,null,null,53.3,{"$f":"IF(S$1=0,0,IF(Configuration!$F$7=\"D\",$R$274,Table7[[#This Row],[Vo]]))","v":0},{"$f":"IF(T$1=0,0,IF(Configuration!$F$8=\"D\",$R$274,Table7[[#This Row],[Vo]]))","v":0},{"$f":"IF(U$1=0,0,IF(Configuration!$F$9=\"D\",$R$274,Table7[[#This Row],[Vo]]))","v":0},{"$f":"IF(V$1=0,0,IF(Configuration!$F$10=\"D\",$R$274,Table7[[#This Row],[Vo]]))","v":0},{"$f":"IF(W$1=0,0,IF(Configuration!$F$11=\"D\",$R$274,Table7[[#This Row],[Vo]]))","v":0},{"$f":"IF(X$1=0,0,IF(Configuration!$F$12=\"D\",$R$274,Table7[[#This Row],[Vo]]))","v":0},{"$f":"IF(Y$1=0,0,IF(Configuration!$F$13=\"D\",$R$274,Table7[[#This Row],[Vo]]))","v":0},{"$f":"IF(Z$1=0,0,IF(Configuration!$F$14=\"D\",$R$274,Table7[[#This Row],[Vo]]))","v":0},{"$f":"IF(AA$1=0,0,IF(Configuration!$F$15=\"D\",$R$274,Table7[[#This Row],[Vo]]))","v":0},{"$f":"IF(AB$1=0,0,IF(Configuration!$F$16=\"D\",$R$274,Table7[[#This Row],[Vo]]))","v":0},{"$f":"IF(AC$1=0,0,IF(Configuration!$F$17=\"D\",$R$274,Table7[[#This Row],[Vo]]))","v":0}]
[51.7,"NMS-240-48",{"$f":"Table2[[#This Row],[Module rated power]]/Table2[[#This Row],[Output Voltage]]","v":4.6421663442940035},240,"K",{"$f":"IF(1200/Table2[[#This Row],[Module rated power]]>6,6,ROUNDDOWN(1200/Table2[[#This Row],[Module rated power]],0))","v":5},{"$f":"Table2[[#This Row],[Module rated power]]*Table2[[#This Row],[Available No. of Slot]]","v":1200},{"$f":"ROUNDDOWN(Table2[[#This Row],[Max power per output]]/Table2[[#This Row],[Output Voltage]],2)","v":23.21},null,null,null,null,null,null,null,null,null,53.4,{"$f":"IF(S$1=0,0,IF(Configuration!$F$7=\"D\",$R$274,Table7[[#This Row],[Vo]]))","v":0},{"$f":"IF(T$1=0,0,IF(Configuration!$F$8=\"D\",$R$274,Table7[[#This Row],[Vo]]))","v":0},{"$f":"IF(U$1=0,0,IF(Configuration!$F$9=\"D\",$R$274,Table7[[#This Row],[Vo]]))","v":0},{"$f":"IF(V$1=0,0,IF(Configuration!$F$10=\"D\",$R$274,Table7[[#This Row],[Vo]]))","v":0},{"$f":"IF(W$1=0,0,IF(Configuration!$F$11=\"D\",$R$274,Table7[[#This Row],[Vo]]))","v":0},{"$f":"IF(X$1=0,0,IF(Configuration!$F$12=\"D\",$R$274,Table7[[#This Row],[Vo]]))","v":0},{"$f":"IF(Y$1=0,0,IF(Configuration!$F$13=\"D\",$R$274,Table7[[#This Row],[Vo]]))","v":0},{"$f":"IF(Z$1=0,0,IF(Configuration!$F$14=\"D\",$R$274,Table7[[#This Row],[Vo]]))","v":0},{"$f":"IF(AA$1=0,0,IF(Configuration!$F$15=\"D\",$R$274,Table7[[#This Row],[Vo]]))","v":0},{"$f":"IF(AB$1=0,0,IF(Configuration!$F$16=\"D\",$R$274,Table7[[#This Row],[Vo]]))","v":0},{"$f":"IF(AC$1=0,0,IF(Configuration!$F$17=\"D\",$R$274,Table7[[#This Row],[Vo]]))","v":0}]
[51.8,"NMS-240-48",{"$f":"Table2[[#This Row],[Module rated power]]/Table2[[#This Row],[Output Voltage]]","v":4.6332046332046337},240,"K",{"$f":"IF(1200/Table2[[#This Row],[Module rated power]]>6,6,ROUNDDOWN(1200/Table2[[#This Row],[Module rated power]],0))","v":5},{"$f":"Table2[[#This Row],[Module rated power]]*Table2[[#This Row],[Available No. of Slot]]","v":1200},{"$f":"ROUNDDOWN(Table2[[#This Row],[Max power per output]]/Table2[[#This Row],[Output Voltage]],2)","v":23.16},null,null,null,null,null,null,null,null,null,53.5,{"$f":"IF(S$1=0,0,IF(Configuration!$F$7=\"D\",$R$274,Table7[[#This Row],[Vo]]))","v":0},{"$f":"IF(T$1=0,0,IF(Configuration!$F$8=\"D\",$R$274,Table7[[#This Row],[Vo]]))","v":0},{"$f":"IF(U$1=0,0,IF(Configuration!$F$9=\"D\",$R$274,Table7[[#This Row],[Vo]]))","v":0},{"$f":"IF(V$1=0,0,IF(Configuration!$F$10=\"D\",$R$274,Table7[[#This Row],[Vo]]))","v":0},{"$f":"IF(W$1=0,0,IF(Configuration!$F$11=\"D\",$R$274,Table7[[#This Row],[Vo]]))","v":0},{"$f":"IF(X$1=0,0,IF(Configuration!$F$12=\"D\",$R$274,Table7[[#This Row],[Vo]]))","v":0},{"$f":"IF(Y$1=0,0,IF(Configuration!$F$13=\"D\",$R$274,Table7[[#This Row],[Vo]]))","v":0},{"$f":"IF(Z$1=0,0,IF(Configuration!$F$14=\"D\",$R$274,Table7[[#This Row],[Vo]]))","v":0},{"$f":"IF(AA$1=0,0,IF(Configuration!$F$15=\"D\",$R$274,Table7[[#This Row],[Vo]]))","v":0},{"$f":"IF(AB$1=0,0,IF(Configuration!$F$16=\"D\",$R$274,Table7[[#This Row],[Vo]]))","v":0},{"$f":"IF(AC$1=0,0,IF(Configuration!$F$17=\"D\",$R$274,Table7[[#This Row],[Vo]]))","v":0}]
[51.9,"NMS-240-48",{"$f":"Table2[[#This Row],[Module rated power]]/Table2[[#This Row],[Output Voltage]]","v":4.6242774566473992},240,"K",{"$f":"IF(1200/Table2[[#This Row],[Module rated power]]>6,6,ROUNDDOWN(1200/Table2[[#This Row],[Module rated power]],0))","v":5},{"$f":"Table2[[#This Row],[Module rated power]]*Table2[[#This Row],[Available No. of Slot]]","v":1200},{"$f":"ROUNDDOWN(Table2[[#This Row],[Max power per output]]/Table2[[#This Row],[Output Voltage]],2)","v":23.12},null,null,null,null,null,null,null,null,null,53.6,{"$f":"IF(S$1=0,0,IF(Configuration!$F$7=\"D\",$R$274,Table7[[#This Row],[Vo]]))","v":0},{"$f":"IF(T$1=0,0,IF(Configuration!$F$8=\"D\",$R$274,Table7[[#This Row],[Vo]]))","v":0},{"$f":"IF(U$1=0,0,IF(Configuration!$F$9=\"D\",$R$274,Table7[[#This Row],[Vo]]))","v":0},{"$f":"IF(V$1=0,0,IF(Configuration!$F$10=\"D\",$R$274,Table7[[#This Row],[Vo]]))","v":0},{"$f":"IF(W$1=0,0,IF(Configuration!$F$11=\"D\",$R$274,Table7[[#This Row],[Vo]]))","v":0},{"$f":"IF(X$1=0,0,IF(Configuration!$F$12=\"D\",$R$274,Table7[[#This Row],[Vo]]))","v":0},{"$f":"IF(Y$1=0,0,IF(Configuration!$F$13=\"D\",$R$274,Table7[[#This Row],[Vo]]))","v":0},{"$f":"IF(Z$1=0,0,IF(Configuration!$F$14=\"D\",$R$274,Table7[[#This Row],[Vo]]))","v":0},{"$f":"IF(AA$1=0,0,IF(Configuration!$F$15=\"D\",$R$274,Table7[[#This Row],[Vo]]))","v":0},{"$f":"IF(AB$1=0,0,IF(Configuration!$F$16=\"D\",$R$274,Table7[[#This Row],[Vo]]))","v":0},{"$f":"IF(AC$1=0,0,IF(Configuration!$F$17=\"D\",$R$274,Table7[[#This Row],[Vo]]))","v":0}]
[52,"NMS-240-48",{"$f":"Table2[[#This Row],[Module rated power]]/Table2[[#This Row],[Output Voltage]]","v":4.615384615384615},240,"K",{"$f":"IF(1200/Table2[[#This Row],[Module rated power]]>6,6,ROUNDDOWN(1200/Table2[[#This Row],[Module rated power]],0))","v":5},{"$f":"Table2[[#This Row],[Module rated power]]*Table2[[#This Row],[Available No. of Slot]]","v":1200},{"$f":"ROUNDDOWN(Table2[[#This Row],[Max power per output]]/Table2[[#This Row],[Output Voltage]],2)","v":23.07},null,null,null,null,null,null,null,null,null,53.7,{"$f":"IF(S$1=0,0,IF(Configuration!$F$7=\"D\",$R$274,Table7[[#This Row],[Vo]]))","v":0},{"$f":"IF(T$1=0,0,IF(Configuration!$F$8=\"D\",$R$274,Table7[[#This Row],[Vo]]))","v":0},{"$f":"IF(U$1=0,0,IF(Configuration!$F$9=\"D\",$R$274,Table7[[#This Row],[Vo]]))","v":0},{"$f":"IF(V$1=0,0,IF(Configuration!$F$10=\"D\",$R$274,Table7[[#This Row],[Vo]]))","v":0},{"$f":"IF(W$1=0,0,IF(Configuration!$F$11=\"D\",$R$274,Table7[[#This Row],[Vo]]))","v":0},{"$f":"IF(X$1=0,0,IF(Configuration!$F$12=\"D\",$R$274,Table7[[#This Row],[Vo]]))","v":0},{"$f":"IF(Y$1=0,0,IF(Configuration!$F$13=\"D\",$R$274,Table7[[#This Row],[Vo]]))","v":0},{"$f":"IF(Z$1=0,0,IF(Configuration!$F$14=\"D\",$R$274,Table7[[#This Row],[Vo]]))","v":0},{"$f":"IF(AA$1=0,0,IF(Configuration!$F$15=\"D\",$R$274,Table7[[#This Row],[Vo]]))","v":0},{"$f":"IF(AB$1=0,0,IF(Configuration!$F$16=\"D\",$R$274,Table7[[#This Row],[Vo]]))","v":0},{"$f":"IF(AC$1=0,0,IF(Configuration!$F$17=\"D\",$R$274,Table7[[#This Row],[Vo]]))","v":0}]
[52.1,"NMS-240-48",{"$f":"Table2[[#This Row],[Module rated power]]/Table2[[#This Row],[Output Voltage]]","v":4.6065259117082533},240,"K",{"$f":"IF(1200/Table2[[#This Row],[Module rated power]]>6,6,ROUNDDOWN(1200/Table2[[#This Row],[Module rated power]],0))","v":5},{"$f":"Table2[[#This Row],[Module rated power]]*Table2[[#This Row],[Available No. of Slot]]","v":1200},{"$f":"ROUNDDOWN(Table2[[#This Row],[Max power per output]]/Table2[[#This Row],[Output Voltage]],2)","v":23.03},null,null,null,null,null,null,null,null,null,53.8,{"$f":"IF(S$1=0,0,IF(Configuration!$F$7=\"D\",$R$274,Table7[[#This Row],[Vo]]))","v":0},{"$f":"IF(T$1=0,0,IF(Configuration!$F$8=\"D\",$R$274,Table7[[#This Row],[Vo]]))","v":0},{"$f":"IF(U$1=0,0,IF(Configuration!$F$9=\"D\",$R$274,Table7[[#This Row],[Vo]]))","v":0},{"$f":"IF(V$1=0,0,IF(Configuration!$F$10=\"D\",$R$274,Table7[[#This Row],[Vo]]))","v":0},{"$f":"IF(W$1=0,0,IF(Configuration!$F$11=\"D\",$R$274,Table7[[#This Row],[Vo]]))","v":0},{"$f":"IF(X$1=0,0,IF(Configuration!$F$12=\"D\",$R$274,Table7[[#This Row],[Vo]]))","v":0},{"$f":"IF(Y$1=0,0,IF(Configuration!$F$13=\"D\",$R$274,Table7[[#This Row],[Vo]]))","v":0},{"$f":"IF(Z$1=0,0,IF(Configuration!$F$14=\"D\",$R$274,Table7[[#This Row],[Vo]]))","v":0},{"$f":"IF(AA$1=0,0,IF(Configuration!$F$15=\"D\",$R$274,Table7[[#This Row],[Vo]]))","v":0},{"$f":"IF(AB$1=0,0,IF(Configuration!$F$16=\"D\",$R$274,Table7[[#This Row],[Vo]]))","v":0},{"$f":"IF(AC$1=0,0,IF(Configuration!$F$17=\"D\",$R$274,Table7[[#This Row],[Vo]]))","v":0}]
[52.2,"NMS-240-48",{"$f":"Table2[[#This Row],[Module rated power]]/Table2[[#This Row],[Output Voltage]]","v":4.5977011494252871},240,"K",{"$f":"IF(1200/Table2[[#This Row],[Module rated power]]>6,6,ROUNDDOWN(1200/Table2[[#This Row],[Module rated power]],0))","v":5},{"$f":"Table2[[#This Row],[Module rated power]]*Table2[[#This Row],[Available No. of Slot]]","v":1200},{"$f":"ROUNDDOWN(Table2[[#This Row],[Max power per output]]/Table2[[#This Row],[Output Voltage]],2)","v":22.98},null,null,null,null,null,null,null,null,null,53.9,{"$f":"IF(S$1=0,0,IF(Configuration!$F$7=\"D\",$R$274,Table7[[#This Row],[Vo]]))","v":0},{"$f":"IF(T$1=0,0,IF(Configuration!$F$8=\"D\",$R$274,Table7[[#This Row],[Vo]]))","v":0},{"$f":"IF(U$1=0,0,IF(Configuration!$F$9=\"D\",$R$274,Table7[[#This Row],[Vo]]))","v":0},{"$f":"IF(V$1=0,0,IF(Configuration!$F$10=\"D\",$R$274,Table7[[#This Row],[Vo]]))","v":0},{"$f":"IF(W$1=0,0,IF(Configuration!$F$11=\"D\",$R$274,Table7[[#This Row],[Vo]]))","v":0},{"$f":"IF(X$1=0,0,IF(Configuration!$F$12=\"D\",$R$274,Table7[[#This Row],[Vo]]))","v":0},{"$f":"IF(Y$1=0,0,IF(Configuration!$F$13=\"D\",$R$274,Table7[[#This Row],[Vo]]))","v":0},{"$f":"IF(Z$1=0,0,IF(Configuration!$F$14=\"D\",$R$274,Table7[[#This Row],[Vo]]))","v":0},{"$f":"IF(AA$1=0,0,IF(Configuration!$F$15=\"D\",$R$274,Table7[[#This Row],[Vo]]))","v":0},{"$f":"IF(AB$1=0,0,IF(Configuration!$F$16=\"D\",$R$274,Table7[[#This Row],[Vo]]))","v":0},{"$f":"IF(AC$1=0,0,IF(Configuration!$F$17=\"D\",$R$274,Table7[[#This Row],[Vo]]))","v":0}]
[52.3,"NMS-240-48",{"$f":"Table2[[#This Row],[Module rated power]]/Table2[[#This Row],[Output Voltage]]","v":4.5889101338432123},240,"K",{"$f":"IF(1200/Table2[[#This Row],[Module rated power]]>6,6,ROUNDDOWN(1200/Table2[[#This Row],[Module rated power]],0))","v":5},{"$f":"Table2[[#This Row],[Module rated power]]*Table2[[#This Row],[Available No. of Slot]]","v":1200},{"$f":"ROUNDDOWN(Table2[[#This Row],[Max power per output]]/Table2[[#This Row],[Output Voltage]],2)","v":22.94},null,null,null,null,null,null,null,null,null,54,{"$f":"IF(S$1=0,0,IF(Configuration!$F$7=\"D\",$R$274,Table7[[#This Row],[Vo]]))","v":0},{"$f":"IF(T$1=0,0,IF(Configuration!$F$8=\"D\",$R$274,Table7[[#This Row],[Vo]]))","v":0},{"$f":"IF(U$1=0,0,IF(Configuration!$F$9=\"D\",$R$274,Table7[[#This Row],[Vo]]))","v":0},{"$f":"IF(V$1=0,0,IF(Configuration!$F$10=\"D\",$R$274,Table7[[#This Row],[Vo]]))","v":0},{"$f":"IF(W$1=0,0,IF(Configuration!$F$11=\"D\",$R$274,Table7[[#This Row],[Vo]]))","v":0},{"$f":"IF(X$1=0,0,IF(Configuration!$F$12=\"D\",$R$274,Table7[[#This Row],[Vo]]))","v":0},{"$f":"IF(Y$1=0,0,IF(Configuration!$F$13=\"D\",$R$274,Table7[[#This Row],[Vo]]))","v":0},{"$f":"IF(Z$1=0,0,IF(Configuration!$F$14=\"D\",$R$274,Table7[[#This Row],[Vo]]))","v":0},{"$f":"IF(AA$1=0,0,IF(Configuration!$F$15=\"D\",$R$274,Table7[[#This Row],[Vo]]))","v":0},{"$f":"IF(AB$1=0,0,IF(Configuration!$F$16=\"D\",$R$274,Table7[[#This Row],[Vo]]))","v":0},{"$f":"IF(AC$1=0,0,IF(Configuration!$F$17=\"D\",$R$274,Table7[[#This Row],[Vo]]))","v":0}]
[52.4,"NMS-240-48",{"$f":"Table2[[#This Row],[Module rated power]]/Table2[[#This Row],[Output Voltage]]","v":4.5801526717557257},240,"K",{"$f":"IF(1200/Table2[[#This Row],[Module rated power]]>6,6,ROUNDDOWN(1200/Table2[[#This Row],[Module rated power]],0))","v":5},{"$f":"Table2[[#This Row],[Module rated power]]*Table2[[#This Row],[Available No. of Slot]]","v":1200},{"$f":"ROUNDDOWN(Table2[[#This Row],[Max power per output]]/Table2[[#This Row],[Output Voltage]],2)","v":22.9},null,null,null,null,null,null,null,null,null,54.1,{"$f":"IF(S$1=0,0,IF(Configuration!$F$7=\"D\",$R$274,Table7[[#This Row],[Vo]]))","v":0},{"$f":"IF(T$1=0,0,IF(Configuration!$F$8=\"D\",$R$274,Table7[[#This Row],[Vo]]))","v":0},{"$f":"IF(U$1=0,0,IF(Configuration!$F$9=\"D\",$R$274,Table7[[#This Row],[Vo]]))","v":0},{"$f":"IF(V$1=0,0,IF(Configuration!$F$10=\"D\",$R$274,Table7[[#This Row],[Vo]]))","v":0},{"$f":"IF(W$1=0,0,IF(Configuration!$F$11=\"D\",$R$274,Table7[[#This Row],[Vo]]))","v":0},{"$f":"IF(X$1=0,0,IF(Configuration!$F$12=\"D\",$R$274,Table7[[#This Row],[Vo]]))","v":0},{"$f":"IF(Y$1=0,0,IF(Configuration!$F$13=\"D\",$R$274,Table7[[#This Row],[Vo]]))","v":0},{"$f":"IF(Z$1=0,0,IF(Configuration!$F$14=\"D\",$R$274,Table7[[#This Row],[Vo]]))","v":0},{"$f":"IF(AA$1=0,0,IF(Configuration!$F$15=\"D\",$R$274,Table7[[#This Row],[Vo]]))","v":0},{"$f":"IF(AB$1=0,0,IF(Configuration!$F$16=\"D\",$R$274,Table7[[#This Row],[Vo]]))","v":0},{"$f":"IF(AC$1=0,0,IF(Configuration!$F$17=\"D\",$R$274,Table7[[#This Row],[Vo]]))","v":0}]
[52.5,"NMS-240-48",{"$f":"Table2[[#This Row],[Module rated power]]/Table2[[#This Row],[Output Voltage]]","v":4.5714285714285712},240,"K",{"$f":"IF(1200/Table2[[#This Row],[Module rated power]]>6,6,ROUNDDOWN(1200/Table2[[#This Row],[Module rated power]],0))","v":5},{"$f":"Table2[[#This Row],[Module rated power]]*Table2[[#This Row],[Available No. of Slot]]","v":1200},{"$f":"ROUNDDOWN(Table2[[#This Row],[Max power per output]]/Table2[[#This Row],[Output Voltage]],2)","v":22.85},null,null,null,null,null,null,null,null,null,54.2,{"$f":"IF(S$1=0,0,IF(Configuration!$F$7=\"D\",$R$274,Table7[[#This Row],[Vo]]))","v":0},{"$f":"IF(T$1=0,0,IF(Configuration!$F$8=\"D\",$R$274,Table7[[#This Row],[Vo]]))","v":0},{"$f":"IF(U$1=0,0,IF(Configuration!$F$9=\"D\",$R$274,Table7[[#This Row],[Vo]]))","v":0},{"$f":"IF(V$1=0,0,IF(Configuration!$F$10=\"D\",$R$274,Table7[[#This Row],[Vo]]))","v":0},{"$f":"IF(W$1=0,0,IF(Configuration!$F$11=\"D\",$R$274,Table7[[#This Row],[Vo]]))","v":0},{"$f":"IF(X$1=0,0,IF(Configuration!$F$12=\"D\",$R$274,Table7[[#This Row],[Vo]]))","v":0},{"$f":"IF(Y$1=0,0,IF(Configuration!$F$13=\"D\",$R$274,Table7[[#This Row],[Vo]]))","v":0},{"$f":"IF(Z$1=0,0,IF(Configuration!$F$14=\"D\",$R$274,Table7[[#This Row],[Vo]]))","v":0},{"$f":"IF(AA$1=0,0,IF(Configuration!$F$15=\"D\",$R$274,Table7[[#This Row],[Vo]]))","v":0},{"$f":"IF(AB$1=0,0,IF(Configuration!$F$16=\"D\",$R$274,Table7[[#This Row],[Vo]]))","v":0},{"$f":"IF(AC$1=0,0,IF(Configuration!$F$17=\"D\",$R$274,Table7[[#This Row],[Vo]]))","v":0}]
[52.6,"NMS-240-48",{"$f":"Table2[[#This Row],[Module rated power]]/Table2[[#This Row],[Output Voltage]]","v":4.5627376425855513},240,"K",{"$f":"IF(1200/Table2[[#This Row],[Module rated power]]>6,6,ROUNDDOWN(1200/Table2[[#This Row],[Module rated power]],0))","v":5},{"$f":"Table2[[#This Row],[Module rated power]]*Table2[[#This Row],[Available No. of Slot]]","v":1200},{"$f":"ROUNDDOWN(Table2[[#This Row],[Max power per output]]/Table2[[#This Row],[Output Voltage]],2)","v":22.81},null,null,null,null,null,null,null,null,null,54.3,{"$f":"IF(S$1=0,0,IF(Configuration!$F$7=\"D\",$R$274,Table7[[#This Row],[Vo]]))","v":0},{"$f":"IF(T$1=0,0,IF(Configuration!$F$8=\"D\",$R$274,Table7[[#This Row],[Vo]]))","v":0},{"$f":"IF(U$1=0,0,IF(Configuration!$F$9=\"D\",$R$274,Table7[[#This Row],[Vo]]))","v":0},{"$f":"IF(V$1=0,0,IF(Configuration!$F$10=\"D\",$R$274,Table7[[#This Row],[Vo]]))","v":0},{"$f":"IF(W$1=0,0,IF(Configuration!$F$11=\"D\",$R$274,Table7[[#This Row],[Vo]]))","v":0},{"$f":"IF(X$1=0,0,IF(Configuration!$F$12=\"D\",$R$274,Table7[[#This Row],[Vo]]))","v":0},{"$f":"IF(Y$1=0,0,IF(Configuration!$F$13=\"D\",$R$274,Table7[[#This Row],[Vo]]))","v":0},{"$f":"IF(Z$1=0,0,IF(Configuration!$F$14=\"D\",$R$274,Table7[[#This Row],[Vo]]))","v":0},{"$f":"IF(AA$1=0,0,IF(Configuration!$F$15=\"D\",$R$274,Table7[[#This Row],[Vo]]))","v":0},{"$f":"IF(AB$1=0,0,IF(Configuration!$F$16=\"D\",$R$274,Table7[[#This Row],[Vo]]))","v":0},{"$f":"IF(AC$1=0,0,IF(Configuration!$F$17=\"D\",$R$274,Table7[[#This Row],[Vo]]))","v":0}]
[52.7,"NMS-240-48",{"$f":"Table2[[#This Row],[Module rated power]]/Table2[[#This Row],[Output Voltage]]","v":4.5540796963946866},240,"K",{"$f":"IF(1200/Table2[[#This Row],[Module rated power]]>6,6,ROUNDDOWN(1200/Table2[[#This Row],[Module rated power]],0))","v":5},{"$f":"Table2[[#This Row],[Module rated power]]*Table2[[#This Row],[Available No. of Slot]]","v":1200},{"$f":"ROUNDDOWN(Table2[[#This Row],[Max power per output]]/Table2[[#This Row],[Output Voltage]],2)","v":22.77},null,null,null,null,null,null,null,null,null,{"$f":"ROUNDUP(R517+0.1,1)","v":54.4},{"$f":"IF(S$1=0,0,IF(Configuration!$F$7=\"D\",$R$274,Table7[[#This Row],[Vo]]))","v":0},{"$f":"IF(T$1=0,0,IF(Configuration!$F$8=\"D\",$R$274,Table7[[#This Row],[Vo]]))","v":0},{"$f":"IF(U$1=0,0,IF(Configuration!$F$9=\"D\",$R$274,Table7[[#This Row],[Vo]]))","v":0},{"$f":"IF(V$1=0,0,IF(Configuration!$F$10=\"D\",$R$274,Table7[[#This Row],[Vo]]))","v":0},{"$f":"IF(W$1=0,0,IF(Configuration!$F$11=\"D\",$R$274,Table7[[#This Row],[Vo]]))","v":0},{"$f":"IF(X$1=0,0,IF(Configuration!$F$12=\"D\",$R$274,Table7[[#This Row],[Vo]]))","v":0},{"$f":"IF(Y$1=0,0,IF(Configuration!$F$13=\"D\",$R$274,Table7[[#This Row],[Vo]]))","v":0},{"$f":"IF(Z$1=0,0,IF(Configuration!$F$14=\"D\",$R$274,Table7[[#This Row],[Vo]]))","v":0},{"$f":"IF(AA$1=0,0,IF(Configuration!$F$15=\"D\",$R$274,Table7[[#This Row],[Vo]]))","v":0},{"$f":"IF(AB$1=0,0,IF(Configuration!$F$16=\"D\",$R$274,Table7[[#This Row],[Vo]]))","v":0},{"$f":"IF(AC$1=0,0,IF(Configuration!$F$17=\"D\",$R$274,Table7[[#This Row],[Vo]]))","v":0}]
[52.8,"NMS-240-48",{"$f":"Table2[[#This Row],[Module rated power]]/Table2[[#This Row],[Output Voltage]]","v":4.5454545454545459},240,"K",{"$f":"IF(1200/Table2[[#This Row],[Module rated power]]>6,6,ROUNDDOWN(1200/Table2[[#This Row],[Module rated power]],0))","v":5},{"$f":"Table2[[#This Row],[Module rated power]]*Table2[[#This Row],[Available No. of Slot]]","v":1200},{"$f":"ROUNDDOWN(Table2[[#This Row],[Max power per output]]/Table2[[#This Row],[Output Voltage]],2)","v":22.72},null,null,null,null,null,null,null,null,null,54.5,{"$f":"IF(S$1=0,0,IF(Configuration!$F$7=\"D\",$R$274,Table7[[#This Row],[Vo]]))","v":0},{"$f":"IF(T$1=0,0,IF(Configuration!$F$8=\"D\",$R$274,Table7[[#This Row],[Vo]]))","v":0},{"$f":"IF(U$1=0,0,IF(Configuration!$F$9=\"D\",$R$274,Table7[[#This Row],[Vo]]))","v":0},{"$f":"IF(V$1=0,0,IF(Configuration!$F$10=\"D\",$R$274,Table7[[#This Row],[Vo]]))","v":0},{"$f":"IF(W$1=0,0,IF(Configuration!$F$11=\"D\",$R$274,Table7[[#This Row],[Vo]]))","v":0},{"$f":"IF(X$1=0,0,IF(Configuration!$F$12=\"D\",$R$274,Table7[[#This Row],[Vo]]))","v":0},{"$f":"IF(Y$1=0,0,IF(Configuration!$F$13=\"D\",$R$274,Table7[[#This Row],[Vo]]))","v":0},{"$f":"IF(Z$1=0,0,IF(Configuration!$F$14=\"D\",$R$274,Table7[[#This Row],[Vo]]))","v":0},{"$f":"IF(AA$1=0,0,IF(Configuration!$F$15=\"D\",$R$274,Table7[[#This Row],[Vo]]))","v":0},{"$f":"IF(AB$1=0,0,IF(Configuration!$F$16=\"D\",$R$274,Table7[[#This Row],[Vo]]))","v":0},{"$f":"IF(AC$1=0,0,IF(Configuration!$F$17=\"D\",$R$274,Table7[[#This Row],[Vo]]))","v":0}]
[52.9,"NMS-240-48",{"$f":"Table2[[#This Row],[Module rated power]]/Table2[[#This Row],[Output Voltage]]","v":4.5368620037807181},240,"K",{"$f":"IF(1200/Table2[[#This Row],[Module rated power]]>6,6,ROUNDDOWN(1200/Table2[[#This Row],[Module rated power]],0))","v":5},{"$f":"Table2[[#This Row],[Module rated power]]*Table2[[#This Row],[Available No. of Slot]]","v":1200},{"$f":"ROUNDDOWN(Table2[[#This Row],[Max power per output]]/Table2[[#This Row],[Output Voltage]],2)","v":22.68},null,null,null,null,null,null,null,null,null,54.6,{"$f":"IF(S$1=0,0,IF(Configuration!$F$7=\"D\",$R$274,Table7[[#This Row],[Vo]]))","v":0},{"$f":"IF(T$1=0,0,IF(Configuration!$F$8=\"D\",$R$274,Table7[[#This Row],[Vo]]))","v":0},{"$f":"IF(U$1=0,0,IF(Configuration!$F$9=\"D\",$R$274,Table7[[#This Row],[Vo]]))","v":0},{"$f":"IF(V$1=0,0,IF(Configuration!$F$10=\"D\",$R$274,Table7[[#This Row],[Vo]]))","v":0},{"$f":"IF(W$1=0,0,IF(Configuration!$F$11=\"D\",$R$274,Table7[[#This Row],[Vo]]))","v":0},{"$f":"IF(X$1=0,0,IF(Configuration!$F$12=\"D\",$R$274,Table7[[#This Row],[Vo]]))","v":0},{"$f":"IF(Y$1=0,0,IF(Configuration!$F$13=\"D\",$R$274,Table7[[#This Row],[Vo]]))","v":0},{"$f":"IF(Z$1=0,0,IF(Configuration!$F$14=\"D\",$R$274,Table7[[#This Row],[Vo]]))","v":0},{"$f":"IF(AA$1=0,0,IF(Configuration!$F$15=\"D\",$R$274,Table7[[#This Row],[Vo]]))","v":0},{"$f":"IF(AB$1=0,0,IF(Configuration!$F$16=\"D\",$R$274,Table7[[#This Row],[Vo]]))","v":0},{"$f":"IF(AC$1=0,0,IF(Configuration!$F$17=\"D\",$R$274,Table7[[#This Row],[Vo]]))","v":0}]
[53,"NMS-240-48",{"$f":"Table2[[#This Row],[Module rated power]]/Table2[[#This Row],[Output Voltage]]","v":4.5283018867924527},240,"K",{"$f":"IF(1200/Table2[[#This Row],[Module rated power]]>6,6,ROUNDDOWN(1200/Table2[[#This Row],[Module rated power]],0))","v":5},{"$f":"Table2[[#This Row],[Module rated power]]*Table2[[#This Row],[Available No. of Slot]]","v":1200},{"$f":"ROUNDDOWN(Table2[[#This Row],[Max power per output]]/Table2[[#This Row],[Output Voltage]],2)","v":22.64},null,null,null,null,null,null,null,null,null,54.7,{"$f":"IF(S$1=0,0,IF(Configuration!$F$7=\"D\",$R$274,Table7[[#This Row],[Vo]]))","v":0},{"$f":"IF(T$1=0,0,IF(Configuration!$F$8=\"D\",$R$274,Table7[[#This Row],[Vo]]))","v":0},{"$f":"IF(U$1=0,0,IF(Configuration!$F$9=\"D\",$R$274,Table7[[#This Row],[Vo]]))","v":0},{"$f":"IF(V$1=0,0,IF(Configuration!$F$10=\"D\",$R$274,Table7[[#This Row],[Vo]]))","v":0},{"$f":"IF(W$1=0,0,IF(Configuration!$F$11=\"D\",$R$274,Table7[[#This Row],[Vo]]))","v":0},{"$f":"IF(X$1=0,0,IF(Configuration!$F$12=\"D\",$R$274,Table7[[#This Row],[Vo]]))","v":0},{"$f":"IF(Y$1=0,0,IF(Configuration!$F$13=\"D\",$R$274,Table7[[#This Row],[Vo]]))","v":0},{"$f":"IF(Z$1=0,0,IF(Configuration!$F$14=\"D\",$R$274,Table7[[#This Row],[Vo]]))","v":0},{"$f":"IF(AA$1=0,0,IF(Configuration!$F$15=\"D\",$R$274,Table7[[#This Row],[Vo]]))","v":0},{"$f":"IF(AB$1=0,0,IF(Configuration!$F$16=\"D\",$R$274,Table7[[#This Row],[Vo]]))","v":0},{"$f":"IF(AC$1=0,0,IF(Configuration!$F$17=\"D\",$R$274,Table7[[#This Row],[Vo]]))","v":0}]
[53.1,"NMS-240-48",{"$f":"Table2[[#This Row],[Module rated power]]/Table2[[#This Row],[Output Voltage]]","v":4.5197740112994351},240,"K",{"$f":"IF(1200/Table2[[#This Row],[Module rated power]]>6,6,ROUNDDOWN(1200/Table2[[#This Row],[Module rated power]],0))","v":5},{"$f":"Table2[[#This Row],[Module rated power]]*Table2[[#This Row],[Available No. of Slot]]","v":1200},{"$f":"ROUNDDOWN(Table2[[#This Row],[Max power per output]]/Table2[[#This Row],[Output Voltage]],2)","v":22.59},null,null,null,null,null,null,null,null,null,54.8,{"$f":"IF(S$1=0,0,IF(Configuration!$F$7=\"D\",$R$274,Table7[[#This Row],[Vo]]))","v":0},{"$f":"IF(T$1=0,0,IF(Configuration!$F$8=\"D\",$R$274,Table7[[#This Row],[Vo]]))","v":0},{"$f":"IF(U$1=0,0,IF(Configuration!$F$9=\"D\",$R$274,Table7[[#This Row],[Vo]]))","v":0},{"$f":"IF(V$1=0,0,IF(Configuration!$F$10=\"D\",$R$274,Table7[[#This Row],[Vo]]))","v":0},{"$f":"IF(W$1=0,0,IF(Configuration!$F$11=\"D\",$R$274,Table7[[#This Row],[Vo]]))","v":0},{"$f":"IF(X$1=0,0,IF(Configuration!$F$12=\"D\",$R$274,Table7[[#This Row],[Vo]]))","v":0},{"$f":"IF(Y$1=0,0,IF(Configuration!$F$13=\"D\",$R$274,Table7[[#This Row],[Vo]]))","v":0},{"$f":"IF(Z$1=0,0,IF(Configuration!$F$14=\"D\",$R$274,Table7[[#This Row],[Vo]]))","v":0},{"$f":"IF(AA$1=0,0,IF(Configuration!$F$15=\"D\",$R$274,Table7[[#This Row],[Vo]]))","v":0},{"$f":"IF(AB$1=0,0,IF(Configuration!$F$16=\"D\",$R$274,Table7[[#This Row],[Vo]]))","v":0},{"$f":"IF(AC$1=0,0,IF(Configuration!$F$17=\"D\",$R$274,Table7[[#This Row],[Vo]]))","v":0}]
[53.2,"NMS-240-48",{"$f":"Table2[[#This Row],[Module rated power]]/Table2[[#This Row],[Output Voltage]]","v":4.511278195488722},240,"K",{"$f":"IF(1200/Table2[[#This Row],[Module rated power]]>6,6,ROUNDDOWN(1200/Table2[[#This Row],[Module rated power]],0))","v":5},{"$f":"Table2[[#This Row],[Module rated power]]*Table2[[#This Row],[Available No. of Slot]]","v":1200},{"$f":"ROUNDDOWN(Table2[[#This Row],[Max power per output]]/Table2[[#This Row],[Output Voltage]],2)","v":22.55},null,null,null,null,null,null,null,null,null,54.9,{"$f":"IF(S$1=0,0,IF(Configuration!$F$7=\"D\",$R$274,Table7[[#This Row],[Vo]]))","v":0},{"$f":"IF(T$1=0,0,IF(Configuration!$F$8=\"D\",$R$274,Table7[[#This Row],[Vo]]))","v":0},{"$f":"IF(U$1=0,0,IF(Configuration!$F$9=\"D\",$R$274,Table7[[#This Row],[Vo]]))","v":0},{"$f":"IF(V$1=0,0,IF(Configuration!$F$10=\"D\",$R$274,Table7[[#This Row],[Vo]]))","v":0},{"$f":"IF(W$1=0,0,IF(Configuration!$F$11=\"D\",$R$274,Table7[[#This Row],[Vo]]))","v":0},{"$f":"IF(X$1=0,0,IF(Configuration!$F$12=\"D\",$R$274,Table7[[#This Row],[Vo]]))","v":0},{"$f":"IF(Y$1=0,0,IF(Configuration!$F$13=\"D\",$R$274,Table7[[#This Row],[Vo]]))","v":0},{"$f":"IF(Z$1=0,0,IF(Configuration!$F$14=\"D\",$R$274,Table7[[#This Row],[Vo]]))","v":0},{"$f":"IF(AA$1=0,0,IF(Configuration!$F$15=\"D\",$R$274,Table7[[#This Row],[Vo]]))","v":0},{"$f":"IF(AB$1=0,0,IF(Configuration!$F$16=\"D\",$R$274,Table7[[#This Row],[Vo]]))","v":0},{"$f":"IF(AC$1=0,0,IF(Configuration!$F$17=\"D\",$R$274,Table7[[#This Row],[Vo]]))","v":0}]
[53.3,"NMS-240-48",{"$f":"Table2[[#This Row],[Module rated power]]/Table2[[#This Row],[Output Voltage]]","v":4.5028142589118199},240,"K",{"$f":"IF(1200/Table2[[#This Row],[Module rated power]]>6,6,ROUNDDOWN(1200/Table2[[#This Row],[Module rated power]],0))","v":5},{"$f":"Table2[[#This Row],[Module rated power]]*Table2[[#This Row],[Available No. of Slot]]","v":1200},{"$f":"ROUNDDOWN(Table2[[#This Row],[Max power per output]]/Table2[[#This Row],[Output Voltage]],2)","v":22.51},null,null,null,null,null,null,null,null,null,55,{"$f":"IF(S$1=0,0,IF(Configuration!$F$7=\"D\",$R$274,Table7[[#This Row],[Vo]]))","v":0},{"$f":"IF(T$1=0,0,IF(Configuration!$F$8=\"D\",$R$274,Table7[[#This Row],[Vo]]))","v":0},{"$f":"IF(U$1=0,0,IF(Configuration!$F$9=\"D\",$R$274,Table7[[#This Row],[Vo]]))","v":0},{"$f":"IF(V$1=0,0,IF(Configuration!$F$10=\"D\",$R$274,Table7[[#This Row],[Vo]]))","v":0},{"$f":"IF(W$1=0,0,IF(Configuration!$F$11=\"D\",$R$274,Table7[[#This Row],[Vo]]))","v":0},{"$f":"IF(X$1=0,0,IF(Configuration!$F$12=\"D\",$R$274,Table7[[#This Row],[Vo]]))","v":0},{"$f":"IF(Y$1=0,0,IF(Configuration!$F$13=\"D\",$R$274,Table7[[#This Row],[Vo]]))","v":0},{"$f":"IF(Z$1=0,0,IF(Configuration!$F$14=\"D\",$R$274,Table7[[#This Row],[Vo]]))","v":0},{"$f":"IF(AA$1=0,0,IF(Configuration!$F$15=\"D\",$R$274,Table7[[#This Row],[Vo]]))","v":0},{"$f":"IF(AB$1=0,0,IF(Configuration!$F$16=\"D\",$R$274,Table7[[#This Row],[Vo]]))","v":0},{"$f":"IF(AC$1=0,0,IF(Configuration!$F$17=\"D\",$R$274,Table7[[#This Row],[Vo]]))","v":0}]
[53.4,"NMS-240-48",{"$f":"Table2[[#This Row],[Module rated power]]/Table2[[#This Row],[Output Voltage]]","v":4.4943820224719104},240,"K",{"$f":"IF(1200/Table2[[#This Row],[Module rated power]]>6,6,ROUNDDOWN(1200/Table2[[#This Row],[Module rated power]],0))","v":5},{"$f":"Table2[[#This Row],[Module rated power]]*Table2[[#This Row],[Available No. of Slot]]","v":1200},{"$f":"ROUNDDOWN(Table2[[#This Row],[Max power per output]]/Table2[[#This Row],[Output Voltage]],2)","v":22.47}]
[53.5,"NMS-240-48",{"$f":"Table2[[#This Row],[Module rated power]]/Table2[[#This Row],[Output Voltage]]","v":4.4859813084112146},240,"K",{"$f":"IF(1200/Table2[[#This Row],[Module rated power]]>6,6,ROUNDDOWN(1200/Table2[[#This Row],[Module rated power]],0))","v":5},{"$f":"Table2[[#This Row],[Module rated power]]*Table2[[#This Row],[Available No. of Slot]]","v":1200},{"$f":"ROUNDDOWN(Table2[[#This Row],[Max power per output]]/Table2[[#This Row],[Output Voltage]],2)","v":22.42}]
[53.6,"NMS-240-48",{"$f":"Table2[[#This Row],[Module rated power]]/Table2[[#This Row],[Output Voltage]]","v":4.4776119402985071},240,"K",{"$f":"IF(1200/Table2[[#This Row],[Module rated power]]>6,6,ROUNDDOWN(1200/Table2[[#This Row],[Module rated power]],0))","v":5},{"$f":"Table2[[#This Row],[Module rated power]]*Table2[[#This Row],[Available No. of Slot]]","v":1200},{"$f":"ROUNDDOWN(Table2[[#This Row],[Max power per output]]/Table2[[#This Row],[Output Voltage]],2)","v":22.38}]
[53.7,"NMS-240-48",{"$f":"Table2[[#This Row],[Module rated power]]/Table2[[#This Row],[Output Voltage]]","v":4.4692737430167595},240,"K",{"$f":"IF(1200/Table2[[#This Row],[Module rated power]]>6,6,ROUNDDOWN(1200/Table2[[#This Row],[Module rated power]],0))","v":5},{"$f":"Table2[[#This Row],[Module rated power]]*Table2[[#This Row],[Available No. of Slot]]","v":1200},{"$f":"ROUNDDOWN(Table2[[#This Row],[Max power per output]]/Table2[[#This Row],[Output Voltage]],2)","v":22.34}]
[53.8,"NMS-240-48",{"$f":"Table2[[#This Row],[Module rated power]]/Table2[[#This Row],[Output Voltage]]","v":4.4609665427509295},240,"K",{"$f":"IF(1200/Table2[[#This Row],[Module rated power]]>6,6,ROUNDDOWN(1200/Table2[[#This Row],[Module rated power]],0))","v":5},{"$f":"Table2[[#This Row],[Module rated power]]*Table2[[#This Row],[Available No. of Slot]]","v":1200},{"$f":"ROUNDDOWN(Table2[[#This Row],[Max power per output]]/Table2[[#This Row],[Output Voltage]],2)","v":22.3}]
[53.9,"NMS-240-48",{"$f":"Table2[[#This Row],[Module rated power]]/Table2[[#This Row],[Output Voltage]]","v":4.4526901669758816},240,"K",{"$f":"IF(1200/Table2[[#This Row],[Module rated power]]>6,6,ROUNDDOWN(1200/Table2[[#This Row],[Module rated power]],0))","v":5},{"$f":"Table2[[#This Row],[Module rated power]]*Table2[[#This Row],[Available No. of Slot]]","v":1200},{"$f":"ROUNDDOWN(Table2[[#This Row],[Max power per output]]/Table2[[#This Row],[Output Voltage]],2)","v":22.26}]
[54,"NMS-240-48",{"$f":"Table2[[#This Row],[Module rated power]]/Table2[[#This Row],[Output Voltage]]","v":4.4444444444444446},240,"K",{"$f":"IF(1200/Table2[[#This Row],[Module rated power]]>6,6,ROUNDDOWN(1200/Table2[[#This Row],[Module rated power]],0))","v":5},{"$f":"Table2[[#This Row],[Module rated power]]*Table2[[#This Row],[Available No. of Slot]]","v":1200},{"$f":"ROUNDDOWN(Table2[[#This Row],[Max power per output]]/Table2[[#This Row],[Output Voltage]],2)","v":22.22}]
[54.1,"NMS-240-48",{"$f":"Table2[[#This Row],[Module rated power]]/Table2[[#This Row],[Output Voltage]]","v":4.4362292051756009},240,"K",{"$f":"IF(1200/Table2[[#This Row],[Module rated power]]>6,6,ROUNDDOWN(1200/Table2[[#This Row],[Module rated power]],0))","v":5},{"$f":"Table2[[#This Row],[Module rated power]]*Table2[[#This Row],[Available No. of Slot]]","v":1200},{"$f":"ROUNDDOWN(Table2[[#This Row],[Max power per output]]/Table2[[#This Row],[Output Voltage]],2)","v":22.18}]
[54.2,"NMS-240-48",{"$f":"Table2[[#This Row],[Module rated power]]/Table2[[#This Row],[Output Voltage]]","v":4.428044280442804},240,"K",{"$f":"IF(1200/Table2[[#This Row],[Module rated power]]>6,6,ROUNDDOWN(1200/Table2[[#This Row],[Module rated power]],0))","v":5},{"$f":"Table2[[#This Row],[Module rated power]]*Table2[[#This Row],[Available No. of Slot]]","v":1200},{"$f":"ROUNDDOWN(Table2[[#This Row],[Max power per output]]/Table2[[#This Row],[Output Voltage]],2)","v":22.14}]
[54.3,"NMS-240-48",{"$f":"Table2[[#This Row],[Module rated power]]/Table2[[#This Row],[Output Voltage]]","v":4.4198895027624312},240,"K",{"$f":"IF(1200/Table2[[#This Row],[Module rated power]]>6,6,ROUNDDOWN(1200/Table2[[#This Row],[Module rated power]],0))","v":5},{"$f":"Table2[[#This Row],[Module rated power]]*Table2[[#This Row],[Available No. of Slot]]","v":1200},{"$f":"ROUNDDOWN(Table2[[#This Row],[Max power per output]]/Table2[[#This Row],[Output Voltage]],2)","v":22.09}]
[{"$f":"ROUNDUP(A534+0.1,1)","v":54.4},"NMS-240-48",{"$f":"Table2[[#This Row],[Module rated power]]/Table2[[#This Row],[Output Voltage]]","v":4.4117647058823533},240,"K",{"$f":"IF(1200/Table2[[#This Row],[Module rated power]]>6,6,ROUNDDOWN(1200/Table2[[#This Row],[Module rated power]],0))","v":5},{"$f":"Table2[[#This Row],[Module rated power]]*Table2[[#This Row],[Available No. of Slot]]","v":1200},{"$f":"ROUNDDOWN(Table2[[#This Row],[Max power per output]]/Table2[[#This Row],[Output Voltage]],2)","v":22.05}]
[54.5,"NMS-240-48",{"$f":"Table2[[#This Row],[Module rated power]]/Table2[[#This Row],[Output Voltage]]","v":4.4036697247706424},240,"K",{"$f":"IF(1200/Table2[[#This Row],[Module rated power]]>6,6,ROUNDDOWN(1200/Table2[[#This Row],[Module rated power]],0))","v":5},{"$f":"Table2[[#This Row],[Module rated power]]*Table2[[#This Row],[Available No. of Slot]]","v":1200},{"$f":"ROUNDDOWN(Table2[[#This Row],[Max power per output]]/Table2[[#This Row],[Output Voltage]],2)","v":22.01}]
[54.6,"NMS-240-48",{"$f":"Table2[[#This Row],[Module rated power]]/Table2[[#This Row],[Output Voltage]]","v":4.3956043956043951},240,"K",{"$f":"IF(1200/Table2[[#This Row],[Module rated power]]>6,6,ROUNDDOWN(1200/Table2[[#This Row],[Module rated power]],0))","v":5},{"$f":"Table2[[#This Row],[Module rated power]]*Table2[[#This Row],[Available No. of Slot]]","v":1200},{"$f":"ROUNDDOWN(Table2[[#This Row],[Max power per output]]/Table2[[#This Row],[Output Voltage]],2)","v":21.97}]
[54.7,"NMS-240-48",{"$f":"Table2[[#This Row],[Module rated power]]/Table2[[#This Row],[Output Voltage]]","v":4.3875685557586834},240,"K",{"$f":"IF(1200/Table2[[#This Row],[Module rated power]]>6,6,ROUNDDOWN(1200/Table2[[#This Row],[Module rated power]],0))","v":5},{"$f":"Table2[[#This Row],[Module rated power]]*Table2[[#This Row],[Available No. of Slot]]","v":1200},{"$f":"ROUNDDOWN(Table2[[#This Row],[Max power per output]]/Table2[[#This Row],[Output Voltage]],2)","v":21.93}]
[54.8,"NMS-240-48",{"$f":"Table2[[#This Row],[Module rated power]]/Table2[[#This Row],[Output Voltage]]","v":4.3795620437956204},240,"K",{"$f":"IF(1200/Table2[[#This Row],[Module rated power]]>6,6,ROUNDDOWN(1200/Table2[[#This Row],[Module rated power]],0))","v":5},{"$f":"Table2[[#This Row],[Module rated power]]*Table2[[#This Row],[Available No. of Slot]]","v":1200},{"$f":"ROUNDDOWN(Table2[[#This Row],[Max power per output]]/Table2[[#This Row],[Output Voltage]],2)","v":21.89}]
[54.9,"NMS-240-48",{"$f":"Table2[[#This Row],[Module rated power]]/Table2[[#This Row],[Output Voltage]]","v":4.3715846994535523},240,"K",{"$f":"IF(1200/Table2[[#This Row],[Module rated power]]>6,6,ROUNDDOWN(1200/Table2[[#This Row],[Module rated power]],0))","v":5},{"$f":"Table2[[#This Row],[Module rated power]]*Table2[[#This Row],[Available No. of Slot]]","v":1200},{"$f":"ROUNDDOWN(Table2[[#This Row],[Max power per output]]/Table2[[#This Row],[Output Voltage]],2)","v":21.85}]
[55,"NMS-240-48",{"$f":"Table2[[#This Row],[Module rated power]]/Table2[[#This Row],[Output Voltage]]","v":4.3636363636363633},240,"K",{"$f":"IF(1200/Table2[[#This Row],[Module rated power]]>6,6,ROUNDDOWN(1200/Table2[[#This Row],[Module rated power]],0))","v":5},{"$f":"Table2[[#This Row],[Module rated power]]*Table2[[#This Row],[Available No. of Slot]]","v":1200},{"$f":"ROUNDDOWN(Table2[[#This Row],[Max power per output]]/Table2[[#This Row],[Output Voltage]],2)","v":21.81}]